{"text_format":"1","workbook":"xlsx","n_sheets":4,"sheets":["A SAVOIR","DETAIL_TVA_S","TradXML","Referentiel"],"not_rendered":{"charts":0,"images":3,"macros":1,"external_links":3,"defined_names":133,"comments":0,"pivot_tables":0},"unopened":[],"bounds":{"document_bytes":16777216,"sheet_cells":100000,"rows_first":2000,"rows_last":500,"rows_between":2000,"halvings":0,"cell_chars":16384,"cell_head_chars":4096},"cells_cut":0,"cells_raw":0,"read":"whole","date_system":"1900"}

{"sheet":"A SAVOIR","index":0,"n_rows":22,"n_cols":3,"rows_kept":22,"cut":false,"hidden":false,"merged":[[1,1,1,2],[3,1,3,2],[5,1,5,2],[9,1,9,2],[16,1,16,2]]}
[]
[null,"SAISIE DES ANNEXES DETAILLEES /// ETAT DES DEDUCTIONS DE TVA"]
[]
[null,"Ce fichier Excel vous permet de générer un fichier XML constituant votre annexe détaillée à transmettre ensuite sur e-Impôts "]
[]
[null,"IMPORTANT : veillez à bien activer les modifications et appliquer les macros (\"activer le contenu\") à l'ouverture pour pouvoir utiliser ce fichier"]
[]
[]
[]
[null,"Comment générer mon annexe détaillée au format XML ?"]
[null,"#1","Rendez-vous sur la feuille SAISIE de ce fichier Excel"]
[null,"#2","Renseignez votre NCC et sélectionnez l'exercice de la déclaration à effectuer"]
[null,"#3","Sélectionnez le \"code impôt\" en fonction de la déclaration concernée.\nCe doit être le même code d'impôt que celui sur lequel vous déclarez sur e-Impôts."]
["\n\n","#4","Remplissez le tableau :\n> manuellement\n> ou en procédant par copier/coller depuis un autre fichier Excel (éventuellement exporté de votre système d'information)\nEviter les caractères spéciaux du style /, * , ( ), &, ' (apostrophes) : ils seront normalement ignorés, mais pourraient empêcher l'import de votre fichier sur e-Impôts.\nEviter également d'introduire plusieurs espaces entre les mots et les lignes entièrement vides ou en partie"]
["\n","#5","Vérifiez vos saisies puis générez votre fichier XML en cliquant sur le bouton orange : \"Génération du XML\""]
[]
[null,"Que faire après avoir généré le fichier XML ?"]
[null,"#6","Le fichier XML géneré est déposé dans le répertoire /Documents sur votre poste de travail"]
[null,"#7","Sur e-Impôts, à l'étape 3 de votre déclaration, vous devez importer ce fichier XML dans la section \"Transmission des annexes détaillées par EDI\""]
["\n","#8","Une fois votre fichier chargé, vous pouvez charger les autres pièces jointes si nécessaire (justificatifs divers) et passer à l'étape suivante de votre déclaration.\nVous pourrez alors consulter à l'écran le détail des informations importées.\nUne fois votre télédéclaration transmise, vous pourrez télécharger au format CSV les données que vous avez importées, si vous souhaitez les contrôler."]
[null,"#9","Si votre fichier XML est très volumineux et ne peut être importé sur e-Impôts (taille de fichier trop grande), vous pouvez procéder en plusieurs fois et saisir votre annexe détaillée en plusieurs fois. Un bouton spécifique permet de charger des fichiers complémentaires sur e-Impôts sans écraser les fichiers préalablement importés."]
["\n",null,"Pour information, vous êtes également libre de générer un fichier XML par un autre moyen, si celui-ci respecte scrupuleusement la syntaxe EDI XML e-Impôts et les référentiels présentés dans ce fichier Excel (voir la feuille \"referentiels\")."]

{"sheet":"DETAIL_TVA_S","index":1,"n_rows":25001,"n_cols":20,"rows_kept":4500,"cut":true,"hidden":false,"merged":[[25000,2,25000,6],[25000,7,25000,13],[9,11,13,15],[16,1,17,1],[16,3,17,3],[16,7,17,7],[16,8,17,8],[16,10,16,11],[16,2,17,2],[16,12,17,12],[13,3,13,4],[16,13,17,13],[16,14,17,14],[16,15,17,15],[16,9,17,9],[16,4,16,6],[14,7,15,14],[7,3,7,6],[3,1,3,15],[5,3,5,4],[9,3,9,4],[11,3,11,4]],"bounds":{"rows_first":2000,"rows_last":500,"rows_between":2000,"halvings":0}}
[]
[null,null,null,"SERVICE D'ASSIETTE  DES IMPOTS DE RATTACHEMENT"]
[]
[null,"Formulaire de génération des fichiers XML d'états des taxes déductibles de TVA"]
[]
[null,null,"Code Impôt :","TVA"]
[]
[null,null,"Libellé impôt :",{"$f":"VLOOKUP(D6,Referentiel!J2:K8,2,FALSE)","v":"Taxe sur la valeur ajoutée (hors CME/DGE)"}]
[null,null,null,null,null,null,null,null,null,null,null,null,null,null,null,null,null,{"$f":"IF(SUM(Q20:Q25000)=0,0,1)","v":1}]
[null,null,"NCC :","1528920S",null,{"$f":"IF(R10=0,\"\",\"Erreur sur le NCC : respectez le format 1234567A, sans espace. (ex : 0012345A).\")","v":""},null,null,null,null,null,null,null,null,null,null,null,{"$f":"IFERROR(IF(LEN(NCC)=8,0,IF(LEN(NCC)=0,1,1)),1)","v":0}]
[null,null,null,null,null,null,null,null,null,null,null,null,null,null,null,null,null,{"$f":"IF(SUM(erreurNcc)>0,1,0)","v":0},{"$f":"IF(SUM(T20:T25000)=0,0,1)","v":{"$error":"#NAME?"}}]
[null,null,"Année d'imposition :",2024]
[]
[null,null,"Mois d'imposition :","Juin",null,"sélectionnez le mois de janvier pour les déclarations annuelles (régularisations)",null,null,null,null,null,null,null,null,null,null,null,{"$f":"SUM(#REF!)","v":{"$error":"#REF!"}}]
[null,null,"Veuillez ajouter librement des lignes aux tableaux ci-dessous si les cadres prévus sont insuffisants",null,null,null,null,"(1) Indiquer la nature exacte et précise de chaque bien et prestation de service de façon individualisée. Sont à proscrire, les mentions d'ordre général telles que marchandises diverses, matériels de bureau, consommables…"]
[]
[null,"TYPE D'OPERATION(1)\n(OUVRANT DROIT A REDUCTION)","SPECIFICATION","DATE DE LA FACTURE OU DE L'IMPORTATION","FOURNISSEUR",null,null,"REFERENCE DE LA FACTURE NORMALISEE OU N° DE LA DECLARATION","NATURE DES BIENS OU SERVICES (OUVRANT DROIT A REDUCTION) (3)","DATE DE REGLEMENT","MONTANT",null,"MONTANT DE LA TVA","TYPE DE REDEVABLE","PRORATA DE DEDUCTION","MONTANT DE LA TAXE DEDUCTIBLE"]
[null,null,null,null,"RAISON SOCIALE","NCC ","PAYS D'ORIGINE (2)",null,null,null,"MONTANT HT","VALEUR EN DOUANE (4)"]
[null,"type_operation_odr","specification","date_facture","raison_sociale_fournisseur","ncc_fournisseur","pays_fournisseur","ref_facture","nature_bien_odr","date_reglement","montant_ht","montant_val_douane","montant_tva","type_redevable","prorata_deduction","montant_taxe_deductible"]
[null,"Achats_locaux","Achats de services locaux","2024-06-01","SOFID ","0427684Y",null,null,null,null,null,0,null,"REDEVABLE TOTAL",1,{"$f":"IF(B20=\"\",\"\",M20*O20)","v":0},{"$f":"IF(AND(B20=\"\",R20=1),1,IF(AND(D20=\"\",R20=1),1,IF(AND(E20=\"\",R20=1),1,IF(AND(F20=\"\",R20=1),1,IF(AND(I20=\"\",R20=1),1,IF(AND(M20=\"\",R20=1),1,IF(AND(O20=\"\",R20=1),1,0)))))))","v":1},{"$f":"IF(C20=\"\",0,IF(COUNTA(B20:O20)>0,1,0))","v":1},{"$f":"IFERROR(IF(LEN(F20)=8,0,IF(LEN(F20)=0,0,1)),1)","v":0},{"$f":"IF(F20=\"\",0,IF(isNccValid(F20),0,1))","v":{"$error":"#NAME?"}}]
[null,"Achats_locaux","Achats de marchandises et matières prémières locales","2024-06-03","PAPIGRAPH CI","8400840W",null,null,null,null,null,null,null,"REDEVABLE TOTAL",1,{"$f":"IF(B21=\"\",\"\",M21*O21)","v":0},{"$f":"IF(AND(B21=\"\",R21=1),1,IF(AND(D21=\"\",R21=1),1,IF(AND(E21=\"\",R21=1),1,IF(AND(F21=\"\",R21=1),1,IF(AND(M21=\"\",R21=1),1,IF(AND(O21=\"\",R21=1),1,0))))))","v":1},{"$f":"IF(C21=\"\",0,IF(COUNTA(B21:O21)>0,1,0))","v":1},{"$f":"IFERROR(IF(LEN(F21)=8,0,IF(LEN(F21)=0,0,1)),1)","v":0},{"$f":"IF(F21=\"\",0,IF(isNccValid(F21),0,1))","v":{"$error":"#NAME?"}}]
[null,"Achats_locaux","Achats de services locaux","2024-06-04","SOCIETE DES DEUX PLATEAUX ","9913422M",null,null,null,null,null,null,null,"REDEVABLE TOTAL",1,{"$f":"IF(B22=\"\",\"\",M22*O22)","v":0},1,1,0,{"$f":"IF(F22=\"\",0,IF(isNccValid(F22),0,1))","v":{"$error":"#NAME?"}}]
[null,"Achats_locaux","Achats de marchandises et matières prémières locales","2024-06-07","CMID ","1441721X",null,null,null,null,null,null,null,"REDEVABLE TOTAL",1,0,1,1,0,{"$f":"IF(F23=\"\",0,IF(isNccValid(F23),0,1))","v":{"$error":"#NAME?"}}]
[null,"Achats_locaux","Achats de marchandises et matières prémières locales","2024-06-04","CMID","1441721X",null,null,null,null,null,null,null,"REDEVABLE TOTAL",1,0,1,1,0,{"$f":"IF(F24=\"\",0,IF(isNccValid(F24),0,1))","v":{"$error":"#NAME?"}}]
[null,"Achats_locaux","Achats de services locaux","2024-05-13","IPI","9104623C",null,null,null,null,null,null,null,"REDEVABLE TOTAL",1,0,1,1,0,{"$f":"IF(F25=\"\",0,IF(isNccValid(F25),0,1))","v":{"$error":"#NAME?"}}]
[null,"Achats_locaux","Achats de marchandises et matières prémières locales","2024-06-10","PAPIGRAPH CI","8400840W",null,"FAC N°1887","CARTE DE RECHARGE","2024-07-01",72033,null,12967,"REDEVABLE TOTAL",1,12967,0,1,0,{"$f":"IF(F26=\"\",0,IF(isNccValid(F26),0,1))","v":{"$error":"#NAME?"}}]
[null,"Achats_locaux","Achats de marchandises et matières prémières locales","2024-06-10","PAPIGRAPH CI","8400840W",null,"FAC244439","RAMETTE REPRO BLANC","2024-07-04",13100,null,2340,"REDEVABLE TOTAL",1,2340,0,1,0,{"$f":"IF(F27=\"\",0,IF(isNccValid(F27),0,1))","v":{"$error":"#NAME?"}}]
[null,"Achats_locaux","Achats de marchandises et matières prémières locales","2024-06-10","CMID ","1441721X",null,null,null,null,null,null,null,"REDEVABLE TOTAL",1,0,1,1,0,{"$f":"IF(F28=\"\",0,IF(isNccValid(F28),0,1))","v":{"$error":"#NAME?"}}]
[null,"Achats_locaux","Achats de marchandises et matières prémières locales","2024-06-12","ETS IMP ","1315225X",null,null,null,null,null,null,null,"REDEVABLE TOTAL",1,0,1,1,0,{"$f":"IF(F29=\"\",0,IF(isNccValid(F29),0,1))","v":{"$error":"#NAME?"}}]
[null,"Achats_locaux","Achats de marchandises et matières prémières locales","2024-06-14","PAPIGRAPH CI","8400840W",null,"FAC244589","BLANCO,STYLO BIC, REGISTRE","2024-07-10",11453,null,2046,"REDEVABLE TOTAL",1,2046,0,1,0,{"$f":"IF(F30=\"\",0,IF(isNccValid(F30),0,1))","v":{"$error":"#NAME?"}}]
[null,"Achats_locaux","Achats de marchandises et matières prémières locales","2024-06-14","SIDECI","1101911J",null,"FAC233181091/N°3793","ECROU ACIER NOIR D12 8.8","2024-07-01",10530,null,1895,"REDEVABLE TOTAL",1,1895,0,1,0,{"$f":"IF(F31=\"\",0,IF(isNccValid(F31),0,1))","v":{"$error":"#NAME?"}}]
[null,"Achats_locaux","Achats de marchandises et matières prémières locales","2024-06-24","PAPIGRAPH CI","8400840W",null,"FAC233181091/N°3810","ECROU ACIER NOIR D12 8.8","2024-07-01",14040,null,2527,"REDEVABLE TOTAL",1,2527,0,1,0,{"$f":"IF(F32=\"\",0,IF(isNccValid(F32),0,1))","v":{"$error":"#NAME?"}}]
[null,"Achats_locaux","Achats de marchandises et matières prémières locales","2024-06-27","CMID ","1441721X",null,"FAC N°1184","CARTE DE RECHARGE","2024-07-11",76271,null,13729,"REDEVABLE TOTAL",1,13729,0,1,0,{"$f":"IF(F33=\"\",0,IF(isNccValid(F33),0,1))","v":{"$error":"#NAME?"}}]
[null,"Importations","Achats de marchandises et matières prémières locales","2024-06-27","CMID ","1441721X",null,null,null,null,null,null,null,"REDEVABLE TOTAL",1,0,1,1,0,{"$f":"IF(F34=\"\",0,IF(isNccValid(F34),0,1))","v":{"$error":"#NAME?"}}]
[null,"Achats_locaux","Achats de services locaux","2024-06-27","CIE","9004996S",null,null,null,null,null,null,null,"REDEVABLE TOTAL",1,0,1,1,0,{"$f":"IF(F35=\"\",0,IF(isNccValid(F35),0,1))","v":{"$error":"#NAME?"}}]
[null,"Achats_locaux","Achats de services locaux",null,null,null,null,"FACT/2076/2024","PAP TOIL, MOUCHOIR LOTUS","2024-07-12",11864,null,2136,"REDEVABLE TOTAL",1,2136,1,1,0,{"$f":"IF(F36=\"\",0,IF(isNccValid(F36),0,1))","v":0}]
[null,"Achats_locaux","Achats de services locaux",null,null,null,null,null,null,null,null,null,null,"REDEVABLE TOTAL",1,0,1,1,0,{"$f":"IF(F37=\"\",0,IF(isNccValid(F37),0,1))","v":0}]
[null,"Achats_locaux","Achats de services locaux",null,null,null,null,null,null,null,null,null,null,"REDEVABLE TOTAL",1,0,1,1,0,{"$f":"IF(F38=\"\",0,IF(isNccValid(F38),0,1))","v":0}]
[null,"Achats_locaux","Achats de services locaux",null,null,null,null,"FAC233191091/N0312","SUPER ORDINAIRE DIAM","2024-07-18",270000,null,48600,"REDEVABLE TOTAL",1,48600,1,1,null,{"$f":"IF(F39=\"\",0,IF(isNccValid(F39),0,1))","v":0}]
[null,"Achats_locaux","Achats de services locaux",null,null,null,null,"FAC244823","SCOTCH TRANSPARENT","2024-07-18",1650,null,297,"REDEVABLE TOTAL",null,0,1,1,0,{"$f":"IF(F40=\"\",0,IF(isNccValid(F40),0,1))","v":0}]
[null,"Achats_locaux","Achats de services locaux",null,null,null,null,"FAC244853","RAMETTE REPRO BLANC","2024-07-19",13100,null,2340,"REDEVABLE TOTAL",null,0,1,{"$f":"IF(C41=\"\",0,IF(COUNTA(B41:O41)>0,1,0))","v":1},0,{"$f":"IF(F41=\"\",0,IF(isNccValid(F41),0,1))","v":0}]
[null,"Achats_locaux","Achats de services locaux",null,null,null,{"$f":"IF(OR(B42=Referentiel!C1,B42=Referentiel!B1),\"Choisir un pays\",\"\")","v":""},null,null,null,null,null,null,null,null,0,1,{"$f":"IF(C42=\"\",0,IF(COUNTA(B42:O42)>0,1,0))","v":1},0,{"$f":"IF(F42=\"\",0,IF(isNccValid(F42),0,1))","v":0}]
[null,"Achats_locaux","Achats de services locaux",null,null,null,{"$f":"IF(OR(B43=Referentiel!C1,B43=Referentiel!B1),\"Choisir un pays\",\"\")","v":""},null,null,null,null,null,null,null,null,0,1,1,0,{"$f":"IF(F43=\"\",0,IF(isNccValid(F43),0,1))","v":0}]
[null,"Achats_locaux","Achats de services locaux",null,null,null,{"$f":"IF(OR(B44=Referentiel!C1,B44=Referentiel!B1),\"Choisir un pays\",\"\")","v":""},null,null,null,null,null,null,null,null,0,1,1,0,{"$f":"IF(F44=\"\",0,IF(isNccValid(F44),0,1))","v":0}]
[null,"Achats_locaux","Achats de services locaux",null,null,null,{"$f":"IF(OR(B45=Referentiel!C1,B45=Referentiel!B1),\"Choisir un pays\",\"\")","v":""},null,null,null,null,null,null,null,null,0,1,1,0,{"$f":"IF(F45=\"\",0,IF(isNccValid(F45),0,1))","v":0}]
[null,"Achats_locaux","Achats de services locaux",null,null,null,{"$f":"IF(OR(B46=Referentiel!C1,B46=Referentiel!B1),\"Choisir un pays\",\"\")","v":""},null,null,null,null,null,null,null,null,0,1,1,0,{"$f":"IF(F46=\"\",0,IF(isNccValid(F46),0,1))","v":0}]
[null,null,null,null,null,null,{"$f":"IF(OR(B47=Referentiel!C1,B47=Referentiel!B1),\"Choisir un pays\",\"\")","v":""},null,null,null,null,null,null,null,null,"",0,0,0,{"$f":"IF(F47=\"\",0,IF(isNccValid(F47),0,1))","v":0}]
[null,null,null,null,null,null,{"$f":"IF(OR(B48=Referentiel!C1,B48=Referentiel!B1),\"Choisir un pays\",\"\")","v":""},null,null,null,null,null,null,null,null,"",0,0,0,{"$f":"IF(F48=\"\",0,IF(isNccValid(F48),0,1))","v":0}]
[null,null,null,null,null,null,{"$f":"IF(OR(B49=Referentiel!C1,B49=Referentiel!B1),\"Choisir un pays\",\"\")","v":""},null,null,null,null,null,null,null,null,"",0,0,0,{"$f":"IF(F49=\"\",0,IF(isNccValid(F49),0,1))","v":0}]
[null,null,null,null,null,null,{"$f":"IF(OR(B50=Referentiel!C1,B50=Referentiel!B1),\"Choisir un pays\",\"\")","v":""},null,null,null,null,null,null,null,null,"",0,0,0,{"$f":"IF(F50=\"\",0,IF(isNccValid(F50),0,1))","v":0}]
[null,null,null,null,null,null,{"$f":"IF(OR(B51=Referentiel!C1,B51=Referentiel!B1),\"Choisir un pays\",\"\")","v":""},null,null,null,null,null,null,null,null,"",0,0,0,{"$f":"IF(F51=\"\",0,IF(isNccValid(F51),0,1))","v":0}]
[null,null,null,null,null,null,{"$f":"IF(OR(B52=Referentiel!C1,B52=Referentiel!B1),\"Choisir un pays\",\"\")","v":""},null,null,null,null,null,null,null,null,"",0,0,0,{"$f":"IF(F52=\"\",0,IF(isNccValid(F52),0,1))","v":0}]
[null,null,null,null,null,null,{"$f":"IF(OR(B53=Referentiel!C1,B53=Referentiel!B1),\"Choisir un pays\",\"\")","v":""},null,null,null,null,null,null,null,null,"",0,0,0,{"$f":"IF(F53=\"\",0,IF(isNccValid(F53),0,1))","v":0}]
[null,null,null,null,null,null,{"$f":"IF(OR(B54=Referentiel!C1,B54=Referentiel!B1),\"Choisir un pays\",\"\")","v":""},null,null,null,null,null,null,null,null,"",0,0,0,{"$f":"IF(F54=\"\",0,IF(isNccValid(F54),0,1))","v":0}]
[null,null,null,null,null,null,{"$f":"IF(OR(B55=Referentiel!C1,B55=Referentiel!B1),\"Choisir un pays\",\"\")","v":""},null,null,null,null,null,null,null,null,"",0,0,0,{"$f":"IF(F55=\"\",0,IF(isNccValid(F55),0,1))","v":0}]
[null,null,null,null,null,null,{"$f":"IF(OR(B56=Referentiel!C1,B56=Referentiel!B1),\"Choisir un pays\",\"\")","v":""},null,null,null,null,null,null,null,null,"",0,0,0,{"$f":"IF(F56=\"\",0,IF(isNccValid(F56),0,1))","v":0}]
[null,null,null,null,null,null,{"$f":"IF(OR(B57=Referentiel!C1,B57=Referentiel!B1),\"Choisir un pays\",\"\")","v":""},null,null,null,null,null,null,null,null,"",0,0,0,{"$f":"IF(F57=\"\",0,IF(isNccValid(F57),0,1))","v":0}]
[null,null,null,null,null,null,{"$f":"IF(OR(B58=Referentiel!C1,B58=Referentiel!B1),\"Choisir un pays\",\"\")","v":""},null,null,null,null,null,null,null,null,"",0,0,0,{"$f":"IF(F58=\"\",0,IF(isNccValid(F58),0,1))","v":0}]
[null,null,null,null,null,null,{"$f":"IF(OR(B59=Referentiel!C1,B59=Referentiel!B1),\"Choisir un pays\",\"\")","v":""},null,null,null,null,null,null,null,null,"",0,0,0,{"$f":"IF(F59=\"\",0,IF(isNccValid(F59),0,1))","v":0}]
[null,null,null,null,null,null,{"$f":"IF(OR(B60=Referentiel!C1,B60=Referentiel!B1),\"Choisir un pays\",\"\")","v":""},null,null,null,null,null,null,null,null,"",0,0,0,{"$f":"IF(F60=\"\",0,IF(isNccValid(F60),0,1))","v":0}]
[null,null,null,null,null,null,{"$f":"IF(OR(B61=Referentiel!C1,B61=Referentiel!B1),\"Choisir un pays\",\"\")","v":""},null,null,null,null,null,null,null,null,"",0,0,0,{"$f":"IF(F61=\"\",0,IF(isNccValid(F61),0,1))","v":0}]
[null,null,null,null,null,null,{"$f":"IF(OR(B62=Referentiel!C1,B62=Referentiel!B1),\"Choisir un pays\",\"\")","v":""},null,null,null,null,null,null,null,null,"",0,0,0,{"$f":"IF(F62=\"\",0,IF(isNccValid(F62),0,1))","v":0}]
[null,null,null,null,null,null,{"$f":"IF(OR(B63=Referentiel!C2,B63=Referentiel!B2),\"Choisir un pays\",\"\")","v":""},null,null,null,null,null,null,null,null,"",0,0,0,{"$f":"IF(F63=\"\",0,IF(isNccValid(F63),0,1))","v":0}]
[null,null,null,null,null,null,{"$f":"IF(OR(B64=Referentiel!C1,B64=Referentiel!B1),\"Choisir un pays\",\"\")","v":""},null,null,null,null,null,null,null,null,"",0,0,0,{"$f":"IF(F64=\"\",0,IF(isNccValid(F64),0,1))","v":0}]
[null,null,null,null,null,null,{"$f":"IF(OR(B65=Referentiel!C1,B65=Referentiel!B1),\"Choisir un pays\",\"\")","v":""},null,null,null,null,null,null,null,null,"",0,0,0,{"$f":"IF(F65=\"\",0,IF(isNccValid(F65),0,1))","v":0}]
[null,null,null,null,null,null,{"$f":"IF(OR(B66=Referentiel!C1,B66=Referentiel!B1),\"Choisir un pays\",\"\")","v":""},null,null,null,null,null,null,null,null,"",0,0,0,{"$f":"IF(F66=\"\",0,IF(isNccValid(F66),0,1))","v":0}]
[null,null,null,null,null,null,{"$f":"IF(OR(B67=Referentiel!C1,B67=Referentiel!B1),\"Choisir un pays\",\"\")","v":""},null,null,null,null,null,null,null,null,"",0,0,0,{"$f":"IF(F67=\"\",0,IF(isNccValid(F67),0,1))","v":0}]
[null,null,null,null,null,null,{"$f":"IF(OR(B68=Referentiel!C1,B68=Referentiel!B1),\"Choisir un pays\",\"\")","v":""},null,null,null,null,null,null,null,null,"",0,0,0,{"$f":"IF(F68=\"\",0,IF(isNccValid(F68),0,1))","v":0}]
[null,null,null,null,null,null,{"$f":"IF(OR(B69=Referentiel!C1,B69=Referentiel!B1),\"Choisir un pays\",\"\")","v":""},null,null,null,null,null,null,null,null,"",0,0,0,{"$f":"IF(F69=\"\",0,IF(isNccValid(F69),0,1))","v":0}]
[null,null,null,null,null,null,{"$f":"IF(OR(B70=Referentiel!C1,B70=Referentiel!B1),\"Choisir un pays\",\"\")","v":""},null,null,null,null,null,null,null,null,"",0,0,0,{"$f":"IF(F70=\"\",0,IF(isNccValid(F70),0,1))","v":0}]
[null,null,null,null,null,null,{"$f":"IF(OR(B71=Referentiel!C2,B71=Referentiel!B2),\"Choisir un pays\",\"\")","v":""},null,null,null,null,null,null,null,null,"",0,0,0,{"$f":"IF(F71=\"\",0,IF(isNccValid(F71),0,1))","v":0}]
[null,null,null,null,null,null,{"$f":"IF(OR(B72=Referentiel!C1,B72=Referentiel!B1),\"Choisir un pays\",\"\")","v":""},null,null,null,null,null,null,null,null,"",0,0,0,{"$f":"IF(F72=\"\",0,IF(isNccValid(F72),0,1))","v":0}]
[null,null,null,null,null,null,{"$f":"IF(OR(B73=Referentiel!C1,B73=Referentiel!B1),\"Choisir un pays\",\"\")","v":""},null,null,null,null,null,null,null,null,"",0,0,0,{"$f":"IF(F73=\"\",0,IF(isNccValid(F73),0,1))","v":0}]
[null,null,null,null,null,null,{"$f":"IF(OR(B74=Referentiel!C1,B74=Referentiel!B1),\"Choisir un pays\",\"\")","v":""},null,null,null,null,null,null,null,null,"",0,0,0,{"$f":"IF(F74=\"\",0,IF(isNccValid(F74),0,1))","v":0}]
[null,null,null,null,null,null,{"$f":"IF(OR(B75=Referentiel!C1,B75=Referentiel!B1),\"Choisir un pays\",\"\")","v":""},null,null,null,null,null,null,null,null,"",0,0,0,{"$f":"IF(F75=\"\",0,IF(isNccValid(F75),0,1))","v":0}]
[null,null,null,null,null,null,{"$f":"IF(OR(B76=Referentiel!C1,B76=Referentiel!B1),\"Choisir un pays\",\"\")","v":""},null,null,null,null,null,null,null,null,"",0,0,0,{"$f":"IF(F76=\"\",0,IF(isNccValid(F76),0,1))","v":0}]
[null,null,null,null,null,null,{"$f":"IF(OR(B77=Referentiel!C1,B77=Referentiel!B1),\"Choisir un pays\",\"\")","v":""},null,null,null,null,null,null,null,null,"",0,0,0,{"$f":"IF(F77=\"\",0,IF(isNccValid(F77),0,1))","v":0}]
[null,null,null,null,null,null,{"$f":"IF(OR(B78=Referentiel!C1,B78=Referentiel!B1),\"Choisir un pays\",\"\")","v":""},null,null,null,null,null,null,null,null,"",0,0,0,{"$f":"IF(F78=\"\",0,IF(isNccValid(F78),0,1))","v":0}]
[null,null,null,null,null,null,{"$f":"IF(OR(B79=Referentiel!C1,B79=Referentiel!B1),\"Choisir un pays\",\"\")","v":""},null,null,null,null,null,null,null,null,"",0,0,0,{"$f":"IF(F79=\"\",0,IF(isNccValid(F79),0,1))","v":0}]
[null,null,null,null,null,null,{"$f":"IF(OR(B80=Referentiel!C1,B80=Referentiel!B1),\"Choisir un pays\",\"\")","v":""},null,null,null,null,null,null,null,null,"",0,0,0,{"$f":"IF(F80=\"\",0,IF(isNccValid(F80),0,1))","v":0}]
[null,null,null,null,null,null,{"$f":"IF(OR(B81=Referentiel!C1,B81=Referentiel!B1),\"Choisir un pays\",\"\")","v":""},null,null,null,null,null,null,null,null,"",0,0,0,{"$f":"IF(F81=\"\",0,IF(isNccValid(F81),0,1))","v":0}]
[null,null,null,null,null,null,{"$f":"IF(OR(B82=Referentiel!C1,B82=Referentiel!B1),\"Choisir un pays\",\"\")","v":""},null,null,null,null,null,null,null,null,"",0,0,0,{"$f":"IF(F82=\"\",0,IF(isNccValid(F82),0,1))","v":0}]
[null,null,null,null,null,null,{"$f":"IF(OR(B83=Referentiel!C1,B83=Referentiel!B1),\"Choisir un pays\",\"\")","v":""},null,null,null,null,null,null,null,null,"",0,0,0,{"$f":"IF(F83=\"\",0,IF(isNccValid(F83),0,1))","v":0}]
[null,null,null,null,null,null,{"$f":"IF(OR(B84=Referentiel!C1,B84=Referentiel!B1),\"Choisir un pays\",\"\")","v":""},null,null,null,null,null,null,null,null,"",0,0,0,{"$f":"IF(F84=\"\",0,IF(isNccValid(F84),0,1))","v":0}]
[null,null,null,null,null,null,{"$f":"IF(OR(B85=Referentiel!C1,B85=Referentiel!B1),\"Choisir un pays\",\"\")","v":""},null,null,null,null,null,null,null,null,"",{"$f":"IF(AND(B85=\"\",R85=1),1,IF(AND(D85=\"\",R85=1),1,IF(AND(E85=\"\",R85=1),1,IF(AND(F85=\"\",R85=1),1,IF(AND(M85=\"\",R85=1),1,IF(AND(O85=\"\",R85=1),1,0))))))","v":0},{"$f":"IF(C85=\"\",0,IF(COUNTA(B85:O85)>0,1,0))","v":0},{"$f":"IFERROR(IF(LEN(F85)=8,0,IF(LEN(F85)=0,0,1)),1)","v":0},{"$f":"IF(F85=\"\",0,IF(isNccValid(F85),0,1))","v":0}]
[null,null,null,null,null,null,{"$f":"IF(OR(B86=Referentiel!C1,B86=Referentiel!B1),\"Choisir un pays\",\"\")","v":""},null,null,null,null,null,null,null,null,{"$f":"IF(B86=\"\",\"\",M86*O86)","v":""},0,0,0,{"$f":"IF(F86=\"\",0,IF(isNccValid(F86),0,1))","v":0}]
[null,null,null,null,null,null,{"$f":"IF(OR(B87=Referentiel!C1,B87=Referentiel!B1),\"Choisir un pays\",\"\")","v":""},null,null,null,null,null,null,null,null,"",0,0,0,{"$f":"IF(F87=\"\",0,IF(isNccValid(F87),0,1))","v":0}]
[null,null,null,null,null,null,{"$f":"IF(OR(B88=Referentiel!C1,B88=Referentiel!B1),\"Choisir un pays\",\"\")","v":""},null,null,null,null,null,null,null,null,"",0,0,0,{"$f":"IF(F88=\"\",0,IF(isNccValid(F88),0,1))","v":0}]
[null,null,null,null,null,null,{"$f":"IF(OR(B89=Referentiel!C1,B89=Referentiel!B1),\"Choisir un pays\",\"\")","v":""},null,null,null,null,null,null,null,null,"",0,0,0,{"$f":"IF(F89=\"\",0,IF(isNccValid(F89),0,1))","v":0}]
[null,null,null,null,null,null,{"$f":"IF(OR(B90=Referentiel!C1,B90=Referentiel!B1),\"Choisir un pays\",\"\")","v":""},null,null,null,null,null,null,null,null,"",0,0,0,{"$f":"IF(F90=\"\",0,IF(isNccValid(F90),0,1))","v":0}]
[null,null,null,null,null,null,{"$f":"IF(OR(B91=Referentiel!C1,B91=Referentiel!B1),\"Choisir un pays\",\"\")","v":""},null,null,null,null,null,null,null,null,"",0,0,0,{"$f":"IF(F91=\"\",0,IF(isNccValid(F91),0,1))","v":0}]
[null,null,null,null,null,null,{"$f":"IF(OR(B92=Referentiel!C1,B92=Referentiel!B1),\"Choisir un pays\",\"\")","v":""},null,null,null,null,null,null,null,null,"",0,0,0,{"$f":"IF(F92=\"\",0,IF(isNccValid(F92),0,1))","v":0}]
[null,null,null,null,null,null,{"$f":"IF(OR(B93=Referentiel!C1,B93=Referentiel!B1),\"Choisir un pays\",\"\")","v":""},null,null,null,null,null,null,null,null,"",0,0,0,{"$f":"IF(F93=\"\",0,IF(isNccValid(F93),0,1))","v":0}]
[null,null,null,null,null,null,{"$f":"IF(OR(B94=Referentiel!C1,B94=Referentiel!B1),\"Choisir un pays\",\"\")","v":""},null,null,null,null,null,null,null,null,"",0,0,0,{"$f":"IF(F94=\"\",0,IF(isNccValid(F94),0,1))","v":0}]
[null,null,null,null,null,null,{"$f":"IF(OR(B95=Referentiel!C1,B95=Referentiel!B1),\"Choisir un pays\",\"\")","v":""},null,null,null,null,null,null,null,null,"",0,0,0,{"$f":"IF(F95=\"\",0,IF(isNccValid(F95),0,1))","v":0}]
[null,null,null,null,null,null,{"$f":"IF(OR(B96=Referentiel!C1,B96=Referentiel!B1),\"Choisir un pays\",\"\")","v":""},null,null,null,null,null,null,null,null,"",0,0,0,{"$f":"IF(F96=\"\",0,IF(isNccValid(F96),0,1))","v":0}]
[null,null,null,null,null,null,{"$f":"IF(OR(B97=Referentiel!C1,B97=Referentiel!B1),\"Choisir un pays\",\"\")","v":""},null,null,null,null,null,null,null,null,"",0,0,0,{"$f":"IF(F97=\"\",0,IF(isNccValid(F97),0,1))","v":0}]
[null,null,null,null,null,null,{"$f":"IF(OR(B98=Referentiel!C1,B98=Referentiel!B1),\"Choisir un pays\",\"\")","v":""},null,null,null,null,null,null,null,null,"",0,0,0,{"$f":"IF(F98=\"\",0,IF(isNccValid(F98),0,1))","v":0}]
[null,null,null,null,null,null,{"$f":"IF(OR(B99=Referentiel!C1,B99=Referentiel!B1),\"Choisir un pays\",\"\")","v":""},null,null,null,null,null,null,null,null,"",0,0,0,{"$f":"IF(F99=\"\",0,IF(isNccValid(F99),0,1))","v":0}]
[null,null,null,null,null,null,{"$f":"IF(OR(B100=Referentiel!C1,B100=Referentiel!B1),\"Choisir un pays\",\"\")","v":""},null,null,null,null,null,null,null,null,"",0,0,0,{"$f":"IF(F100=\"\",0,IF(isNccValid(F100),0,1))","v":0}]
[null,null,null,null,null,null,{"$f":"IF(OR(B101=Referentiel!C1,B101=Referentiel!B1),\"Choisir un pays\",\"\")","v":""},null,null,null,null,null,null,null,null,"",0,0,0,{"$f":"IF(F101=\"\",0,IF(isNccValid(F101),0,1))","v":0}]
[null,null,null,null,null,null,{"$f":"IF(OR(B102=Referentiel!C1,B102=Referentiel!B1),\"Choisir un pays\",\"\")","v":""},null,null,null,null,null,null,null,null,"",0,0,0,{"$f":"IF(F102=\"\",0,IF(isNccValid(F102),0,1))","v":0}]
[null,null,null,null,null,null,{"$f":"IF(OR(B103=Referentiel!C1,B103=Referentiel!B1),\"Choisir un pays\",\"\")","v":""},null,null,null,null,null,null,null,null,"",0,0,0,{"$f":"IF(F103=\"\",0,IF(isNccValid(F103),0,1))","v":0}]
[null,null,null,null,null,null,{"$f":"IF(OR(B104=Referentiel!C1,B104=Referentiel!B1),\"Choisir un pays\",\"\")","v":""},null,null,null,null,null,null,null,null,"",0,0,0,{"$f":"IF(F104=\"\",0,IF(isNccValid(F104),0,1))","v":0}]
[null,null,null,null,null,null,{"$f":"IF(OR(B105=Referentiel!C1,B105=Referentiel!B1),\"Choisir un pays\",\"\")","v":""},null,null,null,null,null,null,null,null,"",0,0,0,{"$f":"IF(F105=\"\",0,IF(isNccValid(F105),0,1))","v":0}]
[null,null,null,null,null,null,{"$f":"IF(OR(B106=Referentiel!C1,B106=Referentiel!B1),\"Choisir un pays\",\"\")","v":""},null,null,null,null,null,null,null,null,"",0,0,0,{"$f":"IF(F106=\"\",0,IF(isNccValid(F106),0,1))","v":0}]
[null,null,null,null,null,null,{"$f":"IF(OR(B107=Referentiel!C1,B107=Referentiel!B1),\"Choisir un pays\",\"\")","v":""},null,null,null,null,null,null,null,null,"",0,0,0,{"$f":"IF(F107=\"\",0,IF(isNccValid(F107),0,1))","v":0}]
[null,null,null,null,null,null,{"$f":"IF(OR(B108=Referentiel!C1,B108=Referentiel!B1),\"Choisir un pays\",\"\")","v":""},null,null,null,null,null,null,null,null,"",0,0,0,{"$f":"IF(F108=\"\",0,IF(isNccValid(F108),0,1))","v":0}]
[null,null,null,null,null,null,{"$f":"IF(OR(B109=Referentiel!C1,B109=Referentiel!B1),\"Choisir un pays\",\"\")","v":""},null,null,null,null,null,null,null,null,"",0,0,0,{"$f":"IF(F109=\"\",0,IF(isNccValid(F109),0,1))","v":0}]
[null,null,null,null,null,null,{"$f":"IF(OR(B110=Referentiel!C1,B110=Referentiel!B1),\"Choisir un pays\",\"\")","v":""},null,null,null,null,null,null,null,null,"",0,0,0,{"$f":"IF(F110=\"\",0,IF(isNccValid(F110),0,1))","v":0}]
[null,null,null,null,null,null,{"$f":"IF(OR(B111=Referentiel!C1,B111=Referentiel!B1),\"Choisir un pays\",\"\")","v":""},null,null,null,null,null,null,null,null,"",0,0,0,{"$f":"IF(F111=\"\",0,IF(isNccValid(F111),0,1))","v":0}]
[null,null,null,null,null,null,{"$f":"IF(OR(B112=Referentiel!C1,B112=Referentiel!B1),\"Choisir un pays\",\"\")","v":""},null,null,null,null,null,null,null,null,"",0,0,0,{"$f":"IF(F112=\"\",0,IF(isNccValid(F112),0,1))","v":0}]
[null,null,null,null,null,null,{"$f":"IF(OR(B113=Referentiel!C1,B113=Referentiel!B1),\"Choisir un pays\",\"\")","v":""},null,null,null,null,null,null,null,null,"",0,0,0,{"$f":"IF(F113=\"\",0,IF(isNccValid(F113),0,1))","v":0}]
[null,null,null,null,null,null,{"$f":"IF(OR(B114=Referentiel!C1,B114=Referentiel!B1),\"Choisir un pays\",\"\")","v":""},null,null,null,null,null,null,null,null,"",0,0,0,{"$f":"IF(F114=\"\",0,IF(isNccValid(F114),0,1))","v":0}]
[null,null,null,null,null,null,{"$f":"IF(OR(B115=Referentiel!C1,B115=Referentiel!B1),\"Choisir un pays\",\"\")","v":""},null,null,null,null,null,null,null,null,"",0,0,0,{"$f":"IF(F115=\"\",0,IF(isNccValid(F115),0,1))","v":0}]
[null,null,null,null,null,null,{"$f":"IF(OR(B116=Referentiel!C1,B116=Referentiel!B1),\"Choisir un pays\",\"\")","v":""},null,null,null,null,null,null,null,null,"",0,0,0,{"$f":"IF(F116=\"\",0,IF(isNccValid(F116),0,1))","v":0}]
[null,null,null,null,null,null,{"$f":"IF(OR(B117=Referentiel!C2,B117=Referentiel!B2),\"Choisir un pays\",\"\")","v":""},null,null,null,null,null,null,null,null,"",0,0,0,{"$f":"IF(F117=\"\",0,IF(isNccValid(F117),0,1))","v":0}]
[null,null,null,null,null,null,{"$f":"IF(OR(B118=Referentiel!C1,B118=Referentiel!B1),\"Choisir un pays\",\"\")","v":""},null,null,null,null,null,null,null,null,"",0,0,0,{"$f":"IF(F118=\"\",0,IF(isNccValid(F118),0,1))","v":0}]
[null,null,null,null,null,null,{"$f":"IF(OR(B119=Referentiel!C1,B119=Referentiel!B1),\"Choisir un pays\",\"\")","v":""},null,null,null,null,null,null,null,null,"",0,0,0,{"$f":"IF(F119=\"\",0,IF(isNccValid(F119),0,1))","v":0}]
[null,null,null,null,null,null,{"$f":"IF(OR(B120=Referentiel!C1,B120=Referentiel!B1),\"Choisir un pays\",\"\")","v":""},null,null,null,null,null,null,null,null,"",0,0,0,{"$f":"IF(F120=\"\",0,IF(isNccValid(F120),0,1))","v":0}]
[null,null,null,null,null,null,{"$f":"IF(OR(B121=Referentiel!C1,B121=Referentiel!B1),\"Choisir un pays\",\"\")","v":""},null,null,null,null,null,null,null,null,"",0,0,0,{"$f":"IF(F121=\"\",0,IF(isNccValid(F121),0,1))","v":0}]
[null,null,null,null,null,null,{"$f":"IF(OR(B122=Referentiel!C1,B122=Referentiel!B1),\"Choisir un pays\",\"\")","v":""},null,null,null,null,null,null,null,null,"",0,0,0,{"$f":"IF(F122=\"\",0,IF(isNccValid(F122),0,1))","v":0}]
[null,null,null,null,null,null,{"$f":"IF(OR(B123=Referentiel!C1,B123=Referentiel!B1),\"Choisir un pays\",\"\")","v":""},null,null,null,null,null,null,null,null,"",0,0,0,{"$f":"IF(F123=\"\",0,IF(isNccValid(F123),0,1))","v":0}]
[null,null,null,null,null,null,{"$f":"IF(OR(B124=Referentiel!C1,B124=Referentiel!B1),\"Choisir un pays\",\"\")","v":""},null,null,null,null,null,null,null,null,"",0,0,0,{"$f":"IF(F124=\"\",0,IF(isNccValid(F124),0,1))","v":0}]
[null,null,null,null,null,null,{"$f":"IF(OR(B125=Referentiel!C1,B125=Referentiel!B1),\"Choisir un pays\",\"\")","v":""},null,null,null,null,null,null,null,null,"",0,0,0,{"$f":"IF(F125=\"\",0,IF(isNccValid(F125),0,1))","v":0}]
[null,null,null,null,null,null,{"$f":"IF(OR(B126=Referentiel!C1,B126=Referentiel!B1),\"Choisir un pays\",\"\")","v":""},null,null,null,null,null,null,null,null,"",0,0,0,{"$f":"IF(F126=\"\",0,IF(isNccValid(F126),0,1))","v":0}]
[null,null,null,null,null,null,{"$f":"IF(OR(B127=Referentiel!C1,B127=Referentiel!B1),\"Choisir un pays\",\"\")","v":""},null,null,null,null,null,null,null,null,"",0,0,0,{"$f":"IF(F127=\"\",0,IF(isNccValid(F127),0,1))","v":0}]
[null,null,null,null,null,null,{"$f":"IF(OR(B128=Referentiel!C1,B128=Referentiel!B1),\"Choisir un pays\",\"\")","v":""},null,null,null,null,null,null,null,null,"",0,0,0,{"$f":"IF(F128=\"\",0,IF(isNccValid(F128),0,1))","v":0}]
[null,null,null,null,null,null,{"$f":"IF(OR(B129=Referentiel!C1,B129=Referentiel!B1),\"Choisir un pays\",\"\")","v":""},null,null,null,null,null,null,null,null,"",0,0,0,{"$f":"IF(F129=\"\",0,IF(isNccValid(F129),0,1))","v":0}]
[null,null,null,null,null,null,{"$f":"IF(OR(B130=Referentiel!C1,B130=Referentiel!B1),\"Choisir un pays\",\"\")","v":""},null,null,null,null,null,null,null,null,"",0,0,0,{"$f":"IF(F130=\"\",0,IF(isNccValid(F130),0,1))","v":0}]
[null,null,null,null,null,null,{"$f":"IF(OR(B131=Referentiel!C1,B131=Referentiel!B1),\"Choisir un pays\",\"\")","v":""},null,null,null,null,null,null,null,null,"",0,0,0,{"$f":"IF(F131=\"\",0,IF(isNccValid(F131),0,1))","v":0}]
[null,null,null,null,null,null,{"$f":"IF(OR(B132=Referentiel!C1,B132=Referentiel!B1),\"Choisir un pays\",\"\")","v":""},null,null,null,null,null,null,null,null,"",0,0,0,{"$f":"IF(F132=\"\",0,IF(isNccValid(F132),0,1))","v":0}]
[null,null,null,null,null,null,{"$f":"IF(OR(B133=Referentiel!C1,B133=Referentiel!B1),\"Choisir un pays\",\"\")","v":""},null,null,null,null,null,null,null,null,"",0,0,0,{"$f":"IF(F133=\"\",0,IF(isNccValid(F133),0,1))","v":0}]
[null,null,null,null,null,null,{"$f":"IF(OR(B134=Referentiel!C1,B134=Referentiel!B1),\"Choisir un pays\",\"\")","v":""},null,null,null,null,null,null,null,null,"",0,0,0,{"$f":"IF(F134=\"\",0,IF(isNccValid(F134),0,1))","v":0}]
[null,null,null,null,null,null,{"$f":"IF(OR(B135=Referentiel!C1,B135=Referentiel!B1),\"Choisir un pays\",\"\")","v":""},null,null,null,null,null,null,null,null,"",0,0,0,{"$f":"IF(F135=\"\",0,IF(isNccValid(F135),0,1))","v":0}]
[null,null,null,null,null,null,{"$f":"IF(OR(B136=Referentiel!C1,B136=Referentiel!B1),\"Choisir un pays\",\"\")","v":""},null,null,null,null,null,null,null,null,"",0,0,0,{"$f":"IF(F136=\"\",0,IF(isNccValid(F136),0,1))","v":0}]
[null,null,null,null,null,null,{"$f":"IF(OR(B137=Referentiel!C1,B137=Referentiel!B1),\"Choisir un pays\",\"\")","v":""},null,null,null,null,null,null,null,null,"",0,0,0,{"$f":"IF(F137=\"\",0,IF(isNccValid(F137),0,1))","v":0}]
[null,null,null,null,null,null,{"$f":"IF(OR(B138=Referentiel!C1,B138=Referentiel!B1),\"Choisir un pays\",\"\")","v":""},null,null,null,null,null,null,null,null,"",0,0,0,{"$f":"IF(F138=\"\",0,IF(isNccValid(F138),0,1))","v":0}]
[null,null,null,null,null,null,{"$f":"IF(OR(B139=Referentiel!C1,B139=Referentiel!B1),\"Choisir un pays\",\"\")","v":""},null,null,null,null,null,null,null,null,"",0,0,0,{"$f":"IF(F139=\"\",0,IF(isNccValid(F139),0,1))","v":0}]
[null,null,null,null,null,null,{"$f":"IF(OR(B140=Referentiel!C1,B140=Referentiel!B1),\"Choisir un pays\",\"\")","v":""},null,null,null,null,null,null,null,null,"",0,0,0,{"$f":"IF(F140=\"\",0,IF(isNccValid(F140),0,1))","v":0}]
[null,null,null,null,null,null,{"$f":"IF(OR(B141=Referentiel!C1,B141=Referentiel!B1),\"Choisir un pays\",\"\")","v":""},null,null,null,null,null,null,null,null,"",0,0,0,{"$f":"IF(F141=\"\",0,IF(isNccValid(F141),0,1))","v":0}]
[null,null,null,null,null,null,{"$f":"IF(OR(B142=Referentiel!C1,B142=Referentiel!B1),\"Choisir un pays\",\"\")","v":""},null,null,null,null,null,null,null,null,"",0,0,0,{"$f":"IF(F142=\"\",0,IF(isNccValid(F142),0,1))","v":0}]
[null,null,null,null,null,null,{"$f":"IF(OR(B143=Referentiel!C1,B143=Referentiel!B1),\"Choisir un pays\",\"\")","v":""},null,null,null,null,null,null,null,null,"",0,0,0,{"$f":"IF(F143=\"\",0,IF(isNccValid(F143),0,1))","v":0}]
[null,null,null,null,null,null,{"$f":"IF(OR(B144=Referentiel!C1,B144=Referentiel!B1),\"Choisir un pays\",\"\")","v":""},null,null,null,null,null,null,null,null,"",0,0,0,{"$f":"IF(F144=\"\",0,IF(isNccValid(F144),0,1))","v":0}]
[null,null,null,null,null,null,{"$f":"IF(OR(B145=Referentiel!C1,B145=Referentiel!B1),\"Choisir un pays\",\"\")","v":""},null,null,null,null,null,null,null,null,"",0,0,0,{"$f":"IF(F145=\"\",0,IF(isNccValid(F145),0,1))","v":0}]
[null,null,null,null,null,null,{"$f":"IF(OR(B146=Referentiel!C1,B146=Referentiel!B1),\"Choisir un pays\",\"\")","v":""},null,null,null,null,null,null,null,null,"",0,0,0,{"$f":"IF(F146=\"\",0,IF(isNccValid(F146),0,1))","v":0}]
[null,null,null,null,null,null,{"$f":"IF(OR(B147=Referentiel!C1,B147=Referentiel!B1),\"Choisir un pays\",\"\")","v":""},null,null,null,null,null,null,null,null,"",0,0,0,{"$f":"IF(F147=\"\",0,IF(isNccValid(F147),0,1))","v":0}]
[null,null,null,null,null,null,{"$f":"IF(OR(B148=Referentiel!C1,B148=Referentiel!B1),\"Choisir un pays\",\"\")","v":""},null,null,null,null,null,null,null,null,"",0,0,0,{"$f":"IF(F148=\"\",0,IF(isNccValid(F148),0,1))","v":0}]
[null,null,null,null,null,null,{"$f":"IF(OR(B149=Referentiel!C1,B149=Referentiel!B1),\"Choisir un pays\",\"\")","v":""},null,null,null,null,null,null,null,null,"",{"$f":"IF(AND(B149=\"\",R149=1),1,IF(AND(D149=\"\",R149=1),1,IF(AND(E149=\"\",R149=1),1,IF(AND(F149=\"\",R149=1),1,IF(AND(M149=\"\",R149=1),1,IF(AND(O149=\"\",R149=1),1,0))))))","v":0},{"$f":"IF(C149=\"\",0,IF(COUNTA(B149:O149)>0,1,0))","v":0},{"$f":"IFERROR(IF(LEN(F149)=8,0,IF(LEN(F149)=0,0,1)),1)","v":0},{"$f":"IF(F149=\"\",0,IF(isNccValid(F149),0,1))","v":0}]
[null,null,null,null,null,null,{"$f":"IF(OR(B150=Referentiel!C1,B150=Referentiel!B1),\"Choisir un pays\",\"\")","v":""},null,null,null,null,null,null,null,null,{"$f":"IF(B150=\"\",\"\",M150*O150)","v":""},0,0,0,{"$f":"IF(F150=\"\",0,IF(isNccValid(F150),0,1))","v":0}]
[null,null,null,null,null,null,{"$f":"IF(OR(B151=Referentiel!C2,B151=Referentiel!B2),\"Choisir un pays\",\"\")","v":""},null,null,null,null,null,null,null,null,"",0,0,0,{"$f":"IF(F151=\"\",0,IF(isNccValid(F151),0,1))","v":0}]
[null,null,null,null,null,null,{"$f":"IF(OR(B152=Referentiel!C1,B152=Referentiel!B1),\"Choisir un pays\",\"\")","v":""},null,null,null,null,null,null,null,null,"",0,0,0,{"$f":"IF(F152=\"\",0,IF(isNccValid(F152),0,1))","v":0}]
[null,null,null,null,null,null,{"$f":"IF(OR(B153=Referentiel!C1,B153=Referentiel!B1),\"Choisir un pays\",\"\")","v":""},null,null,null,null,null,null,null,null,"",0,0,0,{"$f":"IF(F153=\"\",0,IF(isNccValid(F153),0,1))","v":0}]
[null,null,null,null,null,null,{"$f":"IF(OR(B154=Referentiel!C1,B154=Referentiel!B1),\"Choisir un pays\",\"\")","v":""},null,null,null,null,null,null,null,null,"",0,0,0,{"$f":"IF(F154=\"\",0,IF(isNccValid(F154),0,1))","v":0}]
[null,null,null,null,null,null,{"$f":"IF(OR(B155=Referentiel!C1,B155=Referentiel!B1),\"Choisir un pays\",\"\")","v":""},null,null,null,null,null,null,null,null,"",0,0,0,{"$f":"IF(F155=\"\",0,IF(isNccValid(F155),0,1))","v":0}]
[null,null,null,null,null,null,{"$f":"IF(OR(B156=Referentiel!C1,B156=Referentiel!B1),\"Choisir un pays\",\"\")","v":""},null,null,null,null,null,null,null,null,"",0,0,0,{"$f":"IF(F156=\"\",0,IF(isNccValid(F156),0,1))","v":0}]
[null,null,null,null,null,null,{"$f":"IF(OR(B157=Referentiel!C1,B157=Referentiel!B1),\"Choisir un pays\",\"\")","v":""},null,null,null,null,null,null,null,null,"",0,0,0,{"$f":"IF(F157=\"\",0,IF(isNccValid(F157),0,1))","v":0}]
[null,null,null,null,null,null,{"$f":"IF(OR(B158=Referentiel!C1,B158=Referentiel!B1),\"Choisir un pays\",\"\")","v":""},null,null,null,null,null,null,null,null,"",0,0,0,{"$f":"IF(F158=\"\",0,IF(isNccValid(F158),0,1))","v":0}]
[null,null,null,null,null,null,{"$f":"IF(OR(B159=Referentiel!C1,B159=Referentiel!B1),\"Choisir un pays\",\"\")","v":""},null,null,null,null,null,null,null,null,"",0,0,0,{"$f":"IF(F159=\"\",0,IF(isNccValid(F159),0,1))","v":0}]
[null,null,null,null,null,null,{"$f":"IF(OR(B160=Referentiel!C1,B160=Referentiel!B1),\"Choisir un pays\",\"\")","v":""},null,null,null,null,null,null,null,null,"",0,0,0,{"$f":"IF(F160=\"\",0,IF(isNccValid(F160),0,1))","v":0}]
[null,null,null,null,null,null,{"$f":"IF(OR(B161=Referentiel!C2,B161=Referentiel!B2),\"Choisir un pays\",\"\")","v":""},null,null,null,null,null,null,null,null,"",0,0,0,{"$f":"IF(F161=\"\",0,IF(isNccValid(F161),0,1))","v":0}]
[null,null,null,null,null,null,{"$f":"IF(OR(B162=Referentiel!C1,B162=Referentiel!B1),\"Choisir un pays\",\"\")","v":""},null,null,null,null,null,null,null,null,"",0,0,0,{"$f":"IF(F162=\"\",0,IF(isNccValid(F162),0,1))","v":0}]
[null,null,null,null,null,null,{"$f":"IF(OR(B163=Referentiel!C1,B163=Referentiel!B1),\"Choisir un pays\",\"\")","v":""},null,null,null,null,null,null,null,null,"",0,0,0,{"$f":"IF(F163=\"\",0,IF(isNccValid(F163),0,1))","v":0}]
[null,null,null,null,null,null,{"$f":"IF(OR(B164=Referentiel!C1,B164=Referentiel!B1),\"Choisir un pays\",\"\")","v":""},null,null,null,null,null,null,null,null,"",0,0,0,{"$f":"IF(F164=\"\",0,IF(isNccValid(F164),0,1))","v":0}]
[null,null,null,null,null,null,{"$f":"IF(OR(B165=Referentiel!C1,B165=Referentiel!B1),\"Choisir un pays\",\"\")","v":""},null,null,null,null,null,null,null,null,"",0,0,0,{"$f":"IF(F165=\"\",0,IF(isNccValid(F165),0,1))","v":0}]
[null,null,null,null,null,null,{"$f":"IF(OR(B166=Referentiel!C1,B166=Referentiel!B1),\"Choisir un pays\",\"\")","v":""},null,null,null,null,null,null,null,null,"",0,0,0,{"$f":"IF(F166=\"\",0,IF(isNccValid(F166),0,1))","v":0}]
[null,null,null,null,null,null,{"$f":"IF(OR(B167=Referentiel!C1,B167=Referentiel!B1),\"Choisir un pays\",\"\")","v":""},null,null,null,null,null,null,null,null,"",0,0,0,{"$f":"IF(F167=\"\",0,IF(isNccValid(F167),0,1))","v":0}]
[null,null,null,null,null,null,{"$f":"IF(OR(B168=Referentiel!C1,B168=Referentiel!B1),\"Choisir un pays\",\"\")","v":""},null,null,null,null,null,null,null,null,"",0,0,0,{"$f":"IF(F168=\"\",0,IF(isNccValid(F168),0,1))","v":0}]
[null,null,null,null,null,null,{"$f":"IF(OR(B169=Referentiel!C1,B169=Referentiel!B1),\"Choisir un pays\",\"\")","v":""},null,null,null,null,null,null,null,null,"",0,0,0,{"$f":"IF(F169=\"\",0,IF(isNccValid(F169),0,1))","v":0}]
[null,null,null,null,null,null,{"$f":"IF(OR(B170=Referentiel!C1,B170=Referentiel!B1),\"Choisir un pays\",\"\")","v":""},null,null,null,null,null,null,null,null,"",0,0,0,{"$f":"IF(F170=\"\",0,IF(isNccValid(F170),0,1))","v":0}]
[null,null,null,null,null,null,{"$f":"IF(OR(B171=Referentiel!C1,B171=Referentiel!B1),\"Choisir un pays\",\"\")","v":""},null,null,null,null,null,null,null,null,"",0,0,0,{"$f":"IF(F171=\"\",0,IF(isNccValid(F171),0,1))","v":0}]
[null,null,null,null,null,null,{"$f":"IF(OR(B172=Referentiel!C1,B172=Referentiel!B1),\"Choisir un pays\",\"\")","v":""},null,null,null,null,null,null,null,null,"",0,0,0,{"$f":"IF(F172=\"\",0,IF(isNccValid(F172),0,1))","v":0}]
[null,null,null,null,null,null,{"$f":"IF(OR(B173=Referentiel!C1,B173=Referentiel!B1),\"Choisir un pays\",\"\")","v":""},null,null,null,null,null,null,null,null,"",0,0,0,{"$f":"IF(F173=\"\",0,IF(isNccValid(F173),0,1))","v":0}]
[null,null,null,null,null,null,{"$f":"IF(OR(B174=Referentiel!C1,B174=Referentiel!B1),\"Choisir un pays\",\"\")","v":""},null,null,null,null,null,null,null,null,"",0,0,0,{"$f":"IF(F174=\"\",0,IF(isNccValid(F174),0,1))","v":0}]
[null,null,null,null,null,null,{"$f":"IF(OR(B175=Referentiel!C1,B175=Referentiel!B1),\"Choisir un pays\",\"\")","v":""},null,null,null,null,null,null,null,null,"",0,0,0,{"$f":"IF(F175=\"\",0,IF(isNccValid(F175),0,1))","v":0}]
[null,null,null,null,null,null,{"$f":"IF(OR(B176=Referentiel!C1,B176=Referentiel!B1),\"Choisir un pays\",\"\")","v":""},null,null,null,null,null,null,null,null,"",0,0,0,{"$f":"IF(F176=\"\",0,IF(isNccValid(F176),0,1))","v":0}]
[null,null,null,null,null,null,{"$f":"IF(OR(B177=Referentiel!C1,B177=Referentiel!B1),\"Choisir un pays\",\"\")","v":""},null,null,null,null,null,null,null,null,"",0,0,0,{"$f":"IF(F177=\"\",0,IF(isNccValid(F177),0,1))","v":0}]
[null,null,null,null,null,null,{"$f":"IF(OR(B178=Referentiel!C1,B178=Referentiel!B1),\"Choisir un pays\",\"\")","v":""},null,null,null,null,null,null,null,null,"",0,0,0,{"$f":"IF(F178=\"\",0,IF(isNccValid(F178),0,1))","v":0}]
[null,null,null,null,null,null,{"$f":"IF(OR(B179=Referentiel!C1,B179=Referentiel!B1),\"Choisir un pays\",\"\")","v":""},null,null,null,null,null,null,null,null,"",0,0,0,{"$f":"IF(F179=\"\",0,IF(isNccValid(F179),0,1))","v":0}]
[null,null,null,null,null,null,{"$f":"IF(OR(B180=Referentiel!C1,B180=Referentiel!B1),\"Choisir un pays\",\"\")","v":""},null,null,null,null,null,null,null,null,"",0,0,0,{"$f":"IF(F180=\"\",0,IF(isNccValid(F180),0,1))","v":0}]
[null,null,null,null,null,null,{"$f":"IF(OR(B181=Referentiel!C1,B181=Referentiel!B1),\"Choisir un pays\",\"\")","v":""},null,null,null,null,null,null,null,null,"",0,0,0,{"$f":"IF(F181=\"\",0,IF(isNccValid(F181),0,1))","v":0}]
[null,null,null,null,null,null,{"$f":"IF(OR(B182=Referentiel!C1,B182=Referentiel!B1),\"Choisir un pays\",\"\")","v":""},null,null,null,null,null,null,null,null,"",0,0,0,{"$f":"IF(F182=\"\",0,IF(isNccValid(F182),0,1))","v":0}]
[null,null,null,null,null,null,{"$f":"IF(OR(B183=Referentiel!C1,B183=Referentiel!B1),\"Choisir un pays\",\"\")","v":""},null,null,null,null,null,null,null,null,"",0,0,0,{"$f":"IF(F183=\"\",0,IF(isNccValid(F183),0,1))","v":0}]
[null,null,null,null,null,null,{"$f":"IF(OR(B184=Referentiel!C1,B184=Referentiel!B1),\"Choisir un pays\",\"\")","v":""},null,null,null,null,null,null,null,null,"",0,0,0,{"$f":"IF(F184=\"\",0,IF(isNccValid(F184),0,1))","v":0}]
[null,null,null,null,null,null,{"$f":"IF(OR(B185=Referentiel!C1,B185=Referentiel!B1),\"Choisir un pays\",\"\")","v":""},null,null,null,null,null,null,null,null,"",0,0,0,{"$f":"IF(F185=\"\",0,IF(isNccValid(F185),0,1))","v":0}]
[null,null,null,null,null,null,{"$f":"IF(OR(B186=Referentiel!C1,B186=Referentiel!B1),\"Choisir un pays\",\"\")","v":""},null,null,null,null,null,null,null,null,"",0,0,0,{"$f":"IF(F186=\"\",0,IF(isNccValid(F186),0,1))","v":0}]
[null,null,null,null,null,null,{"$f":"IF(OR(B187=Referentiel!C1,B187=Referentiel!B1),\"Choisir un pays\",\"\")","v":""},null,null,null,null,null,null,null,null,"",0,0,0,{"$f":"IF(F187=\"\",0,IF(isNccValid(F187),0,1))","v":0}]
[null,null,null,null,null,null,{"$f":"IF(OR(B188=Referentiel!C1,B188=Referentiel!B1),\"Choisir un pays\",\"\")","v":""},null,null,null,null,null,null,null,null,"",0,0,0,{"$f":"IF(F188=\"\",0,IF(isNccValid(F188),0,1))","v":0}]
[null,null,null,null,null,null,{"$f":"IF(OR(B189=Referentiel!C1,B189=Referentiel!B1),\"Choisir un pays\",\"\")","v":""},null,null,null,null,null,null,null,null,"",0,0,0,{"$f":"IF(F189=\"\",0,IF(isNccValid(F189),0,1))","v":0}]
[null,null,null,null,null,null,{"$f":"IF(OR(B190=Referentiel!C1,B190=Referentiel!B1),\"Choisir un pays\",\"\")","v":""},null,null,null,null,null,null,null,null,"",0,0,0,{"$f":"IF(F190=\"\",0,IF(isNccValid(F190),0,1))","v":0}]
[null,null,null,null,null,null,{"$f":"IF(OR(B191=Referentiel!C1,B191=Referentiel!B1),\"Choisir un pays\",\"\")","v":""},null,null,null,null,null,null,null,null,"",0,0,0,{"$f":"IF(F191=\"\",0,IF(isNccValid(F191),0,1))","v":0}]
[null,null,null,null,null,null,{"$f":"IF(OR(B192=Referentiel!C1,B192=Referentiel!B1),\"Choisir un pays\",\"\")","v":""},null,null,null,null,null,null,null,null,"",0,0,0,{"$f":"IF(F192=\"\",0,IF(isNccValid(F192),0,1))","v":0}]
[null,null,null,null,null,null,{"$f":"IF(OR(B193=Referentiel!C1,B193=Referentiel!B1),\"Choisir un pays\",\"\")","v":""},null,null,null,null,null,null,null,null,"",0,0,0,{"$f":"IF(F193=\"\",0,IF(isNccValid(F193),0,1))","v":0}]
[null,null,null,null,null,null,{"$f":"IF(OR(B194=Referentiel!C1,B194=Referentiel!B1),\"Choisir un pays\",\"\")","v":""},null,null,null,null,null,null,null,null,"",0,0,0,{"$f":"IF(F194=\"\",0,IF(isNccValid(F194),0,1))","v":0}]
[null,null,null,null,null,null,{"$f":"IF(OR(B195=Referentiel!C1,B195=Referentiel!B1),\"Choisir un pays\",\"\")","v":""},null,null,null,null,null,null,null,null,"",0,0,0,{"$f":"IF(F195=\"\",0,IF(isNccValid(F195),0,1))","v":0}]
[null,null,null,null,null,null,{"$f":"IF(OR(B196=Referentiel!C1,B196=Referentiel!B1),\"Choisir un pays\",\"\")","v":""},null,null,null,null,null,null,null,null,"",0,0,0,{"$f":"IF(F196=\"\",0,IF(isNccValid(F196),0,1))","v":0}]
[null,null,null,null,null,null,{"$f":"IF(OR(B197=Referentiel!C1,B197=Referentiel!B1),\"Choisir un pays\",\"\")","v":""},null,null,null,null,null,null,null,null,"",0,0,0,{"$f":"IF(F197=\"\",0,IF(isNccValid(F197),0,1))","v":0}]
[null,null,null,null,null,null,{"$f":"IF(OR(B198=Referentiel!C1,B198=Referentiel!B1),\"Choisir un pays\",\"\")","v":""},null,null,null,null,null,null,null,null,"",0,0,0,{"$f":"IF(F198=\"\",0,IF(isNccValid(F198),0,1))","v":0}]
[null,null,null,null,null,null,{"$f":"IF(OR(B199=Referentiel!C1,B199=Referentiel!B1),\"Choisir un pays\",\"\")","v":""},null,null,null,null,null,null,null,null,"",0,0,0,{"$f":"IF(F199=\"\",0,IF(isNccValid(F199),0,1))","v":0}]
[null,null,null,null,null,null,{"$f":"IF(OR(B200=Referentiel!C1,B200=Referentiel!B1),\"Choisir un pays\",\"\")","v":""},null,null,null,null,null,null,null,null,"",0,0,0,{"$f":"IF(F200=\"\",0,IF(isNccValid(F200),0,1))","v":0}]
[null,null,null,null,null,null,null,null,null,null,null,null,null,null,null,"",0,0,0,{"$f":"IF(F201=\"\",0,IF(isNccValid(F201),0,1))","v":0}]
[null,null,null,null,null,null,null,null,null,null,null,null,null,null,null,"",0,0,0,{"$f":"IF(F202=\"\",0,IF(isNccValid(F202),0,1))","v":0}]
[null,null,null,null,null,null,null,null,null,null,null,null,null,null,null,"",0,0,0,{"$f":"IF(F203=\"\",0,IF(isNccValid(F203),0,1))","v":0}]
[null,null,null,null,null,null,null,null,null,null,null,null,null,null,null,"",0,0,0,{"$f":"IF(F204=\"\",0,IF(isNccValid(F204),0,1))","v":0}]
[null,null,null,null,null,null,null,null,null,null,null,null,null,null,null,"",0,0,0,{"$f":"IF(F205=\"\",0,IF(isNccValid(F205),0,1))","v":0}]
[null,null,null,null,null,null,null,null,null,null,null,null,null,null,null,"",0,0,0,{"$f":"IF(F206=\"\",0,IF(isNccValid(F206),0,1))","v":0}]
[null,null,null,null,null,null,null,null,null,null,null,null,null,null,null,"",0,0,0,{"$f":"IF(F207=\"\",0,IF(isNccValid(F207),0,1))","v":0}]
[null,null,null,null,null,null,null,null,null,null,null,null,null,null,null,"",0,0,0,{"$f":"IF(F208=\"\",0,IF(isNccValid(F208),0,1))","v":0}]
[null,null,null,null,null,null,null,null,null,null,null,null,null,null,null,"",0,0,0,{"$f":"IF(F209=\"\",0,IF(isNccValid(F209),0,1))","v":0}]
[null,null,null,null,null,null,null,null,null,null,null,null,null,null,null,"",0,0,0,{"$f":"IF(F210=\"\",0,IF(isNccValid(F210),0,1))","v":0}]
[null,null,null,null,null,null,null,null,null,null,null,null,null,null,null,"",0,0,0,{"$f":"IF(F211=\"\",0,IF(isNccValid(F211),0,1))","v":0}]
[null,null,null,null,null,null,null,null,null,null,null,null,null,null,null,"",0,0,0,{"$f":"IF(F212=\"\",0,IF(isNccValid(F212),0,1))","v":0}]
[null,null,null,null,null,null,null,null,null,null,null,null,null,null,null,"",{"$f":"IF(AND(B213=\"\",R213=1),1,IF(AND(D213=\"\",R213=1),1,IF(AND(E213=\"\",R213=1),1,IF(AND(F213=\"\",R213=1),1,IF(AND(M213=\"\",R213=1),1,IF(AND(O213=\"\",R213=1),1,0))))))","v":0},{"$f":"IF(C213=\"\",0,IF(COUNTA(B213:O213)>0,1,0))","v":0},{"$f":"IFERROR(IF(LEN(F213)=8,0,IF(LEN(F213)=0,0,1)),1)","v":0},{"$f":"IF(F213=\"\",0,IF(isNccValid(F213),0,1))","v":0}]
[null,null,null,null,null,null,null,null,null,null,null,null,null,null,null,{"$f":"IF(B214=\"\",\"\",M214*O214)","v":""},0,0,0,{"$f":"IF(F214=\"\",0,IF(isNccValid(F214),0,1))","v":0}]
[null,null,null,null,null,null,null,null,null,null,null,null,null,null,null,"",0,0,0,{"$f":"IF(F215=\"\",0,IF(isNccValid(F215),0,1))","v":0}]
[null,null,null,null,null,null,null,null,null,null,null,null,null,null,null,"",0,0,0,{"$f":"IF(F216=\"\",0,IF(isNccValid(F216),0,1))","v":0}]
[null,null,null,null,null,null,null,null,null,null,null,null,null,null,null,"",0,0,0,{"$f":"IF(F217=\"\",0,IF(isNccValid(F217),0,1))","v":0}]
[null,null,null,null,null,null,null,null,null,null,null,null,null,null,null,"",0,0,0,{"$f":"IF(F218=\"\",0,IF(isNccValid(F218),0,1))","v":0}]
[null,null,null,null,null,null,null,null,null,null,null,null,null,null,null,"",0,0,0,{"$f":"IF(F219=\"\",0,IF(isNccValid(F219),0,1))","v":0}]
[null,null,null,null,null,null,null,null,null,null,null,null,null,null,null,"",0,0,0,{"$f":"IF(F220=\"\",0,IF(isNccValid(F220),0,1))","v":0}]
[null,null,null,null,null,null,null,null,null,null,null,null,null,null,null,"",0,0,0,{"$f":"IF(F221=\"\",0,IF(isNccValid(F221),0,1))","v":0}]
[null,null,null,null,null,null,null,null,null,null,null,null,null,null,null,"",0,0,0,{"$f":"IF(F222=\"\",0,IF(isNccValid(F222),0,1))","v":0}]
[null,null,null,null,null,null,null,null,null,null,null,null,null,null,null,"",0,0,0,{"$f":"IF(F223=\"\",0,IF(isNccValid(F223),0,1))","v":0}]
[null,null,null,null,null,null,null,null,null,null,null,null,null,null,null,"",0,0,0,{"$f":"IF(F224=\"\",0,IF(isNccValid(F224),0,1))","v":0}]
[null,null,null,null,null,null,null,null,null,null,null,null,null,null,null,"",0,0,0,{"$f":"IF(F225=\"\",0,IF(isNccValid(F225),0,1))","v":0}]
[null,null,null,null,null,null,null,null,null,null,null,null,null,null,null,"",0,0,0,{"$f":"IF(F226=\"\",0,IF(isNccValid(F226),0,1))","v":0}]
[null,null,null,null,null,null,null,null,null,null,null,null,null,null,null,"",0,0,0,{"$f":"IF(F227=\"\",0,IF(isNccValid(F227),0,1))","v":0}]
[null,null,null,null,null,null,null,null,null,null,null,null,null,null,null,"",0,0,0,{"$f":"IF(F228=\"\",0,IF(isNccValid(F228),0,1))","v":0}]
[null,null,null,null,null,null,null,null,null,null,null,null,null,null,null,"",0,0,0,{"$f":"IF(F229=\"\",0,IF(isNccValid(F229),0,1))","v":0}]
[null,null,null,null,null,null,null,null,null,null,null,null,null,null,null,"",0,0,0,{"$f":"IF(F230=\"\",0,IF(isNccValid(F230),0,1))","v":0}]
[null,null,null,null,null,null,null,null,null,null,null,null,null,null,null,"",0,0,0,{"$f":"IF(F231=\"\",0,IF(isNccValid(F231),0,1))","v":0}]
[null,null,null,null,null,null,null,null,null,null,null,null,null,null,null,"",0,0,0,{"$f":"IF(F232=\"\",0,IF(isNccValid(F232),0,1))","v":0}]
[null,null,null,null,null,null,null,null,null,null,null,null,null,null,null,"",0,0,0,{"$f":"IF(F233=\"\",0,IF(isNccValid(F233),0,1))","v":0}]
[null,null,null,null,null,null,null,null,null,null,null,null,null,null,null,"",0,0,0,{"$f":"IF(F234=\"\",0,IF(isNccValid(F234),0,1))","v":0}]
[null,null,null,null,null,null,null,null,null,null,null,null,null,null,null,"",0,0,0,{"$f":"IF(F235=\"\",0,IF(isNccValid(F235),0,1))","v":0}]
[null,null,null,null,null,null,null,null,null,null,null,null,null,null,null,"",0,0,0,{"$f":"IF(F236=\"\",0,IF(isNccValid(F236),0,1))","v":0}]
[null,null,null,null,null,null,null,null,null,null,null,null,null,null,null,"",0,0,0,{"$f":"IF(F237=\"\",0,IF(isNccValid(F237),0,1))","v":0}]
[null,null,null,null,null,null,null,null,null,null,null,null,null,null,null,"",0,0,0,{"$f":"IF(F238=\"\",0,IF(isNccValid(F238),0,1))","v":0}]
[null,null,null,null,null,null,null,null,null,null,null,null,null,null,null,"",0,0,0,{"$f":"IF(F239=\"\",0,IF(isNccValid(F239),0,1))","v":0}]
[null,null,null,null,null,null,null,null,null,null,null,null,null,null,null,"",0,0,0,{"$f":"IF(F240=\"\",0,IF(isNccValid(F240),0,1))","v":0}]
[null,null,null,null,null,null,null,null,null,null,null,null,null,null,null,"",0,0,0,{"$f":"IF(F241=\"\",0,IF(isNccValid(F241),0,1))","v":0}]
[null,null,null,null,null,null,null,null,null,null,null,null,null,null,null,"",0,0,0,{"$f":"IF(F242=\"\",0,IF(isNccValid(F242),0,1))","v":0}]
[null,null,null,null,null,null,null,null,null,null,null,null,null,null,null,"",0,0,0,{"$f":"IF(F243=\"\",0,IF(isNccValid(F243),0,1))","v":0}]
[null,null,null,null,null,null,null,null,null,null,null,null,null,null,null,"",0,0,0,{"$f":"IF(F244=\"\",0,IF(isNccValid(F244),0,1))","v":0}]
[null,null,null,null,null,null,null,null,null,null,null,null,null,null,null,"",0,0,0,{"$f":"IF(F245=\"\",0,IF(isNccValid(F245),0,1))","v":0}]
[null,null,null,null,null,null,null,null,null,null,null,null,null,null,null,"",0,0,0,{"$f":"IF(F246=\"\",0,IF(isNccValid(F246),0,1))","v":0}]
[null,null,null,null,null,null,null,null,null,null,null,null,null,null,null,"",0,0,0,{"$f":"IF(F247=\"\",0,IF(isNccValid(F247),0,1))","v":0}]
[null,null,null,null,null,null,null,null,null,null,null,null,null,null,null,"",0,0,0,{"$f":"IF(F248=\"\",0,IF(isNccValid(F248),0,1))","v":0}]
[null,null,null,null,null,null,null,null,null,null,null,null,null,null,null,"",0,0,0,{"$f":"IF(F249=\"\",0,IF(isNccValid(F249),0,1))","v":0}]
[null,null,null,null,null,null,null,null,null,null,null,null,null,null,null,"",0,0,0,{"$f":"IF(F250=\"\",0,IF(isNccValid(F250),0,1))","v":0}]
[null,null,null,null,null,null,null,null,null,null,null,null,null,null,null,"",0,0,0,{"$f":"IF(F251=\"\",0,IF(isNccValid(F251),0,1))","v":0}]
[null,null,null,null,null,null,null,null,null,null,null,null,null,null,null,"",0,0,0,{"$f":"IF(F252=\"\",0,IF(isNccValid(F252),0,1))","v":0}]
[null,null,null,null,null,null,null,null,null,null,null,null,null,null,null,"",0,0,0,{"$f":"IF(F253=\"\",0,IF(isNccValid(F253),0,1))","v":0}]
[null,null,null,null,null,null,null,null,null,null,null,null,null,null,null,"",0,0,0,{"$f":"IF(F254=\"\",0,IF(isNccValid(F254),0,1))","v":0}]
[null,null,null,null,null,null,null,null,null,null,null,null,null,null,null,"",0,0,0,{"$f":"IF(F255=\"\",0,IF(isNccValid(F255),0,1))","v":0}]
[null,null,null,null,null,null,null,null,null,null,null,null,null,null,null,"",0,0,0,{"$f":"IF(F256=\"\",0,IF(isNccValid(F256),0,1))","v":0}]
[null,null,null,null,null,null,null,null,null,null,null,null,null,null,null,"",0,0,0,{"$f":"IF(F257=\"\",0,IF(isNccValid(F257),0,1))","v":0}]
[null,null,null,null,null,null,null,null,null,null,null,null,null,null,null,"",0,0,0,{"$f":"IF(F258=\"\",0,IF(isNccValid(F258),0,1))","v":0}]
[null,null,null,null,null,null,null,null,null,null,null,null,null,null,null,"",0,0,0,{"$f":"IF(F259=\"\",0,IF(isNccValid(F259),0,1))","v":0}]
[null,null,null,null,null,null,null,null,null,null,null,null,null,null,null,"",0,0,0,{"$f":"IF(F260=\"\",0,IF(isNccValid(F260),0,1))","v":0}]
[null,null,null,null,null,null,null,null,null,null,null,null,null,null,null,"",0,0,0,{"$f":"IF(F261=\"\",0,IF(isNccValid(F261),0,1))","v":0}]
[null,null,null,null,null,null,null,null,null,null,null,null,null,null,null,"",0,0,0,{"$f":"IF(F262=\"\",0,IF(isNccValid(F262),0,1))","v":0}]
[null,null,null,null,null,null,null,null,null,null,null,null,null,null,null,"",0,0,0,{"$f":"IF(F263=\"\",0,IF(isNccValid(F263),0,1))","v":0}]
[null,null,null,null,null,null,null,null,null,null,null,null,null,null,null,"",0,0,0,{"$f":"IF(F264=\"\",0,IF(isNccValid(F264),0,1))","v":0}]
[null,null,null,null,null,null,null,null,null,null,null,null,null,null,null,"",0,0,0,{"$f":"IF(F265=\"\",0,IF(isNccValid(F265),0,1))","v":0}]
[null,null,null,null,null,null,null,null,null,null,null,null,null,null,null,"",0,0,0,{"$f":"IF(F266=\"\",0,IF(isNccValid(F266),0,1))","v":0}]
[null,null,null,null,null,null,null,null,null,null,null,null,null,null,null,"",0,0,0,{"$f":"IF(F267=\"\",0,IF(isNccValid(F267),0,1))","v":0}]
[null,null,null,null,null,null,null,null,null,null,null,null,null,null,null,"",0,0,0,{"$f":"IF(F268=\"\",0,IF(isNccValid(F268),0,1))","v":0}]
[null,null,null,null,null,null,null,null,null,null,null,null,null,null,null,"",0,0,0,{"$f":"IF(F269=\"\",0,IF(isNccValid(F269),0,1))","v":0}]
[null,null,null,null,null,null,null,null,null,null,null,null,null,null,null,"",0,0,0,{"$f":"IF(F270=\"\",0,IF(isNccValid(F270),0,1))","v":0}]
[null,null,null,null,null,null,null,null,null,null,null,null,null,null,null,"",0,0,0,{"$f":"IF(F271=\"\",0,IF(isNccValid(F271),0,1))","v":0}]
[null,null,null,null,null,null,null,null,null,null,null,null,null,null,null,"",0,0,0,{"$f":"IF(F272=\"\",0,IF(isNccValid(F272),0,1))","v":0}]
[null,null,null,null,null,null,null,null,null,null,null,null,null,null,null,"",0,0,0,{"$f":"IF(F273=\"\",0,IF(isNccValid(F273),0,1))","v":0}]
[null,null,null,null,null,null,null,null,null,null,null,null,null,null,null,"",0,0,0,{"$f":"IF(F274=\"\",0,IF(isNccValid(F274),0,1))","v":0}]
[null,null,null,null,null,null,null,null,null,null,null,null,null,null,null,"",0,0,0,{"$f":"IF(F275=\"\",0,IF(isNccValid(F275),0,1))","v":0}]
[null,null,null,null,null,null,null,null,null,null,null,null,null,null,null,"",0,0,0,{"$f":"IF(F276=\"\",0,IF(isNccValid(F276),0,1))","v":0}]
[null,null,null,null,null,null,null,null,null,null,null,null,null,null,null,"",{"$f":"IF(AND(B277=\"\",R277=1),1,IF(AND(D277=\"\",R277=1),1,IF(AND(E277=\"\",R277=1),1,IF(AND(F277=\"\",R277=1),1,IF(AND(M277=\"\",R277=1),1,IF(AND(O277=\"\",R277=1),1,0))))))","v":0},{"$f":"IF(C277=\"\",0,IF(COUNTA(B277:O277)>0,1,0))","v":0},{"$f":"IFERROR(IF(LEN(F277)=8,0,IF(LEN(F277)=0,0,1)),1)","v":0},{"$f":"IF(F277=\"\",0,IF(isNccValid(F277),0,1))","v":0}]
[null,null,null,null,null,null,null,null,null,null,null,null,null,null,null,{"$f":"IF(B278=\"\",\"\",M278*O278)","v":""},0,0,0,{"$f":"IF(F278=\"\",0,IF(isNccValid(F278),0,1))","v":0}]
[null,null,null,null,null,null,null,null,null,null,null,null,null,null,null,"",0,0,0,{"$f":"IF(F279=\"\",0,IF(isNccValid(F279),0,1))","v":0}]
[null,null,null,null,null,null,null,null,null,null,null,null,null,null,null,"",0,0,0,{"$f":"IF(F280=\"\",0,IF(isNccValid(F280),0,1))","v":0}]
[null,null,null,null,null,null,null,null,null,null,null,null,null,null,null,"",0,0,0,{"$f":"IF(F281=\"\",0,IF(isNccValid(F281),0,1))","v":0}]
[null,null,null,null,null,null,null,null,null,null,null,null,null,null,null,"",0,0,0,{"$f":"IF(F282=\"\",0,IF(isNccValid(F282),0,1))","v":0}]
[null,null,null,null,null,null,null,null,null,null,null,null,null,null,null,"",0,0,0,{"$f":"IF(F283=\"\",0,IF(isNccValid(F283),0,1))","v":0}]
[null,null,null,null,null,null,null,null,null,null,null,null,null,null,null,"",0,0,0,{"$f":"IF(F284=\"\",0,IF(isNccValid(F284),0,1))","v":0}]
[null,null,null,null,null,null,null,null,null,null,null,null,null,null,null,"",0,0,0,{"$f":"IF(F285=\"\",0,IF(isNccValid(F285),0,1))","v":0}]
[null,null,null,null,null,null,null,null,null,null,null,null,null,null,null,"",0,0,0,{"$f":"IF(F286=\"\",0,IF(isNccValid(F286),0,1))","v":0}]
[null,null,null,null,null,null,null,null,null,null,null,null,null,null,null,"",0,0,0,{"$f":"IF(F287=\"\",0,IF(isNccValid(F287),0,1))","v":0}]
[null,null,null,null,null,null,null,null,null,null,null,null,null,null,null,"",0,0,0,{"$f":"IF(F288=\"\",0,IF(isNccValid(F288),0,1))","v":0}]
[null,null,null,null,null,null,null,null,null,null,null,null,null,null,null,"",0,0,0,{"$f":"IF(F289=\"\",0,IF(isNccValid(F289),0,1))","v":0}]
[null,null,null,null,null,null,null,null,null,null,null,null,null,null,null,"",0,0,0,{"$f":"IF(F290=\"\",0,IF(isNccValid(F290),0,1))","v":0}]
[null,null,null,null,null,null,null,null,null,null,null,null,null,null,null,"",0,0,0,{"$f":"IF(F291=\"\",0,IF(isNccValid(F291),0,1))","v":0}]
[null,null,null,null,null,null,null,null,null,null,null,null,null,null,null,"",0,0,0,{"$f":"IF(F292=\"\",0,IF(isNccValid(F292),0,1))","v":0}]
[null,null,null,null,null,null,null,null,null,null,null,null,null,null,null,"",0,0,0,{"$f":"IF(F293=\"\",0,IF(isNccValid(F293),0,1))","v":0}]
[null,null,null,null,null,null,null,null,null,null,null,null,null,null,null,"",0,0,0,{"$f":"IF(F294=\"\",0,IF(isNccValid(F294),0,1))","v":0}]
[null,null,null,null,null,null,null,null,null,null,null,null,null,null,null,"",0,0,0,{"$f":"IF(F295=\"\",0,IF(isNccValid(F295),0,1))","v":0}]
[null,null,null,null,null,null,null,null,null,null,null,null,null,null,null,"",0,0,0,{"$f":"IF(F296=\"\",0,IF(isNccValid(F296),0,1))","v":0}]
[null,null,null,null,null,null,null,null,null,null,null,null,null,null,null,"",0,0,0,{"$f":"IF(F297=\"\",0,IF(isNccValid(F297),0,1))","v":0}]
[null,null,null,null,null,null,null,null,null,null,null,null,null,null,null,"",0,0,0,{"$f":"IF(F298=\"\",0,IF(isNccValid(F298),0,1))","v":0}]
[null,null,null,null,null,null,null,null,null,null,null,null,null,null,null,"",0,0,0,{"$f":"IF(F299=\"\",0,IF(isNccValid(F299),0,1))","v":0}]
[null,null,null,null,null,null,null,null,null,null,null,null,null,null,null,"",0,0,0,{"$f":"IF(F300=\"\",0,IF(isNccValid(F300),0,1))","v":0}]
[null,null,null,null,null,null,null,null,null,null,null,null,null,null,null,"",0,0,0,{"$f":"IF(F301=\"\",0,IF(isNccValid(F301),0,1))","v":0}]
[null,null,null,null,null,null,null,null,null,null,null,null,null,null,null,"",0,0,0,{"$f":"IF(F302=\"\",0,IF(isNccValid(F302),0,1))","v":0}]
[null,null,null,null,null,null,null,null,null,null,null,null,null,null,null,"",0,0,0,{"$f":"IF(F303=\"\",0,IF(isNccValid(F303),0,1))","v":0}]
[null,null,null,null,null,null,null,null,null,null,null,null,null,null,null,"",0,0,0,{"$f":"IF(F304=\"\",0,IF(isNccValid(F304),0,1))","v":0}]
[null,null,null,null,null,null,null,null,null,null,null,null,null,null,null,"",0,0,0,{"$f":"IF(F305=\"\",0,IF(isNccValid(F305),0,1))","v":0}]
[null,null,null,null,null,null,null,null,null,null,null,null,null,null,null,"",0,0,0,{"$f":"IF(F306=\"\",0,IF(isNccValid(F306),0,1))","v":0}]
[null,null,null,null,null,null,null,null,null,null,null,null,null,null,null,"",0,0,0,{"$f":"IF(F307=\"\",0,IF(isNccValid(F307),0,1))","v":0}]
[null,null,null,null,null,null,null,null,null,null,null,null,null,null,null,"",0,0,0,{"$f":"IF(F308=\"\",0,IF(isNccValid(F308),0,1))","v":0}]
[null,null,null,null,null,null,null,null,null,null,null,null,null,null,null,"",0,0,0,{"$f":"IF(F309=\"\",0,IF(isNccValid(F309),0,1))","v":0}]
[null,null,null,null,null,null,null,null,null,null,null,null,null,null,null,"",0,0,0,{"$f":"IF(F310=\"\",0,IF(isNccValid(F310),0,1))","v":0}]
[null,null,null,null,null,null,null,null,null,null,null,null,null,null,null,"",0,0,0,{"$f":"IF(F311=\"\",0,IF(isNccValid(F311),0,1))","v":0}]
[null,null,null,null,null,null,null,null,null,null,null,null,null,null,null,"",0,0,0,{"$f":"IF(F312=\"\",0,IF(isNccValid(F312),0,1))","v":0}]
[null,null,null,null,null,null,null,null,null,null,null,null,null,null,null,"",0,0,0,{"$f":"IF(F313=\"\",0,IF(isNccValid(F313),0,1))","v":0}]
[null,null,null,null,null,null,null,null,null,null,null,null,null,null,null,"",0,0,0,{"$f":"IF(F314=\"\",0,IF(isNccValid(F314),0,1))","v":0}]
[null,null,null,null,null,null,null,null,null,null,null,null,null,null,null,"",0,0,0,{"$f":"IF(F315=\"\",0,IF(isNccValid(F315),0,1))","v":0}]
[null,null,null,null,null,null,null,null,null,null,null,null,null,null,null,"",0,0,0,{"$f":"IF(F316=\"\",0,IF(isNccValid(F316),0,1))","v":0}]
[null,null,null,null,null,null,null,null,null,null,null,null,null,null,null,"",0,0,0,{"$f":"IF(F317=\"\",0,IF(isNccValid(F317),0,1))","v":0}]
[null,null,null,null,null,null,null,null,null,null,null,null,null,null,null,"",0,0,0,{"$f":"IF(F318=\"\",0,IF(isNccValid(F318),0,1))","v":0}]
[null,null,null,null,null,null,null,null,null,null,null,null,null,null,null,"",0,0,0,{"$f":"IF(F319=\"\",0,IF(isNccValid(F319),0,1))","v":0}]
[null,null,null,null,null,null,null,null,null,null,null,null,null,null,null,"",0,0,0,{"$f":"IF(F320=\"\",0,IF(isNccValid(F320),0,1))","v":0}]
[null,null,null,null,null,null,null,null,null,null,null,null,null,null,null,"",0,0,0,{"$f":"IF(F321=\"\",0,IF(isNccValid(F321),0,1))","v":0}]
[null,null,null,null,null,null,null,null,null,null,null,null,null,null,null,"",0,0,0,{"$f":"IF(F322=\"\",0,IF(isNccValid(F322),0,1))","v":0}]
[null,null,null,null,null,null,null,null,null,null,null,null,null,null,null,"",0,0,0,{"$f":"IF(F323=\"\",0,IF(isNccValid(F323),0,1))","v":0}]
[null,null,null,null,null,null,null,null,null,null,null,null,null,null,null,"",0,0,0,{"$f":"IF(F324=\"\",0,IF(isNccValid(F324),0,1))","v":0}]
[null,null,null,null,null,null,null,null,null,null,null,null,null,null,null,"",0,0,0,{"$f":"IF(F325=\"\",0,IF(isNccValid(F325),0,1))","v":0}]
[null,null,null,null,null,null,null,null,null,null,null,null,null,null,null,"",0,0,0,{"$f":"IF(F326=\"\",0,IF(isNccValid(F326),0,1))","v":0}]
[null,null,null,null,null,null,null,null,null,null,null,null,null,null,null,"",0,0,0,{"$f":"IF(F327=\"\",0,IF(isNccValid(F327),0,1))","v":0}]
[null,null,null,null,null,null,null,null,null,null,null,null,null,null,null,"",0,0,0,{"$f":"IF(F328=\"\",0,IF(isNccValid(F328),0,1))","v":0}]
[null,null,null,null,null,null,null,null,null,null,null,null,null,null,null,"",0,0,0,{"$f":"IF(F329=\"\",0,IF(isNccValid(F329),0,1))","v":0}]
[null,null,null,null,null,null,null,null,null,null,null,null,null,null,null,"",0,0,0,{"$f":"IF(F330=\"\",0,IF(isNccValid(F330),0,1))","v":0}]
[null,null,null,null,null,null,null,null,null,null,null,null,null,null,null,"",0,0,0,{"$f":"IF(F331=\"\",0,IF(isNccValid(F331),0,1))","v":0}]
[null,null,null,null,null,null,null,null,null,null,null,null,null,null,null,"",0,0,0,{"$f":"IF(F332=\"\",0,IF(isNccValid(F332),0,1))","v":0}]
[null,null,null,null,null,null,null,null,null,null,null,null,null,null,null,"",0,0,0,{"$f":"IF(F333=\"\",0,IF(isNccValid(F333),0,1))","v":0}]
[null,null,null,null,null,null,null,null,null,null,null,null,null,null,null,"",0,0,0,{"$f":"IF(F334=\"\",0,IF(isNccValid(F334),0,1))","v":0}]
[null,null,null,null,null,null,null,null,null,null,null,null,null,null,null,"",0,0,0,{"$f":"IF(F335=\"\",0,IF(isNccValid(F335),0,1))","v":0}]
[null,null,null,null,null,null,null,null,null,null,null,null,null,null,null,"",0,0,0,{"$f":"IF(F336=\"\",0,IF(isNccValid(F336),0,1))","v":0}]
[null,null,null,null,null,null,null,null,null,null,null,null,null,null,null,"",0,0,0,{"$f":"IF(F337=\"\",0,IF(isNccValid(F337),0,1))","v":0}]
[null,null,null,null,null,null,null,null,null,null,null,null,null,null,null,"",0,0,0,{"$f":"IF(F338=\"\",0,IF(isNccValid(F338),0,1))","v":0}]
[null,null,null,null,null,null,null,null,null,null,null,null,null,null,null,"",0,0,0,{"$f":"IF(F339=\"\",0,IF(isNccValid(F339),0,1))","v":0}]
[null,null,null,null,null,null,null,null,null,null,null,null,null,null,null,"",0,0,0,{"$f":"IF(F340=\"\",0,IF(isNccValid(F340),0,1))","v":0}]
[null,null,null,null,null,null,null,null,null,null,null,null,null,null,null,"",{"$f":"IF(AND(B341=\"\",R341=1),1,IF(AND(D341=\"\",R341=1),1,IF(AND(E341=\"\",R341=1),1,IF(AND(F341=\"\",R341=1),1,IF(AND(M341=\"\",R341=1),1,IF(AND(O341=\"\",R341=1),1,0))))))","v":0},{"$f":"IF(C341=\"\",0,IF(COUNTA(B341:O341)>0,1,0))","v":0},{"$f":"IFERROR(IF(LEN(F341)=8,0,IF(LEN(F341)=0,0,1)),1)","v":0},{"$f":"IF(F341=\"\",0,IF(isNccValid(F341),0,1))","v":0}]
[null,null,null,null,null,null,null,null,null,null,null,null,null,null,null,{"$f":"IF(B342=\"\",\"\",M342*O342)","v":""},0,0,0,{"$f":"IF(F342=\"\",0,IF(isNccValid(F342),0,1))","v":0}]
[null,null,null,null,null,null,null,null,null,null,null,null,null,null,null,"",0,0,0,{"$f":"IF(F343=\"\",0,IF(isNccValid(F343),0,1))","v":0}]
[null,null,null,null,null,null,null,null,null,null,null,null,null,null,null,"",0,0,0,{"$f":"IF(F344=\"\",0,IF(isNccValid(F344),0,1))","v":0}]
[null,null,null,null,null,null,null,null,null,null,null,null,null,null,null,"",0,0,0,{"$f":"IF(F345=\"\",0,IF(isNccValid(F345),0,1))","v":0}]
[null,null,null,null,null,null,null,null,null,null,null,null,null,null,null,"",0,0,0,{"$f":"IF(F346=\"\",0,IF(isNccValid(F346),0,1))","v":0}]
[null,null,null,null,null,null,null,null,null,null,null,null,null,null,null,"",0,0,0,{"$f":"IF(F347=\"\",0,IF(isNccValid(F347),0,1))","v":0}]
[null,null,null,null,null,null,null,null,null,null,null,null,null,null,null,"",0,0,0,{"$f":"IF(F348=\"\",0,IF(isNccValid(F348),0,1))","v":0}]
[null,null,null,null,null,null,null,null,null,null,null,null,null,null,null,"",0,0,0,{"$f":"IF(F349=\"\",0,IF(isNccValid(F349),0,1))","v":0}]
[null,null,null,null,null,null,null,null,null,null,null,null,null,null,null,"",0,0,0,{"$f":"IF(F350=\"\",0,IF(isNccValid(F350),0,1))","v":0}]
[null,null,null,null,null,null,null,null,null,null,null,null,null,null,null,"",0,0,0,{"$f":"IF(F351=\"\",0,IF(isNccValid(F351),0,1))","v":0}]
[null,null,null,null,null,null,null,null,null,null,null,null,null,null,null,"",0,0,0,{"$f":"IF(F352=\"\",0,IF(isNccValid(F352),0,1))","v":0}]
[null,null,null,null,null,null,null,null,null,null,null,null,null,null,null,"",0,0,0,{"$f":"IF(F353=\"\",0,IF(isNccValid(F353),0,1))","v":0}]
[null,null,null,null,null,null,null,null,null,null,null,null,null,null,null,"",0,0,0,{"$f":"IF(F354=\"\",0,IF(isNccValid(F354),0,1))","v":0}]
[null,null,null,null,null,null,null,null,null,null,null,null,null,null,null,"",0,0,0,{"$f":"IF(F355=\"\",0,IF(isNccValid(F355),0,1))","v":0}]
[null,null,null,null,null,null,null,null,null,null,null,null,null,null,null,"",0,0,0,{"$f":"IF(F356=\"\",0,IF(isNccValid(F356),0,1))","v":0}]
[null,null,null,null,null,null,null,null,null,null,null,null,null,null,null,"",0,0,0,{"$f":"IF(F357=\"\",0,IF(isNccValid(F357),0,1))","v":0}]
[null,null,null,null,null,null,null,null,null,null,null,null,null,null,null,"",0,0,0,{"$f":"IF(F358=\"\",0,IF(isNccValid(F358),0,1))","v":0}]
[null,null,null,null,null,null,null,null,null,null,null,null,null,null,null,"",0,0,0,{"$f":"IF(F359=\"\",0,IF(isNccValid(F359),0,1))","v":0}]
[null,null,null,null,null,null,null,null,null,null,null,null,null,null,null,"",0,0,0,{"$f":"IF(F360=\"\",0,IF(isNccValid(F360),0,1))","v":0}]
[null,null,null,null,null,null,null,null,null,null,null,null,null,null,null,"",0,0,0,{"$f":"IF(F361=\"\",0,IF(isNccValid(F361),0,1))","v":0}]
[null,null,null,null,null,null,null,null,null,null,null,null,null,null,null,"",0,0,0,{"$f":"IF(F362=\"\",0,IF(isNccValid(F362),0,1))","v":0}]
[null,null,null,null,null,null,null,null,null,null,null,null,null,null,null,"",0,0,0,{"$f":"IF(F363=\"\",0,IF(isNccValid(F363),0,1))","v":0}]
[null,null,null,null,null,null,null,null,null,null,null,null,null,null,null,"",0,0,0,{"$f":"IF(F364=\"\",0,IF(isNccValid(F364),0,1))","v":0}]
[null,null,null,null,null,null,null,null,null,null,null,null,null,null,null,"",0,0,0,{"$f":"IF(F365=\"\",0,IF(isNccValid(F365),0,1))","v":0}]
[null,null,null,null,null,null,null,null,null,null,null,null,null,null,null,"",0,0,0,{"$f":"IF(F366=\"\",0,IF(isNccValid(F366),0,1))","v":0}]
[null,null,null,null,null,null,null,null,null,null,null,null,null,null,null,"",0,0,0,{"$f":"IF(F367=\"\",0,IF(isNccValid(F367),0,1))","v":0}]
[null,null,null,null,null,null,null,null,null,null,null,null,null,null,null,"",0,0,0,{"$f":"IF(F368=\"\",0,IF(isNccValid(F368),0,1))","v":0}]
[null,null,null,null,null,null,null,null,null,null,null,null,null,null,null,"",0,0,0,{"$f":"IF(F369=\"\",0,IF(isNccValid(F369),0,1))","v":0}]
[null,null,null,null,null,null,null,null,null,null,null,null,null,null,null,"",0,0,0,{"$f":"IF(F370=\"\",0,IF(isNccValid(F370),0,1))","v":0}]
[null,null,null,null,null,null,null,null,null,null,null,null,null,null,null,"",0,0,0,{"$f":"IF(F371=\"\",0,IF(isNccValid(F371),0,1))","v":0}]
[null,null,null,null,null,null,null,null,null,null,null,null,null,null,null,"",0,0,0,{"$f":"IF(F372=\"\",0,IF(isNccValid(F372),0,1))","v":0}]
[null,null,null,null,null,null,null,null,null,null,null,null,null,null,null,"",0,0,0,{"$f":"IF(F373=\"\",0,IF(isNccValid(F373),0,1))","v":0}]
[null,null,null,null,null,null,null,null,null,null,null,null,null,null,null,"",0,0,0,{"$f":"IF(F374=\"\",0,IF(isNccValid(F374),0,1))","v":0}]
[null,null,null,null,null,null,null,null,null,null,null,null,null,null,null,"",0,0,0,{"$f":"IF(F375=\"\",0,IF(isNccValid(F375),0,1))","v":0}]
[null,null,null,null,null,null,null,null,null,null,null,null,null,null,null,"",0,0,0,{"$f":"IF(F376=\"\",0,IF(isNccValid(F376),0,1))","v":0}]
[null,null,null,null,null,null,null,null,null,null,null,null,null,null,null,"",0,0,0,{"$f":"IF(F377=\"\",0,IF(isNccValid(F377),0,1))","v":0}]
[null,null,null,null,null,null,null,null,null,null,null,null,null,null,null,"",0,0,0,{"$f":"IF(F378=\"\",0,IF(isNccValid(F378),0,1))","v":0}]
[null,null,null,null,null,null,null,null,null,null,null,null,null,null,null,"",0,0,0,{"$f":"IF(F379=\"\",0,IF(isNccValid(F379),0,1))","v":0}]
[null,null,null,null,null,null,null,null,null,null,null,null,null,null,null,"",0,0,0,{"$f":"IF(F380=\"\",0,IF(isNccValid(F380),0,1))","v":0}]
[null,null,null,null,null,null,null,null,null,null,null,null,null,null,null,"",0,0,0,{"$f":"IF(F381=\"\",0,IF(isNccValid(F381),0,1))","v":0}]
[null,null,null,null,null,null,null,null,null,null,null,null,null,null,null,"",0,0,0,{"$f":"IF(F382=\"\",0,IF(isNccValid(F382),0,1))","v":0}]
[null,null,null,null,null,null,null,null,null,null,null,null,null,null,null,"",0,0,0,{"$f":"IF(F383=\"\",0,IF(isNccValid(F383),0,1))","v":0}]
[null,null,null,null,null,null,null,null,null,null,null,null,null,null,null,"",0,0,0,{"$f":"IF(F384=\"\",0,IF(isNccValid(F384),0,1))","v":0}]
[null,null,null,null,null,null,null,null,null,null,null,null,null,null,null,"",0,0,0,{"$f":"IF(F385=\"\",0,IF(isNccValid(F385),0,1))","v":0}]
[null,null,null,null,null,null,null,null,null,null,null,null,null,null,null,"",0,0,0,{"$f":"IF(F386=\"\",0,IF(isNccValid(F386),0,1))","v":0}]
[null,null,null,null,null,null,null,null,null,null,null,null,null,null,null,"",0,0,0,{"$f":"IF(F387=\"\",0,IF(isNccValid(F387),0,1))","v":0}]
[null,null,null,null,null,null,null,null,null,null,null,null,null,null,null,"",0,0,0,{"$f":"IF(F388=\"\",0,IF(isNccValid(F388),0,1))","v":0}]
[null,null,null,null,null,null,null,null,null,null,null,null,null,null,null,"",0,0,0,{"$f":"IF(F389=\"\",0,IF(isNccValid(F389),0,1))","v":0}]
[null,null,null,null,null,null,null,null,null,null,null,null,null,null,null,"",0,0,0,{"$f":"IF(F390=\"\",0,IF(isNccValid(F390),0,1))","v":0}]
[null,null,null,null,null,null,null,null,null,null,null,null,null,null,null,"",0,0,0,{"$f":"IF(F391=\"\",0,IF(isNccValid(F391),0,1))","v":0}]
[null,null,null,null,null,null,null,null,null,null,null,null,null,null,null,"",0,0,0,{"$f":"IF(F392=\"\",0,IF(isNccValid(F392),0,1))","v":0}]
[null,null,null,null,null,null,null,null,null,null,null,null,null,null,null,"",0,0,0,{"$f":"IF(F393=\"\",0,IF(isNccValid(F393),0,1))","v":0}]
[null,null,null,null,null,null,null,null,null,null,null,null,null,null,null,"",0,0,0,{"$f":"IF(F394=\"\",0,IF(isNccValid(F394),0,1))","v":0}]
[null,null,null,null,null,null,null,null,null,null,null,null,null,null,null,"",0,0,0,{"$f":"IF(F395=\"\",0,IF(isNccValid(F395),0,1))","v":0}]
[null,null,null,null,null,null,null,null,null,null,null,null,null,null,null,"",0,0,0,{"$f":"IF(F396=\"\",0,IF(isNccValid(F396),0,1))","v":0}]
[null,null,null,null,null,null,null,null,null,null,null,null,null,null,null,"",0,0,0,{"$f":"IF(F397=\"\",0,IF(isNccValid(F397),0,1))","v":0}]
[null,null,null,null,null,null,null,null,null,null,null,null,null,null,null,"",0,0,0,{"$f":"IF(F398=\"\",0,IF(isNccValid(F398),0,1))","v":0}]
[null,null,null,null,null,null,null,null,null,null,null,null,null,null,null,"",0,0,0,{"$f":"IF(F399=\"\",0,IF(isNccValid(F399),0,1))","v":0}]
[null,null,null,null,null,null,null,null,null,null,null,null,null,null,null,"",0,0,0,{"$f":"IF(F400=\"\",0,IF(isNccValid(F400),0,1))","v":0}]
[null,null,null,null,null,null,null,null,null,null,null,null,null,null,null,"",0,0,0,{"$f":"IF(F401=\"\",0,IF(isNccValid(F401),0,1))","v":0}]
[null,null,null,null,null,null,null,null,null,null,null,null,null,null,null,"",0,0,0,{"$f":"IF(F402=\"\",0,IF(isNccValid(F402),0,1))","v":0}]
[null,null,null,null,null,null,null,null,null,null,null,null,null,null,null,"",0,0,0,{"$f":"IF(F403=\"\",0,IF(isNccValid(F403),0,1))","v":0}]
[null,null,null,null,null,null,null,null,null,null,null,null,null,null,null,"",0,0,0,{"$f":"IF(F404=\"\",0,IF(isNccValid(F404),0,1))","v":0}]
[null,null,null,null,null,null,null,null,null,null,null,null,null,null,null,"",{"$f":"IF(AND(B405=\"\",R405=1),1,IF(AND(D405=\"\",R405=1),1,IF(AND(E405=\"\",R405=1),1,IF(AND(F405=\"\",R405=1),1,IF(AND(M405=\"\",R405=1),1,IF(AND(O405=\"\",R405=1),1,0))))))","v":0},{"$f":"IF(C405=\"\",0,IF(COUNTA(B405:O405)>0,1,0))","v":0},{"$f":"IFERROR(IF(LEN(F405)=8,0,IF(LEN(F405)=0,0,1)),1)","v":0},{"$f":"IF(F405=\"\",0,IF(isNccValid(F405),0,1))","v":0}]
[null,null,null,null,null,null,null,null,null,null,null,null,null,null,null,{"$f":"IF(B406=\"\",\"\",M406*O406)","v":""},0,0,0,{"$f":"IF(F406=\"\",0,IF(isNccValid(F406),0,1))","v":0}]
[null,null,null,null,null,null,null,null,null,null,null,null,null,null,null,"",0,0,0,{"$f":"IF(F407=\"\",0,IF(isNccValid(F407),0,1))","v":0}]
[null,null,null,null,null,null,null,null,null,null,null,null,null,null,null,"",0,0,0,{"$f":"IF(F408=\"\",0,IF(isNccValid(F408),0,1))","v":0}]
[null,null,null,null,null,null,null,null,null,null,null,null,null,null,null,"",0,0,0,{"$f":"IF(F409=\"\",0,IF(isNccValid(F409),0,1))","v":0}]
[null,null,null,null,null,null,null,null,null,null,null,null,null,null,null,"",0,0,0,{"$f":"IF(F410=\"\",0,IF(isNccValid(F410),0,1))","v":0}]
[null,null,null,null,null,null,null,null,null,null,null,null,null,null,null,"",0,0,0,{"$f":"IF(F411=\"\",0,IF(isNccValid(F411),0,1))","v":0}]
[null,null,null,null,null,null,null,null,null,null,null,null,null,null,null,"",0,0,0,{"$f":"IF(F412=\"\",0,IF(isNccValid(F412),0,1))","v":0}]
[null,null,null,null,null,null,null,null,null,null,null,null,null,null,null,"",0,0,0,{"$f":"IF(F413=\"\",0,IF(isNccValid(F413),0,1))","v":0}]
[null,null,null,null,null,null,null,null,null,null,null,null,null,null,null,"",0,0,0,{"$f":"IF(F414=\"\",0,IF(isNccValid(F414),0,1))","v":0}]
[null,null,null,null,null,null,null,null,null,null,null,null,null,null,null,"",0,0,0,{"$f":"IF(F415=\"\",0,IF(isNccValid(F415),0,1))","v":0}]
[null,null,null,null,null,null,null,null,null,null,null,null,null,null,null,"",0,0,0,{"$f":"IF(F416=\"\",0,IF(isNccValid(F416),0,1))","v":0}]
[null,null,null,null,null,null,null,null,null,null,null,null,null,null,null,"",0,0,0,{"$f":"IF(F417=\"\",0,IF(isNccValid(F417),0,1))","v":0}]
[null,null,null,null,null,null,null,null,null,null,null,null,null,null,null,"",0,0,0,{"$f":"IF(F418=\"\",0,IF(isNccValid(F418),0,1))","v":0}]
[null,null,null,null,null,null,null,null,null,null,null,null,null,null,null,"",0,0,0,{"$f":"IF(F419=\"\",0,IF(isNccValid(F419),0,1))","v":0}]
[null,null,null,null,null,null,null,null,null,null,null,null,null,null,null,"",0,0,0,{"$f":"IF(F420=\"\",0,IF(isNccValid(F420),0,1))","v":0}]
[null,null,null,null,null,null,null,null,null,null,null,null,null,null,null,"",0,0,0,{"$f":"IF(F421=\"\",0,IF(isNccValid(F421),0,1))","v":0}]
[null,null,null,null,null,null,null,null,null,null,null,null,null,null,null,"",0,0,0,{"$f":"IF(F422=\"\",0,IF(isNccValid(F422),0,1))","v":0}]
[null,null,null,null,null,null,null,null,null,null,null,null,null,null,null,"",0,0,0,{"$f":"IF(F423=\"\",0,IF(isNccValid(F423),0,1))","v":0}]
[null,null,null,null,null,null,null,null,null,null,null,null,null,null,null,"",0,0,0,{"$f":"IF(F424=\"\",0,IF(isNccValid(F424),0,1))","v":0}]
[null,null,null,null,null,null,null,null,null,null,null,null,null,null,null,"",0,0,0,{"$f":"IF(F425=\"\",0,IF(isNccValid(F425),0,1))","v":0}]
[null,null,null,null,null,null,null,null,null,null,null,null,null,null,null,"",0,0,0,{"$f":"IF(F426=\"\",0,IF(isNccValid(F426),0,1))","v":0}]
[null,null,null,null,null,null,null,null,null,null,null,null,null,null,null,"",0,0,0,{"$f":"IF(F427=\"\",0,IF(isNccValid(F427),0,1))","v":0}]
[null,null,null,null,null,null,null,null,null,null,null,null,null,null,null,"",0,0,0,{"$f":"IF(F428=\"\",0,IF(isNccValid(F428),0,1))","v":0}]
[null,null,null,null,null,null,null,null,null,null,null,null,null,null,null,"",0,0,0,{"$f":"IF(F429=\"\",0,IF(isNccValid(F429),0,1))","v":0}]
[null,null,null,null,null,null,null,null,null,null,null,null,null,null,null,"",0,0,0,{"$f":"IF(F430=\"\",0,IF(isNccValid(F430),0,1))","v":0}]
[null,null,null,null,null,null,null,null,null,null,null,null,null,null,null,"",0,0,0,{"$f":"IF(F431=\"\",0,IF(isNccValid(F431),0,1))","v":0}]
[null,null,null,null,null,null,null,null,null,null,null,null,null,null,null,"",0,0,0,{"$f":"IF(F432=\"\",0,IF(isNccValid(F432),0,1))","v":0}]
[null,null,null,null,null,null,null,null,null,null,null,null,null,null,null,"",0,0,0,{"$f":"IF(F433=\"\",0,IF(isNccValid(F433),0,1))","v":0}]
[null,null,null,null,null,null,null,null,null,null,null,null,null,null,null,"",0,0,0,{"$f":"IF(F434=\"\",0,IF(isNccValid(F434),0,1))","v":0}]
[null,null,null,null,null,null,null,null,null,null,null,null,null,null,null,"",0,0,0,{"$f":"IF(F435=\"\",0,IF(isNccValid(F435),0,1))","v":0}]
[null,null,null,null,null,null,null,null,null,null,null,null,null,null,null,"",0,0,0,{"$f":"IF(F436=\"\",0,IF(isNccValid(F436),0,1))","v":0}]
[null,null,null,null,null,null,null,null,null,null,null,null,null,null,null,"",0,0,0,{"$f":"IF(F437=\"\",0,IF(isNccValid(F437),0,1))","v":0}]
[null,null,null,null,null,null,null,null,null,null,null,null,null,null,null,"",0,0,0,{"$f":"IF(F438=\"\",0,IF(isNccValid(F438),0,1))","v":0}]
[null,null,null,null,null,null,null,null,null,null,null,null,null,null,null,"",0,0,0,{"$f":"IF(F439=\"\",0,IF(isNccValid(F439),0,1))","v":0}]
[null,null,null,null,null,null,null,null,null,null,null,null,null,null,null,"",0,0,0,{"$f":"IF(F440=\"\",0,IF(isNccValid(F440),0,1))","v":0}]
[null,null,null,null,null,null,null,null,null,null,null,null,null,null,null,"",0,0,0,{"$f":"IF(F441=\"\",0,IF(isNccValid(F441),0,1))","v":0}]
[null,null,null,null,null,null,null,null,null,null,null,null,null,null,null,"",0,0,0,{"$f":"IF(F442=\"\",0,IF(isNccValid(F442),0,1))","v":0}]
[null,null,null,null,null,null,null,null,null,null,null,null,null,null,null,"",0,0,0,{"$f":"IF(F443=\"\",0,IF(isNccValid(F443),0,1))","v":0}]
[null,null,null,null,null,null,null,null,null,null,null,null,null,null,null,"",0,0,0,{"$f":"IF(F444=\"\",0,IF(isNccValid(F444),0,1))","v":0}]
[null,null,null,null,null,null,null,null,null,null,null,null,null,null,null,"",0,0,0,{"$f":"IF(F445=\"\",0,IF(isNccValid(F445),0,1))","v":0}]
[null,null,null,null,null,null,null,null,null,null,null,null,null,null,null,"",0,0,0,{"$f":"IF(F446=\"\",0,IF(isNccValid(F446),0,1))","v":0}]
[null,null,null,null,null,null,null,null,null,null,null,null,null,null,null,"",0,0,0,{"$f":"IF(F447=\"\",0,IF(isNccValid(F447),0,1))","v":0}]
[null,null,null,null,null,null,null,null,null,null,null,null,null,null,null,"",0,0,0,{"$f":"IF(F448=\"\",0,IF(isNccValid(F448),0,1))","v":0}]
[null,null,null,null,null,null,null,null,null,null,null,null,null,null,null,"",0,0,0,{"$f":"IF(F449=\"\",0,IF(isNccValid(F449),0,1))","v":0}]
[null,null,null,null,null,null,null,null,null,null,null,null,null,null,null,"",0,0,0,{"$f":"IF(F450=\"\",0,IF(isNccValid(F450),0,1))","v":0}]
[null,null,null,null,null,null,null,null,null,null,null,null,null,null,null,"",0,0,0,{"$f":"IF(F451=\"\",0,IF(isNccValid(F451),0,1))","v":0}]
[null,null,null,null,null,null,null,null,null,null,null,null,null,null,null,"",0,0,0,{"$f":"IF(F452=\"\",0,IF(isNccValid(F452),0,1))","v":0}]
[null,null,null,null,null,null,null,null,null,null,null,null,null,null,null,"",0,0,0,{"$f":"IF(F453=\"\",0,IF(isNccValid(F453),0,1))","v":0}]
[null,null,null,null,null,null,null,null,null,null,null,null,null,null,null,"",0,0,0,{"$f":"IF(F454=\"\",0,IF(isNccValid(F454),0,1))","v":0}]
[null,null,null,null,null,null,null,null,null,null,null,null,null,null,null,"",0,0,0,{"$f":"IF(F455=\"\",0,IF(isNccValid(F455),0,1))","v":0}]
[null,null,null,null,null,null,null,null,null,null,null,null,null,null,null,"",0,0,0,{"$f":"IF(F456=\"\",0,IF(isNccValid(F456),0,1))","v":0}]
[null,null,null,null,null,null,null,null,null,null,null,null,null,null,null,"",0,0,0,{"$f":"IF(F457=\"\",0,IF(isNccValid(F457),0,1))","v":0}]
[null,null,null,null,null,null,null,null,null,null,null,null,null,null,null,"",0,0,0,{"$f":"IF(F458=\"\",0,IF(isNccValid(F458),0,1))","v":0}]
[null,null,null,null,null,null,null,null,null,null,null,null,null,null,null,"",0,0,0,{"$f":"IF(F459=\"\",0,IF(isNccValid(F459),0,1))","v":0}]
[null,null,null,null,null,null,null,null,null,null,null,null,null,null,null,"",0,0,0,{"$f":"IF(F460=\"\",0,IF(isNccValid(F460),0,1))","v":0}]
[null,null,null,null,null,null,null,null,null,null,null,null,null,null,null,"",0,0,0,{"$f":"IF(F461=\"\",0,IF(isNccValid(F461),0,1))","v":0}]
[null,null,null,null,null,null,null,null,null,null,null,null,null,null,null,"",0,0,0,{"$f":"IF(F462=\"\",0,IF(isNccValid(F462),0,1))","v":0}]
[null,null,null,null,null,null,null,null,null,null,null,null,null,null,null,"",0,0,0,{"$f":"IF(F463=\"\",0,IF(isNccValid(F463),0,1))","v":0}]
[null,null,null,null,null,null,null,null,null,null,null,null,null,null,null,"",0,0,0,{"$f":"IF(F464=\"\",0,IF(isNccValid(F464),0,1))","v":0}]
[null,null,null,null,null,null,null,null,null,null,null,null,null,null,null,"",0,0,0,{"$f":"IF(F465=\"\",0,IF(isNccValid(F465),0,1))","v":0}]
[null,null,null,null,null,null,null,null,null,null,null,null,null,null,null,"",0,0,0,{"$f":"IF(F466=\"\",0,IF(isNccValid(F466),0,1))","v":0}]
[null,null,null,null,null,null,null,null,null,null,null,null,null,null,null,"",0,0,0,{"$f":"IF(F467=\"\",0,IF(isNccValid(F467),0,1))","v":0}]
[null,null,null,null,null,null,null,null,null,null,null,null,null,null,null,"",0,0,0,{"$f":"IF(F468=\"\",0,IF(isNccValid(F468),0,1))","v":0}]
[null,null,null,null,null,null,null,null,null,null,null,null,null,null,null,"",{"$f":"IF(AND(B469=\"\",R469=1),1,IF(AND(D469=\"\",R469=1),1,IF(AND(E469=\"\",R469=1),1,IF(AND(F469=\"\",R469=1),1,IF(AND(M469=\"\",R469=1),1,IF(AND(O469=\"\",R469=1),1,0))))))","v":0},{"$f":"IF(C469=\"\",0,IF(COUNTA(B469:O469)>0,1,0))","v":0},{"$f":"IFERROR(IF(LEN(F469)=8,0,IF(LEN(F469)=0,0,1)),1)","v":0},{"$f":"IF(F469=\"\",0,IF(isNccValid(F469),0,1))","v":0}]
[null,null,null,null,null,null,null,null,null,null,null,null,null,null,null,{"$f":"IF(B470=\"\",\"\",M470*O470)","v":""},0,0,0,{"$f":"IF(F470=\"\",0,IF(isNccValid(F470),0,1))","v":0}]
[null,null,null,null,null,null,null,null,null,null,null,null,null,null,null,"",0,0,0,{"$f":"IF(F471=\"\",0,IF(isNccValid(F471),0,1))","v":0}]
[null,null,null,null,null,null,null,null,null,null,null,null,null,null,null,"",0,0,0,{"$f":"IF(F472=\"\",0,IF(isNccValid(F472),0,1))","v":0}]
[null,null,null,null,null,null,null,null,null,null,null,null,null,null,null,"",0,0,0,{"$f":"IF(F473=\"\",0,IF(isNccValid(F473),0,1))","v":0}]
[null,null,null,null,null,null,null,null,null,null,null,null,null,null,null,"",0,0,0,{"$f":"IF(F474=\"\",0,IF(isNccValid(F474),0,1))","v":0}]
[null,null,null,null,null,null,null,null,null,null,null,null,null,null,null,"",0,0,0,{"$f":"IF(F475=\"\",0,IF(isNccValid(F475),0,1))","v":0}]
[null,null,null,null,null,null,null,null,null,null,null,null,null,null,null,"",0,0,0,{"$f":"IF(F476=\"\",0,IF(isNccValid(F476),0,1))","v":0}]
[null,null,null,null,null,null,null,null,null,null,null,null,null,null,null,"",0,0,0,{"$f":"IF(F477=\"\",0,IF(isNccValid(F477),0,1))","v":0}]
[null,null,null,null,null,null,null,null,null,null,null,null,null,null,null,"",0,0,0,{"$f":"IF(F478=\"\",0,IF(isNccValid(F478),0,1))","v":0}]
[null,null,null,null,null,null,null,null,null,null,null,null,null,null,null,"",0,0,0,{"$f":"IF(F479=\"\",0,IF(isNccValid(F479),0,1))","v":0}]
[null,null,null,null,null,null,null,null,null,null,null,null,null,null,null,"",0,0,0,{"$f":"IF(F480=\"\",0,IF(isNccValid(F480),0,1))","v":0}]
[null,null,null,null,null,null,null,null,null,null,null,null,null,null,null,"",0,0,0,{"$f":"IF(F481=\"\",0,IF(isNccValid(F481),0,1))","v":0}]
[null,null,null,null,null,null,null,null,null,null,null,null,null,null,null,"",0,0,0,{"$f":"IF(F482=\"\",0,IF(isNccValid(F482),0,1))","v":0}]
[null,null,null,null,null,null,null,null,null,null,null,null,null,null,null,"",0,0,0,{"$f":"IF(F483=\"\",0,IF(isNccValid(F483),0,1))","v":0}]
[null,null,null,null,null,null,null,null,null,null,null,null,null,null,null,"",0,0,0,{"$f":"IF(F484=\"\",0,IF(isNccValid(F484),0,1))","v":0}]
[null,null,null,null,null,null,null,null,null,null,null,null,null,null,null,"",0,0,0,{"$f":"IF(F485=\"\",0,IF(isNccValid(F485),0,1))","v":0}]
[null,null,null,null,null,null,null,null,null,null,null,null,null,null,null,"",0,0,0,{"$f":"IF(F486=\"\",0,IF(isNccValid(F486),0,1))","v":0}]
[null,null,null,null,null,null,null,null,null,null,null,null,null,null,null,"",0,0,0,{"$f":"IF(F487=\"\",0,IF(isNccValid(F487),0,1))","v":0}]
[null,null,null,null,null,null,null,null,null,null,null,null,null,null,null,"",0,0,0,{"$f":"IF(F488=\"\",0,IF(isNccValid(F488),0,1))","v":0}]
[null,null,null,null,null,null,null,null,null,null,null,null,null,null,null,"",0,0,0,{"$f":"IF(F489=\"\",0,IF(isNccValid(F489),0,1))","v":0}]
[null,null,null,null,null,null,null,null,null,null,null,null,null,null,null,"",0,0,0,{"$f":"IF(F490=\"\",0,IF(isNccValid(F490),0,1))","v":0}]
[null,null,null,null,null,null,null,null,null,null,null,null,null,null,null,"",0,0,0,{"$f":"IF(F491=\"\",0,IF(isNccValid(F491),0,1))","v":0}]
[null,null,null,null,null,null,null,null,null,null,null,null,null,null,null,"",0,0,0,{"$f":"IF(F492=\"\",0,IF(isNccValid(F492),0,1))","v":0}]
[null,null,null,null,null,null,null,null,null,null,null,null,null,null,null,"",0,0,0,{"$f":"IF(F493=\"\",0,IF(isNccValid(F493),0,1))","v":0}]
[null,null,null,null,null,null,null,null,null,null,null,null,null,null,null,"",0,0,0,{"$f":"IF(F494=\"\",0,IF(isNccValid(F494),0,1))","v":0}]
[null,null,null,null,null,null,null,null,null,null,null,null,null,null,null,"",0,0,0,{"$f":"IF(F495=\"\",0,IF(isNccValid(F495),0,1))","v":0}]
[null,null,null,null,null,null,null,null,null,null,null,null,null,null,null,"",0,0,0,{"$f":"IF(F496=\"\",0,IF(isNccValid(F496),0,1))","v":0}]
[null,null,null,null,null,null,null,null,null,null,null,null,null,null,null,"",0,0,0,{"$f":"IF(F497=\"\",0,IF(isNccValid(F497),0,1))","v":0}]
[null,null,null,null,null,null,null,null,null,null,null,null,null,null,null,"",0,0,0,{"$f":"IF(F498=\"\",0,IF(isNccValid(F498),0,1))","v":0}]
[null,null,null,null,null,null,null,null,null,null,null,null,null,null,null,"",0,0,0,{"$f":"IF(F499=\"\",0,IF(isNccValid(F499),0,1))","v":0}]
[null,null,null,null,null,null,null,null,null,null,null,null,null,null,null,"",0,0,0,{"$f":"IF(F500=\"\",0,IF(isNccValid(F500),0,1))","v":0}]
[null,null,null,null,null,null,null,null,null,null,null,null,null,null,null,"",0,0,0,{"$f":"IF(F501=\"\",0,IF(isNccValid(F501),0,1))","v":0}]
[null,null,null,null,null,null,null,null,null,null,null,null,null,null,null,"",0,0,0,{"$f":"IF(F502=\"\",0,IF(isNccValid(F502),0,1))","v":0}]
[null,null,null,null,null,null,null,null,null,null,null,null,null,null,null,"",0,0,0,{"$f":"IF(F503=\"\",0,IF(isNccValid(F503),0,1))","v":0}]
[null,null,null,null,null,null,null,null,null,null,null,null,null,null,null,"",0,0,0,{"$f":"IF(F504=\"\",0,IF(isNccValid(F504),0,1))","v":0}]
[null,null,null,null,null,null,null,null,null,null,null,null,null,null,null,"",0,0,0,{"$f":"IF(F505=\"\",0,IF(isNccValid(F505),0,1))","v":0}]
[null,null,null,null,null,null,null,null,null,null,null,null,null,null,null,"",0,0,0,{"$f":"IF(F506=\"\",0,IF(isNccValid(F506),0,1))","v":0}]
[null,null,null,null,null,null,null,null,null,null,null,null,null,null,null,"",0,0,0,{"$f":"IF(F507=\"\",0,IF(isNccValid(F507),0,1))","v":0}]
[null,null,null,null,null,null,null,null,null,null,null,null,null,null,null,"",0,0,0,{"$f":"IF(F508=\"\",0,IF(isNccValid(F508),0,1))","v":0}]
[null,null,null,null,null,null,null,null,null,null,null,null,null,null,null,"",0,0,0,{"$f":"IF(F509=\"\",0,IF(isNccValid(F509),0,1))","v":0}]
[null,null,null,null,null,null,null,null,null,null,null,null,null,null,null,"",0,0,0,{"$f":"IF(F510=\"\",0,IF(isNccValid(F510),0,1))","v":0}]
[null,null,null,null,null,null,null,null,null,null,null,null,null,null,null,"",0,0,0,{"$f":"IF(F511=\"\",0,IF(isNccValid(F511),0,1))","v":0}]
[null,null,null,null,null,null,null,null,null,null,null,null,null,null,null,"",0,0,0,{"$f":"IF(F512=\"\",0,IF(isNccValid(F512),0,1))","v":0}]
[null,null,null,null,null,null,null,null,null,null,null,null,null,null,null,"",0,0,0,{"$f":"IF(F513=\"\",0,IF(isNccValid(F513),0,1))","v":0}]
[null,null,null,null,null,null,null,null,null,null,null,null,null,null,null,"",0,0,0,{"$f":"IF(F514=\"\",0,IF(isNccValid(F514),0,1))","v":0}]
[null,null,null,null,null,null,null,null,null,null,null,null,null,null,null,"",0,0,0,{"$f":"IF(F515=\"\",0,IF(isNccValid(F515),0,1))","v":0}]
[null,null,null,null,null,null,null,null,null,null,null,null,null,null,null,"",0,0,0,{"$f":"IF(F516=\"\",0,IF(isNccValid(F516),0,1))","v":0}]
[null,null,null,null,null,null,null,null,null,null,null,null,null,null,null,"",0,0,0,{"$f":"IF(F517=\"\",0,IF(isNccValid(F517),0,1))","v":0}]
[null,null,null,null,null,null,null,null,null,null,null,null,null,null,null,"",0,0,0,{"$f":"IF(F518=\"\",0,IF(isNccValid(F518),0,1))","v":0}]
[null,null,null,null,null,null,null,null,null,null,null,null,null,null,null,"",0,0,0,{"$f":"IF(F519=\"\",0,IF(isNccValid(F519),0,1))","v":0}]
[null,null,null,null,null,null,null,null,null,null,null,null,null,null,null,"",0,0,0,{"$f":"IF(F520=\"\",0,IF(isNccValid(F520),0,1))","v":0}]
[null,null,null,null,null,null,null,null,null,null,null,null,null,null,null,"",0,0,0,{"$f":"IF(F521=\"\",0,IF(isNccValid(F521),0,1))","v":0}]
[null,null,null,null,null,null,null,null,null,null,null,null,null,null,null,"",0,0,0,{"$f":"IF(F522=\"\",0,IF(isNccValid(F522),0,1))","v":0}]
[null,null,null,null,null,null,null,null,null,null,null,null,null,null,null,"",0,0,0,{"$f":"IF(F523=\"\",0,IF(isNccValid(F523),0,1))","v":0}]
[null,null,null,null,null,null,null,null,null,null,null,null,null,null,null,"",0,0,0,{"$f":"IF(F524=\"\",0,IF(isNccValid(F524),0,1))","v":0}]
[null,null,null,null,null,null,null,null,null,null,null,null,null,null,null,"",0,0,0,{"$f":"IF(F525=\"\",0,IF(isNccValid(F525),0,1))","v":0}]
[null,null,null,null,null,null,null,null,null,null,null,null,null,null,null,"",0,0,0,{"$f":"IF(F526=\"\",0,IF(isNccValid(F526),0,1))","v":0}]
[null,null,null,null,null,null,null,null,null,null,null,null,null,null,null,"",0,0,0,{"$f":"IF(F527=\"\",0,IF(isNccValid(F527),0,1))","v":0}]
[null,null,null,null,null,null,null,null,null,null,null,null,null,null,null,"",0,0,0,{"$f":"IF(F528=\"\",0,IF(isNccValid(F528),0,1))","v":0}]
[null,null,null,null,null,null,null,null,null,null,null,null,null,null,null,"",0,0,0,{"$f":"IF(F529=\"\",0,IF(isNccValid(F529),0,1))","v":0}]
[null,null,null,null,null,null,null,null,null,null,null,null,null,null,null,"",0,0,0,{"$f":"IF(F530=\"\",0,IF(isNccValid(F530),0,1))","v":0}]
[null,null,null,null,null,null,null,null,null,null,null,null,null,null,null,"",0,0,0,{"$f":"IF(F531=\"\",0,IF(isNccValid(F531),0,1))","v":0}]
[null,null,null,null,null,null,null,null,null,null,null,null,null,null,null,"",0,0,0,{"$f":"IF(F532=\"\",0,IF(isNccValid(F532),0,1))","v":0}]
[null,null,null,null,null,null,null,null,null,null,null,null,null,null,null,"",{"$f":"IF(AND(B533=\"\",R533=1),1,IF(AND(D533=\"\",R533=1),1,IF(AND(E533=\"\",R533=1),1,IF(AND(F533=\"\",R533=1),1,IF(AND(M533=\"\",R533=1),1,IF(AND(O533=\"\",R533=1),1,0))))))","v":0},{"$f":"IF(C533=\"\",0,IF(COUNTA(B533:O533)>0,1,0))","v":0},{"$f":"IFERROR(IF(LEN(F533)=8,0,IF(LEN(F533)=0,0,1)),1)","v":0},{"$f":"IF(F533=\"\",0,IF(isNccValid(F533),0,1))","v":0}]
[null,null,null,null,null,null,null,null,null,null,null,null,null,null,null,{"$f":"IF(B534=\"\",\"\",M534*O534)","v":""},0,0,0,{"$f":"IF(F534=\"\",0,IF(isNccValid(F534),0,1))","v":0}]
[null,null,null,null,null,null,null,null,null,null,null,null,null,null,null,"",0,0,0,{"$f":"IF(F535=\"\",0,IF(isNccValid(F535),0,1))","v":0}]
[null,null,null,null,null,null,null,null,null,null,null,null,null,null,null,"",0,0,0,{"$f":"IF(F536=\"\",0,IF(isNccValid(F536),0,1))","v":0}]
[null,null,null,null,null,null,null,null,null,null,null,null,null,null,null,"",0,0,0,{"$f":"IF(F537=\"\",0,IF(isNccValid(F537),0,1))","v":0}]
[null,null,null,null,null,null,null,null,null,null,null,null,null,null,null,"",0,0,0,{"$f":"IF(F538=\"\",0,IF(isNccValid(F538),0,1))","v":0}]
[null,null,null,null,null,null,null,null,null,null,null,null,null,null,null,"",0,0,0,{"$f":"IF(F539=\"\",0,IF(isNccValid(F539),0,1))","v":0}]
[null,null,null,null,null,null,null,null,null,null,null,null,null,null,null,"",0,0,0,{"$f":"IF(F540=\"\",0,IF(isNccValid(F540),0,1))","v":0}]
[null,null,null,null,null,null,null,null,null,null,null,null,null,null,null,"",0,0,0,{"$f":"IF(F541=\"\",0,IF(isNccValid(F541),0,1))","v":0}]
[null,null,null,null,null,null,null,null,null,null,null,null,null,null,null,"",0,0,0,{"$f":"IF(F542=\"\",0,IF(isNccValid(F542),0,1))","v":0}]
[null,null,null,null,null,null,null,null,null,null,null,null,null,null,null,"",0,0,0,{"$f":"IF(F543=\"\",0,IF(isNccValid(F543),0,1))","v":0}]
[null,null,null,null,null,null,null,null,null,null,null,null,null,null,null,"",0,0,0,{"$f":"IF(F544=\"\",0,IF(isNccValid(F544),0,1))","v":0}]
[null,null,null,null,null,null,null,null,null,null,null,null,null,null,null,"",0,0,0,{"$f":"IF(F545=\"\",0,IF(isNccValid(F545),0,1))","v":0}]
[null,null,null,null,null,null,null,null,null,null,null,null,null,null,null,"",0,0,0,{"$f":"IF(F546=\"\",0,IF(isNccValid(F546),0,1))","v":0}]
[null,null,null,null,null,null,null,null,null,null,null,null,null,null,null,"",0,0,0,{"$f":"IF(F547=\"\",0,IF(isNccValid(F547),0,1))","v":0}]
[null,null,null,null,null,null,null,null,null,null,null,null,null,null,null,"",0,0,0,{"$f":"IF(F548=\"\",0,IF(isNccValid(F548),0,1))","v":0}]
[null,null,null,null,null,null,null,null,null,null,null,null,null,null,null,"",0,0,0,{"$f":"IF(F549=\"\",0,IF(isNccValid(F549),0,1))","v":0}]
[null,null,null,null,null,null,null,null,null,null,null,null,null,null,null,"",0,0,0,{"$f":"IF(F550=\"\",0,IF(isNccValid(F550),0,1))","v":0}]
[null,null,null,null,null,null,null,null,null,null,null,null,null,null,null,"",0,0,0,{"$f":"IF(F551=\"\",0,IF(isNccValid(F551),0,1))","v":0}]
[null,null,null,null,null,null,null,null,null,null,null,null,null,null,null,"",0,0,0,{"$f":"IF(F552=\"\",0,IF(isNccValid(F552),0,1))","v":0}]
[null,null,null,null,null,null,null,null,null,null,null,null,null,null,null,"",0,0,0,{"$f":"IF(F553=\"\",0,IF(isNccValid(F553),0,1))","v":0}]
[null,null,null,null,null,null,null,null,null,null,null,null,null,null,null,"",0,0,0,{"$f":"IF(F554=\"\",0,IF(isNccValid(F554),0,1))","v":0}]
[null,null,null,null,null,null,null,null,null,null,null,null,null,null,null,"",0,0,0,{"$f":"IF(F555=\"\",0,IF(isNccValid(F555),0,1))","v":0}]
[null,null,null,null,null,null,null,null,null,null,null,null,null,null,null,"",0,0,0,{"$f":"IF(F556=\"\",0,IF(isNccValid(F556),0,1))","v":0}]
[null,null,null,null,null,null,null,null,null,null,null,null,null,null,null,"",0,0,0,{"$f":"IF(F557=\"\",0,IF(isNccValid(F557),0,1))","v":0}]
[null,null,null,null,null,null,null,null,null,null,null,null,null,null,null,"",0,0,0,{"$f":"IF(F558=\"\",0,IF(isNccValid(F558),0,1))","v":0}]
[null,null,null,null,null,null,null,null,null,null,null,null,null,null,null,"",0,0,0,{"$f":"IF(F559=\"\",0,IF(isNccValid(F559),0,1))","v":0}]
[null,null,null,null,null,null,null,null,null,null,null,null,null,null,null,"",0,0,0,{"$f":"IF(F560=\"\",0,IF(isNccValid(F560),0,1))","v":0}]
[null,null,null,null,null,null,null,null,null,null,null,null,null,null,null,"",0,0,0,{"$f":"IF(F561=\"\",0,IF(isNccValid(F561),0,1))","v":0}]
[null,null,null,null,null,null,null,null,null,null,null,null,null,null,null,"",0,0,0,{"$f":"IF(F562=\"\",0,IF(isNccValid(F562),0,1))","v":0}]
[null,null,null,null,null,null,null,null,null,null,null,null,null,null,null,"",0,0,0,{"$f":"IF(F563=\"\",0,IF(isNccValid(F563),0,1))","v":0}]
[null,null,null,null,null,null,null,null,null,null,null,null,null,null,null,"",0,0,0,{"$f":"IF(F564=\"\",0,IF(isNccValid(F564),0,1))","v":0}]
[null,null,null,null,null,null,null,null,null,null,null,null,null,null,null,"",0,0,0,{"$f":"IF(F565=\"\",0,IF(isNccValid(F565),0,1))","v":0}]
[null,null,null,null,null,null,null,null,null,null,null,null,null,null,null,"",0,0,0,{"$f":"IF(F566=\"\",0,IF(isNccValid(F566),0,1))","v":0}]
[null,null,null,null,null,null,null,null,null,null,null,null,null,null,null,"",0,0,0,{"$f":"IF(F567=\"\",0,IF(isNccValid(F567),0,1))","v":0}]
[null,null,null,null,null,null,null,null,null,null,null,null,null,null,null,"",0,0,0,{"$f":"IF(F568=\"\",0,IF(isNccValid(F568),0,1))","v":0}]
[null,null,null,null,null,null,null,null,null,null,null,null,null,null,null,"",0,0,0,{"$f":"IF(F569=\"\",0,IF(isNccValid(F569),0,1))","v":0}]
[null,null,null,null,null,null,null,null,null,null,null,null,null,null,null,"",0,0,0,{"$f":"IF(F570=\"\",0,IF(isNccValid(F570),0,1))","v":0}]
[null,null,null,null,null,null,null,null,null,null,null,null,null,null,null,"",0,0,0,{"$f":"IF(F571=\"\",0,IF(isNccValid(F571),0,1))","v":0}]
[null,null,null,null,null,null,null,null,null,null,null,null,null,null,null,"",0,0,0,{"$f":"IF(F572=\"\",0,IF(isNccValid(F572),0,1))","v":0}]
[null,null,null,null,null,null,null,null,null,null,null,null,null,null,null,"",0,0,0,{"$f":"IF(F573=\"\",0,IF(isNccValid(F573),0,1))","v":0}]
[null,null,null,null,null,null,null,null,null,null,null,null,null,null,null,"",0,0,0,{"$f":"IF(F574=\"\",0,IF(isNccValid(F574),0,1))","v":0}]
[null,null,null,null,null,null,null,null,null,null,null,null,null,null,null,"",0,0,0,{"$f":"IF(F575=\"\",0,IF(isNccValid(F575),0,1))","v":0}]
[null,null,null,null,null,null,null,null,null,null,null,null,null,null,null,"",0,0,0,{"$f":"IF(F576=\"\",0,IF(isNccValid(F576),0,1))","v":0}]
[null,null,null,null,null,null,null,null,null,null,null,null,null,null,null,"",0,0,0,{"$f":"IF(F577=\"\",0,IF(isNccValid(F577),0,1))","v":0}]
[null,null,null,null,null,null,null,null,null,null,null,null,null,null,null,"",0,0,0,{"$f":"IF(F578=\"\",0,IF(isNccValid(F578),0,1))","v":0}]
[null,null,null,null,null,null,null,null,null,null,null,null,null,null,null,"",0,0,0,{"$f":"IF(F579=\"\",0,IF(isNccValid(F579),0,1))","v":0}]
[null,null,null,null,null,null,null,null,null,null,null,null,null,null,null,"",0,0,0,{"$f":"IF(F580=\"\",0,IF(isNccValid(F580),0,1))","v":0}]
[null,null,null,null,null,null,null,null,null,null,null,null,null,null,null,"",0,0,0,{"$f":"IF(F581=\"\",0,IF(isNccValid(F581),0,1))","v":0}]
[null,null,null,null,null,null,null,null,null,null,null,null,null,null,null,"",0,0,0,{"$f":"IF(F582=\"\",0,IF(isNccValid(F582),0,1))","v":0}]
[null,null,null,null,null,null,null,null,null,null,null,null,null,null,null,"",0,0,0,{"$f":"IF(F583=\"\",0,IF(isNccValid(F583),0,1))","v":0}]
[null,null,null,null,null,null,null,null,null,null,null,null,null,null,null,"",0,0,0,{"$f":"IF(F584=\"\",0,IF(isNccValid(F584),0,1))","v":0}]
[null,null,null,null,null,null,null,null,null,null,null,null,null,null,null,"",0,0,0,{"$f":"IF(F585=\"\",0,IF(isNccValid(F585),0,1))","v":0}]
[null,null,null,null,null,null,null,null,null,null,null,null,null,null,null,"",0,0,0,{"$f":"IF(F586=\"\",0,IF(isNccValid(F586),0,1))","v":0}]
[null,null,null,null,null,null,null,null,null,null,null,null,null,null,null,"",0,0,0,{"$f":"IF(F587=\"\",0,IF(isNccValid(F587),0,1))","v":0}]
[null,null,null,null,null,null,null,null,null,null,null,null,null,null,null,"",0,0,0,{"$f":"IF(F588=\"\",0,IF(isNccValid(F588),0,1))","v":0}]
[null,null,null,null,null,null,null,null,null,null,null,null,null,null,null,"",0,0,0,{"$f":"IF(F589=\"\",0,IF(isNccValid(F589),0,1))","v":0}]
[null,null,null,null,null,null,null,null,null,null,null,null,null,null,null,"",0,0,0,{"$f":"IF(F590=\"\",0,IF(isNccValid(F590),0,1))","v":0}]
[null,null,null,null,null,null,null,null,null,null,null,null,null,null,null,"",0,0,0,{"$f":"IF(F591=\"\",0,IF(isNccValid(F591),0,1))","v":0}]
[null,null,null,null,null,null,null,null,null,null,null,null,null,null,null,"",0,0,0,{"$f":"IF(F592=\"\",0,IF(isNccValid(F592),0,1))","v":0}]
[null,null,null,null,null,null,null,null,null,null,null,null,null,null,null,"",0,0,0,{"$f":"IF(F593=\"\",0,IF(isNccValid(F593),0,1))","v":0}]
[null,null,null,null,null,null,null,null,null,null,null,null,null,null,null,"",0,0,0,{"$f":"IF(F594=\"\",0,IF(isNccValid(F594),0,1))","v":0}]
[null,null,null,null,null,null,null,null,null,null,null,null,null,null,null,"",0,0,0,{"$f":"IF(F595=\"\",0,IF(isNccValid(F595),0,1))","v":0}]
[null,null,null,null,null,null,null,null,null,null,null,null,null,null,null,"",0,0,0,{"$f":"IF(F596=\"\",0,IF(isNccValid(F596),0,1))","v":0}]
[null,null,null,null,null,null,null,null,null,null,null,null,null,null,null,"",{"$f":"IF(AND(B597=\"\",R597=1),1,IF(AND(D597=\"\",R597=1),1,IF(AND(E597=\"\",R597=1),1,IF(AND(F597=\"\",R597=1),1,IF(AND(M597=\"\",R597=1),1,IF(AND(O597=\"\",R597=1),1,0))))))","v":0},{"$f":"IF(C597=\"\",0,IF(COUNTA(B597:O597)>0,1,0))","v":0},{"$f":"IFERROR(IF(LEN(F597)=8,0,IF(LEN(F597)=0,0,1)),1)","v":0},{"$f":"IF(F597=\"\",0,IF(isNccValid(F597),0,1))","v":0}]
[null,null,null,null,null,null,null,null,null,null,null,null,null,null,null,{"$f":"IF(B598=\"\",\"\",M598*O598)","v":""},0,0,0,{"$f":"IF(F598=\"\",0,IF(isNccValid(F598),0,1))","v":0}]
[null,null,null,null,null,null,null,null,null,null,null,null,null,null,null,"",0,0,0,{"$f":"IF(F599=\"\",0,IF(isNccValid(F599),0,1))","v":0}]
[null,null,null,null,null,null,null,null,null,null,null,null,null,null,null,"",0,0,0,{"$f":"IF(F600=\"\",0,IF(isNccValid(F600),0,1))","v":0}]
[null,null,null,null,null,null,null,null,null,null,null,null,null,null,null,"",0,0,0,{"$f":"IF(F601=\"\",0,IF(isNccValid(F601),0,1))","v":0}]
[null,null,null,null,null,null,null,null,null,null,null,null,null,null,null,"",0,0,0,{"$f":"IF(F602=\"\",0,IF(isNccValid(F602),0,1))","v":0}]
[null,null,null,null,null,null,null,null,null,null,null,null,null,null,null,"",0,0,0,{"$f":"IF(F603=\"\",0,IF(isNccValid(F603),0,1))","v":0}]
[null,null,null,null,null,null,null,null,null,null,null,null,null,null,null,"",0,0,0,{"$f":"IF(F604=\"\",0,IF(isNccValid(F604),0,1))","v":0}]
[null,null,null,null,null,null,null,null,null,null,null,null,null,null,null,"",0,0,0,{"$f":"IF(F605=\"\",0,IF(isNccValid(F605),0,1))","v":0}]
[null,null,null,null,null,null,null,null,null,null,null,null,null,null,null,"",0,0,0,{"$f":"IF(F606=\"\",0,IF(isNccValid(F606),0,1))","v":0}]
[null,null,null,null,null,null,null,null,null,null,null,null,null,null,null,"",0,0,0,{"$f":"IF(F607=\"\",0,IF(isNccValid(F607),0,1))","v":0}]
[null,null,null,null,null,null,null,null,null,null,null,null,null,null,null,"",0,0,0,{"$f":"IF(F608=\"\",0,IF(isNccValid(F608),0,1))","v":0}]
[null,null,null,null,null,null,null,null,null,null,null,null,null,null,null,"",0,0,0,{"$f":"IF(F609=\"\",0,IF(isNccValid(F609),0,1))","v":0}]
[null,null,null,null,null,null,null,null,null,null,null,null,null,null,null,"",0,0,0,{"$f":"IF(F610=\"\",0,IF(isNccValid(F610),0,1))","v":0}]
[null,null,null,null,null,null,null,null,null,null,null,null,null,null,null,"",0,0,0,{"$f":"IF(F611=\"\",0,IF(isNccValid(F611),0,1))","v":0}]
[null,null,null,null,null,null,null,null,null,null,null,null,null,null,null,"",0,0,0,{"$f":"IF(F612=\"\",0,IF(isNccValid(F612),0,1))","v":0}]
[null,null,null,null,null,null,null,null,null,null,null,null,null,null,null,"",0,0,0,{"$f":"IF(F613=\"\",0,IF(isNccValid(F613),0,1))","v":0}]
[null,null,null,null,null,null,null,null,null,null,null,null,null,null,null,"",0,0,0,{"$f":"IF(F614=\"\",0,IF(isNccValid(F614),0,1))","v":0}]
[null,null,null,null,null,null,null,null,null,null,null,null,null,null,null,"",0,0,0,{"$f":"IF(F615=\"\",0,IF(isNccValid(F615),0,1))","v":0}]
[null,null,null,null,null,null,null,null,null,null,null,null,null,null,null,"",0,0,0,{"$f":"IF(F616=\"\",0,IF(isNccValid(F616),0,1))","v":0}]
[null,null,null,null,null,null,null,null,null,null,null,null,null,null,null,"",0,0,0,{"$f":"IF(F617=\"\",0,IF(isNccValid(F617),0,1))","v":0}]
[null,null,null,null,null,null,null,null,null,null,null,null,null,null,null,"",0,0,0,{"$f":"IF(F618=\"\",0,IF(isNccValid(F618),0,1))","v":0}]
[null,null,null,null,null,null,null,null,null,null,null,null,null,null,null,"",0,0,0,{"$f":"IF(F619=\"\",0,IF(isNccValid(F619),0,1))","v":0}]
[null,null,null,null,null,null,null,null,null,null,null,null,null,null,null,"",0,0,0,{"$f":"IF(F620=\"\",0,IF(isNccValid(F620),0,1))","v":0}]
[null,null,null,null,null,null,null,null,null,null,null,null,null,null,null,"",0,0,0,{"$f":"IF(F621=\"\",0,IF(isNccValid(F621),0,1))","v":0}]
[null,null,null,null,null,null,null,null,null,null,null,null,null,null,null,"",0,0,0,{"$f":"IF(F622=\"\",0,IF(isNccValid(F622),0,1))","v":0}]
[null,null,null,null,null,null,null,null,null,null,null,null,null,null,null,"",0,0,0,{"$f":"IF(F623=\"\",0,IF(isNccValid(F623),0,1))","v":0}]
[null,null,null,null,null,null,null,null,null,null,null,null,null,null,null,"",0,0,0,{"$f":"IF(F624=\"\",0,IF(isNccValid(F624),0,1))","v":0}]
[null,null,null,null,null,null,null,null,null,null,null,null,null,null,null,"",0,0,0,{"$f":"IF(F625=\"\",0,IF(isNccValid(F625),0,1))","v":0}]
[null,null,null,null,null,null,null,null,null,null,null,null,null,null,null,"",0,0,0,{"$f":"IF(F626=\"\",0,IF(isNccValid(F626),0,1))","v":0}]
[null,null,null,null,null,null,null,null,null,null,null,null,null,null,null,"",0,0,0,{"$f":"IF(F627=\"\",0,IF(isNccValid(F627),0,1))","v":0}]
[null,null,null,null,null,null,null,null,null,null,null,null,null,null,null,"",0,0,0,{"$f":"IF(F628=\"\",0,IF(isNccValid(F628),0,1))","v":0}]
[null,null,null,null,null,null,null,null,null,null,null,null,null,null,null,"",0,0,0,{"$f":"IF(F629=\"\",0,IF(isNccValid(F629),0,1))","v":0}]
[null,null,null,null,null,null,null,null,null,null,null,null,null,null,null,"",0,0,0,{"$f":"IF(F630=\"\",0,IF(isNccValid(F630),0,1))","v":0}]
[null,null,null,null,null,null,null,null,null,null,null,null,null,null,null,"",0,0,0,{"$f":"IF(F631=\"\",0,IF(isNccValid(F631),0,1))","v":0}]
[null,null,null,null,null,null,null,null,null,null,null,null,null,null,null,"",0,0,0,{"$f":"IF(F632=\"\",0,IF(isNccValid(F632),0,1))","v":0}]
[null,null,null,null,null,null,null,null,null,null,null,null,null,null,null,"",0,0,0,{"$f":"IF(F633=\"\",0,IF(isNccValid(F633),0,1))","v":0}]
[null,null,null,null,null,null,null,null,null,null,null,null,null,null,null,"",0,0,0,{"$f":"IF(F634=\"\",0,IF(isNccValid(F634),0,1))","v":0}]
[null,null,null,null,null,null,null,null,null,null,null,null,null,null,null,"",0,0,0,{"$f":"IF(F635=\"\",0,IF(isNccValid(F635),0,1))","v":0}]
[null,null,null,null,null,null,null,null,null,null,null,null,null,null,null,"",0,0,0,{"$f":"IF(F636=\"\",0,IF(isNccValid(F636),0,1))","v":0}]
[null,null,null,null,null,null,null,null,null,null,null,null,null,null,null,"",0,0,0,{"$f":"IF(F637=\"\",0,IF(isNccValid(F637),0,1))","v":0}]
[null,null,null,null,null,null,null,null,null,null,null,null,null,null,null,"",0,0,0,{"$f":"IF(F638=\"\",0,IF(isNccValid(F638),0,1))","v":0}]
[null,null,null,null,null,null,null,null,null,null,null,null,null,null,null,"",0,0,0,{"$f":"IF(F639=\"\",0,IF(isNccValid(F639),0,1))","v":0}]
[null,null,null,null,null,null,null,null,null,null,null,null,null,null,null,"",0,0,0,{"$f":"IF(F640=\"\",0,IF(isNccValid(F640),0,1))","v":0}]
[null,null,null,null,null,null,null,null,null,null,null,null,null,null,null,"",0,0,0,{"$f":"IF(F641=\"\",0,IF(isNccValid(F641),0,1))","v":0}]
[null,null,null,null,null,null,null,null,null,null,null,null,null,null,null,"",0,0,0,{"$f":"IF(F642=\"\",0,IF(isNccValid(F642),0,1))","v":0}]
[null,null,null,null,null,null,null,null,null,null,null,null,null,null,null,"",0,0,0,{"$f":"IF(F643=\"\",0,IF(isNccValid(F643),0,1))","v":0}]
[null,null,null,null,null,null,null,null,null,null,null,null,null,null,null,"",0,0,0,{"$f":"IF(F644=\"\",0,IF(isNccValid(F644),0,1))","v":0}]
[null,null,null,null,null,null,null,null,null,null,null,null,null,null,null,"",0,0,0,{"$f":"IF(F645=\"\",0,IF(isNccValid(F645),0,1))","v":0}]
[null,null,null,null,null,null,null,null,null,null,null,null,null,null,null,"",0,0,0,{"$f":"IF(F646=\"\",0,IF(isNccValid(F646),0,1))","v":0}]
[null,null,null,null,null,null,null,null,null,null,null,null,null,null,null,"",0,0,0,{"$f":"IF(F647=\"\",0,IF(isNccValid(F647),0,1))","v":0}]
[null,null,null,null,null,null,null,null,null,null,null,null,null,null,null,"",0,0,0,{"$f":"IF(F648=\"\",0,IF(isNccValid(F648),0,1))","v":0}]
[null,null,null,null,null,null,null,null,null,null,null,null,null,null,null,"",0,0,0,{"$f":"IF(F649=\"\",0,IF(isNccValid(F649),0,1))","v":0}]
[null,null,null,null,null,null,null,null,null,null,null,null,null,null,null,"",0,0,0,{"$f":"IF(F650=\"\",0,IF(isNccValid(F650),0,1))","v":0}]
[null,null,null,null,null,null,null,null,null,null,null,null,null,null,null,"",0,0,0,{"$f":"IF(F651=\"\",0,IF(isNccValid(F651),0,1))","v":0}]
[null,null,null,null,null,null,null,null,null,null,null,null,null,null,null,"",0,0,0,{"$f":"IF(F652=\"\",0,IF(isNccValid(F652),0,1))","v":0}]
[null,null,null,null,null,null,null,null,null,null,null,null,null,null,null,"",0,0,0,{"$f":"IF(F653=\"\",0,IF(isNccValid(F653),0,1))","v":0}]
[null,null,null,null,null,null,null,null,null,null,null,null,null,null,null,"",0,0,0,{"$f":"IF(F654=\"\",0,IF(isNccValid(F654),0,1))","v":0}]
[null,null,null,null,null,null,null,null,null,null,null,null,null,null,null,"",0,0,0,{"$f":"IF(F655=\"\",0,IF(isNccValid(F655),0,1))","v":0}]
[null,null,null,null,null,null,null,null,null,null,null,null,null,null,null,"",0,0,0,{"$f":"IF(F656=\"\",0,IF(isNccValid(F656),0,1))","v":0}]
[null,null,null,null,null,null,null,null,null,null,null,null,null,null,null,"",0,0,0,{"$f":"IF(F657=\"\",0,IF(isNccValid(F657),0,1))","v":0}]
[null,null,null,null,null,null,null,null,null,null,null,null,null,null,null,"",0,0,0,{"$f":"IF(F658=\"\",0,IF(isNccValid(F658),0,1))","v":0}]
[null,null,null,null,null,null,null,null,null,null,null,null,null,null,null,"",0,0,0,{"$f":"IF(F659=\"\",0,IF(isNccValid(F659),0,1))","v":0}]
[null,null,null,null,null,null,null,null,null,null,null,null,null,null,null,"",0,0,0,{"$f":"IF(F660=\"\",0,IF(isNccValid(F660),0,1))","v":0}]
[null,null,null,null,null,null,null,null,null,null,null,null,null,null,null,"",{"$f":"IF(AND(B661=\"\",R661=1),1,IF(AND(D661=\"\",R661=1),1,IF(AND(E661=\"\",R661=1),1,IF(AND(F661=\"\",R661=1),1,IF(AND(M661=\"\",R661=1),1,IF(AND(O661=\"\",R661=1),1,0))))))","v":0},{"$f":"IF(C661=\"\",0,IF(COUNTA(B661:O661)>0,1,0))","v":0},{"$f":"IFERROR(IF(LEN(F661)=8,0,IF(LEN(F661)=0,0,1)),1)","v":0},{"$f":"IF(F661=\"\",0,IF(isNccValid(F661),0,1))","v":0}]
[null,null,null,null,null,null,null,null,null,null,null,null,null,null,null,{"$f":"IF(B662=\"\",\"\",M662*O662)","v":""},0,0,0,{"$f":"IF(F662=\"\",0,IF(isNccValid(F662),0,1))","v":0}]
[null,null,null,null,null,null,null,null,null,null,null,null,null,null,null,"",0,0,0,{"$f":"IF(F663=\"\",0,IF(isNccValid(F663),0,1))","v":0}]
[null,null,null,null,null,null,null,null,null,null,null,null,null,null,null,"",0,0,0,{"$f":"IF(F664=\"\",0,IF(isNccValid(F664),0,1))","v":0}]
[null,null,null,null,null,null,null,null,null,null,null,null,null,null,null,"",0,0,0,{"$f":"IF(F665=\"\",0,IF(isNccValid(F665),0,1))","v":0}]
[null,null,null,null,null,null,null,null,null,null,null,null,null,null,null,"",0,0,0,{"$f":"IF(F666=\"\",0,IF(isNccValid(F666),0,1))","v":0}]
[null,null,null,null,null,null,null,null,null,null,null,null,null,null,null,"",0,0,0,{"$f":"IF(F667=\"\",0,IF(isNccValid(F667),0,1))","v":0}]
[null,null,null,null,null,null,null,null,null,null,null,null,null,null,null,"",0,0,0,{"$f":"IF(F668=\"\",0,IF(isNccValid(F668),0,1))","v":0}]
[null,null,null,null,null,null,null,null,null,null,null,null,null,null,null,"",0,0,0,{"$f":"IF(F669=\"\",0,IF(isNccValid(F669),0,1))","v":0}]
[null,null,null,null,null,null,null,null,null,null,null,null,null,null,null,"",0,0,0,{"$f":"IF(F670=\"\",0,IF(isNccValid(F670),0,1))","v":0}]
[null,null,null,null,null,null,null,null,null,null,null,null,null,null,null,"",0,0,0,{"$f":"IF(F671=\"\",0,IF(isNccValid(F671),0,1))","v":0}]
[null,null,null,null,null,null,null,null,null,null,null,null,null,null,null,"",0,0,0,{"$f":"IF(F672=\"\",0,IF(isNccValid(F672),0,1))","v":0}]
[null,null,null,null,null,null,null,null,null,null,null,null,null,null,null,"",0,0,0,{"$f":"IF(F673=\"\",0,IF(isNccValid(F673),0,1))","v":0}]
[null,null,null,null,null,null,null,null,null,null,null,null,null,null,null,"",0,0,0,{"$f":"IF(F674=\"\",0,IF(isNccValid(F674),0,1))","v":0}]
[null,null,null,null,null,null,null,null,null,null,null,null,null,null,null,"",0,0,0,{"$f":"IF(F675=\"\",0,IF(isNccValid(F675),0,1))","v":0}]
[null,null,null,null,null,null,null,null,null,null,null,null,null,null,null,"",0,0,0,{"$f":"IF(F676=\"\",0,IF(isNccValid(F676),0,1))","v":0}]
[null,null,null,null,null,null,null,null,null,null,null,null,null,null,null,"",0,0,0,{"$f":"IF(F677=\"\",0,IF(isNccValid(F677),0,1))","v":0}]
[null,null,null,null,null,null,null,null,null,null,null,null,null,null,null,"",0,0,0,{"$f":"IF(F678=\"\",0,IF(isNccValid(F678),0,1))","v":0}]
[null,null,null,null,null,null,null,null,null,null,null,null,null,null,null,"",0,0,0,{"$f":"IF(F679=\"\",0,IF(isNccValid(F679),0,1))","v":0}]
[null,null,null,null,null,null,null,null,null,null,null,null,null,null,null,"",0,0,0,{"$f":"IF(F680=\"\",0,IF(isNccValid(F680),0,1))","v":0}]
[null,null,null,null,null,null,null,null,null,null,null,null,null,null,null,"",0,0,0,{"$f":"IF(F681=\"\",0,IF(isNccValid(F681),0,1))","v":0}]
[null,null,null,null,null,null,null,null,null,null,null,null,null,null,null,"",0,0,0,{"$f":"IF(F682=\"\",0,IF(isNccValid(F682),0,1))","v":0}]
[null,null,null,null,null,null,null,null,null,null,null,null,null,null,null,"",0,0,0,{"$f":"IF(F683=\"\",0,IF(isNccValid(F683),0,1))","v":0}]
[null,null,null,null,null,null,null,null,null,null,null,null,null,null,null,"",0,0,0,{"$f":"IF(F684=\"\",0,IF(isNccValid(F684),0,1))","v":0}]
[null,null,null,null,null,null,null,null,null,null,null,null,null,null,null,"",0,0,0,{"$f":"IF(F685=\"\",0,IF(isNccValid(F685),0,1))","v":0}]
[null,null,null,null,null,null,null,null,null,null,null,null,null,null,null,"",0,0,0,{"$f":"IF(F686=\"\",0,IF(isNccValid(F686),0,1))","v":0}]
[null,null,null,null,null,null,null,null,null,null,null,null,null,null,null,"",0,0,0,{"$f":"IF(F687=\"\",0,IF(isNccValid(F687),0,1))","v":0}]
[null,null,null,null,null,null,null,null,null,null,null,null,null,null,null,"",0,0,0,{"$f":"IF(F688=\"\",0,IF(isNccValid(F688),0,1))","v":0}]
[null,null,null,null,null,null,null,null,null,null,null,null,null,null,null,"",0,0,0,{"$f":"IF(F689=\"\",0,IF(isNccValid(F689),0,1))","v":0}]
[null,null,null,null,null,null,null,null,null,null,null,null,null,null,null,"",0,0,0,{"$f":"IF(F690=\"\",0,IF(isNccValid(F690),0,1))","v":0}]
[null,null,null,null,null,null,null,null,null,null,null,null,null,null,null,"",0,0,0,{"$f":"IF(F691=\"\",0,IF(isNccValid(F691),0,1))","v":0}]
[null,null,null,null,null,null,null,null,null,null,null,null,null,null,null,"",0,0,0,{"$f":"IF(F692=\"\",0,IF(isNccValid(F692),0,1))","v":0}]
[null,null,null,null,null,null,null,null,null,null,null,null,null,null,null,"",0,0,0,{"$f":"IF(F693=\"\",0,IF(isNccValid(F693),0,1))","v":0}]
[null,null,null,null,null,null,null,null,null,null,null,null,null,null,null,"",0,0,0,{"$f":"IF(F694=\"\",0,IF(isNccValid(F694),0,1))","v":0}]
[null,null,null,null,null,null,null,null,null,null,null,null,null,null,null,"",0,0,0,{"$f":"IF(F695=\"\",0,IF(isNccValid(F695),0,1))","v":0}]
[null,null,null,null,null,null,null,null,null,null,null,null,null,null,null,"",0,0,0,{"$f":"IF(F696=\"\",0,IF(isNccValid(F696),0,1))","v":0}]
[null,null,null,null,null,null,null,null,null,null,null,null,null,null,null,"",0,0,0,{"$f":"IF(F697=\"\",0,IF(isNccValid(F697),0,1))","v":0}]
[null,null,null,null,null,null,null,null,null,null,null,null,null,null,null,"",0,0,0,{"$f":"IF(F698=\"\",0,IF(isNccValid(F698),0,1))","v":0}]
[null,null,null,null,null,null,null,null,null,null,null,null,null,null,null,"",0,0,0,{"$f":"IF(F699=\"\",0,IF(isNccValid(F699),0,1))","v":0}]
[null,null,null,null,null,null,null,null,null,null,null,null,null,null,null,"",0,0,0,{"$f":"IF(F700=\"\",0,IF(isNccValid(F700),0,1))","v":0}]
[null,null,null,null,null,null,null,null,null,null,null,null,null,null,null,"",0,0,0,{"$f":"IF(F701=\"\",0,IF(isNccValid(F701),0,1))","v":0}]
[null,null,null,null,null,null,null,null,null,null,null,null,null,null,null,"",0,0,0,{"$f":"IF(F702=\"\",0,IF(isNccValid(F702),0,1))","v":0}]
[null,null,null,null,null,null,null,null,null,null,null,null,null,null,null,"",0,0,0,{"$f":"IF(F703=\"\",0,IF(isNccValid(F703),0,1))","v":0}]
[null,null,null,null,null,null,null,null,null,null,null,null,null,null,null,"",0,0,0,{"$f":"IF(F704=\"\",0,IF(isNccValid(F704),0,1))","v":0}]
[null,null,null,null,null,null,null,null,null,null,null,null,null,null,null,"",0,0,0,{"$f":"IF(F705=\"\",0,IF(isNccValid(F705),0,1))","v":0}]
[null,null,null,null,null,null,null,null,null,null,null,null,null,null,null,"",0,0,0,{"$f":"IF(F706=\"\",0,IF(isNccValid(F706),0,1))","v":0}]
[null,null,null,null,null,null,null,null,null,null,null,null,null,null,null,"",0,0,0,{"$f":"IF(F707=\"\",0,IF(isNccValid(F707),0,1))","v":0}]
[null,null,null,null,null,null,null,null,null,null,null,null,null,null,null,"",0,0,0,{"$f":"IF(F708=\"\",0,IF(isNccValid(F708),0,1))","v":0}]
[null,null,null,null,null,null,null,null,null,null,null,null,null,null,null,"",0,0,0,{"$f":"IF(F709=\"\",0,IF(isNccValid(F709),0,1))","v":0}]
[null,null,null,null,null,null,null,null,null,null,null,null,null,null,null,"",0,0,0,{"$f":"IF(F710=\"\",0,IF(isNccValid(F710),0,1))","v":0}]
[null,null,null,null,null,null,null,null,null,null,null,null,null,null,null,"",0,0,0,{"$f":"IF(F711=\"\",0,IF(isNccValid(F711),0,1))","v":0}]
[null,null,null,null,null,null,null,null,null,null,null,null,null,null,null,"",0,0,0,{"$f":"IF(F712=\"\",0,IF(isNccValid(F712),0,1))","v":0}]
[null,null,null,null,null,null,null,null,null,null,null,null,null,null,null,"",0,0,0,{"$f":"IF(F713=\"\",0,IF(isNccValid(F713),0,1))","v":0}]
[null,null,null,null,null,null,null,null,null,null,null,null,null,null,null,"",0,0,0,{"$f":"IF(F714=\"\",0,IF(isNccValid(F714),0,1))","v":0}]
[null,null,null,null,null,null,null,null,null,null,null,null,null,null,null,"",0,0,0,{"$f":"IF(F715=\"\",0,IF(isNccValid(F715),0,1))","v":0}]
[null,null,null,null,null,null,null,null,null,null,null,null,null,null,null,"",0,0,0,{"$f":"IF(F716=\"\",0,IF(isNccValid(F716),0,1))","v":0}]
[null,null,null,null,null,null,null,null,null,null,null,null,null,null,null,"",0,0,0,{"$f":"IF(F717=\"\",0,IF(isNccValid(F717),0,1))","v":0}]
[null,null,null,null,null,null,null,null,null,null,null,null,null,null,null,"",0,0,0,{"$f":"IF(F718=\"\",0,IF(isNccValid(F718),0,1))","v":0}]
[null,null,null,null,null,null,null,null,null,null,null,null,null,null,null,"",0,0,0,{"$f":"IF(F719=\"\",0,IF(isNccValid(F719),0,1))","v":0}]
[null,null,null,null,null,null,null,null,null,null,null,null,null,null,null,"",0,0,0,{"$f":"IF(F720=\"\",0,IF(isNccValid(F720),0,1))","v":0}]
[null,null,null,null,null,null,null,null,null,null,null,null,null,null,null,"",0,0,0,{"$f":"IF(F721=\"\",0,IF(isNccValid(F721),0,1))","v":0}]
[null,null,null,null,null,null,null,null,null,null,null,null,null,null,null,"",0,0,0,{"$f":"IF(F722=\"\",0,IF(isNccValid(F722),0,1))","v":0}]
[null,null,null,null,null,null,null,null,null,null,null,null,null,null,null,"",0,0,0,{"$f":"IF(F723=\"\",0,IF(isNccValid(F723),0,1))","v":0}]
[null,null,null,null,null,null,null,null,null,null,null,null,null,null,null,"",0,0,0,{"$f":"IF(F724=\"\",0,IF(isNccValid(F724),0,1))","v":0}]
[null,null,null,null,null,null,null,null,null,null,null,null,null,null,null,"",{"$f":"IF(AND(B725=\"\",R725=1),1,IF(AND(D725=\"\",R725=1),1,IF(AND(E725=\"\",R725=1),1,IF(AND(F725=\"\",R725=1),1,IF(AND(M725=\"\",R725=1),1,IF(AND(O725=\"\",R725=1),1,0))))))","v":0},{"$f":"IF(C725=\"\",0,IF(COUNTA(B725:O725)>0,1,0))","v":0},{"$f":"IFERROR(IF(LEN(F725)=8,0,IF(LEN(F725)=0,0,1)),1)","v":0},{"$f":"IF(F725=\"\",0,IF(isNccValid(F725),0,1))","v":0}]
[null,null,null,null,null,null,null,null,null,null,null,null,null,null,null,{"$f":"IF(B726=\"\",\"\",M726*O726)","v":""},0,0,0,{"$f":"IF(F726=\"\",0,IF(isNccValid(F726),0,1))","v":0}]
[null,null,null,null,null,null,null,null,null,null,null,null,null,null,null,"",0,0,0,{"$f":"IF(F727=\"\",0,IF(isNccValid(F727),0,1))","v":0}]
[null,null,null,null,null,null,null,null,null,null,null,null,null,null,null,"",0,0,0,{"$f":"IF(F728=\"\",0,IF(isNccValid(F728),0,1))","v":0}]
[null,null,null,null,null,null,null,null,null,null,null,null,null,null,null,"",0,0,0,{"$f":"IF(F729=\"\",0,IF(isNccValid(F729),0,1))","v":0}]
[null,null,null,null,null,null,null,null,null,null,null,null,null,null,null,"",0,0,0,{"$f":"IF(F730=\"\",0,IF(isNccValid(F730),0,1))","v":0}]
[null,null,null,null,null,null,null,null,null,null,null,null,null,null,null,"",0,0,0,{"$f":"IF(F731=\"\",0,IF(isNccValid(F731),0,1))","v":0}]
[null,null,null,null,null,null,null,null,null,null,null,null,null,null,null,"",0,0,0,{"$f":"IF(F732=\"\",0,IF(isNccValid(F732),0,1))","v":0}]
[null,null,null,null,null,null,null,null,null,null,null,null,null,null,null,"",0,0,0,{"$f":"IF(F733=\"\",0,IF(isNccValid(F733),0,1))","v":0}]
[null,null,null,null,null,null,null,null,null,null,null,null,null,null,null,"",0,0,0,{"$f":"IF(F734=\"\",0,IF(isNccValid(F734),0,1))","v":0}]
[null,null,null,null,null,null,null,null,null,null,null,null,null,null,null,"",0,0,0,{"$f":"IF(F735=\"\",0,IF(isNccValid(F735),0,1))","v":0}]
[null,null,null,null,null,null,null,null,null,null,null,null,null,null,null,"",0,0,0,{"$f":"IF(F736=\"\",0,IF(isNccValid(F736),0,1))","v":0}]
[null,null,null,null,null,null,null,null,null,null,null,null,null,null,null,"",0,0,0,{"$f":"IF(F737=\"\",0,IF(isNccValid(F737),0,1))","v":0}]
[null,null,null,null,null,null,null,null,null,null,null,null,null,null,null,"",0,0,0,{"$f":"IF(F738=\"\",0,IF(isNccValid(F738),0,1))","v":0}]
[null,null,null,null,null,null,null,null,null,null,null,null,null,null,null,"",0,0,0,{"$f":"IF(F739=\"\",0,IF(isNccValid(F739),0,1))","v":0}]
[null,null,null,null,null,null,null,null,null,null,null,null,null,null,null,"",0,0,0,{"$f":"IF(F740=\"\",0,IF(isNccValid(F740),0,1))","v":0}]
[null,null,null,null,null,null,null,null,null,null,null,null,null,null,null,"",0,0,0,{"$f":"IF(F741=\"\",0,IF(isNccValid(F741),0,1))","v":0}]
[null,null,null,null,null,null,null,null,null,null,null,null,null,null,null,"",0,0,0,{"$f":"IF(F742=\"\",0,IF(isNccValid(F742),0,1))","v":0}]
[null,null,null,null,null,null,null,null,null,null,null,null,null,null,null,"",0,0,0,{"$f":"IF(F743=\"\",0,IF(isNccValid(F743),0,1))","v":0}]
[null,null,null,null,null,null,null,null,null,null,null,null,null,null,null,"",0,0,0,{"$f":"IF(F744=\"\",0,IF(isNccValid(F744),0,1))","v":0}]
[null,null,null,null,null,null,null,null,null,null,null,null,null,null,null,"",0,0,0,{"$f":"IF(F745=\"\",0,IF(isNccValid(F745),0,1))","v":0}]
[null,null,null,null,null,null,null,null,null,null,null,null,null,null,null,"",0,0,0,{"$f":"IF(F746=\"\",0,IF(isNccValid(F746),0,1))","v":0}]
[null,null,null,null,null,null,null,null,null,null,null,null,null,null,null,"",0,0,0,{"$f":"IF(F747=\"\",0,IF(isNccValid(F747),0,1))","v":0}]
[null,null,null,null,null,null,null,null,null,null,null,null,null,null,null,"",0,0,0,{"$f":"IF(F748=\"\",0,IF(isNccValid(F748),0,1))","v":0}]
[null,null,null,null,null,null,null,null,null,null,null,null,null,null,null,"",0,0,0,{"$f":"IF(F749=\"\",0,IF(isNccValid(F749),0,1))","v":0}]
[null,null,null,null,null,null,null,null,null,null,null,null,null,null,null,"",0,0,0,{"$f":"IF(F750=\"\",0,IF(isNccValid(F750),0,1))","v":0}]
[null,null,null,null,null,null,null,null,null,null,null,null,null,null,null,"",0,0,0,{"$f":"IF(F751=\"\",0,IF(isNccValid(F751),0,1))","v":0}]
[null,null,null,null,null,null,null,null,null,null,null,null,null,null,null,"",0,0,0,{"$f":"IF(F752=\"\",0,IF(isNccValid(F752),0,1))","v":0}]
[null,null,null,null,null,null,null,null,null,null,null,null,null,null,null,"",0,0,0,{"$f":"IF(F753=\"\",0,IF(isNccValid(F753),0,1))","v":0}]
[null,null,null,null,null,null,null,null,null,null,null,null,null,null,null,"",0,0,0,{"$f":"IF(F754=\"\",0,IF(isNccValid(F754),0,1))","v":0}]
[null,null,null,null,null,null,null,null,null,null,null,null,null,null,null,"",0,0,0,{"$f":"IF(F755=\"\",0,IF(isNccValid(F755),0,1))","v":0}]
[null,null,null,null,null,null,null,null,null,null,null,null,null,null,null,"",0,0,0,{"$f":"IF(F756=\"\",0,IF(isNccValid(F756),0,1))","v":0}]
[null,null,null,null,null,null,null,null,null,null,null,null,null,null,null,"",0,0,0,{"$f":"IF(F757=\"\",0,IF(isNccValid(F757),0,1))","v":0}]
[null,null,null,null,null,null,null,null,null,null,null,null,null,null,null,"",0,0,0,{"$f":"IF(F758=\"\",0,IF(isNccValid(F758),0,1))","v":0}]
[null,null,null,null,null,null,null,null,null,null,null,null,null,null,null,"",0,0,0,{"$f":"IF(F759=\"\",0,IF(isNccValid(F759),0,1))","v":0}]
[null,null,null,null,null,null,null,null,null,null,null,null,null,null,null,"",0,0,0,{"$f":"IF(F760=\"\",0,IF(isNccValid(F760),0,1))","v":0}]
[null,null,null,null,null,null,null,null,null,null,null,null,null,null,null,"",0,0,0,{"$f":"IF(F761=\"\",0,IF(isNccValid(F761),0,1))","v":0}]
[null,null,null,null,null,null,null,null,null,null,null,null,null,null,null,"",0,0,0,{"$f":"IF(F762=\"\",0,IF(isNccValid(F762),0,1))","v":0}]
[null,null,null,null,null,null,null,null,null,null,null,null,null,null,null,"",0,0,0,{"$f":"IF(F763=\"\",0,IF(isNccValid(F763),0,1))","v":0}]
[null,null,null,null,null,null,null,null,null,null,null,null,null,null,null,"",0,0,0,{"$f":"IF(F764=\"\",0,IF(isNccValid(F764),0,1))","v":0}]
[null,null,null,null,null,null,null,null,null,null,null,null,null,null,null,"",0,0,0,{"$f":"IF(F765=\"\",0,IF(isNccValid(F765),0,1))","v":0}]
[null,null,null,null,null,null,null,null,null,null,null,null,null,null,null,"",0,0,0,{"$f":"IF(F766=\"\",0,IF(isNccValid(F766),0,1))","v":0}]
[null,null,null,null,null,null,null,null,null,null,null,null,null,null,null,"",0,0,0,{"$f":"IF(F767=\"\",0,IF(isNccValid(F767),0,1))","v":0}]
[null,null,null,null,null,null,null,null,null,null,null,null,null,null,null,"",0,0,0,{"$f":"IF(F768=\"\",0,IF(isNccValid(F768),0,1))","v":0}]
[null,null,null,null,null,null,null,null,null,null,null,null,null,null,null,"",0,0,0,{"$f":"IF(F769=\"\",0,IF(isNccValid(F769),0,1))","v":0}]
[null,null,null,null,null,null,null,null,null,null,null,null,null,null,null,"",0,0,0,{"$f":"IF(F770=\"\",0,IF(isNccValid(F770),0,1))","v":0}]
[null,null,null,null,null,null,null,null,null,null,null,null,null,null,null,"",0,0,0,{"$f":"IF(F771=\"\",0,IF(isNccValid(F771),0,1))","v":0}]
[null,null,null,null,null,null,null,null,null,null,null,null,null,null,null,"",0,0,0,{"$f":"IF(F772=\"\",0,IF(isNccValid(F772),0,1))","v":0}]
[null,null,null,null,null,null,null,null,null,null,null,null,null,null,null,"",0,0,0,{"$f":"IF(F773=\"\",0,IF(isNccValid(F773),0,1))","v":0}]
[null,null,null,null,null,null,null,null,null,null,null,null,null,null,null,"",0,0,0,{"$f":"IF(F774=\"\",0,IF(isNccValid(F774),0,1))","v":0}]
[null,null,null,null,null,null,null,null,null,null,null,null,null,null,null,"",0,0,0,{"$f":"IF(F775=\"\",0,IF(isNccValid(F775),0,1))","v":0}]
[null,null,null,null,null,null,null,null,null,null,null,null,null,null,null,"",0,0,0,{"$f":"IF(F776=\"\",0,IF(isNccValid(F776),0,1))","v":0}]
[null,null,null,null,null,null,null,null,null,null,null,null,null,null,null,"",0,0,0,{"$f":"IF(F777=\"\",0,IF(isNccValid(F777),0,1))","v":0}]
[null,null,null,null,null,null,null,null,null,null,null,null,null,null,null,"",0,0,0,{"$f":"IF(F778=\"\",0,IF(isNccValid(F778),0,1))","v":0}]
[null,null,null,null,null,null,null,null,null,null,null,null,null,null,null,"",0,0,0,{"$f":"IF(F779=\"\",0,IF(isNccValid(F779),0,1))","v":0}]
[null,null,null,null,null,null,null,null,null,null,null,null,null,null,null,"",0,0,0,{"$f":"IF(F780=\"\",0,IF(isNccValid(F780),0,1))","v":0}]
[null,null,null,null,null,null,null,null,null,null,null,null,null,null,null,"",0,0,0,{"$f":"IF(F781=\"\",0,IF(isNccValid(F781),0,1))","v":0}]
[null,null,null,null,null,null,null,null,null,null,null,null,null,null,null,"",0,0,0,{"$f":"IF(F782=\"\",0,IF(isNccValid(F782),0,1))","v":0}]
[null,null,null,null,null,null,null,null,null,null,null,null,null,null,null,"",0,0,0,{"$f":"IF(F783=\"\",0,IF(isNccValid(F783),0,1))","v":0}]
[null,null,null,null,null,null,null,null,null,null,null,null,null,null,null,"",0,0,0,{"$f":"IF(F784=\"\",0,IF(isNccValid(F784),0,1))","v":0}]
[null,null,null,null,null,null,null,null,null,null,null,null,null,null,null,"",0,0,0,{"$f":"IF(F785=\"\",0,IF(isNccValid(F785),0,1))","v":0}]
[null,null,null,null,null,null,null,null,null,null,null,null,null,null,null,"",0,0,0,{"$f":"IF(F786=\"\",0,IF(isNccValid(F786),0,1))","v":0}]
[null,null,null,null,null,null,null,null,null,null,null,null,null,null,null,"",0,0,0,{"$f":"IF(F787=\"\",0,IF(isNccValid(F787),0,1))","v":0}]
[null,null,null,null,null,null,null,null,null,null,null,null,null,null,null,"",0,0,0,{"$f":"IF(F788=\"\",0,IF(isNccValid(F788),0,1))","v":0}]
[null,null,null,null,null,null,null,null,null,null,null,null,null,null,null,"",{"$f":"IF(AND(B789=\"\",R789=1),1,IF(AND(D789=\"\",R789=1),1,IF(AND(E789=\"\",R789=1),1,IF(AND(F789=\"\",R789=1),1,IF(AND(M789=\"\",R789=1),1,IF(AND(O789=\"\",R789=1),1,0))))))","v":0},{"$f":"IF(C789=\"\",0,IF(COUNTA(B789:O789)>0,1,0))","v":0},{"$f":"IFERROR(IF(LEN(F789)=8,0,IF(LEN(F789)=0,0,1)),1)","v":0},{"$f":"IF(F789=\"\",0,IF(isNccValid(F789),0,1))","v":0}]
[null,null,null,null,null,null,null,null,null,null,null,null,null,null,null,{"$f":"IF(B790=\"\",\"\",M790*O790)","v":""},0,0,0,{"$f":"IF(F790=\"\",0,IF(isNccValid(F790),0,1))","v":0}]
[null,null,null,null,null,null,null,null,null,null,null,null,null,null,null,"",0,0,0,{"$f":"IF(F791=\"\",0,IF(isNccValid(F791),0,1))","v":0}]
[null,null,null,null,null,null,null,null,null,null,null,null,null,null,null,"",0,0,0,{"$f":"IF(F792=\"\",0,IF(isNccValid(F792),0,1))","v":0}]
[null,null,null,null,null,null,null,null,null,null,null,null,null,null,null,"",0,0,0,{"$f":"IF(F793=\"\",0,IF(isNccValid(F793),0,1))","v":0}]
[null,null,null,null,null,null,null,null,null,null,null,null,null,null,null,"",0,0,0,{"$f":"IF(F794=\"\",0,IF(isNccValid(F794),0,1))","v":0}]
[null,null,null,null,null,null,null,null,null,null,null,null,null,null,null,"",0,0,0,{"$f":"IF(F795=\"\",0,IF(isNccValid(F795),0,1))","v":0}]
[null,null,null,null,null,null,null,null,null,null,null,null,null,null,null,"",0,0,0,{"$f":"IF(F796=\"\",0,IF(isNccValid(F796),0,1))","v":0}]
[null,null,null,null,null,null,null,null,null,null,null,null,null,null,null,"",0,0,0,{"$f":"IF(F797=\"\",0,IF(isNccValid(F797),0,1))","v":0}]
[null,null,null,null,null,null,null,null,null,null,null,null,null,null,null,"",0,0,0,{"$f":"IF(F798=\"\",0,IF(isNccValid(F798),0,1))","v":0}]
[null,null,null,null,null,null,null,null,null,null,null,null,null,null,null,"",0,0,0,{"$f":"IF(F799=\"\",0,IF(isNccValid(F799),0,1))","v":0}]
[null,null,null,null,null,null,null,null,null,null,null,null,null,null,null,"",{"$f":"IF(AND(B800=\"\",R800=1),1,IF(AND(D800=\"\",R800=1),1,IF(AND(E800=\"\",R800=1),1,IF(AND(F800=\"\",R800=1),1,IF(AND(M800=\"\",R800=1),1,IF(AND(O800=\"\",R800=1),1,0))))))","v":0},{"$f":"IF(C800=\"\",0,IF(COUNTA(B800:O800)>0,1,0))","v":0},{"$f":"IFERROR(IF(LEN(F800)=8,0,IF(LEN(F800)=0,0,1)),1)","v":0},{"$f":"IF(F800=\"\",0,IF(isNccValid(F800),0,1))","v":0}]
[null,null,null,null,null,null,null,null,null,null,null,null,null,null,null,"",0,0,0,{"$f":"IF(F801=\"\",0,IF(isNccValid(F801),0,1))","v":0}]
[null,null,null,null,null,null,null,null,null,null,null,null,null,null,null,"",0,0,0,{"$f":"IF(F802=\"\",0,IF(isNccValid(F802),0,1))","v":0}]
[null,null,null,null,null,null,null,null,null,null,null,null,null,null,null,"",0,0,0,{"$f":"IF(F803=\"\",0,IF(isNccValid(F803),0,1))","v":0}]
[null,null,null,null,null,null,null,null,null,null,null,null,null,null,null,"",0,0,0,{"$f":"IF(F804=\"\",0,IF(isNccValid(F804),0,1))","v":0}]
[null,null,null,null,null,null,null,null,null,null,null,null,null,null,null,"",0,0,0,{"$f":"IF(F805=\"\",0,IF(isNccValid(F805),0,1))","v":0}]
[null,null,null,null,null,null,null,null,null,null,null,null,null,null,null,"",0,0,0,{"$f":"IF(F806=\"\",0,IF(isNccValid(F806),0,1))","v":0}]
[null,null,null,null,null,null,null,null,null,null,null,null,null,null,null,"",0,0,0,{"$f":"IF(F807=\"\",0,IF(isNccValid(F807),0,1))","v":0}]
[null,null,null,null,null,null,null,null,null,null,null,null,null,null,null,"",0,0,0,{"$f":"IF(F808=\"\",0,IF(isNccValid(F808),0,1))","v":0}]
[null,null,null,null,null,null,null,null,null,null,null,null,null,null,null,"",0,0,0,{"$f":"IF(F809=\"\",0,IF(isNccValid(F809),0,1))","v":0}]
[null,null,null,null,null,null,null,null,null,null,null,null,null,null,null,"",0,0,0,{"$f":"IF(F810=\"\",0,IF(isNccValid(F810),0,1))","v":0}]
[null,null,null,null,null,null,null,null,null,null,null,null,null,null,null,"",0,0,0,{"$f":"IF(F811=\"\",0,IF(isNccValid(F811),0,1))","v":0}]
[null,null,null,null,null,null,null,null,null,null,null,null,null,null,null,"",0,0,0,{"$f":"IF(F812=\"\",0,IF(isNccValid(F812),0,1))","v":0}]
[null,null,null,null,null,null,null,null,null,null,null,null,null,null,null,"",0,0,0,{"$f":"IF(F813=\"\",0,IF(isNccValid(F813),0,1))","v":0}]
[null,null,null,null,null,null,null,null,null,null,null,null,null,null,null,"",0,0,0,{"$f":"IF(F814=\"\",0,IF(isNccValid(F814),0,1))","v":0}]
[null,null,null,null,null,null,null,null,null,null,null,null,null,null,null,"",0,0,0,{"$f":"IF(F815=\"\",0,IF(isNccValid(F815),0,1))","v":0}]
[null,null,null,null,null,null,null,null,null,null,null,null,null,null,null,"",0,0,0,{"$f":"IF(F816=\"\",0,IF(isNccValid(F816),0,1))","v":0}]
[null,null,null,null,null,null,null,null,null,null,null,null,null,null,null,"",0,0,0,{"$f":"IF(F817=\"\",0,IF(isNccValid(F817),0,1))","v":0}]
[null,null,null,null,null,null,null,null,null,null,null,null,null,null,null,"",0,0,0,{"$f":"IF(F818=\"\",0,IF(isNccValid(F818),0,1))","v":0}]
[null,null,null,null,null,null,null,null,null,null,null,null,null,null,null,"",0,0,0,{"$f":"IF(F819=\"\",0,IF(isNccValid(F819),0,1))","v":0}]
[null,null,null,null,null,null,null,null,null,null,null,null,null,null,null,"",0,0,0,{"$f":"IF(F820=\"\",0,IF(isNccValid(F820),0,1))","v":0}]
[null,null,null,null,null,null,null,null,null,null,null,null,null,null,null,"",0,0,0,{"$f":"IF(F821=\"\",0,IF(isNccValid(F821),0,1))","v":0}]
[null,null,null,null,null,null,null,null,null,null,null,null,null,null,null,"",0,0,0,{"$f":"IF(F822=\"\",0,IF(isNccValid(F822),0,1))","v":0}]
[null,null,null,null,null,null,null,null,null,null,null,null,null,null,null,"",0,0,0,{"$f":"IF(F823=\"\",0,IF(isNccValid(F823),0,1))","v":0}]
[null,null,null,null,null,null,null,null,null,null,null,null,null,null,null,"",0,0,0,{"$f":"IF(F824=\"\",0,IF(isNccValid(F824),0,1))","v":0}]
[null,null,null,null,null,null,null,null,null,null,null,null,null,null,null,"",0,0,0,{"$f":"IF(F825=\"\",0,IF(isNccValid(F825),0,1))","v":0}]
[null,null,null,null,null,null,null,null,null,null,null,null,null,null,null,"",0,0,0,{"$f":"IF(F826=\"\",0,IF(isNccValid(F826),0,1))","v":0}]
[null,null,null,null,null,null,null,null,null,null,null,null,null,null,null,"",0,0,0,{"$f":"IF(F827=\"\",0,IF(isNccValid(F827),0,1))","v":0}]
[null,null,null,null,null,null,null,null,null,null,null,null,null,null,null,"",0,0,0,{"$f":"IF(F828=\"\",0,IF(isNccValid(F828),0,1))","v":0}]
[null,null,null,null,null,null,null,null,null,null,null,null,null,null,null,"",0,0,0,{"$f":"IF(F829=\"\",0,IF(isNccValid(F829),0,1))","v":0}]
[null,null,null,null,null,null,null,null,null,null,null,null,null,null,null,"",0,0,0,{"$f":"IF(F830=\"\",0,IF(isNccValid(F830),0,1))","v":0}]
[null,null,null,null,null,null,null,null,null,null,null,null,null,null,null,"",0,0,0,{"$f":"IF(F831=\"\",0,IF(isNccValid(F831),0,1))","v":0}]
[null,null,null,null,null,null,null,null,null,null,null,null,null,null,null,"",0,0,0,{"$f":"IF(F832=\"\",0,IF(isNccValid(F832),0,1))","v":0}]
[null,null,null,null,null,null,null,null,null,null,null,null,null,null,null,"",0,0,0,{"$f":"IF(F833=\"\",0,IF(isNccValid(F833),0,1))","v":0}]
[null,null,null,null,null,null,null,null,null,null,null,null,null,null,null,"",0,0,0,{"$f":"IF(F834=\"\",0,IF(isNccValid(F834),0,1))","v":0}]
[null,null,null,null,null,null,null,null,null,null,null,null,null,null,null,"",0,0,0,{"$f":"IF(F835=\"\",0,IF(isNccValid(F835),0,1))","v":0}]
[null,null,null,null,null,null,null,null,null,null,null,null,null,null,null,"",0,0,0,{"$f":"IF(F836=\"\",0,IF(isNccValid(F836),0,1))","v":0}]
[null,null,null,null,null,null,null,null,null,null,null,null,null,null,null,"",0,0,0,{"$f":"IF(F837=\"\",0,IF(isNccValid(F837),0,1))","v":0}]
[null,null,null,null,null,null,null,null,null,null,null,null,null,null,null,"",0,0,0,{"$f":"IF(F838=\"\",0,IF(isNccValid(F838),0,1))","v":0}]
[null,null,null,null,null,null,null,null,null,null,null,null,null,null,null,"",0,0,0,{"$f":"IF(F839=\"\",0,IF(isNccValid(F839),0,1))","v":0}]
[null,null,null,null,null,null,null,null,null,null,null,null,null,null,null,"",0,0,0,{"$f":"IF(F840=\"\",0,IF(isNccValid(F840),0,1))","v":0}]
[null,null,null,null,null,null,null,null,null,null,null,null,null,null,null,"",0,0,0,{"$f":"IF(F841=\"\",0,IF(isNccValid(F841),0,1))","v":0}]
[null,null,null,null,null,null,null,null,null,null,null,null,null,null,null,"",0,0,0,{"$f":"IF(F842=\"\",0,IF(isNccValid(F842),0,1))","v":0}]
[null,null,null,null,null,null,null,null,null,null,null,null,null,null,null,"",0,0,0,{"$f":"IF(F843=\"\",0,IF(isNccValid(F843),0,1))","v":0}]
[null,null,null,null,null,null,null,null,null,null,null,null,null,null,null,"",0,0,0,{"$f":"IF(F844=\"\",0,IF(isNccValid(F844),0,1))","v":0}]
[null,null,null,null,null,null,null,null,null,null,null,null,null,null,null,"",0,0,0,{"$f":"IF(F845=\"\",0,IF(isNccValid(F845),0,1))","v":0}]
[null,null,null,null,null,null,null,null,null,null,null,null,null,null,null,"",0,0,0,{"$f":"IF(F846=\"\",0,IF(isNccValid(F846),0,1))","v":0}]
[null,null,null,null,null,null,null,null,null,null,null,null,null,null,null,"",0,0,0,{"$f":"IF(F847=\"\",0,IF(isNccValid(F847),0,1))","v":0}]
[null,null,null,null,null,null,null,null,null,null,null,null,null,null,null,"",0,0,0,{"$f":"IF(F848=\"\",0,IF(isNccValid(F848),0,1))","v":0}]
[null,null,null,null,null,null,null,null,null,null,null,null,null,null,null,"",0,0,0,{"$f":"IF(F849=\"\",0,IF(isNccValid(F849),0,1))","v":0}]
[null,null,null,null,null,null,null,null,null,null,null,null,null,null,null,"",0,0,0,{"$f":"IF(F850=\"\",0,IF(isNccValid(F850),0,1))","v":0}]
[null,null,null,null,null,null,null,null,null,null,null,null,null,null,null,"",0,0,0,{"$f":"IF(F851=\"\",0,IF(isNccValid(F851),0,1))","v":0}]
[null,null,null,null,null,null,null,null,null,null,null,null,null,null,null,"",0,0,0,{"$f":"IF(F852=\"\",0,IF(isNccValid(F852),0,1))","v":0}]
[null,null,null,null,null,null,null,null,null,null,null,null,null,null,null,"",0,0,0,{"$f":"IF(F853=\"\",0,IF(isNccValid(F853),0,1))","v":0}]
[null,null,null,null,null,null,null,null,null,null,null,null,null,null,null,{"$f":"IF(B854=\"\",\"\",M854*O854)","v":""},0,0,0,{"$f":"IF(F854=\"\",0,IF(isNccValid(F854),0,1))","v":0}]
[null,null,null,null,null,null,null,null,null,null,null,null,null,null,null,"",0,0,0,{"$f":"IF(F855=\"\",0,IF(isNccValid(F855),0,1))","v":0}]
[null,null,null,null,null,null,null,null,null,null,null,null,null,null,null,"",0,0,0,{"$f":"IF(F856=\"\",0,IF(isNccValid(F856),0,1))","v":0}]
[null,null,null,null,null,null,null,null,null,null,null,null,null,null,null,"",0,0,0,{"$f":"IF(F857=\"\",0,IF(isNccValid(F857),0,1))","v":0}]
[null,null,null,null,null,null,null,null,null,null,null,null,null,null,null,"",0,0,0,{"$f":"IF(F858=\"\",0,IF(isNccValid(F858),0,1))","v":0}]
[null,null,null,null,null,null,null,null,null,null,null,null,null,null,null,"",0,0,0,{"$f":"IF(F859=\"\",0,IF(isNccValid(F859),0,1))","v":0}]
[null,null,null,null,null,null,null,null,null,null,null,null,null,null,null,"",0,0,0,{"$f":"IF(F860=\"\",0,IF(isNccValid(F860),0,1))","v":0}]
[null,null,null,null,null,null,null,null,null,null,null,null,null,null,null,"",0,0,0,{"$f":"IF(F861=\"\",0,IF(isNccValid(F861),0,1))","v":0}]
[null,null,null,null,null,null,null,null,null,null,null,null,null,null,null,"",0,0,0,{"$f":"IF(F862=\"\",0,IF(isNccValid(F862),0,1))","v":0}]
[null,null,null,null,null,null,null,null,null,null,null,null,null,null,null,"",0,0,0,{"$f":"IF(F863=\"\",0,IF(isNccValid(F863),0,1))","v":0}]
[null,null,null,null,null,null,null,null,null,null,null,null,null,null,null,"",0,0,0,{"$f":"IF(F864=\"\",0,IF(isNccValid(F864),0,1))","v":0}]
[null,null,null,null,null,null,null,null,null,null,null,null,null,null,null,"",0,0,0,{"$f":"IF(F865=\"\",0,IF(isNccValid(F865),0,1))","v":0}]
[null,null,null,null,null,null,null,null,null,null,null,null,null,null,null,"",0,0,0,{"$f":"IF(F866=\"\",0,IF(isNccValid(F866),0,1))","v":0}]
[null,null,null,null,null,null,null,null,null,null,null,null,null,null,null,"",0,0,0,{"$f":"IF(F867=\"\",0,IF(isNccValid(F867),0,1))","v":0}]
[null,null,null,null,null,null,null,null,null,null,null,null,null,null,null,"",0,0,0,{"$f":"IF(F868=\"\",0,IF(isNccValid(F868),0,1))","v":0}]
[null,null,null,null,null,null,null,null,null,null,null,null,null,null,null,"",0,0,0,{"$f":"IF(F869=\"\",0,IF(isNccValid(F869),0,1))","v":0}]
[null,null,null,null,null,null,null,null,null,null,null,null,null,null,null,"",0,0,0,{"$f":"IF(F870=\"\",0,IF(isNccValid(F870),0,1))","v":0}]
[null,null,null,null,null,null,null,null,null,null,null,null,null,null,null,"",0,0,0,{"$f":"IF(F871=\"\",0,IF(isNccValid(F871),0,1))","v":0}]
[null,null,null,null,null,null,null,null,null,null,null,null,null,null,null,"",0,0,0,{"$f":"IF(F872=\"\",0,IF(isNccValid(F872),0,1))","v":0}]
[null,null,null,null,null,null,null,null,null,null,null,null,null,null,null,"",0,0,0,{"$f":"IF(F873=\"\",0,IF(isNccValid(F873),0,1))","v":0}]
[null,null,null,null,null,null,null,null,null,null,null,null,null,null,null,"",0,0,0,{"$f":"IF(F874=\"\",0,IF(isNccValid(F874),0,1))","v":0}]
[null,null,null,null,null,null,null,null,null,null,null,null,null,null,null,"",0,0,0,{"$f":"IF(F875=\"\",0,IF(isNccValid(F875),0,1))","v":0}]
[null,null,null,null,null,null,null,null,null,null,null,null,null,null,null,"",0,0,0,{"$f":"IF(F876=\"\",0,IF(isNccValid(F876),0,1))","v":0}]
[null,null,null,null,null,null,null,null,null,null,null,null,null,null,null,"",0,0,0,{"$f":"IF(F877=\"\",0,IF(isNccValid(F877),0,1))","v":0}]
[null,null,null,null,null,null,null,null,null,null,null,null,null,null,null,"",0,0,0,{"$f":"IF(F878=\"\",0,IF(isNccValid(F878),0,1))","v":0}]
[null,null,null,null,null,null,null,null,null,null,null,null,null,null,null,"",0,0,0,{"$f":"IF(F879=\"\",0,IF(isNccValid(F879),0,1))","v":0}]
[null,null,null,null,null,null,null,null,null,null,null,null,null,null,null,"",0,0,0,{"$f":"IF(F880=\"\",0,IF(isNccValid(F880),0,1))","v":0}]
[null,null,null,null,null,null,null,null,null,null,null,null,null,null,null,"",0,0,0,{"$f":"IF(F881=\"\",0,IF(isNccValid(F881),0,1))","v":0}]
[null,null,null,null,null,null,null,null,null,null,null,null,null,null,null,"",0,0,0,{"$f":"IF(F882=\"\",0,IF(isNccValid(F882),0,1))","v":0}]
[null,null,null,null,null,null,null,null,null,null,null,null,null,null,null,"",0,0,0,{"$f":"IF(F883=\"\",0,IF(isNccValid(F883),0,1))","v":0}]
[null,null,null,null,null,null,null,null,null,null,null,null,null,null,null,"",0,0,0,{"$f":"IF(F884=\"\",0,IF(isNccValid(F884),0,1))","v":0}]
[null,null,null,null,null,null,null,null,null,null,null,null,null,null,null,"",0,0,0,{"$f":"IF(F885=\"\",0,IF(isNccValid(F885),0,1))","v":0}]
[null,null,null,null,null,null,null,null,null,null,null,null,null,null,null,"",0,0,0,{"$f":"IF(F886=\"\",0,IF(isNccValid(F886),0,1))","v":0}]
[null,null,null,null,null,null,null,null,null,null,null,null,null,null,null,"",0,0,0,{"$f":"IF(F887=\"\",0,IF(isNccValid(F887),0,1))","v":0}]
[null,null,null,null,null,null,null,null,null,null,null,null,null,null,null,"",0,0,0,{"$f":"IF(F888=\"\",0,IF(isNccValid(F888),0,1))","v":0}]
[null,null,null,null,null,null,null,null,null,null,null,null,null,null,null,"",0,0,0,{"$f":"IF(F889=\"\",0,IF(isNccValid(F889),0,1))","v":0}]
[null,null,null,null,null,null,null,null,null,null,null,null,null,null,null,"",0,0,0,{"$f":"IF(F890=\"\",0,IF(isNccValid(F890),0,1))","v":0}]
[null,null,null,null,null,null,null,null,null,null,null,null,null,null,null,"",0,0,0,{"$f":"IF(F891=\"\",0,IF(isNccValid(F891),0,1))","v":0}]
[null,null,null,null,null,null,null,null,null,null,null,null,null,null,null,"",0,0,0,{"$f":"IF(F892=\"\",0,IF(isNccValid(F892),0,1))","v":0}]
[null,null,null,null,null,null,null,null,null,null,null,null,null,null,null,"",0,0,0,{"$f":"IF(F893=\"\",0,IF(isNccValid(F893),0,1))","v":0}]
[null,null,null,null,null,null,null,null,null,null,null,null,null,null,null,"",0,0,0,{"$f":"IF(F894=\"\",0,IF(isNccValid(F894),0,1))","v":0}]
[null,null,null,null,null,null,null,null,null,null,null,null,null,null,null,"",0,0,0,{"$f":"IF(F895=\"\",0,IF(isNccValid(F895),0,1))","v":0}]
[null,null,null,null,null,null,null,null,null,null,null,null,null,null,null,"",0,0,0,{"$f":"IF(F896=\"\",0,IF(isNccValid(F896),0,1))","v":0}]
[null,null,null,null,null,null,null,null,null,null,null,null,null,null,null,"",0,0,0,{"$f":"IF(F897=\"\",0,IF(isNccValid(F897),0,1))","v":0}]
[null,null,null,null,null,null,null,null,null,null,null,null,null,null,null,"",0,0,0,{"$f":"IF(F898=\"\",0,IF(isNccValid(F898),0,1))","v":0}]
[null,null,null,null,null,null,null,null,null,null,null,null,null,null,null,"",0,0,0,{"$f":"IF(F899=\"\",0,IF(isNccValid(F899),0,1))","v":0}]
[null,null,null,null,null,null,null,null,null,null,null,null,null,null,null,"",0,0,0,{"$f":"IF(F900=\"\",0,IF(isNccValid(F900),0,1))","v":0}]
[null,null,null,null,null,null,null,null,null,null,null,null,null,null,null,"",0,0,0,{"$f":"IF(F901=\"\",0,IF(isNccValid(F901),0,1))","v":0}]
[null,null,null,null,null,null,null,null,null,null,null,null,null,null,null,"",0,0,0,{"$f":"IF(F902=\"\",0,IF(isNccValid(F902),0,1))","v":0}]
[null,null,null,null,null,null,null,null,null,null,null,null,null,null,null,"",0,0,0,{"$f":"IF(F903=\"\",0,IF(isNccValid(F903),0,1))","v":0}]
[null,null,null,null,null,null,null,null,null,null,null,null,null,null,null,"",0,0,0,{"$f":"IF(F904=\"\",0,IF(isNccValid(F904),0,1))","v":0}]
[null,null,null,null,null,null,null,null,null,null,null,null,null,null,null,"",0,0,0,{"$f":"IF(F905=\"\",0,IF(isNccValid(F905),0,1))","v":0}]
[null,null,null,null,null,null,null,null,null,null,null,null,null,null,null,"",0,0,0,{"$f":"IF(F906=\"\",0,IF(isNccValid(F906),0,1))","v":0}]
[null,null,null,null,null,null,null,null,null,null,null,null,null,null,null,"",0,0,0,{"$f":"IF(F907=\"\",0,IF(isNccValid(F907),0,1))","v":0}]
[null,null,null,null,null,null,null,null,null,null,null,null,null,null,null,"",0,0,0,{"$f":"IF(F908=\"\",0,IF(isNccValid(F908),0,1))","v":0}]
[null,null,null,null,null,null,null,null,null,null,null,null,null,null,null,"",0,0,0,{"$f":"IF(F909=\"\",0,IF(isNccValid(F909),0,1))","v":0}]
[null,null,null,null,null,null,null,null,null,null,null,null,null,null,null,"",0,0,0,{"$f":"IF(F910=\"\",0,IF(isNccValid(F910),0,1))","v":0}]
[null,null,null,null,null,null,null,null,null,null,null,null,null,null,null,"",0,0,0,{"$f":"IF(F911=\"\",0,IF(isNccValid(F911),0,1))","v":0}]
[null,null,null,null,null,null,null,null,null,null,null,null,null,null,null,"",0,0,0,{"$f":"IF(F912=\"\",0,IF(isNccValid(F912),0,1))","v":0}]
[null,null,null,null,null,null,null,null,null,null,null,null,null,null,null,"",0,0,0,{"$f":"IF(F913=\"\",0,IF(isNccValid(F913),0,1))","v":0}]
[null,null,null,null,null,null,null,null,null,null,null,null,null,null,null,"",0,0,0,{"$f":"IF(F914=\"\",0,IF(isNccValid(F914),0,1))","v":0}]
[null,null,null,null,null,null,null,null,null,null,null,null,null,null,null,"",0,0,0,{"$f":"IF(F915=\"\",0,IF(isNccValid(F915),0,1))","v":0}]
[null,null,null,null,null,null,null,null,null,null,null,null,null,null,null,"",0,0,0,{"$f":"IF(F916=\"\",0,IF(isNccValid(F916),0,1))","v":0}]
[null,null,null,null,null,null,null,null,null,null,null,null,null,null,null,"",0,0,0,{"$f":"IF(F917=\"\",0,IF(isNccValid(F917),0,1))","v":0}]
[null,null,null,null,null,null,null,null,null,null,null,null,null,null,null,{"$f":"IF(B918=\"\",\"\",M918*O918)","v":""},0,0,0,{"$f":"IF(F918=\"\",0,IF(isNccValid(F918),0,1))","v":0}]
[null,null,null,null,null,null,null,null,null,null,null,null,null,null,null,"",0,0,0,{"$f":"IF(F919=\"\",0,IF(isNccValid(F919),0,1))","v":0}]
[null,null,null,null,null,null,null,null,null,null,null,null,null,null,null,"",0,0,0,{"$f":"IF(F920=\"\",0,IF(isNccValid(F920),0,1))","v":0}]
[null,null,null,null,null,null,null,null,null,null,null,null,null,null,null,"",0,0,0,{"$f":"IF(F921=\"\",0,IF(isNccValid(F921),0,1))","v":0}]
[null,null,null,null,null,null,null,null,null,null,null,null,null,null,null,"",0,0,0,{"$f":"IF(F922=\"\",0,IF(isNccValid(F922),0,1))","v":0}]
[null,null,null,null,null,null,null,null,null,null,null,null,null,null,null,"",0,0,0,{"$f":"IF(F923=\"\",0,IF(isNccValid(F923),0,1))","v":0}]
[null,null,null,null,null,null,null,null,null,null,null,null,null,null,null,"",0,0,0,{"$f":"IF(F924=\"\",0,IF(isNccValid(F924),0,1))","v":0}]
[null,null,null,null,null,null,null,null,null,null,null,null,null,null,null,"",0,0,0,{"$f":"IF(F925=\"\",0,IF(isNccValid(F925),0,1))","v":0}]
[null,null,null,null,null,null,null,null,null,null,null,null,null,null,null,"",0,0,0,{"$f":"IF(F926=\"\",0,IF(isNccValid(F926),0,1))","v":0}]
[null,null,null,null,null,null,null,null,null,null,null,null,null,null,null,"",0,0,0,{"$f":"IF(F927=\"\",0,IF(isNccValid(F927),0,1))","v":0}]
[null,null,null,null,null,null,null,null,null,null,null,null,null,null,null,"",0,0,0,{"$f":"IF(F928=\"\",0,IF(isNccValid(F928),0,1))","v":0}]
[null,null,null,null,null,null,null,null,null,null,null,null,null,null,null,"",0,0,0,{"$f":"IF(F929=\"\",0,IF(isNccValid(F929),0,1))","v":0}]
[null,null,null,null,null,null,null,null,null,null,null,null,null,null,null,"",0,0,0,{"$f":"IF(F930=\"\",0,IF(isNccValid(F930),0,1))","v":0}]
[null,null,null,null,null,null,null,null,null,null,null,null,null,null,null,"",0,0,0,{"$f":"IF(F931=\"\",0,IF(isNccValid(F931),0,1))","v":0}]
[null,null,null,null,null,null,null,null,null,null,null,null,null,null,null,"",0,0,0,{"$f":"IF(F932=\"\",0,IF(isNccValid(F932),0,1))","v":0}]
[null,null,null,null,null,null,null,null,null,null,null,null,null,null,null,"",0,0,0,{"$f":"IF(F933=\"\",0,IF(isNccValid(F933),0,1))","v":0}]
[null,null,null,null,null,null,null,null,null,null,null,null,null,null,null,"",0,0,0,{"$f":"IF(F934=\"\",0,IF(isNccValid(F934),0,1))","v":0}]
[null,null,null,null,null,null,null,null,null,null,null,null,null,null,null,"",0,0,0,{"$f":"IF(F935=\"\",0,IF(isNccValid(F935),0,1))","v":0}]
[null,null,null,null,null,null,null,null,null,null,null,null,null,null,null,"",0,0,0,{"$f":"IF(F936=\"\",0,IF(isNccValid(F936),0,1))","v":0}]
[null,null,null,null,null,null,null,null,null,null,null,null,null,null,null,"",0,0,0,{"$f":"IF(F937=\"\",0,IF(isNccValid(F937),0,1))","v":0}]
[null,null,null,null,null,null,null,null,null,null,null,null,null,null,null,"",0,0,0,{"$f":"IF(F938=\"\",0,IF(isNccValid(F938),0,1))","v":0}]
[null,null,null,null,null,null,null,null,null,null,null,null,null,null,null,"",0,0,0,{"$f":"IF(F939=\"\",0,IF(isNccValid(F939),0,1))","v":0}]
[null,null,null,null,null,null,null,null,null,null,null,null,null,null,null,"",0,0,0,{"$f":"IF(F940=\"\",0,IF(isNccValid(F940),0,1))","v":0}]
[null,null,null,null,null,null,null,null,null,null,null,null,null,null,null,"",0,0,0,{"$f":"IF(F941=\"\",0,IF(isNccValid(F941),0,1))","v":0}]
[null,null,null,null,null,null,null,null,null,null,null,null,null,null,null,"",0,0,0,{"$f":"IF(F942=\"\",0,IF(isNccValid(F942),0,1))","v":0}]
[null,null,null,null,null,null,null,null,null,null,null,null,null,null,null,"",0,0,0,{"$f":"IF(F943=\"\",0,IF(isNccValid(F943),0,1))","v":0}]
[null,null,null,null,null,null,null,null,null,null,null,null,null,null,null,"",0,0,0,{"$f":"IF(F944=\"\",0,IF(isNccValid(F944),0,1))","v":0}]
[null,null,null,null,null,null,null,null,null,null,null,null,null,null,null,"",0,0,0,{"$f":"IF(F945=\"\",0,IF(isNccValid(F945),0,1))","v":0}]
[null,null,null,null,null,null,null,null,null,null,null,null,null,null,null,"",0,0,0,{"$f":"IF(F946=\"\",0,IF(isNccValid(F946),0,1))","v":0}]
[null,null,null,null,null,null,null,null,null,null,null,null,null,null,null,"",0,0,0,{"$f":"IF(F947=\"\",0,IF(isNccValid(F947),0,1))","v":0}]
[null,null,null,null,null,null,null,null,null,null,null,null,null,null,null,"",0,0,0,{"$f":"IF(F948=\"\",0,IF(isNccValid(F948),0,1))","v":0}]
[null,null,null,null,null,null,null,null,null,null,null,null,null,null,null,"",0,0,0,{"$f":"IF(F949=\"\",0,IF(isNccValid(F949),0,1))","v":0}]
[null,null,null,null,null,null,null,null,null,null,null,null,null,null,null,"",0,0,0,{"$f":"IF(F950=\"\",0,IF(isNccValid(F950),0,1))","v":0}]
[null,null,null,null,null,null,null,null,null,null,null,null,null,null,null,"",0,0,0,{"$f":"IF(F951=\"\",0,IF(isNccValid(F951),0,1))","v":0}]
[null,null,null,null,null,null,null,null,null,null,null,null,null,null,null,"",0,0,0,{"$f":"IF(F952=\"\",0,IF(isNccValid(F952),0,1))","v":0}]
[null,null,null,null,null,null,null,null,null,null,null,null,null,null,null,"",0,0,0,{"$f":"IF(F953=\"\",0,IF(isNccValid(F953),0,1))","v":0}]
[null,null,null,null,null,null,null,null,null,null,null,null,null,null,null,"",0,0,0,{"$f":"IF(F954=\"\",0,IF(isNccValid(F954),0,1))","v":0}]
[null,null,null,null,null,null,null,null,null,null,null,null,null,null,null,"",0,0,0,{"$f":"IF(F955=\"\",0,IF(isNccValid(F955),0,1))","v":0}]
[null,null,null,null,null,null,null,null,null,null,null,null,null,null,null,"",0,0,0,{"$f":"IF(F956=\"\",0,IF(isNccValid(F956),0,1))","v":0}]
[null,null,null,null,null,null,null,null,null,null,null,null,null,null,null,"",0,0,0,{"$f":"IF(F957=\"\",0,IF(isNccValid(F957),0,1))","v":0}]
[null,null,null,null,null,null,null,null,null,null,null,null,null,null,null,"",0,0,0,{"$f":"IF(F958=\"\",0,IF(isNccValid(F958),0,1))","v":0}]
[null,null,null,null,null,null,null,null,null,null,null,null,null,null,null,"",0,0,0,{"$f":"IF(F959=\"\",0,IF(isNccValid(F959),0,1))","v":0}]
[null,null,null,null,null,null,null,null,null,null,null,null,null,null,null,"",0,0,0,{"$f":"IF(F960=\"\",0,IF(isNccValid(F960),0,1))","v":0}]
[null,null,null,null,null,null,null,null,null,null,null,null,null,null,null,"",0,0,0,{"$f":"IF(F961=\"\",0,IF(isNccValid(F961),0,1))","v":0}]
[null,null,null,null,null,null,null,null,null,null,null,null,null,null,null,"",0,0,0,{"$f":"IF(F962=\"\",0,IF(isNccValid(F962),0,1))","v":0}]
[null,null,null,null,null,null,null,null,null,null,null,null,null,null,null,"",0,0,0,{"$f":"IF(F963=\"\",0,IF(isNccValid(F963),0,1))","v":0}]
[null,null,null,null,null,null,null,null,null,null,null,null,null,null,null,"",0,0,0,{"$f":"IF(F964=\"\",0,IF(isNccValid(F964),0,1))","v":0}]
[null,null,null,null,null,null,null,null,null,null,null,null,null,null,null,"",0,0,0,{"$f":"IF(F965=\"\",0,IF(isNccValid(F965),0,1))","v":0}]
[null,null,null,null,null,null,null,null,null,null,null,null,null,null,null,"",0,0,0,{"$f":"IF(F966=\"\",0,IF(isNccValid(F966),0,1))","v":0}]
[null,null,null,null,null,null,null,null,null,null,null,null,null,null,null,"",0,0,0,{"$f":"IF(F967=\"\",0,IF(isNccValid(F967),0,1))","v":0}]
[null,null,null,null,null,null,null,null,null,null,null,null,null,null,null,"",0,0,0,{"$f":"IF(F968=\"\",0,IF(isNccValid(F968),0,1))","v":0}]
[null,null,null,null,null,null,null,null,null,null,null,null,null,null,null,"",0,0,0,{"$f":"IF(F969=\"\",0,IF(isNccValid(F969),0,1))","v":0}]
[null,null,null,null,null,null,null,null,null,null,null,null,null,null,null,"",0,0,0,{"$f":"IF(F970=\"\",0,IF(isNccValid(F970),0,1))","v":0}]
[null,null,null,null,null,null,null,null,null,null,null,null,null,null,null,"",0,0,0,{"$f":"IF(F971=\"\",0,IF(isNccValid(F971),0,1))","v":0}]
[null,null,null,null,null,null,null,null,null,null,null,null,null,null,null,"",0,0,0,{"$f":"IF(F972=\"\",0,IF(isNccValid(F972),0,1))","v":0}]
[null,null,null,null,null,null,null,null,null,null,null,null,null,null,null,"",0,0,0,{"$f":"IF(F973=\"\",0,IF(isNccValid(F973),0,1))","v":0}]
[null,null,null,null,null,null,null,null,null,null,null,null,null,null,null,"",0,0,0,{"$f":"IF(F974=\"\",0,IF(isNccValid(F974),0,1))","v":0}]
[null,null,null,null,null,null,null,null,null,null,null,null,null,null,null,"",0,0,0,{"$f":"IF(F975=\"\",0,IF(isNccValid(F975),0,1))","v":0}]
[null,null,null,null,null,null,null,null,null,null,null,null,null,null,null,"",0,0,0,{"$f":"IF(F976=\"\",0,IF(isNccValid(F976),0,1))","v":0}]
[null,null,null,null,null,null,null,null,null,null,null,null,null,null,null,"",0,0,0,{"$f":"IF(F977=\"\",0,IF(isNccValid(F977),0,1))","v":0}]
[null,null,null,null,null,null,null,null,null,null,null,null,null,null,null,"",0,0,0,{"$f":"IF(F978=\"\",0,IF(isNccValid(F978),0,1))","v":0}]
[null,null,null,null,null,null,null,null,null,null,null,null,null,null,null,"",0,0,0,{"$f":"IF(F979=\"\",0,IF(isNccValid(F979),0,1))","v":0}]
[null,null,null,null,null,null,null,null,null,null,null,null,null,null,null,"",0,0,0,{"$f":"IF(F980=\"\",0,IF(isNccValid(F980),0,1))","v":0}]
[null,null,null,null,null,null,null,null,null,null,null,null,null,null,null,"",0,0,0,{"$f":"IF(F981=\"\",0,IF(isNccValid(F981),0,1))","v":0}]
[null,null,null,null,null,null,null,null,null,null,null,null,null,null,null,{"$f":"IF(B982=\"\",\"\",M982*O982)","v":""},0,0,0,{"$f":"IF(F982=\"\",0,IF(isNccValid(F982),0,1))","v":0}]
[null,null,null,null,null,null,null,null,null,null,null,null,null,null,null,"",0,0,0,{"$f":"IF(F983=\"\",0,IF(isNccValid(F983),0,1))","v":0}]
[null,null,null,null,null,null,null,null,null,null,null,null,null,null,null,"",0,0,0,{"$f":"IF(F984=\"\",0,IF(isNccValid(F984),0,1))","v":0}]
[null,null,null,null,null,null,null,null,null,null,null,null,null,null,null,"",0,0,0,{"$f":"IF(F985=\"\",0,IF(isNccValid(F985),0,1))","v":0}]
[null,null,null,null,null,null,null,null,null,null,null,null,null,null,null,"",0,0,0,{"$f":"IF(F986=\"\",0,IF(isNccValid(F986),0,1))","v":0}]
[null,null,null,null,null,null,null,null,null,null,null,null,null,null,null,"",0,0,0,{"$f":"IF(F987=\"\",0,IF(isNccValid(F987),0,1))","v":0}]
[null,null,null,null,null,null,null,null,null,null,null,null,null,null,null,"",0,0,0,{"$f":"IF(F988=\"\",0,IF(isNccValid(F988),0,1))","v":0}]
[null,null,null,null,null,null,null,null,null,null,null,null,null,null,null,"",0,0,0,{"$f":"IF(F989=\"\",0,IF(isNccValid(F989),0,1))","v":0}]
[null,null,null,null,null,null,null,null,null,null,null,null,null,null,null,"",0,0,0,{"$f":"IF(F990=\"\",0,IF(isNccValid(F990),0,1))","v":0}]
[null,null,null,null,null,null,null,null,null,null,null,null,null,null,null,"",0,0,0,{"$f":"IF(F991=\"\",0,IF(isNccValid(F991),0,1))","v":0}]
[null,null,null,null,null,null,null,null,null,null,null,null,null,null,null,"",0,0,0,{"$f":"IF(F992=\"\",0,IF(isNccValid(F992),0,1))","v":0}]
[null,null,null,null,null,null,null,null,null,null,null,null,null,null,null,"",0,0,0,{"$f":"IF(F993=\"\",0,IF(isNccValid(F993),0,1))","v":0}]
[null,null,null,null,null,null,null,null,null,null,null,null,null,null,null,"",0,0,0,{"$f":"IF(F994=\"\",0,IF(isNccValid(F994),0,1))","v":0}]
[null,null,null,null,null,null,null,null,null,null,null,null,null,null,null,"",0,0,0,{"$f":"IF(F995=\"\",0,IF(isNccValid(F995),0,1))","v":0}]
[null,null,null,null,null,null,null,null,null,null,null,null,null,null,null,"",0,0,0,{"$f":"IF(F996=\"\",0,IF(isNccValid(F996),0,1))","v":0}]
[null,null,null,null,null,null,null,null,null,null,null,null,null,null,null,"",0,0,0,{"$f":"IF(F997=\"\",0,IF(isNccValid(F997),0,1))","v":0}]
[null,null,null,null,null,null,null,null,null,null,null,null,null,null,null,"",0,0,0,{"$f":"IF(F998=\"\",0,IF(isNccValid(F998),0,1))","v":0}]
[null,null,null,null,null,null,null,null,null,null,null,null,null,null,null,"",0,0,0,{"$f":"IF(F999=\"\",0,IF(isNccValid(F999),0,1))","v":0}]
[null,null,null,null,null,null,null,null,null,null,null,null,null,null,null,"",0,0,0,{"$f":"IF(F1000=\"\",0,IF(isNccValid(F1000),0,1))","v":0}]
[null,null,null,null,null,null,null,null,null,null,null,null,null,null,null,"",0,0,0,{"$f":"IF(F1001=\"\",0,IF(isNccValid(F1001),0,1))","v":0}]
[null,null,null,null,null,null,null,null,null,null,null,null,null,null,null,"",0,0,0,{"$f":"IF(F1002=\"\",0,IF(isNccValid(F1002),0,1))","v":0}]
[null,null,null,null,null,null,null,null,null,null,null,null,null,null,null,"",0,0,0,{"$f":"IF(F1003=\"\",0,IF(isNccValid(F1003),0,1))","v":0}]
[null,null,null,null,null,null,null,null,null,null,null,null,null,null,null,"",0,0,0,{"$f":"IF(F1004=\"\",0,IF(isNccValid(F1004),0,1))","v":0}]
[null,null,null,null,null,null,null,null,null,null,null,null,null,null,null,"",0,0,0,{"$f":"IF(F1005=\"\",0,IF(isNccValid(F1005),0,1))","v":0}]
[null,null,null,null,null,null,null,null,null,null,null,null,null,null,null,"",0,0,0,{"$f":"IF(F1006=\"\",0,IF(isNccValid(F1006),0,1))","v":0}]
[null,null,null,null,null,null,null,null,null,null,null,null,null,null,null,"",0,0,0,{"$f":"IF(F1007=\"\",0,IF(isNccValid(F1007),0,1))","v":0}]
[null,null,null,null,null,null,null,null,null,null,null,null,null,null,null,"",0,0,0,{"$f":"IF(F1008=\"\",0,IF(isNccValid(F1008),0,1))","v":0}]
[null,null,null,null,null,null,null,null,null,null,null,null,null,null,null,"",0,0,0,{"$f":"IF(F1009=\"\",0,IF(isNccValid(F1009),0,1))","v":0}]
[null,null,null,null,null,null,null,null,null,null,null,null,null,null,null,"",0,0,0,{"$f":"IF(F1010=\"\",0,IF(isNccValid(F1010),0,1))","v":0}]
[null,null,null,null,null,null,null,null,null,null,null,null,null,null,null,"",0,0,0,{"$f":"IF(F1011=\"\",0,IF(isNccValid(F1011),0,1))","v":0}]
[null,null,null,null,null,null,null,null,null,null,null,null,null,null,null,"",0,0,0,{"$f":"IF(F1012=\"\",0,IF(isNccValid(F1012),0,1))","v":0}]
[null,null,null,null,null,null,null,null,null,null,null,null,null,null,null,"",0,0,0,{"$f":"IF(F1013=\"\",0,IF(isNccValid(F1013),0,1))","v":0}]
[null,null,null,null,null,null,null,null,null,null,null,null,null,null,null,"",0,0,0,{"$f":"IF(F1014=\"\",0,IF(isNccValid(F1014),0,1))","v":0}]
[null,null,null,null,null,null,null,null,null,null,null,null,null,null,null,"",0,0,0,{"$f":"IF(F1015=\"\",0,IF(isNccValid(F1015),0,1))","v":0}]
[null,null,null,null,null,null,null,null,null,null,null,null,null,null,null,"",0,0,0,{"$f":"IF(F1016=\"\",0,IF(isNccValid(F1016),0,1))","v":0}]
[null,null,null,null,null,null,null,null,null,null,null,null,null,null,null,"",0,0,0,{"$f":"IF(F1017=\"\",0,IF(isNccValid(F1017),0,1))","v":0}]
[null,null,null,null,null,null,null,null,null,null,null,null,null,null,null,"",0,0,0,{"$f":"IF(F1018=\"\",0,IF(isNccValid(F1018),0,1))","v":0}]
[null,null,null,null,null,null,null,null,null,null,null,null,null,null,null,"",0,0,0,{"$f":"IF(F1019=\"\",0,IF(isNccValid(F1019),0,1))","v":0}]
[null,null,null,null,null,null,null,null,null,null,null,null,null,null,null,"",0,0,0,{"$f":"IF(F1020=\"\",0,IF(isNccValid(F1020),0,1))","v":0}]
[null,null,null,null,null,null,null,null,null,null,null,null,null,null,null,"",0,0,0,{"$f":"IF(F1021=\"\",0,IF(isNccValid(F1021),0,1))","v":0}]
[null,null,null,null,null,null,null,null,null,null,null,null,null,null,null,"",0,0,0,{"$f":"IF(F1022=\"\",0,IF(isNccValid(F1022),0,1))","v":0}]
[null,null,null,null,null,null,null,null,null,null,null,null,null,null,null,"",0,0,0,{"$f":"IF(F1023=\"\",0,IF(isNccValid(F1023),0,1))","v":0}]
[null,null,null,null,null,null,null,null,null,null,null,null,null,null,null,"",0,0,0,{"$f":"IF(F1024=\"\",0,IF(isNccValid(F1024),0,1))","v":0}]
[null,null,null,null,null,null,null,null,null,null,null,null,null,null,null,"",0,0,0,{"$f":"IF(F1025=\"\",0,IF(isNccValid(F1025),0,1))","v":0}]
[null,null,null,null,null,null,null,null,null,null,null,null,null,null,null,"",0,0,0,{"$f":"IF(F1026=\"\",0,IF(isNccValid(F1026),0,1))","v":0}]
[null,null,null,null,null,null,null,null,null,null,null,null,null,null,null,"",0,0,0,{"$f":"IF(F1027=\"\",0,IF(isNccValid(F1027),0,1))","v":0}]
[null,null,null,null,null,null,null,null,null,null,null,null,null,null,null,"",0,0,0,{"$f":"IF(F1028=\"\",0,IF(isNccValid(F1028),0,1))","v":0}]
[null,null,null,null,null,null,null,null,null,null,null,null,null,null,null,"",0,0,0,{"$f":"IF(F1029=\"\",0,IF(isNccValid(F1029),0,1))","v":0}]
[null,null,null,null,null,null,null,null,null,null,null,null,null,null,null,"",0,0,0,{"$f":"IF(F1030=\"\",0,IF(isNccValid(F1030),0,1))","v":0}]
[null,null,null,null,null,null,null,null,null,null,null,null,null,null,null,"",0,0,0,{"$f":"IF(F1031=\"\",0,IF(isNccValid(F1031),0,1))","v":0}]
[null,null,null,null,null,null,null,null,null,null,null,null,null,null,null,"",0,0,0,{"$f":"IF(F1032=\"\",0,IF(isNccValid(F1032),0,1))","v":0}]
[null,null,null,null,null,null,null,null,null,null,null,null,null,null,null,"",0,0,0,{"$f":"IF(F1033=\"\",0,IF(isNccValid(F1033),0,1))","v":0}]
[null,null,null,null,null,null,null,null,null,null,null,null,null,null,null,"",0,0,0,{"$f":"IF(F1034=\"\",0,IF(isNccValid(F1034),0,1))","v":0}]
[null,null,null,null,null,null,null,null,null,null,null,null,null,null,null,"",0,0,0,{"$f":"IF(F1035=\"\",0,IF(isNccValid(F1035),0,1))","v":0}]
[null,null,null,null,null,null,null,null,null,null,null,null,null,null,null,"",0,0,0,{"$f":"IF(F1036=\"\",0,IF(isNccValid(F1036),0,1))","v":0}]
[null,null,null,null,null,null,null,null,null,null,null,null,null,null,null,"",0,0,0,{"$f":"IF(F1037=\"\",0,IF(isNccValid(F1037),0,1))","v":0}]
[null,null,null,null,null,null,null,null,null,null,null,null,null,null,null,"",0,0,0,{"$f":"IF(F1038=\"\",0,IF(isNccValid(F1038),0,1))","v":0}]
[null,null,null,null,null,null,null,null,null,null,null,null,null,null,null,"",0,0,0,{"$f":"IF(F1039=\"\",0,IF(isNccValid(F1039),0,1))","v":0}]
[null,null,null,null,null,null,null,null,null,null,null,null,null,null,null,"",0,0,0,{"$f":"IF(F1040=\"\",0,IF(isNccValid(F1040),0,1))","v":0}]
[null,null,null,null,null,null,null,null,null,null,null,null,null,null,null,"",0,0,0,{"$f":"IF(F1041=\"\",0,IF(isNccValid(F1041),0,1))","v":0}]
[null,null,null,null,null,null,null,null,null,null,null,null,null,null,null,"",0,0,0,{"$f":"IF(F1042=\"\",0,IF(isNccValid(F1042),0,1))","v":0}]
[null,null,null,null,null,null,null,null,null,null,null,null,null,null,null,"",0,0,0,{"$f":"IF(F1043=\"\",0,IF(isNccValid(F1043),0,1))","v":0}]
[null,null,null,null,null,null,null,null,null,null,null,null,null,null,null,"",0,0,0,{"$f":"IF(F1044=\"\",0,IF(isNccValid(F1044),0,1))","v":0}]
[null,null,null,null,null,null,null,null,null,null,null,null,null,null,null,"",0,0,0,{"$f":"IF(F1045=\"\",0,IF(isNccValid(F1045),0,1))","v":0}]
[null,null,null,null,null,null,null,null,null,null,null,null,null,null,null,{"$f":"IF(B1046=\"\",\"\",M1046*O1046)","v":""},0,0,0,{"$f":"IF(F1046=\"\",0,IF(isNccValid(F1046),0,1))","v":0}]
[null,null,null,null,null,null,null,null,null,null,null,null,null,null,null,"",0,0,0,{"$f":"IF(F1047=\"\",0,IF(isNccValid(F1047),0,1))","v":0}]
[null,null,null,null,null,null,null,null,null,null,null,null,null,null,null,"",0,0,0,{"$f":"IF(F1048=\"\",0,IF(isNccValid(F1048),0,1))","v":0}]
[null,null,null,null,null,null,null,null,null,null,null,null,null,null,null,"",0,0,0,{"$f":"IF(F1049=\"\",0,IF(isNccValid(F1049),0,1))","v":0}]
[null,null,null,null,null,null,null,null,null,null,null,null,null,null,null,"",0,0,0,{"$f":"IF(F1050=\"\",0,IF(isNccValid(F1050),0,1))","v":0}]
[null,null,null,null,null,null,null,null,null,null,null,null,null,null,null,"",0,0,0,{"$f":"IF(F1051=\"\",0,IF(isNccValid(F1051),0,1))","v":0}]
[null,null,null,null,null,null,null,null,null,null,null,null,null,null,null,"",0,0,0,{"$f":"IF(F1052=\"\",0,IF(isNccValid(F1052),0,1))","v":0}]
[null,null,null,null,null,null,null,null,null,null,null,null,null,null,null,"",0,0,0,{"$f":"IF(F1053=\"\",0,IF(isNccValid(F1053),0,1))","v":0}]
[null,null,null,null,null,null,null,null,null,null,null,null,null,null,null,"",0,0,0,{"$f":"IF(F1054=\"\",0,IF(isNccValid(F1054),0,1))","v":0}]
[null,null,null,null,null,null,null,null,null,null,null,null,null,null,null,"",{"$f":"IF(AND(B1055=\"\",R1055=1),1,IF(AND(D1055=\"\",R1055=1),1,IF(AND(E1055=\"\",R1055=1),1,IF(AND(F1055=\"\",R1055=1),1,IF(AND(M1055=\"\",R1055=1),1,IF(AND(O1055=\"\",R1055=1),1,0))))))","v":0},{"$f":"IF(C1055=\"\",0,IF(COUNTA(B1055:O1055)>0,1,0))","v":0},{"$f":"IFERROR(IF(LEN(F1055)=8,0,IF(LEN(F1055)=0,0,1)),1)","v":0},{"$f":"IF(F1055=\"\",0,IF(isNccValid(F1055),0,1))","v":0}]
[null,null,null,null,null,null,null,null,null,null,null,null,null,null,null,"",0,0,0,{"$f":"IF(F1056=\"\",0,IF(isNccValid(F1056),0,1))","v":0}]
[null,null,null,null,null,null,null,null,null,null,null,null,null,null,null,"",0,0,0,{"$f":"IF(F1057=\"\",0,IF(isNccValid(F1057),0,1))","v":0}]
[null,null,null,null,null,null,null,null,null,null,null,null,null,null,null,"",0,0,0,{"$f":"IF(F1058=\"\",0,IF(isNccValid(F1058),0,1))","v":0}]
[null,null,null,null,null,null,null,null,null,null,null,null,null,null,null,"",0,0,0,{"$f":"IF(F1059=\"\",0,IF(isNccValid(F1059),0,1))","v":0}]
[null,null,null,null,null,null,null,null,null,null,null,null,null,null,null,"",0,0,0,{"$f":"IF(F1060=\"\",0,IF(isNccValid(F1060),0,1))","v":0}]
[null,null,null,null,null,null,null,null,null,null,null,null,null,null,null,"",0,0,0,{"$f":"IF(F1061=\"\",0,IF(isNccValid(F1061),0,1))","v":0}]
[null,null,null,null,null,null,null,null,null,null,null,null,null,null,null,"",0,0,0,{"$f":"IF(F1062=\"\",0,IF(isNccValid(F1062),0,1))","v":0}]
[null,null,null,null,null,null,null,null,null,null,null,null,null,null,null,"",0,0,0,{"$f":"IF(F1063=\"\",0,IF(isNccValid(F1063),0,1))","v":0}]
[null,null,null,null,null,null,null,null,null,null,null,null,null,null,null,"",0,0,0,{"$f":"IF(F1064=\"\",0,IF(isNccValid(F1064),0,1))","v":0}]
[null,null,null,null,null,null,null,null,null,null,null,null,null,null,null,"",0,0,0,{"$f":"IF(F1065=\"\",0,IF(isNccValid(F1065),0,1))","v":0}]
[null,null,null,null,null,null,null,null,null,null,null,null,null,null,null,"",0,0,0,{"$f":"IF(F1066=\"\",0,IF(isNccValid(F1066),0,1))","v":0}]
[null,null,null,null,null,null,null,null,null,null,null,null,null,null,null,"",0,0,0,{"$f":"IF(F1067=\"\",0,IF(isNccValid(F1067),0,1))","v":0}]
[null,null,null,null,null,null,null,null,null,null,null,null,null,null,null,"",0,0,0,{"$f":"IF(F1068=\"\",0,IF(isNccValid(F1068),0,1))","v":0}]
[null,null,null,null,null,null,null,null,null,null,null,null,null,null,null,"",0,0,0,{"$f":"IF(F1069=\"\",0,IF(isNccValid(F1069),0,1))","v":0}]
[null,null,null,null,null,null,null,null,null,null,null,null,null,null,null,"",0,0,0,{"$f":"IF(F1070=\"\",0,IF(isNccValid(F1070),0,1))","v":0}]
[null,null,null,null,null,null,null,null,null,null,null,null,null,null,null,"",0,0,0,{"$f":"IF(F1071=\"\",0,IF(isNccValid(F1071),0,1))","v":0}]
[null,null,null,null,null,null,null,null,null,null,null,null,null,null,null,"",0,0,0,{"$f":"IF(F1072=\"\",0,IF(isNccValid(F1072),0,1))","v":0}]
[null,null,null,null,null,null,null,null,null,null,null,null,null,null,null,"",0,0,0,{"$f":"IF(F1073=\"\",0,IF(isNccValid(F1073),0,1))","v":0}]
[null,null,null,null,null,null,null,null,null,null,null,null,null,null,null,"",0,0,0,{"$f":"IF(F1074=\"\",0,IF(isNccValid(F1074),0,1))","v":0}]
[null,null,null,null,null,null,null,null,null,null,null,null,null,null,null,"",0,0,0,{"$f":"IF(F1075=\"\",0,IF(isNccValid(F1075),0,1))","v":0}]
[null,null,null,null,null,null,null,null,null,null,null,null,null,null,null,"",0,0,0,{"$f":"IF(F1076=\"\",0,IF(isNccValid(F1076),0,1))","v":0}]
[null,null,null,null,null,null,null,null,null,null,null,null,null,null,null,"",0,0,0,{"$f":"IF(F1077=\"\",0,IF(isNccValid(F1077),0,1))","v":0}]
[null,null,null,null,null,null,null,null,null,null,null,null,null,null,null,"",0,0,0,{"$f":"IF(F1078=\"\",0,IF(isNccValid(F1078),0,1))","v":0}]
[null,null,null,null,null,null,null,null,null,null,null,null,null,null,null,"",0,0,0,{"$f":"IF(F1079=\"\",0,IF(isNccValid(F1079),0,1))","v":0}]
[null,null,null,null,null,null,null,null,null,null,null,null,null,null,null,"",0,0,0,{"$f":"IF(F1080=\"\",0,IF(isNccValid(F1080),0,1))","v":0}]
[null,null,null,null,null,null,null,null,null,null,null,null,null,null,null,"",0,0,0,{"$f":"IF(F1081=\"\",0,IF(isNccValid(F1081),0,1))","v":0}]
[null,null,null,null,null,null,null,null,null,null,null,null,null,null,null,"",0,0,0,{"$f":"IF(F1082=\"\",0,IF(isNccValid(F1082),0,1))","v":0}]
[null,null,null,null,null,null,null,null,null,null,null,null,null,null,null,"",0,0,0,{"$f":"IF(F1083=\"\",0,IF(isNccValid(F1083),0,1))","v":0}]
[null,null,null,null,null,null,null,null,null,null,null,null,null,null,null,"",0,0,0,{"$f":"IF(F1084=\"\",0,IF(isNccValid(F1084),0,1))","v":0}]
[null,null,null,null,null,null,null,null,null,null,null,null,null,null,null,"",0,0,0,{"$f":"IF(F1085=\"\",0,IF(isNccValid(F1085),0,1))","v":0}]
[null,null,null,null,null,null,null,null,null,null,null,null,null,null,null,"",0,0,0,{"$f":"IF(F1086=\"\",0,IF(isNccValid(F1086),0,1))","v":0}]
[null,null,null,null,null,null,null,null,null,null,null,null,null,null,null,"",0,0,0,{"$f":"IF(F1087=\"\",0,IF(isNccValid(F1087),0,1))","v":0}]
[null,null,null,null,null,null,null,null,null,null,null,null,null,null,null,"",0,0,0,{"$f":"IF(F1088=\"\",0,IF(isNccValid(F1088),0,1))","v":0}]
[null,null,null,null,null,null,null,null,null,null,null,null,null,null,null,"",0,0,0,{"$f":"IF(F1089=\"\",0,IF(isNccValid(F1089),0,1))","v":0}]
[null,null,null,null,null,null,null,null,null,null,null,null,null,null,null,"",0,0,0,{"$f":"IF(F1090=\"\",0,IF(isNccValid(F1090),0,1))","v":0}]
[null,null,null,null,null,null,null,null,null,null,null,null,null,null,null,"",0,0,0,{"$f":"IF(F1091=\"\",0,IF(isNccValid(F1091),0,1))","v":0}]
[null,null,null,null,null,null,null,null,null,null,null,null,null,null,null,"",0,0,0,{"$f":"IF(F1092=\"\",0,IF(isNccValid(F1092),0,1))","v":0}]
[null,null,null,null,null,null,null,null,null,null,null,null,null,null,null,"",0,0,0,{"$f":"IF(F1093=\"\",0,IF(isNccValid(F1093),0,1))","v":0}]
[null,null,null,null,null,null,null,null,null,null,null,null,null,null,null,"",0,0,0,{"$f":"IF(F1094=\"\",0,IF(isNccValid(F1094),0,1))","v":0}]
[null,null,null,null,null,null,null,null,null,null,null,null,null,null,null,"",0,0,0,{"$f":"IF(F1095=\"\",0,IF(isNccValid(F1095),0,1))","v":0}]
[null,null,null,null,null,null,null,null,null,null,null,null,null,null,null,"",0,0,0,{"$f":"IF(F1096=\"\",0,IF(isNccValid(F1096),0,1))","v":0}]
[null,null,null,null,null,null,null,null,null,null,null,null,null,null,null,"",0,0,0,{"$f":"IF(F1097=\"\",0,IF(isNccValid(F1097),0,1))","v":0}]
[null,null,null,null,null,null,null,null,null,null,null,null,null,null,null,"",0,0,0,{"$f":"IF(F1098=\"\",0,IF(isNccValid(F1098),0,1))","v":0}]
[null,null,null,null,null,null,null,null,null,null,null,null,null,null,null,"",0,0,0,{"$f":"IF(F1099=\"\",0,IF(isNccValid(F1099),0,1))","v":0}]
[null,null,null,null,null,null,null,null,null,null,null,null,null,null,null,"",0,0,0,{"$f":"IF(F1100=\"\",0,IF(isNccValid(F1100),0,1))","v":0}]
[null,null,null,null,null,null,null,null,null,null,null,null,null,null,null,"",0,0,0,{"$f":"IF(F1101=\"\",0,IF(isNccValid(F1101),0,1))","v":0}]
[null,null,null,null,null,null,null,null,null,null,null,null,null,null,null,"",0,0,0,{"$f":"IF(F1102=\"\",0,IF(isNccValid(F1102),0,1))","v":0}]
[null,null,null,null,null,null,null,null,null,null,null,null,null,null,null,"",0,0,0,{"$f":"IF(F1103=\"\",0,IF(isNccValid(F1103),0,1))","v":0}]
[null,null,null,null,null,null,null,null,null,null,null,null,null,null,null,"",0,0,0,{"$f":"IF(F1104=\"\",0,IF(isNccValid(F1104),0,1))","v":0}]
[null,null,null,null,null,null,null,null,null,null,null,null,null,null,null,"",0,0,0,{"$f":"IF(F1105=\"\",0,IF(isNccValid(F1105),0,1))","v":0}]
[null,null,null,null,null,null,null,null,null,null,null,null,null,null,null,"",0,0,0,{"$f":"IF(F1106=\"\",0,IF(isNccValid(F1106),0,1))","v":0}]
[null,null,null,null,null,null,null,null,null,null,null,null,null,null,null,"",0,0,0,{"$f":"IF(F1107=\"\",0,IF(isNccValid(F1107),0,1))","v":0}]
[null,null,null,null,null,null,null,null,null,null,null,null,null,null,null,"",0,0,0,{"$f":"IF(F1108=\"\",0,IF(isNccValid(F1108),0,1))","v":0}]
[null,null,null,null,null,null,null,null,null,null,null,null,null,null,null,"",0,0,0,{"$f":"IF(F1109=\"\",0,IF(isNccValid(F1109),0,1))","v":0}]
[null,null,null,null,null,null,null,null,null,null,null,null,null,null,null,{"$f":"IF(B1110=\"\",\"\",M1110*O1110)","v":""},0,0,0,{"$f":"IF(F1110=\"\",0,IF(isNccValid(F1110),0,1))","v":0}]
[null,null,null,null,null,null,null,null,null,null,null,null,null,null,null,"",0,0,0,{"$f":"IF(F1111=\"\",0,IF(isNccValid(F1111),0,1))","v":0}]
[null,null,null,null,null,null,null,null,null,null,null,null,null,null,null,"",0,0,0,{"$f":"IF(F1112=\"\",0,IF(isNccValid(F1112),0,1))","v":0}]
[null,null,null,null,null,null,null,null,null,null,null,null,null,null,null,"",0,0,0,{"$f":"IF(F1113=\"\",0,IF(isNccValid(F1113),0,1))","v":0}]
[null,null,null,null,null,null,null,null,null,null,null,null,null,null,null,"",0,0,0,{"$f":"IF(F1114=\"\",0,IF(isNccValid(F1114),0,1))","v":0}]
[null,null,null,null,null,null,null,null,null,null,null,null,null,null,null,"",0,0,0,{"$f":"IF(F1115=\"\",0,IF(isNccValid(F1115),0,1))","v":0}]
[null,null,null,null,null,null,null,null,null,null,null,null,null,null,null,"",0,0,0,{"$f":"IF(F1116=\"\",0,IF(isNccValid(F1116),0,1))","v":0}]
[null,null,null,null,null,null,null,null,null,null,null,null,null,null,null,"",0,0,0,{"$f":"IF(F1117=\"\",0,IF(isNccValid(F1117),0,1))","v":0}]
[null,null,null,null,null,null,null,null,null,null,null,null,null,null,null,"",0,0,0,{"$f":"IF(F1118=\"\",0,IF(isNccValid(F1118),0,1))","v":0}]
[null,null,null,null,null,null,null,null,null,null,null,null,null,null,null,"",{"$f":"IF(AND(B1119=\"\",R1119=1),1,IF(AND(D1119=\"\",R1119=1),1,IF(AND(E1119=\"\",R1119=1),1,IF(AND(F1119=\"\",R1119=1),1,IF(AND(M1119=\"\",R1119=1),1,IF(AND(O1119=\"\",R1119=1),1,0))))))","v":0},{"$f":"IF(C1119=\"\",0,IF(COUNTA(B1119:O1119)>0,1,0))","v":0},{"$f":"IFERROR(IF(LEN(F1119)=8,0,IF(LEN(F1119)=0,0,1)),1)","v":0},{"$f":"IF(F1119=\"\",0,IF(isNccValid(F1119),0,1))","v":0}]
[null,null,null,null,null,null,null,null,null,null,null,null,null,null,null,"",0,0,0,{"$f":"IF(F1120=\"\",0,IF(isNccValid(F1120),0,1))","v":0}]
[null,null,null,null,null,null,null,null,null,null,null,null,null,null,null,"",0,0,0,{"$f":"IF(F1121=\"\",0,IF(isNccValid(F1121),0,1))","v":0}]
[null,null,null,null,null,null,null,null,null,null,null,null,null,null,null,"",0,0,0,{"$f":"IF(F1122=\"\",0,IF(isNccValid(F1122),0,1))","v":0}]
[null,null,null,null,null,null,null,null,null,null,null,null,null,null,null,"",0,0,0,{"$f":"IF(F1123=\"\",0,IF(isNccValid(F1123),0,1))","v":0}]
[null,null,null,null,null,null,null,null,null,null,null,null,null,null,null,"",0,0,0,{"$f":"IF(F1124=\"\",0,IF(isNccValid(F1124),0,1))","v":0}]
[null,null,null,null,null,null,null,null,null,null,null,null,null,null,null,"",0,0,0,{"$f":"IF(F1125=\"\",0,IF(isNccValid(F1125),0,1))","v":0}]
[null,null,null,null,null,null,null,null,null,null,null,null,null,null,null,"",0,0,0,{"$f":"IF(F1126=\"\",0,IF(isNccValid(F1126),0,1))","v":0}]
[null,null,null,null,null,null,null,null,null,null,null,null,null,null,null,"",0,0,0,{"$f":"IF(F1127=\"\",0,IF(isNccValid(F1127),0,1))","v":0}]
[null,null,null,null,null,null,null,null,null,null,null,null,null,null,null,"",0,0,0,{"$f":"IF(F1128=\"\",0,IF(isNccValid(F1128),0,1))","v":0}]
[null,null,null,null,null,null,null,null,null,null,null,null,null,null,null,"",0,0,0,{"$f":"IF(F1129=\"\",0,IF(isNccValid(F1129),0,1))","v":0}]
[null,null,null,null,null,null,null,null,null,null,null,null,null,null,null,"",0,0,0,{"$f":"IF(F1130=\"\",0,IF(isNccValid(F1130),0,1))","v":0}]
[null,null,null,null,null,null,null,null,null,null,null,null,null,null,null,"",0,0,0,{"$f":"IF(F1131=\"\",0,IF(isNccValid(F1131),0,1))","v":0}]
[null,null,null,null,null,null,null,null,null,null,null,null,null,null,null,"",0,0,0,{"$f":"IF(F1132=\"\",0,IF(isNccValid(F1132),0,1))","v":0}]
[null,null,null,null,null,null,null,null,null,null,null,null,null,null,null,"",0,0,0,{"$f":"IF(F1133=\"\",0,IF(isNccValid(F1133),0,1))","v":0}]
[null,null,null,null,null,null,null,null,null,null,null,null,null,null,null,"",0,0,0,{"$f":"IF(F1134=\"\",0,IF(isNccValid(F1134),0,1))","v":0}]
[null,null,null,null,null,null,null,null,null,null,null,null,null,null,null,"",0,0,0,{"$f":"IF(F1135=\"\",0,IF(isNccValid(F1135),0,1))","v":0}]
[null,null,null,null,null,null,null,null,null,null,null,null,null,null,null,"",0,0,0,{"$f":"IF(F1136=\"\",0,IF(isNccValid(F1136),0,1))","v":0}]
[null,null,null,null,null,null,null,null,null,null,null,null,null,null,null,"",0,0,0,{"$f":"IF(F1137=\"\",0,IF(isNccValid(F1137),0,1))","v":0}]
[null,null,null,null,null,null,null,null,null,null,null,null,null,null,null,"",0,0,0,{"$f":"IF(F1138=\"\",0,IF(isNccValid(F1138),0,1))","v":0}]
[null,null,null,null,null,null,null,null,null,null,null,null,null,null,null,"",0,0,0,{"$f":"IF(F1139=\"\",0,IF(isNccValid(F1139),0,1))","v":0}]
[null,null,null,null,null,null,null,null,null,null,null,null,null,null,null,"",0,0,0,{"$f":"IF(F1140=\"\",0,IF(isNccValid(F1140),0,1))","v":0}]
[null,null,null,null,null,null,null,null,null,null,null,null,null,null,null,"",0,0,0,{"$f":"IF(F1141=\"\",0,IF(isNccValid(F1141),0,1))","v":0}]
[null,null,null,null,null,null,null,null,null,null,null,null,null,null,null,"",0,0,0,{"$f":"IF(F1142=\"\",0,IF(isNccValid(F1142),0,1))","v":0}]
[null,null,null,null,null,null,null,null,null,null,null,null,null,null,null,"",0,0,0,{"$f":"IF(F1143=\"\",0,IF(isNccValid(F1143),0,1))","v":0}]
[null,null,null,null,null,null,null,null,null,null,null,null,null,null,null,"",0,0,0,{"$f":"IF(F1144=\"\",0,IF(isNccValid(F1144),0,1))","v":0}]
[null,null,null,null,null,null,null,null,null,null,null,null,null,null,null,"",0,0,0,{"$f":"IF(F1145=\"\",0,IF(isNccValid(F1145),0,1))","v":0}]
[null,null,null,null,null,null,null,null,null,null,null,null,null,null,null,"",0,0,0,{"$f":"IF(F1146=\"\",0,IF(isNccValid(F1146),0,1))","v":0}]
[null,null,null,null,null,null,null,null,null,null,null,null,null,null,null,"",0,0,0,{"$f":"IF(F1147=\"\",0,IF(isNccValid(F1147),0,1))","v":0}]
[null,null,null,null,null,null,null,null,null,null,null,null,null,null,null,"",0,0,0,{"$f":"IF(F1148=\"\",0,IF(isNccValid(F1148),0,1))","v":0}]
[null,null,null,null,null,null,null,null,null,null,null,null,null,null,null,"",0,0,0,{"$f":"IF(F1149=\"\",0,IF(isNccValid(F1149),0,1))","v":0}]
[null,null,null,null,null,null,null,null,null,null,null,null,null,null,null,"",0,0,0,{"$f":"IF(F1150=\"\",0,IF(isNccValid(F1150),0,1))","v":0}]
[null,null,null,null,null,null,null,null,null,null,null,null,null,null,null,"",0,0,0,{"$f":"IF(F1151=\"\",0,IF(isNccValid(F1151),0,1))","v":0}]
[null,null,null,null,null,null,null,null,null,null,null,null,null,null,null,"",0,0,0,{"$f":"IF(F1152=\"\",0,IF(isNccValid(F1152),0,1))","v":0}]
[null,null,null,null,null,null,null,null,null,null,null,null,null,null,null,"",0,0,0,{"$f":"IF(F1153=\"\",0,IF(isNccValid(F1153),0,1))","v":0}]
[null,null,null,null,null,null,null,null,null,null,null,null,null,null,null,"",0,0,0,{"$f":"IF(F1154=\"\",0,IF(isNccValid(F1154),0,1))","v":0}]
[null,null,null,null,null,null,null,null,null,null,null,null,null,null,null,"",0,0,0,{"$f":"IF(F1155=\"\",0,IF(isNccValid(F1155),0,1))","v":0}]
[null,null,null,null,null,null,null,null,null,null,null,null,null,null,null,"",0,0,0,{"$f":"IF(F1156=\"\",0,IF(isNccValid(F1156),0,1))","v":0}]
[null,null,null,null,null,null,null,null,null,null,null,null,null,null,null,"",0,0,0,{"$f":"IF(F1157=\"\",0,IF(isNccValid(F1157),0,1))","v":0}]
[null,null,null,null,null,null,null,null,null,null,null,null,null,null,null,"",0,0,0,{"$f":"IF(F1158=\"\",0,IF(isNccValid(F1158),0,1))","v":0}]
[null,null,null,null,null,null,null,null,null,null,null,null,null,null,null,"",0,0,0,{"$f":"IF(F1159=\"\",0,IF(isNccValid(F1159),0,1))","v":0}]
[null,null,null,null,null,null,null,null,null,null,null,null,null,null,null,"",0,0,0,{"$f":"IF(F1160=\"\",0,IF(isNccValid(F1160),0,1))","v":0}]
[null,null,null,null,null,null,null,null,null,null,null,null,null,null,null,"",0,0,0,{"$f":"IF(F1161=\"\",0,IF(isNccValid(F1161),0,1))","v":0}]
[null,null,null,null,null,null,null,null,null,null,null,null,null,null,null,"",0,0,0,{"$f":"IF(F1162=\"\",0,IF(isNccValid(F1162),0,1))","v":0}]
[null,null,null,null,null,null,null,null,null,null,null,null,null,null,null,"",0,0,0,{"$f":"IF(F1163=\"\",0,IF(isNccValid(F1163),0,1))","v":0}]
[null,null,null,null,null,null,null,null,null,null,null,null,null,null,null,"",0,0,0,{"$f":"IF(F1164=\"\",0,IF(isNccValid(F1164),0,1))","v":0}]
[null,null,null,null,null,null,null,null,null,null,null,null,null,null,null,"",0,0,0,{"$f":"IF(F1165=\"\",0,IF(isNccValid(F1165),0,1))","v":0}]
[null,null,null,null,null,null,null,null,null,null,null,null,null,null,null,"",0,0,0,{"$f":"IF(F1166=\"\",0,IF(isNccValid(F1166),0,1))","v":0}]
[null,null,null,null,null,null,null,null,null,null,null,null,null,null,null,"",0,0,0,{"$f":"IF(F1167=\"\",0,IF(isNccValid(F1167),0,1))","v":0}]
[null,null,null,null,null,null,null,null,null,null,null,null,null,null,null,"",0,0,0,{"$f":"IF(F1168=\"\",0,IF(isNccValid(F1168),0,1))","v":0}]
[null,null,null,null,null,null,null,null,null,null,null,null,null,null,null,"",0,0,0,{"$f":"IF(F1169=\"\",0,IF(isNccValid(F1169),0,1))","v":0}]
[null,null,null,null,null,null,null,null,null,null,null,null,null,null,null,"",0,0,0,{"$f":"IF(F1170=\"\",0,IF(isNccValid(F1170),0,1))","v":0}]
[null,null,null,null,null,null,null,null,null,null,null,null,null,null,null,"",0,0,0,{"$f":"IF(F1171=\"\",0,IF(isNccValid(F1171),0,1))","v":0}]
[null,null,null,null,null,null,null,null,null,null,null,null,null,null,null,"",0,0,0,{"$f":"IF(F1172=\"\",0,IF(isNccValid(F1172),0,1))","v":0}]
[null,null,null,null,null,null,null,null,null,null,null,null,null,null,null,"",0,0,0,{"$f":"IF(F1173=\"\",0,IF(isNccValid(F1173),0,1))","v":0}]
[null,null,null,null,null,null,null,null,null,null,null,null,null,null,null,{"$f":"IF(B1174=\"\",\"\",M1174*O1174)","v":""},0,0,0,{"$f":"IF(F1174=\"\",0,IF(isNccValid(F1174),0,1))","v":0}]
[null,null,null,null,null,null,null,null,null,null,null,null,null,null,null,"",0,0,0,{"$f":"IF(F1175=\"\",0,IF(isNccValid(F1175),0,1))","v":0}]
[null,null,null,null,null,null,null,null,null,null,null,null,null,null,null,"",0,0,0,{"$f":"IF(F1176=\"\",0,IF(isNccValid(F1176),0,1))","v":0}]
[null,null,null,null,null,null,null,null,null,null,null,null,null,null,null,"",0,0,0,{"$f":"IF(F1177=\"\",0,IF(isNccValid(F1177),0,1))","v":0}]
[null,null,null,null,null,null,null,null,null,null,null,null,null,null,null,"",0,0,0,{"$f":"IF(F1178=\"\",0,IF(isNccValid(F1178),0,1))","v":0}]
[null,null,null,null,null,null,null,null,null,null,null,null,null,null,null,"",0,0,0,{"$f":"IF(F1179=\"\",0,IF(isNccValid(F1179),0,1))","v":0}]
[null,null,null,null,null,null,null,null,null,null,null,null,null,null,null,"",0,0,0,{"$f":"IF(F1180=\"\",0,IF(isNccValid(F1180),0,1))","v":0}]
[null,null,null,null,null,null,null,null,null,null,null,null,null,null,null,"",0,0,0,{"$f":"IF(F1181=\"\",0,IF(isNccValid(F1181),0,1))","v":0}]
[null,null,null,null,null,null,null,null,null,null,null,null,null,null,null,"",0,0,0,{"$f":"IF(F1182=\"\",0,IF(isNccValid(F1182),0,1))","v":0}]
[null,null,null,null,null,null,null,null,null,null,null,null,null,null,null,"",{"$f":"IF(AND(B1183=\"\",R1183=1),1,IF(AND(D1183=\"\",R1183=1),1,IF(AND(E1183=\"\",R1183=1),1,IF(AND(F1183=\"\",R1183=1),1,IF(AND(M1183=\"\",R1183=1),1,IF(AND(O1183=\"\",R1183=1),1,0))))))","v":0},{"$f":"IF(C1183=\"\",0,IF(COUNTA(B1183:O1183)>0,1,0))","v":0},{"$f":"IFERROR(IF(LEN(F1183)=8,0,IF(LEN(F1183)=0,0,1)),1)","v":0},{"$f":"IF(F1183=\"\",0,IF(isNccValid(F1183),0,1))","v":0}]
[null,null,null,null,null,null,null,null,null,null,null,null,null,null,null,"",0,0,0,{"$f":"IF(F1184=\"\",0,IF(isNccValid(F1184),0,1))","v":0}]
[null,null,null,null,null,null,null,null,null,null,null,null,null,null,null,"",0,0,0,{"$f":"IF(F1185=\"\",0,IF(isNccValid(F1185),0,1))","v":0}]
[null,null,null,null,null,null,null,null,null,null,null,null,null,null,null,"",0,0,0,{"$f":"IF(F1186=\"\",0,IF(isNccValid(F1186),0,1))","v":0}]
[null,null,null,null,null,null,null,null,null,null,null,null,null,null,null,"",0,0,0,{"$f":"IF(F1187=\"\",0,IF(isNccValid(F1187),0,1))","v":0}]
[null,null,null,null,null,null,null,null,null,null,null,null,null,null,null,"",0,0,0,{"$f":"IF(F1188=\"\",0,IF(isNccValid(F1188),0,1))","v":0}]
[null,null,null,null,null,null,null,null,null,null,null,null,null,null,null,"",0,0,0,{"$f":"IF(F1189=\"\",0,IF(isNccValid(F1189),0,1))","v":0}]
[null,null,null,null,null,null,null,null,null,null,null,null,null,null,null,"",0,0,0,{"$f":"IF(F1190=\"\",0,IF(isNccValid(F1190),0,1))","v":0}]
[null,null,null,null,null,null,null,null,null,null,null,null,null,null,null,"",0,0,0,{"$f":"IF(F1191=\"\",0,IF(isNccValid(F1191),0,1))","v":0}]
[null,null,null,null,null,null,null,null,null,null,null,null,null,null,null,"",0,0,0,{"$f":"IF(F1192=\"\",0,IF(isNccValid(F1192),0,1))","v":0}]
[null,null,null,null,null,null,null,null,null,null,null,null,null,null,null,"",0,0,0,{"$f":"IF(F1193=\"\",0,IF(isNccValid(F1193),0,1))","v":0}]
[null,null,null,null,null,null,null,null,null,null,null,null,null,null,null,"",0,0,0,{"$f":"IF(F1194=\"\",0,IF(isNccValid(F1194),0,1))","v":0}]
[null,null,null,null,null,null,null,null,null,null,null,null,null,null,null,"",0,0,0,{"$f":"IF(F1195=\"\",0,IF(isNccValid(F1195),0,1))","v":0}]
[null,null,null,null,null,null,null,null,null,null,null,null,null,null,null,"",0,0,0,{"$f":"IF(F1196=\"\",0,IF(isNccValid(F1196),0,1))","v":0}]
[null,null,null,null,null,null,null,null,null,null,null,null,null,null,null,"",0,0,0,{"$f":"IF(F1197=\"\",0,IF(isNccValid(F1197),0,1))","v":0}]
[null,null,null,null,null,null,null,null,null,null,null,null,null,null,null,"",0,0,0,{"$f":"IF(F1198=\"\",0,IF(isNccValid(F1198),0,1))","v":0}]
[null,null,null,null,null,null,null,null,null,null,null,null,null,null,null,"",0,0,0,{"$f":"IF(F1199=\"\",0,IF(isNccValid(F1199),0,1))","v":0}]
[null,null,null,null,null,null,null,null,null,null,null,null,null,null,null,"",0,0,0,{"$f":"IF(F1200=\"\",0,IF(isNccValid(F1200),0,1))","v":0}]
[null,null,null,null,null,null,null,null,null,null,null,null,null,null,null,"",0,0,0,{"$f":"IF(F1201=\"\",0,IF(isNccValid(F1201),0,1))","v":0}]
[null,null,null,null,null,null,null,null,null,null,null,null,null,null,null,"",0,0,0,{"$f":"IF(F1202=\"\",0,IF(isNccValid(F1202),0,1))","v":0}]
[null,null,null,null,null,null,null,null,null,null,null,null,null,null,null,"",0,0,0,{"$f":"IF(F1203=\"\",0,IF(isNccValid(F1203),0,1))","v":0}]
[null,null,null,null,null,null,null,null,null,null,null,null,null,null,null,"",0,0,0,{"$f":"IF(F1204=\"\",0,IF(isNccValid(F1204),0,1))","v":0}]
[null,null,null,null,null,null,null,null,null,null,null,null,null,null,null,"",0,0,0,{"$f":"IF(F1205=\"\",0,IF(isNccValid(F1205),0,1))","v":0}]
[null,null,null,null,null,null,null,null,null,null,null,null,null,null,null,"",0,0,0,{"$f":"IF(F1206=\"\",0,IF(isNccValid(F1206),0,1))","v":0}]
[null,null,null,null,null,null,null,null,null,null,null,null,null,null,null,"",0,0,0,{"$f":"IF(F1207=\"\",0,IF(isNccValid(F1207),0,1))","v":0}]
[null,null,null,null,null,null,null,null,null,null,null,null,null,null,null,"",0,0,0,{"$f":"IF(F1208=\"\",0,IF(isNccValid(F1208),0,1))","v":0}]
[null,null,null,null,null,null,null,null,null,null,null,null,null,null,null,"",0,0,0,{"$f":"IF(F1209=\"\",0,IF(isNccValid(F1209),0,1))","v":0}]
[null,null,null,null,null,null,null,null,null,null,null,null,null,null,null,"",0,0,0,{"$f":"IF(F1210=\"\",0,IF(isNccValid(F1210),0,1))","v":0}]
[null,null,null,null,null,null,null,null,null,null,null,null,null,null,null,"",0,0,0,{"$f":"IF(F1211=\"\",0,IF(isNccValid(F1211),0,1))","v":0}]
[null,null,null,null,null,null,null,null,null,null,null,null,null,null,null,"",0,0,0,{"$f":"IF(F1212=\"\",0,IF(isNccValid(F1212),0,1))","v":0}]
[null,null,null,null,null,null,null,null,null,null,null,null,null,null,null,"",0,0,0,{"$f":"IF(F1213=\"\",0,IF(isNccValid(F1213),0,1))","v":0}]
[null,null,null,null,null,null,null,null,null,null,null,null,null,null,null,"",0,0,0,{"$f":"IF(F1214=\"\",0,IF(isNccValid(F1214),0,1))","v":0}]
[null,null,null,null,null,null,null,null,null,null,null,null,null,null,null,"",{"$f":"IF(AND(B1215=\"\",R1215=1),1,IF(AND(D1215=\"\",R1215=1),1,IF(AND(E1215=\"\",R1215=1),1,IF(AND(F1215=\"\",R1215=1),1,IF(AND(M1215=\"\",R1215=1),1,IF(AND(O1215=\"\",R1215=1),1,0))))))","v":0},{"$f":"IF(C1215=\"\",0,IF(COUNTA(B1215:O1215)>0,1,0))","v":0},{"$f":"IFERROR(IF(LEN(F1215)=8,0,IF(LEN(F1215)=0,0,1)),1)","v":0},{"$f":"IF(F1215=\"\",0,IF(isNccValid(F1215),0,1))","v":0}]
[null,null,null,null,null,null,null,null,null,null,null,null,null,null,null,"",0,0,0,{"$f":"IF(F1216=\"\",0,IF(isNccValid(F1216),0,1))","v":0}]
[null,null,null,null,null,null,null,null,null,null,null,null,null,null,null,"",0,0,0,{"$f":"IF(F1217=\"\",0,IF(isNccValid(F1217),0,1))","v":0}]
[null,null,null,null,null,null,null,null,null,null,null,null,null,null,null,"",0,0,0,{"$f":"IF(F1218=\"\",0,IF(isNccValid(F1218),0,1))","v":0}]
[null,null,null,null,null,null,null,null,null,null,null,null,null,null,null,"",0,0,0,{"$f":"IF(F1219=\"\",0,IF(isNccValid(F1219),0,1))","v":0}]
[null,null,null,null,null,null,null,null,null,null,null,null,null,null,null,"",0,0,0,{"$f":"IF(F1220=\"\",0,IF(isNccValid(F1220),0,1))","v":0}]
[null,null,null,null,null,null,null,null,null,null,null,null,null,null,null,"",0,0,0,{"$f":"IF(F1221=\"\",0,IF(isNccValid(F1221),0,1))","v":0}]
[null,null,null,null,null,null,null,null,null,null,null,null,null,null,null,"",0,0,0,{"$f":"IF(F1222=\"\",0,IF(isNccValid(F1222),0,1))","v":0}]
[null,null,null,null,null,null,null,null,null,null,null,null,null,null,null,"",0,0,0,{"$f":"IF(F1223=\"\",0,IF(isNccValid(F1223),0,1))","v":0}]
[null,null,null,null,null,null,null,null,null,null,null,null,null,null,null,"",0,0,0,{"$f":"IF(F1224=\"\",0,IF(isNccValid(F1224),0,1))","v":0}]
[null,null,null,null,null,null,null,null,null,null,null,null,null,null,null,"",0,0,0,{"$f":"IF(F1225=\"\",0,IF(isNccValid(F1225),0,1))","v":0}]
[null,null,null,null,null,null,null,null,null,null,null,null,null,null,null,"",0,0,0,{"$f":"IF(F1226=\"\",0,IF(isNccValid(F1226),0,1))","v":0}]
[null,null,null,null,null,null,null,null,null,null,null,null,null,null,null,"",0,0,0,{"$f":"IF(F1227=\"\",0,IF(isNccValid(F1227),0,1))","v":0}]
[null,null,null,null,null,null,null,null,null,null,null,null,null,null,null,"",0,0,0,{"$f":"IF(F1228=\"\",0,IF(isNccValid(F1228),0,1))","v":0}]
[null,null,null,null,null,null,null,null,null,null,null,null,null,null,null,"",0,0,0,{"$f":"IF(F1229=\"\",0,IF(isNccValid(F1229),0,1))","v":0}]
[null,null,null,null,null,null,null,null,null,null,null,null,null,null,null,"",0,0,0,{"$f":"IF(F1230=\"\",0,IF(isNccValid(F1230),0,1))","v":0}]
[null,null,null,null,null,null,null,null,null,null,null,null,null,null,null,"",0,0,0,{"$f":"IF(F1231=\"\",0,IF(isNccValid(F1231),0,1))","v":0}]
[null,null,null,null,null,null,null,null,null,null,null,null,null,null,null,"",0,0,0,{"$f":"IF(F1232=\"\",0,IF(isNccValid(F1232),0,1))","v":0}]
[null,null,null,null,null,null,null,null,null,null,null,null,null,null,null,"",0,0,0,{"$f":"IF(F1233=\"\",0,IF(isNccValid(F1233),0,1))","v":0}]
[null,null,null,null,null,null,null,null,null,null,null,null,null,null,null,"",0,0,0,{"$f":"IF(F1234=\"\",0,IF(isNccValid(F1234),0,1))","v":0}]
[null,null,null,null,null,null,null,null,null,null,null,null,null,null,null,"",0,0,0,{"$f":"IF(F1235=\"\",0,IF(isNccValid(F1235),0,1))","v":0}]
[null,null,null,null,null,null,null,null,null,null,null,null,null,null,null,"",0,0,0,{"$f":"IF(F1236=\"\",0,IF(isNccValid(F1236),0,1))","v":0}]
[null,null,null,null,null,null,null,null,null,null,null,null,null,null,null,"",0,0,0,{"$f":"IF(F1237=\"\",0,IF(isNccValid(F1237),0,1))","v":0}]
[null,null,null,null,null,null,null,null,null,null,null,null,null,null,null,{"$f":"IF(B1238=\"\",\"\",M1238*O1238)","v":""},0,0,0,{"$f":"IF(F1238=\"\",0,IF(isNccValid(F1238),0,1))","v":0}]
[null,null,null,null,null,null,null,null,null,null,null,null,null,null,null,"",0,0,0,{"$f":"IF(F1239=\"\",0,IF(isNccValid(F1239),0,1))","v":0}]
[null,null,null,null,null,null,null,null,null,null,null,null,null,null,null,"",0,0,0,{"$f":"IF(F1240=\"\",0,IF(isNccValid(F1240),0,1))","v":0}]
[null,null,null,null,null,null,null,null,null,null,null,null,null,null,null,"",0,0,0,{"$f":"IF(F1241=\"\",0,IF(isNccValid(F1241),0,1))","v":0}]
[null,null,null,null,null,null,null,null,null,null,null,null,null,null,null,"",0,0,0,{"$f":"IF(F1242=\"\",0,IF(isNccValid(F1242),0,1))","v":0}]
[null,null,null,null,null,null,null,null,null,null,null,null,null,null,null,"",0,0,0,{"$f":"IF(F1243=\"\",0,IF(isNccValid(F1243),0,1))","v":0}]
[null,null,null,null,null,null,null,null,null,null,null,null,null,null,null,"",0,0,0,{"$f":"IF(F1244=\"\",0,IF(isNccValid(F1244),0,1))","v":0}]
[null,null,null,null,null,null,null,null,null,null,null,null,null,null,null,"",0,0,0,{"$f":"IF(F1245=\"\",0,IF(isNccValid(F1245),0,1))","v":0}]
[null,null,null,null,null,null,null,null,null,null,null,null,null,null,null,"",0,0,0,{"$f":"IF(F1246=\"\",0,IF(isNccValid(F1246),0,1))","v":0}]
[null,null,null,null,null,null,null,null,null,null,null,null,null,null,null,"",0,0,0,{"$f":"IF(F1247=\"\",0,IF(isNccValid(F1247),0,1))","v":0}]
[null,null,null,null,null,null,null,null,null,null,null,null,null,null,null,"",0,0,0,{"$f":"IF(F1248=\"\",0,IF(isNccValid(F1248),0,1))","v":0}]
[null,null,null,null,null,null,null,null,null,null,null,null,null,null,null,"",0,0,0,{"$f":"IF(F1249=\"\",0,IF(isNccValid(F1249),0,1))","v":0}]
[null,null,null,null,null,null,null,null,null,null,null,null,null,null,null,"",0,0,0,{"$f":"IF(F1250=\"\",0,IF(isNccValid(F1250),0,1))","v":0}]
[null,null,null,null,null,null,null,null,null,null,null,null,null,null,null,"",0,0,0,{"$f":"IF(F1251=\"\",0,IF(isNccValid(F1251),0,1))","v":0}]
[null,null,null,null,null,null,null,null,null,null,null,null,null,null,null,"",0,0,0,{"$f":"IF(F1252=\"\",0,IF(isNccValid(F1252),0,1))","v":0}]
[null,null,null,null,null,null,null,null,null,null,null,null,null,null,null,"",0,0,0,{"$f":"IF(F1253=\"\",0,IF(isNccValid(F1253),0,1))","v":0}]
[null,null,null,null,null,null,null,null,null,null,null,null,null,null,null,"",0,0,0,{"$f":"IF(F1254=\"\",0,IF(isNccValid(F1254),0,1))","v":0}]
[null,null,null,null,null,null,null,null,null,null,null,null,null,null,null,"",0,0,0,{"$f":"IF(F1255=\"\",0,IF(isNccValid(F1255),0,1))","v":0}]
[null,null,null,null,null,null,null,null,null,null,null,null,null,null,null,"",0,0,0,{"$f":"IF(F1256=\"\",0,IF(isNccValid(F1256),0,1))","v":0}]
[null,null,null,null,null,null,null,null,null,null,null,null,null,null,null,"",0,0,0,{"$f":"IF(F1257=\"\",0,IF(isNccValid(F1257),0,1))","v":0}]
[null,null,null,null,null,null,null,null,null,null,null,null,null,null,null,"",0,0,0,{"$f":"IF(F1258=\"\",0,IF(isNccValid(F1258),0,1))","v":0}]
[null,null,null,null,null,null,null,null,null,null,null,null,null,null,null,"",0,0,0,{"$f":"IF(F1259=\"\",0,IF(isNccValid(F1259),0,1))","v":0}]
[null,null,null,null,null,null,null,null,null,null,null,null,null,null,null,"",0,0,0,{"$f":"IF(F1260=\"\",0,IF(isNccValid(F1260),0,1))","v":0}]
[null,null,null,null,null,null,null,null,null,null,null,null,null,null,null,"",0,0,0,{"$f":"IF(F1261=\"\",0,IF(isNccValid(F1261),0,1))","v":0}]
[null,null,null,null,null,null,null,null,null,null,null,null,null,null,null,"",0,0,0,{"$f":"IF(F1262=\"\",0,IF(isNccValid(F1262),0,1))","v":0}]
[null,null,null,null,null,null,null,null,null,null,null,null,null,null,null,"",0,0,0,{"$f":"IF(F1263=\"\",0,IF(isNccValid(F1263),0,1))","v":0}]
[null,null,null,null,null,null,null,null,null,null,null,null,null,null,null,"",0,0,0,{"$f":"IF(F1264=\"\",0,IF(isNccValid(F1264),0,1))","v":0}]
[null,null,null,null,null,null,null,null,null,null,null,null,null,null,null,"",0,0,0,{"$f":"IF(F1265=\"\",0,IF(isNccValid(F1265),0,1))","v":0}]
[null,null,null,null,null,null,null,null,null,null,null,null,null,null,null,"",0,0,0,{"$f":"IF(F1266=\"\",0,IF(isNccValid(F1266),0,1))","v":0}]
[null,null,null,null,null,null,null,null,null,null,null,null,null,null,null,"",0,0,0,{"$f":"IF(F1267=\"\",0,IF(isNccValid(F1267),0,1))","v":0}]
[null,null,null,null,null,null,null,null,null,null,null,null,null,null,null,"",0,0,0,{"$f":"IF(F1268=\"\",0,IF(isNccValid(F1268),0,1))","v":0}]
[null,null,null,null,null,null,null,null,null,null,null,null,null,null,null,"",0,0,0,{"$f":"IF(F1269=\"\",0,IF(isNccValid(F1269),0,1))","v":0}]
[null,null,null,null,null,null,null,null,null,null,null,null,null,null,null,"",0,0,0,{"$f":"IF(F1270=\"\",0,IF(isNccValid(F1270),0,1))","v":0}]
[null,null,null,null,null,null,null,null,null,null,null,null,null,null,null,"",0,0,0,{"$f":"IF(F1271=\"\",0,IF(isNccValid(F1271),0,1))","v":0}]
[null,null,null,null,null,null,null,null,null,null,null,null,null,null,null,"",0,0,0,{"$f":"IF(F1272=\"\",0,IF(isNccValid(F1272),0,1))","v":0}]
[null,null,null,null,null,null,null,null,null,null,null,null,null,null,null,"",0,0,0,{"$f":"IF(F1273=\"\",0,IF(isNccValid(F1273),0,1))","v":0}]
[null,null,null,null,null,null,null,null,null,null,null,null,null,null,null,"",0,0,0,{"$f":"IF(F1274=\"\",0,IF(isNccValid(F1274),0,1))","v":0}]
[null,null,null,null,null,null,null,null,null,null,null,null,null,null,null,"",0,0,0,{"$f":"IF(F1275=\"\",0,IF(isNccValid(F1275),0,1))","v":0}]
[null,null,null,null,null,null,null,null,null,null,null,null,null,null,null,"",0,0,0,{"$f":"IF(F1276=\"\",0,IF(isNccValid(F1276),0,1))","v":0}]
[null,null,null,null,null,null,null,null,null,null,null,null,null,null,null,"",0,0,0,{"$f":"IF(F1277=\"\",0,IF(isNccValid(F1277),0,1))","v":0}]
[null,null,null,null,null,null,null,null,null,null,null,null,null,null,null,"",0,0,0,{"$f":"IF(F1278=\"\",0,IF(isNccValid(F1278),0,1))","v":0}]
[null,null,null,null,null,null,null,null,null,null,null,null,null,null,null,"",0,0,0,{"$f":"IF(F1279=\"\",0,IF(isNccValid(F1279),0,1))","v":0}]
[null,null,null,null,null,null,null,null,null,null,null,null,null,null,null,"",0,0,0,{"$f":"IF(F1280=\"\",0,IF(isNccValid(F1280),0,1))","v":0}]
[null,null,null,null,null,null,null,null,null,null,null,null,null,null,null,"",0,0,0,{"$f":"IF(F1281=\"\",0,IF(isNccValid(F1281),0,1))","v":0}]
[null,null,null,null,null,null,null,null,null,null,null,null,null,null,null,"",0,0,0,{"$f":"IF(F1282=\"\",0,IF(isNccValid(F1282),0,1))","v":0}]
[null,null,null,null,null,null,null,null,null,null,null,null,null,null,null,"",0,0,0,{"$f":"IF(F1283=\"\",0,IF(isNccValid(F1283),0,1))","v":0}]
[null,null,null,null,null,null,null,null,null,null,null,null,null,null,null,"",0,0,0,{"$f":"IF(F1284=\"\",0,IF(isNccValid(F1284),0,1))","v":0}]
[null,null,null,null,null,null,null,null,null,null,null,null,null,null,null,"",0,0,0,{"$f":"IF(F1285=\"\",0,IF(isNccValid(F1285),0,1))","v":0}]
[null,null,null,null,null,null,null,null,null,null,null,null,null,null,null,"",0,0,0,{"$f":"IF(F1286=\"\",0,IF(isNccValid(F1286),0,1))","v":0}]
[null,null,null,null,null,null,null,null,null,null,null,null,null,null,null,"",0,0,0,{"$f":"IF(F1287=\"\",0,IF(isNccValid(F1287),0,1))","v":0}]
[null,null,null,null,null,null,null,null,null,null,null,null,null,null,null,"",0,0,0,{"$f":"IF(F1288=\"\",0,IF(isNccValid(F1288),0,1))","v":0}]
[null,null,null,null,null,null,null,null,null,null,null,null,null,null,null,"",0,0,0,{"$f":"IF(F1289=\"\",0,IF(isNccValid(F1289),0,1))","v":0}]
[null,null,null,null,null,null,null,null,null,null,null,null,null,null,null,"",0,0,0,{"$f":"IF(F1290=\"\",0,IF(isNccValid(F1290),0,1))","v":0}]
[null,null,null,null,null,null,null,null,null,null,null,null,null,null,null,"",0,0,0,{"$f":"IF(F1291=\"\",0,IF(isNccValid(F1291),0,1))","v":0}]
[null,null,null,null,null,null,null,null,null,null,null,null,null,null,null,"",0,0,0,{"$f":"IF(F1292=\"\",0,IF(isNccValid(F1292),0,1))","v":0}]
[null,null,null,null,null,null,null,null,null,null,null,null,null,null,null,"",0,0,0,{"$f":"IF(F1293=\"\",0,IF(isNccValid(F1293),0,1))","v":0}]
[null,null,null,null,null,null,null,null,null,null,null,null,null,null,null,"",0,0,0,{"$f":"IF(F1294=\"\",0,IF(isNccValid(F1294),0,1))","v":0}]
[null,null,null,null,null,null,null,null,null,null,null,null,null,null,null,"",0,0,0,{"$f":"IF(F1295=\"\",0,IF(isNccValid(F1295),0,1))","v":0}]
[null,null,null,null,null,null,null,null,null,null,null,null,null,null,null,"",0,0,0,{"$f":"IF(F1296=\"\",0,IF(isNccValid(F1296),0,1))","v":0}]
[null,null,null,null,null,null,null,null,null,null,null,null,null,null,null,"",0,0,0,{"$f":"IF(F1297=\"\",0,IF(isNccValid(F1297),0,1))","v":0}]
[null,null,null,null,null,null,null,null,null,null,null,null,null,null,null,"",0,0,0,{"$f":"IF(F1298=\"\",0,IF(isNccValid(F1298),0,1))","v":0}]
[null,null,null,null,null,null,null,null,null,null,null,null,null,null,null,"",0,0,0,{"$f":"IF(F1299=\"\",0,IF(isNccValid(F1299),0,1))","v":0}]
[null,null,null,null,null,null,null,null,null,null,null,null,null,null,null,"",0,0,0,{"$f":"IF(F1300=\"\",0,IF(isNccValid(F1300),0,1))","v":0}]
[null,null,null,null,null,null,null,null,null,null,null,null,null,null,null,"",0,0,0,{"$f":"IF(F1301=\"\",0,IF(isNccValid(F1301),0,1))","v":0}]
[null,null,null,null,null,null,null,null,null,null,null,null,null,null,null,{"$f":"IF(B1302=\"\",\"\",M1302*O1302)","v":""},0,0,0,{"$f":"IF(F1302=\"\",0,IF(isNccValid(F1302),0,1))","v":0}]
[null,null,null,null,null,null,null,null,null,null,null,null,null,null,null,"",0,0,0,{"$f":"IF(F1303=\"\",0,IF(isNccValid(F1303),0,1))","v":0}]
[null,null,null,null,null,null,null,null,null,null,null,null,null,null,null,"",0,0,0,{"$f":"IF(F1304=\"\",0,IF(isNccValid(F1304),0,1))","v":0}]
[null,null,null,null,null,null,null,null,null,null,null,null,null,null,null,"",0,0,0,{"$f":"IF(F1305=\"\",0,IF(isNccValid(F1305),0,1))","v":0}]
[null,null,null,null,null,null,null,null,null,null,null,null,null,null,null,"",0,0,0,{"$f":"IF(F1306=\"\",0,IF(isNccValid(F1306),0,1))","v":0}]
[null,null,null,null,null,null,null,null,null,null,null,null,null,null,null,"",0,0,0,{"$f":"IF(F1307=\"\",0,IF(isNccValid(F1307),0,1))","v":0}]
[null,null,null,null,null,null,null,null,null,null,null,null,null,null,null,"",0,0,0,{"$f":"IF(F1308=\"\",0,IF(isNccValid(F1308),0,1))","v":0}]
[null,null,null,null,null,null,null,null,null,null,null,null,null,null,null,"",0,0,0,{"$f":"IF(F1309=\"\",0,IF(isNccValid(F1309),0,1))","v":0}]
[null,null,null,null,null,null,null,null,null,null,null,null,null,null,null,"",0,0,0,{"$f":"IF(F1310=\"\",0,IF(isNccValid(F1310),0,1))","v":0}]
[null,null,null,null,null,null,null,null,null,null,null,null,null,null,null,"",0,0,0,{"$f":"IF(F1311=\"\",0,IF(isNccValid(F1311),0,1))","v":0}]
[null,null,null,null,null,null,null,null,null,null,null,null,null,null,null,"",0,0,0,{"$f":"IF(F1312=\"\",0,IF(isNccValid(F1312),0,1))","v":0}]
[null,null,null,null,null,null,null,null,null,null,null,null,null,null,null,"",0,0,0,{"$f":"IF(F1313=\"\",0,IF(isNccValid(F1313),0,1))","v":0}]
[null,null,null,null,null,null,null,null,null,null,null,null,null,null,null,"",0,0,0,{"$f":"IF(F1314=\"\",0,IF(isNccValid(F1314),0,1))","v":0}]
[null,null,null,null,null,null,null,null,null,null,null,null,null,null,null,"",0,0,0,{"$f":"IF(F1315=\"\",0,IF(isNccValid(F1315),0,1))","v":0}]
[null,null,null,null,null,null,null,null,null,null,null,null,null,null,null,"",0,0,0,{"$f":"IF(F1316=\"\",0,IF(isNccValid(F1316),0,1))","v":0}]
[null,null,null,null,null,null,null,null,null,null,null,null,null,null,null,"",0,0,0,{"$f":"IF(F1317=\"\",0,IF(isNccValid(F1317),0,1))","v":0}]
[null,null,null,null,null,null,null,null,null,null,null,null,null,null,null,"",0,0,0,{"$f":"IF(F1318=\"\",0,IF(isNccValid(F1318),0,1))","v":0}]
[null,null,null,null,null,null,null,null,null,null,null,null,null,null,null,"",0,0,0,{"$f":"IF(F1319=\"\",0,IF(isNccValid(F1319),0,1))","v":0}]
[null,null,null,null,null,null,null,null,null,null,null,null,null,null,null,"",0,0,0,{"$f":"IF(F1320=\"\",0,IF(isNccValid(F1320),0,1))","v":0}]
[null,null,null,null,null,null,null,null,null,null,null,null,null,null,null,"",0,0,0,{"$f":"IF(F1321=\"\",0,IF(isNccValid(F1321),0,1))","v":0}]
[null,null,null,null,null,null,null,null,null,null,null,null,null,null,null,"",0,0,0,{"$f":"IF(F1322=\"\",0,IF(isNccValid(F1322),0,1))","v":0}]
[null,null,null,null,null,null,null,null,null,null,null,null,null,null,null,"",0,0,0,{"$f":"IF(F1323=\"\",0,IF(isNccValid(F1323),0,1))","v":0}]
[null,null,null,null,null,null,null,null,null,null,null,null,null,null,null,"",0,0,0,{"$f":"IF(F1324=\"\",0,IF(isNccValid(F1324),0,1))","v":0}]
[null,null,null,null,null,null,null,null,null,null,null,null,null,null,null,"",0,0,0,{"$f":"IF(F1325=\"\",0,IF(isNccValid(F1325),0,1))","v":0}]
[null,null,null,null,null,null,null,null,null,null,null,null,null,null,null,"",0,0,0,{"$f":"IF(F1326=\"\",0,IF(isNccValid(F1326),0,1))","v":0}]
[null,null,null,null,null,null,null,null,null,null,null,null,null,null,null,"",0,0,0,{"$f":"IF(F1327=\"\",0,IF(isNccValid(F1327),0,1))","v":0}]
[null,null,null,null,null,null,null,null,null,null,null,null,null,null,null,"",0,0,0,{"$f":"IF(F1328=\"\",0,IF(isNccValid(F1328),0,1))","v":0}]
[null,null,null,null,null,null,null,null,null,null,null,null,null,null,null,"",0,0,0,{"$f":"IF(F1329=\"\",0,IF(isNccValid(F1329),0,1))","v":0}]
[null,null,null,null,null,null,null,null,null,null,null,null,null,null,null,"",0,0,0,{"$f":"IF(F1330=\"\",0,IF(isNccValid(F1330),0,1))","v":0}]
[null,null,null,null,null,null,null,null,null,null,null,null,null,null,null,"",0,0,0,{"$f":"IF(F1331=\"\",0,IF(isNccValid(F1331),0,1))","v":0}]
[null,null,null,null,null,null,null,null,null,null,null,null,null,null,null,"",0,0,0,{"$f":"IF(F1332=\"\",0,IF(isNccValid(F1332),0,1))","v":0}]
[null,null,null,null,null,null,null,null,null,null,null,null,null,null,null,"",0,0,0,{"$f":"IF(F1333=\"\",0,IF(isNccValid(F1333),0,1))","v":0}]
[null,null,null,null,null,null,null,null,null,null,null,null,null,null,null,"",0,0,0,{"$f":"IF(F1334=\"\",0,IF(isNccValid(F1334),0,1))","v":0}]
[null,null,null,null,null,null,null,null,null,null,null,null,null,null,null,"",0,0,0,{"$f":"IF(F1335=\"\",0,IF(isNccValid(F1335),0,1))","v":0}]
[null,null,null,null,null,null,null,null,null,null,null,null,null,null,null,"",0,0,0,{"$f":"IF(F1336=\"\",0,IF(isNccValid(F1336),0,1))","v":0}]
[null,null,null,null,null,null,null,null,null,null,null,null,null,null,null,"",0,0,0,{"$f":"IF(F1337=\"\",0,IF(isNccValid(F1337),0,1))","v":0}]
[null,null,null,null,null,null,null,null,null,null,null,null,null,null,null,"",0,0,0,{"$f":"IF(F1338=\"\",0,IF(isNccValid(F1338),0,1))","v":0}]
[null,null,null,null,null,null,null,null,null,null,null,null,null,null,null,"",0,0,0,{"$f":"IF(F1339=\"\",0,IF(isNccValid(F1339),0,1))","v":0}]
[null,null,null,null,null,null,null,null,null,null,null,null,null,null,null,"",0,0,0,{"$f":"IF(F1340=\"\",0,IF(isNccValid(F1340),0,1))","v":0}]
[null,null,null,null,null,null,null,null,null,null,null,null,null,null,null,"",0,0,0,{"$f":"IF(F1341=\"\",0,IF(isNccValid(F1341),0,1))","v":0}]
[null,null,null,null,null,null,null,null,null,null,null,null,null,null,null,"",0,0,0,{"$f":"IF(F1342=\"\",0,IF(isNccValid(F1342),0,1))","v":0}]
[null,null,null,null,null,null,null,null,null,null,null,null,null,null,null,"",0,0,0,{"$f":"IF(F1343=\"\",0,IF(isNccValid(F1343),0,1))","v":0}]
[null,null,null,null,null,null,null,null,null,null,null,null,null,null,null,"",0,0,0,{"$f":"IF(F1344=\"\",0,IF(isNccValid(F1344),0,1))","v":0}]
[null,null,null,null,null,null,null,null,null,null,null,null,null,null,null,"",0,0,0,{"$f":"IF(F1345=\"\",0,IF(isNccValid(F1345),0,1))","v":0}]
[null,null,null,null,null,null,null,null,null,null,null,null,null,null,null,"",0,0,0,{"$f":"IF(F1346=\"\",0,IF(isNccValid(F1346),0,1))","v":0}]
[null,null,null,null,null,null,null,null,null,null,null,null,null,null,null,"",0,0,0,{"$f":"IF(F1347=\"\",0,IF(isNccValid(F1347),0,1))","v":0}]
[null,null,null,null,null,null,null,null,null,null,null,null,null,null,null,"",0,0,0,{"$f":"IF(F1348=\"\",0,IF(isNccValid(F1348),0,1))","v":0}]
[null,null,null,null,null,null,null,null,null,null,null,null,null,null,null,"",0,0,0,{"$f":"IF(F1349=\"\",0,IF(isNccValid(F1349),0,1))","v":0}]
[null,null,null,null,null,null,null,null,null,null,null,null,null,null,null,"",0,0,0,{"$f":"IF(F1350=\"\",0,IF(isNccValid(F1350),0,1))","v":0}]
[null,null,null,null,null,null,null,null,null,null,null,null,null,null,null,"",0,0,0,{"$f":"IF(F1351=\"\",0,IF(isNccValid(F1351),0,1))","v":0}]
[null,null,null,null,null,null,null,null,null,null,null,null,null,null,null,"",0,0,0,{"$f":"IF(F1352=\"\",0,IF(isNccValid(F1352),0,1))","v":0}]
[null,null,null,null,null,null,null,null,null,null,null,null,null,null,null,"",0,0,0,{"$f":"IF(F1353=\"\",0,IF(isNccValid(F1353),0,1))","v":0}]
[null,null,null,null,null,null,null,null,null,null,null,null,null,null,null,"",0,0,0,{"$f":"IF(F1354=\"\",0,IF(isNccValid(F1354),0,1))","v":0}]
[null,null,null,null,null,null,null,null,null,null,null,null,null,null,null,"",0,0,0,{"$f":"IF(F1355=\"\",0,IF(isNccValid(F1355),0,1))","v":0}]
[null,null,null,null,null,null,null,null,null,null,null,null,null,null,null,"",0,0,0,{"$f":"IF(F1356=\"\",0,IF(isNccValid(F1356),0,1))","v":0}]
[null,null,null,null,null,null,null,null,null,null,null,null,null,null,null,"",0,0,0,{"$f":"IF(F1357=\"\",0,IF(isNccValid(F1357),0,1))","v":0}]
[null,null,null,null,null,null,null,null,null,null,null,null,null,null,null,"",0,0,0,{"$f":"IF(F1358=\"\",0,IF(isNccValid(F1358),0,1))","v":0}]
[null,null,null,null,null,null,null,null,null,null,null,null,null,null,null,"",0,0,0,{"$f":"IF(F1359=\"\",0,IF(isNccValid(F1359),0,1))","v":0}]
[null,null,null,null,null,null,null,null,null,null,null,null,null,null,null,"",0,0,0,{"$f":"IF(F1360=\"\",0,IF(isNccValid(F1360),0,1))","v":0}]
[null,null,null,null,null,null,null,null,null,null,null,null,null,null,null,"",0,0,0,{"$f":"IF(F1361=\"\",0,IF(isNccValid(F1361),0,1))","v":0}]
[null,null,null,null,null,null,null,null,null,null,null,null,null,null,null,"",0,0,0,{"$f":"IF(F1362=\"\",0,IF(isNccValid(F1362),0,1))","v":0}]
[null,null,null,null,null,null,null,null,null,null,null,null,null,null,null,"",0,0,0,{"$f":"IF(F1363=\"\",0,IF(isNccValid(F1363),0,1))","v":0}]
[null,null,null,null,null,null,null,null,null,null,null,null,null,null,null,"",0,0,0,{"$f":"IF(F1364=\"\",0,IF(isNccValid(F1364),0,1))","v":0}]
[null,null,null,null,null,null,null,null,null,null,null,null,null,null,null,"",0,0,0,{"$f":"IF(F1365=\"\",0,IF(isNccValid(F1365),0,1))","v":0}]
[null,null,null,null,null,null,null,null,null,null,null,null,null,null,null,{"$f":"IF(B1366=\"\",\"\",M1366*O1366)","v":""},0,0,0,{"$f":"IF(F1366=\"\",0,IF(isNccValid(F1366),0,1))","v":0}]
[null,null,null,null,null,null,null,null,null,null,null,null,null,null,null,"",0,0,0,{"$f":"IF(F1367=\"\",0,IF(isNccValid(F1367),0,1))","v":0}]
[null,null,null,null,null,null,null,null,null,null,null,null,null,null,null,"",0,0,0,{"$f":"IF(F1368=\"\",0,IF(isNccValid(F1368),0,1))","v":0}]
[null,null,null,null,null,null,null,null,null,null,null,null,null,null,null,"",0,0,0,{"$f":"IF(F1369=\"\",0,IF(isNccValid(F1369),0,1))","v":0}]
[null,null,null,null,null,null,null,null,null,null,null,null,null,null,null,"",0,0,0,{"$f":"IF(F1370=\"\",0,IF(isNccValid(F1370),0,1))","v":0}]
[null,null,null,null,null,null,null,null,null,null,null,null,null,null,null,"",0,0,0,{"$f":"IF(F1371=\"\",0,IF(isNccValid(F1371),0,1))","v":0}]
[null,null,null,null,null,null,null,null,null,null,null,null,null,null,null,"",0,0,0,{"$f":"IF(F1372=\"\",0,IF(isNccValid(F1372),0,1))","v":0}]
[null,null,null,null,null,null,null,null,null,null,null,null,null,null,null,"",0,0,0,{"$f":"IF(F1373=\"\",0,IF(isNccValid(F1373),0,1))","v":0}]
[null,null,null,null,null,null,null,null,null,null,null,null,null,null,null,"",0,0,0,{"$f":"IF(F1374=\"\",0,IF(isNccValid(F1374),0,1))","v":0}]
[null,null,null,null,null,null,null,null,null,null,null,null,null,null,null,"",0,0,0,{"$f":"IF(F1375=\"\",0,IF(isNccValid(F1375),0,1))","v":0}]
[null,null,null,null,null,null,null,null,null,null,null,null,null,null,null,"",0,0,0,{"$f":"IF(F1376=\"\",0,IF(isNccValid(F1376),0,1))","v":0}]
[null,null,null,null,null,null,null,null,null,null,null,null,null,null,null,"",0,0,0,{"$f":"IF(F1377=\"\",0,IF(isNccValid(F1377),0,1))","v":0}]
[null,null,null,null,null,null,null,null,null,null,null,null,null,null,null,"",0,0,0,{"$f":"IF(F1378=\"\",0,IF(isNccValid(F1378),0,1))","v":0}]
[null,null,null,null,null,null,null,null,null,null,null,null,null,null,null,"",0,0,0,{"$f":"IF(F1379=\"\",0,IF(isNccValid(F1379),0,1))","v":0}]
[null,null,null,null,null,null,null,null,null,null,null,null,null,null,null,"",0,0,0,{"$f":"IF(F1380=\"\",0,IF(isNccValid(F1380),0,1))","v":0}]
[null,null,null,null,null,null,null,null,null,null,null,null,null,null,null,"",0,0,0,{"$f":"IF(F1381=\"\",0,IF(isNccValid(F1381),0,1))","v":0}]
[null,null,null,null,null,null,null,null,null,null,null,null,null,null,null,"",0,0,0,{"$f":"IF(F1382=\"\",0,IF(isNccValid(F1382),0,1))","v":0}]
[null,null,null,null,null,null,null,null,null,null,null,null,null,null,null,"",0,0,0,{"$f":"IF(F1383=\"\",0,IF(isNccValid(F1383),0,1))","v":0}]
[null,null,null,null,null,null,null,null,null,null,null,null,null,null,null,"",0,0,0,{"$f":"IF(F1384=\"\",0,IF(isNccValid(F1384),0,1))","v":0}]
[null,null,null,null,null,null,null,null,null,null,null,null,null,null,null,"",0,0,0,{"$f":"IF(F1385=\"\",0,IF(isNccValid(F1385),0,1))","v":0}]
[null,null,null,null,null,null,null,null,null,null,null,null,null,null,null,"",0,0,0,{"$f":"IF(F1386=\"\",0,IF(isNccValid(F1386),0,1))","v":0}]
[null,null,null,null,null,null,null,null,null,null,null,null,null,null,null,"",0,0,0,{"$f":"IF(F1387=\"\",0,IF(isNccValid(F1387),0,1))","v":0}]
[null,null,null,null,null,null,null,null,null,null,null,null,null,null,null,"",0,0,0,{"$f":"IF(F1388=\"\",0,IF(isNccValid(F1388),0,1))","v":0}]
[null,null,null,null,null,null,null,null,null,null,null,null,null,null,null,"",0,0,0,{"$f":"IF(F1389=\"\",0,IF(isNccValid(F1389),0,1))","v":0}]
[null,null,null,null,null,null,null,null,null,null,null,null,null,null,null,"",0,0,0,{"$f":"IF(F1390=\"\",0,IF(isNccValid(F1390),0,1))","v":0}]
[null,null,null,null,null,null,null,null,null,null,null,null,null,null,null,"",0,0,0,{"$f":"IF(F1391=\"\",0,IF(isNccValid(F1391),0,1))","v":0}]
[null,null,null,null,null,null,null,null,null,null,null,null,null,null,null,"",0,0,0,{"$f":"IF(F1392=\"\",0,IF(isNccValid(F1392),0,1))","v":0}]
[null,null,null,null,null,null,null,null,null,null,null,null,null,null,null,"",0,0,0,{"$f":"IF(F1393=\"\",0,IF(isNccValid(F1393),0,1))","v":0}]
[null,null,null,null,null,null,null,null,null,null,null,null,null,null,null,"",0,0,0,{"$f":"IF(F1394=\"\",0,IF(isNccValid(F1394),0,1))","v":0}]
[null,null,null,null,null,null,null,null,null,null,null,null,null,null,null,"",0,0,0,{"$f":"IF(F1395=\"\",0,IF(isNccValid(F1395),0,1))","v":0}]
[null,null,null,null,null,null,null,null,null,null,null,null,null,null,null,"",0,0,0,{"$f":"IF(F1396=\"\",0,IF(isNccValid(F1396),0,1))","v":0}]
[null,null,null,null,null,null,null,null,null,null,null,null,null,null,null,"",0,0,0,{"$f":"IF(F1397=\"\",0,IF(isNccValid(F1397),0,1))","v":0}]
[null,null,null,null,null,null,null,null,null,null,null,null,null,null,null,"",0,0,0,{"$f":"IF(F1398=\"\",0,IF(isNccValid(F1398),0,1))","v":0}]
[null,null,null,null,null,null,null,null,null,null,null,null,null,null,null,"",0,0,0,{"$f":"IF(F1399=\"\",0,IF(isNccValid(F1399),0,1))","v":0}]
[null,null,null,null,null,null,null,null,null,null,null,null,null,null,null,"",0,0,0,{"$f":"IF(F1400=\"\",0,IF(isNccValid(F1400),0,1))","v":0}]
[null,null,null,null,null,null,null,null,null,null,null,null,null,null,null,"",0,0,0,{"$f":"IF(F1401=\"\",0,IF(isNccValid(F1401),0,1))","v":0}]
[null,null,null,null,null,null,null,null,null,null,null,null,null,null,null,"",0,0,0,{"$f":"IF(F1402=\"\",0,IF(isNccValid(F1402),0,1))","v":0}]
[null,null,null,null,null,null,null,null,null,null,null,null,null,null,null,"",0,0,0,{"$f":"IF(F1403=\"\",0,IF(isNccValid(F1403),0,1))","v":0}]
[null,null,null,null,null,null,null,null,null,null,null,null,null,null,null,"",0,0,0,{"$f":"IF(F1404=\"\",0,IF(isNccValid(F1404),0,1))","v":0}]
[null,null,null,null,null,null,null,null,null,null,null,null,null,null,null,"",0,0,0,{"$f":"IF(F1405=\"\",0,IF(isNccValid(F1405),0,1))","v":0}]
[null,null,null,null,null,null,null,null,null,null,null,null,null,null,null,"",0,0,0,{"$f":"IF(F1406=\"\",0,IF(isNccValid(F1406),0,1))","v":0}]
[null,null,null,null,null,null,null,null,null,null,null,null,null,null,null,"",0,0,0,{"$f":"IF(F1407=\"\",0,IF(isNccValid(F1407),0,1))","v":0}]
[null,null,null,null,null,null,null,null,null,null,null,null,null,null,null,"",0,0,0,{"$f":"IF(F1408=\"\",0,IF(isNccValid(F1408),0,1))","v":0}]
[null,null,null,null,null,null,null,null,null,null,null,null,null,null,null,"",0,0,0,{"$f":"IF(F1409=\"\",0,IF(isNccValid(F1409),0,1))","v":0}]
[null,null,null,null,null,null,null,null,null,null,null,null,null,null,null,"",0,0,0,{"$f":"IF(F1410=\"\",0,IF(isNccValid(F1410),0,1))","v":0}]
[null,null,null,null,null,null,null,null,null,null,null,null,null,null,null,"",0,0,0,{"$f":"IF(F1411=\"\",0,IF(isNccValid(F1411),0,1))","v":0}]
[null,null,null,null,null,null,null,null,null,null,null,null,null,null,null,"",0,0,0,{"$f":"IF(F1412=\"\",0,IF(isNccValid(F1412),0,1))","v":0}]
[null,null,null,null,null,null,null,null,null,null,null,null,null,null,null,"",0,0,0,{"$f":"IF(F1413=\"\",0,IF(isNccValid(F1413),0,1))","v":0}]
[null,null,null,null,null,null,null,null,null,null,null,null,null,null,null,"",0,0,0,{"$f":"IF(F1414=\"\",0,IF(isNccValid(F1414),0,1))","v":0}]
[null,null,null,null,null,null,null,null,null,null,null,null,null,null,null,"",0,0,0,{"$f":"IF(F1415=\"\",0,IF(isNccValid(F1415),0,1))","v":0}]
[null,null,null,null,null,null,null,null,null,null,null,null,null,null,null,"",0,0,0,{"$f":"IF(F1416=\"\",0,IF(isNccValid(F1416),0,1))","v":0}]
[null,null,null,null,null,null,null,null,null,null,null,null,null,null,null,"",0,0,0,{"$f":"IF(F1417=\"\",0,IF(isNccValid(F1417),0,1))","v":0}]
[null,null,null,null,null,null,null,null,null,null,null,null,null,null,null,"",0,0,0,{"$f":"IF(F1418=\"\",0,IF(isNccValid(F1418),0,1))","v":0}]
[null,null,null,null,null,null,null,null,null,null,null,null,null,null,null,"",0,0,0,{"$f":"IF(F1419=\"\",0,IF(isNccValid(F1419),0,1))","v":0}]
[null,null,null,null,null,null,null,null,null,null,null,null,null,null,null,"",0,0,0,{"$f":"IF(F1420=\"\",0,IF(isNccValid(F1420),0,1))","v":0}]
[null,null,null,null,null,null,null,null,null,null,null,null,null,null,null,"",0,0,0,{"$f":"IF(F1421=\"\",0,IF(isNccValid(F1421),0,1))","v":0}]
[null,null,null,null,null,null,null,null,null,null,null,null,null,null,null,"",0,0,0,{"$f":"IF(F1422=\"\",0,IF(isNccValid(F1422),0,1))","v":0}]
[null,null,null,null,null,null,null,null,null,null,null,null,null,null,null,"",0,0,0,{"$f":"IF(F1423=\"\",0,IF(isNccValid(F1423),0,1))","v":0}]
[null,null,null,null,null,null,null,null,null,null,null,null,null,null,null,"",0,0,0,{"$f":"IF(F1424=\"\",0,IF(isNccValid(F1424),0,1))","v":0}]
[null,null,null,null,null,null,null,null,null,null,null,null,null,null,null,"",0,0,0,{"$f":"IF(F1425=\"\",0,IF(isNccValid(F1425),0,1))","v":0}]
[null,null,null,null,null,null,null,null,null,null,null,null,null,null,null,"",0,0,0,{"$f":"IF(F1426=\"\",0,IF(isNccValid(F1426),0,1))","v":0}]
[null,null,null,null,null,null,null,null,null,null,null,null,null,null,null,"",0,0,0,{"$f":"IF(F1427=\"\",0,IF(isNccValid(F1427),0,1))","v":0}]
[null,null,null,null,null,null,null,null,null,null,null,null,null,null,null,"",0,0,0,{"$f":"IF(F1428=\"\",0,IF(isNccValid(F1428),0,1))","v":0}]
[null,null,null,null,null,null,null,null,null,null,null,null,null,null,null,"",0,0,0,{"$f":"IF(F1429=\"\",0,IF(isNccValid(F1429),0,1))","v":0}]
[null,null,null,null,null,null,null,null,null,null,null,null,null,null,null,{"$f":"IF(B1430=\"\",\"\",M1430*O1430)","v":""},0,0,0,{"$f":"IF(F1430=\"\",0,IF(isNccValid(F1430),0,1))","v":0}]
[null,null,null,null,null,null,null,null,null,null,null,null,null,null,null,"",0,0,0,{"$f":"IF(F1431=\"\",0,IF(isNccValid(F1431),0,1))","v":0}]
[null,null,null,null,null,null,null,null,null,null,null,null,null,null,null,"",0,0,0,{"$f":"IF(F1432=\"\",0,IF(isNccValid(F1432),0,1))","v":0}]
[null,null,null,null,null,null,null,null,null,null,null,null,null,null,null,"",0,0,0,{"$f":"IF(F1433=\"\",0,IF(isNccValid(F1433),0,1))","v":0}]
[null,null,null,null,null,null,null,null,null,null,null,null,null,null,null,"",0,0,0,{"$f":"IF(F1434=\"\",0,IF(isNccValid(F1434),0,1))","v":0}]
[null,null,null,null,null,null,null,null,null,null,null,null,null,null,null,"",0,0,0,{"$f":"IF(F1435=\"\",0,IF(isNccValid(F1435),0,1))","v":0}]
[null,null,null,null,null,null,null,null,null,null,null,null,null,null,null,"",0,0,0,{"$f":"IF(F1436=\"\",0,IF(isNccValid(F1436),0,1))","v":0}]
[null,null,null,null,null,null,null,null,null,null,null,null,null,null,null,"",0,0,0,{"$f":"IF(F1437=\"\",0,IF(isNccValid(F1437),0,1))","v":0}]
[null,null,null,null,null,null,null,null,null,null,null,null,null,null,null,"",0,0,0,{"$f":"IF(F1438=\"\",0,IF(isNccValid(F1438),0,1))","v":0}]
[null,null,null,null,null,null,null,null,null,null,null,null,null,null,null,"",0,0,0,{"$f":"IF(F1439=\"\",0,IF(isNccValid(F1439),0,1))","v":0}]
[null,null,null,null,null,null,null,null,null,null,null,null,null,null,null,"",0,0,0,{"$f":"IF(F1440=\"\",0,IF(isNccValid(F1440),0,1))","v":0}]
[null,null,null,null,null,null,null,null,null,null,null,null,null,null,null,"",0,0,0,{"$f":"IF(F1441=\"\",0,IF(isNccValid(F1441),0,1))","v":0}]
[null,null,null,null,null,null,null,null,null,null,null,null,null,null,null,"",0,0,0,{"$f":"IF(F1442=\"\",0,IF(isNccValid(F1442),0,1))","v":0}]
[null,null,null,null,null,null,null,null,null,null,null,null,null,null,null,"",0,0,0,{"$f":"IF(F1443=\"\",0,IF(isNccValid(F1443),0,1))","v":0}]
[null,null,null,null,null,null,null,null,null,null,null,null,null,null,null,"",0,0,0,{"$f":"IF(F1444=\"\",0,IF(isNccValid(F1444),0,1))","v":0}]
[null,null,null,null,null,null,null,null,null,null,null,null,null,null,null,"",0,0,0,{"$f":"IF(F1445=\"\",0,IF(isNccValid(F1445),0,1))","v":0}]
[null,null,null,null,null,null,null,null,null,null,null,null,null,null,null,"",0,0,0,{"$f":"IF(F1446=\"\",0,IF(isNccValid(F1446),0,1))","v":0}]
[null,null,null,null,null,null,null,null,null,null,null,null,null,null,null,"",0,0,0,{"$f":"IF(F1447=\"\",0,IF(isNccValid(F1447),0,1))","v":0}]
[null,null,null,null,null,null,null,null,null,null,null,null,null,null,null,"",0,0,0,{"$f":"IF(F1448=\"\",0,IF(isNccValid(F1448),0,1))","v":0}]
[null,null,null,null,null,null,null,null,null,null,null,null,null,null,null,"",0,0,0,{"$f":"IF(F1449=\"\",0,IF(isNccValid(F1449),0,1))","v":0}]
[null,null,null,null,null,null,null,null,null,null,null,null,null,null,null,"",0,0,0,{"$f":"IF(F1450=\"\",0,IF(isNccValid(F1450),0,1))","v":0}]
[null,null,null,null,null,null,null,null,null,null,null,null,null,null,null,"",0,0,0,{"$f":"IF(F1451=\"\",0,IF(isNccValid(F1451),0,1))","v":0}]
[null,null,null,null,null,null,null,null,null,null,null,null,null,null,null,"",0,0,0,{"$f":"IF(F1452=\"\",0,IF(isNccValid(F1452),0,1))","v":0}]
[null,null,null,null,null,null,null,null,null,null,null,null,null,null,null,"",0,0,0,{"$f":"IF(F1453=\"\",0,IF(isNccValid(F1453),0,1))","v":0}]
[null,null,null,null,null,null,null,null,null,null,null,null,null,null,null,"",0,0,0,{"$f":"IF(F1454=\"\",0,IF(isNccValid(F1454),0,1))","v":0}]
[null,null,null,null,null,null,null,null,null,null,null,null,null,null,null,"",0,0,0,{"$f":"IF(F1455=\"\",0,IF(isNccValid(F1455),0,1))","v":0}]
[null,null,null,null,null,null,null,null,null,null,null,null,null,null,null,"",0,0,0,{"$f":"IF(F1456=\"\",0,IF(isNccValid(F1456),0,1))","v":0}]
[null,null,null,null,null,null,null,null,null,null,null,null,null,null,null,"",0,0,0,{"$f":"IF(F1457=\"\",0,IF(isNccValid(F1457),0,1))","v":0}]
[null,null,null,null,null,null,null,null,null,null,null,null,null,null,null,"",0,0,0,{"$f":"IF(F1458=\"\",0,IF(isNccValid(F1458),0,1))","v":0}]
[null,null,null,null,null,null,null,null,null,null,null,null,null,null,null,"",0,0,0,{"$f":"IF(F1459=\"\",0,IF(isNccValid(F1459),0,1))","v":0}]
[null,null,null,null,null,null,null,null,null,null,null,null,null,null,null,"",0,0,0,{"$f":"IF(F1460=\"\",0,IF(isNccValid(F1460),0,1))","v":0}]
[null,null,null,null,null,null,null,null,null,null,null,null,null,null,null,"",0,0,0,{"$f":"IF(F1461=\"\",0,IF(isNccValid(F1461),0,1))","v":0}]
[null,null,null,null,null,null,null,null,null,null,null,null,null,null,null,"",0,0,0,{"$f":"IF(F1462=\"\",0,IF(isNccValid(F1462),0,1))","v":0}]
[null,null,null,null,null,null,null,null,null,null,null,null,null,null,null,"",0,0,0,{"$f":"IF(F1463=\"\",0,IF(isNccValid(F1463),0,1))","v":0}]
[null,null,null,null,null,null,null,null,null,null,null,null,null,null,null,"",0,0,0,{"$f":"IF(F1464=\"\",0,IF(isNccValid(F1464),0,1))","v":0}]
[null,null,null,null,null,null,null,null,null,null,null,null,null,null,null,"",0,0,0,{"$f":"IF(F1465=\"\",0,IF(isNccValid(F1465),0,1))","v":0}]
[null,null,null,null,null,null,null,null,null,null,null,null,null,null,null,"",0,0,0,{"$f":"IF(F1466=\"\",0,IF(isNccValid(F1466),0,1))","v":0}]
[null,null,null,null,null,null,null,null,null,null,null,null,null,null,null,"",0,0,0,{"$f":"IF(F1467=\"\",0,IF(isNccValid(F1467),0,1))","v":0}]
[null,null,null,null,null,null,null,null,null,null,null,null,null,null,null,"",0,0,0,{"$f":"IF(F1468=\"\",0,IF(isNccValid(F1468),0,1))","v":0}]
[null,null,null,null,null,null,null,null,null,null,null,null,null,null,null,"",0,0,0,{"$f":"IF(F1469=\"\",0,IF(isNccValid(F1469),0,1))","v":0}]
[null,null,null,null,null,null,null,null,null,null,null,null,null,null,null,"",{"$f":"IF(AND(B1470=\"\",R1470=1),1,IF(AND(D1470=\"\",R1470=1),1,IF(AND(E1470=\"\",R1470=1),1,IF(AND(F1470=\"\",R1470=1),1,IF(AND(M1470=\"\",R1470=1),1,IF(AND(O1470=\"\",R1470=1),1,0))))))","v":0},{"$f":"IF(C1470=\"\",0,IF(COUNTA(B1470:O1470)>0,1,0))","v":0},{"$f":"IFERROR(IF(LEN(F1470)=8,0,IF(LEN(F1470)=0,0,1)),1)","v":0},{"$f":"IF(F1470=\"\",0,IF(isNccValid(F1470),0,1))","v":0}]
[null,null,null,null,null,null,null,null,null,null,null,null,null,null,null,"",0,0,0,{"$f":"IF(F1471=\"\",0,IF(isNccValid(F1471),0,1))","v":0}]
[null,null,null,null,null,null,null,null,null,null,null,null,null,null,null,"",0,0,0,{"$f":"IF(F1472=\"\",0,IF(isNccValid(F1472),0,1))","v":0}]
[null,null,null,null,null,null,null,null,null,null,null,null,null,null,null,"",0,0,0,{"$f":"IF(F1473=\"\",0,IF(isNccValid(F1473),0,1))","v":0}]
[null,null,null,null,null,null,null,null,null,null,null,null,null,null,null,"",0,0,0,{"$f":"IF(F1474=\"\",0,IF(isNccValid(F1474),0,1))","v":0}]
[null,null,null,null,null,null,null,null,null,null,null,null,null,null,null,"",0,0,0,{"$f":"IF(F1475=\"\",0,IF(isNccValid(F1475),0,1))","v":0}]
[null,null,null,null,null,null,null,null,null,null,null,null,null,null,null,"",0,0,0,{"$f":"IF(F1476=\"\",0,IF(isNccValid(F1476),0,1))","v":0}]
[null,null,null,null,null,null,null,null,null,null,null,null,null,null,null,"",0,0,0,{"$f":"IF(F1477=\"\",0,IF(isNccValid(F1477),0,1))","v":0}]
[null,null,null,null,null,null,null,null,null,null,null,null,null,null,null,"",0,0,0,{"$f":"IF(F1478=\"\",0,IF(isNccValid(F1478),0,1))","v":0}]
[null,null,null,null,null,null,null,null,null,null,null,null,null,null,null,"",0,0,0,{"$f":"IF(F1479=\"\",0,IF(isNccValid(F1479),0,1))","v":0}]
[null,null,null,null,null,null,null,null,null,null,null,null,null,null,null,"",0,0,0,{"$f":"IF(F1480=\"\",0,IF(isNccValid(F1480),0,1))","v":0}]
[null,null,null,null,null,null,null,null,null,null,null,null,null,null,null,"",0,0,0,{"$f":"IF(F1481=\"\",0,IF(isNccValid(F1481),0,1))","v":0}]
[null,null,null,null,null,null,null,null,null,null,null,null,null,null,null,"",0,0,0,{"$f":"IF(F1482=\"\",0,IF(isNccValid(F1482),0,1))","v":0}]
[null,null,null,null,null,null,null,null,null,null,null,null,null,null,null,"",0,0,0,{"$f":"IF(F1483=\"\",0,IF(isNccValid(F1483),0,1))","v":0}]
[null,null,null,null,null,null,null,null,null,null,null,null,null,null,null,"",0,0,0,{"$f":"IF(F1484=\"\",0,IF(isNccValid(F1484),0,1))","v":0}]
[null,null,null,null,null,null,null,null,null,null,null,null,null,null,null,"",0,0,0,{"$f":"IF(F1485=\"\",0,IF(isNccValid(F1485),0,1))","v":0}]
[null,null,null,null,null,null,null,null,null,null,null,null,null,null,null,"",0,0,0,{"$f":"IF(F1486=\"\",0,IF(isNccValid(F1486),0,1))","v":0}]
[null,null,null,null,null,null,null,null,null,null,null,null,null,null,null,"",0,0,0,{"$f":"IF(F1487=\"\",0,IF(isNccValid(F1487),0,1))","v":0}]
[null,null,null,null,null,null,null,null,null,null,null,null,null,null,null,"",0,0,0,{"$f":"IF(F1488=\"\",0,IF(isNccValid(F1488),0,1))","v":0}]
[null,null,null,null,null,null,null,null,null,null,null,null,null,null,null,"",0,0,0,{"$f":"IF(F1489=\"\",0,IF(isNccValid(F1489),0,1))","v":0}]
[null,null,null,null,null,null,null,null,null,null,null,null,null,null,null,"",0,0,0,{"$f":"IF(F1490=\"\",0,IF(isNccValid(F1490),0,1))","v":0}]
[null,null,null,null,null,null,null,null,null,null,null,null,null,null,null,"",0,0,0,{"$f":"IF(F1491=\"\",0,IF(isNccValid(F1491),0,1))","v":0}]
[null,null,null,null,null,null,null,null,null,null,null,null,null,null,null,"",0,0,0,{"$f":"IF(F1492=\"\",0,IF(isNccValid(F1492),0,1))","v":0}]
[null,null,null,null,null,null,null,null,null,null,null,null,null,null,null,"",0,0,0,{"$f":"IF(F1493=\"\",0,IF(isNccValid(F1493),0,1))","v":0}]
[null,null,null,null,null,null,null,null,null,null,null,null,null,null,null,{"$f":"IF(B1494=\"\",\"\",M1494*O1494)","v":""},0,0,0,{"$f":"IF(F1494=\"\",0,IF(isNccValid(F1494),0,1))","v":0}]
[null,null,null,null,null,null,null,null,null,null,null,null,null,null,null,"",0,0,0,{"$f":"IF(F1495=\"\",0,IF(isNccValid(F1495),0,1))","v":0}]
[null,null,null,null,null,null,null,null,null,null,null,null,null,null,null,"",0,0,0,{"$f":"IF(F1496=\"\",0,IF(isNccValid(F1496),0,1))","v":0}]
[null,null,null,null,null,null,null,null,null,null,null,null,null,null,null,"",0,0,0,{"$f":"IF(F1497=\"\",0,IF(isNccValid(F1497),0,1))","v":0}]
[null,null,null,null,null,null,null,null,null,null,null,null,null,null,null,"",0,0,0,{"$f":"IF(F1498=\"\",0,IF(isNccValid(F1498),0,1))","v":0}]
[null,null,null,null,null,null,null,null,null,null,null,null,null,null,null,"",0,0,0,{"$f":"IF(F1499=\"\",0,IF(isNccValid(F1499),0,1))","v":0}]
[null,null,null,null,null,null,null,null,null,null,null,null,null,null,null,"",0,0,0,{"$f":"IF(F1500=\"\",0,IF(isNccValid(F1500),0,1))","v":0}]
[null,null,null,null,null,null,null,null,null,null,null,null,null,null,null,"",0,0,0,{"$f":"IF(F1501=\"\",0,IF(isNccValid(F1501),0,1))","v":0}]
[null,null,null,null,null,null,null,null,null,null,null,null,null,null,null,"",0,0,0,{"$f":"IF(F1502=\"\",0,IF(isNccValid(F1502),0,1))","v":0}]
[null,null,null,null,null,null,null,null,null,null,null,null,null,null,null,"",0,0,0,{"$f":"IF(F1503=\"\",0,IF(isNccValid(F1503),0,1))","v":0}]
[null,null,null,null,null,null,null,null,null,null,null,null,null,null,null,"",0,0,0,{"$f":"IF(F1504=\"\",0,IF(isNccValid(F1504),0,1))","v":0}]
[null,null,null,null,null,null,null,null,null,null,null,null,null,null,null,"",0,0,0,{"$f":"IF(F1505=\"\",0,IF(isNccValid(F1505),0,1))","v":0}]
[null,null,null,null,null,null,null,null,null,null,null,null,null,null,null,"",0,0,0,{"$f":"IF(F1506=\"\",0,IF(isNccValid(F1506),0,1))","v":0}]
[null,null,null,null,null,null,null,null,null,null,null,null,null,null,null,"",0,0,0,{"$f":"IF(F1507=\"\",0,IF(isNccValid(F1507),0,1))","v":0}]
[null,null,null,null,null,null,null,null,null,null,null,null,null,null,null,"",0,0,0,{"$f":"IF(F1508=\"\",0,IF(isNccValid(F1508),0,1))","v":0}]
[null,null,null,null,null,null,null,null,null,null,null,null,null,null,null,"",0,0,0,{"$f":"IF(F1509=\"\",0,IF(isNccValid(F1509),0,1))","v":0}]
[null,null,null,null,null,null,null,null,null,null,null,null,null,null,null,"",0,0,0,{"$f":"IF(F1510=\"\",0,IF(isNccValid(F1510),0,1))","v":0}]
[null,null,null,null,null,null,null,null,null,null,null,null,null,null,null,"",0,0,0,{"$f":"IF(F1511=\"\",0,IF(isNccValid(F1511),0,1))","v":0}]
[null,null,null,null,null,null,null,null,null,null,null,null,null,null,null,"",0,0,0,{"$f":"IF(F1512=\"\",0,IF(isNccValid(F1512),0,1))","v":0}]
[null,null,null,null,null,null,null,null,null,null,null,null,null,null,null,"",0,0,0,{"$f":"IF(F1513=\"\",0,IF(isNccValid(F1513),0,1))","v":0}]
[null,null,null,null,null,null,null,null,null,null,null,null,null,null,null,"",0,0,0,{"$f":"IF(F1514=\"\",0,IF(isNccValid(F1514),0,1))","v":0}]
[null,null,null,null,null,null,null,null,null,null,null,null,null,null,null,"",0,0,0,{"$f":"IF(F1515=\"\",0,IF(isNccValid(F1515),0,1))","v":0}]
[null,null,null,null,null,null,null,null,null,null,null,null,null,null,null,"",0,0,0,{"$f":"IF(F1516=\"\",0,IF(isNccValid(F1516),0,1))","v":0}]
[null,null,null,null,null,null,null,null,null,null,null,null,null,null,null,"",0,0,0,{"$f":"IF(F1517=\"\",0,IF(isNccValid(F1517),0,1))","v":0}]
[null,null,null,null,null,null,null,null,null,null,null,null,null,null,null,"",0,0,0,{"$f":"IF(F1518=\"\",0,IF(isNccValid(F1518),0,1))","v":0}]
[null,null,null,null,null,null,null,null,null,null,null,null,null,null,null,"",0,0,0,{"$f":"IF(F1519=\"\",0,IF(isNccValid(F1519),0,1))","v":0}]
[null,null,null,null,null,null,null,null,null,null,null,null,null,null,null,"",0,0,0,{"$f":"IF(F1520=\"\",0,IF(isNccValid(F1520),0,1))","v":0}]
[null,null,null,null,null,null,null,null,null,null,null,null,null,null,null,"",0,0,0,{"$f":"IF(F1521=\"\",0,IF(isNccValid(F1521),0,1))","v":0}]
[null,null,null,null,null,null,null,null,null,null,null,null,null,null,null,"",0,0,0,{"$f":"IF(F1522=\"\",0,IF(isNccValid(F1522),0,1))","v":0}]
[null,null,null,null,null,null,null,null,null,null,null,null,null,null,null,"",0,0,0,{"$f":"IF(F1523=\"\",0,IF(isNccValid(F1523),0,1))","v":0}]
[null,null,null,null,null,null,null,null,null,null,null,null,null,null,null,"",0,0,0,{"$f":"IF(F1524=\"\",0,IF(isNccValid(F1524),0,1))","v":0}]
[null,null,null,null,null,null,null,null,null,null,null,null,null,null,null,"",0,0,0,{"$f":"IF(F1525=\"\",0,IF(isNccValid(F1525),0,1))","v":0}]
[null,null,null,null,null,null,null,null,null,null,null,null,null,null,null,"",0,0,0,{"$f":"IF(F1526=\"\",0,IF(isNccValid(F1526),0,1))","v":0}]
[null,null,null,null,null,null,null,null,null,null,null,null,null,null,null,"",0,0,0,{"$f":"IF(F1527=\"\",0,IF(isNccValid(F1527),0,1))","v":0}]
[null,null,null,null,null,null,null,null,null,null,null,null,null,null,null,"",0,0,0,{"$f":"IF(F1528=\"\",0,IF(isNccValid(F1528),0,1))","v":0}]
[null,null,null,null,null,null,null,null,null,null,null,null,null,null,null,"",0,0,0,{"$f":"IF(F1529=\"\",0,IF(isNccValid(F1529),0,1))","v":0}]
[null,null,null,null,null,null,null,null,null,null,null,null,null,null,null,"",0,0,0,{"$f":"IF(F1530=\"\",0,IF(isNccValid(F1530),0,1))","v":0}]
[null,null,null,null,null,null,null,null,null,null,null,null,null,null,null,"",0,0,0,{"$f":"IF(F1531=\"\",0,IF(isNccValid(F1531),0,1))","v":0}]
[null,null,null,null,null,null,null,null,null,null,null,null,null,null,null,"",0,0,0,{"$f":"IF(F1532=\"\",0,IF(isNccValid(F1532),0,1))","v":0}]
[null,null,null,null,null,null,null,null,null,null,null,null,null,null,null,"",0,0,0,{"$f":"IF(F1533=\"\",0,IF(isNccValid(F1533),0,1))","v":0}]
[null,null,null,null,null,null,null,null,null,null,null,null,null,null,null,"",0,0,0,{"$f":"IF(F1534=\"\",0,IF(isNccValid(F1534),0,1))","v":0}]
[null,null,null,null,null,null,null,null,null,null,null,null,null,null,null,"",0,0,0,{"$f":"IF(F1535=\"\",0,IF(isNccValid(F1535),0,1))","v":0}]
[null,null,null,null,null,null,null,null,null,null,null,null,null,null,null,"",0,0,0,{"$f":"IF(F1536=\"\",0,IF(isNccValid(F1536),0,1))","v":0}]
[null,null,null,null,null,null,null,null,null,null,null,null,null,null,null,"",0,0,0,{"$f":"IF(F1537=\"\",0,IF(isNccValid(F1537),0,1))","v":0}]
[null,null,null,null,null,null,null,null,null,null,null,null,null,null,null,"",0,0,0,{"$f":"IF(F1538=\"\",0,IF(isNccValid(F1538),0,1))","v":0}]
[null,null,null,null,null,null,null,null,null,null,null,null,null,null,null,"",0,0,0,{"$f":"IF(F1539=\"\",0,IF(isNccValid(F1539),0,1))","v":0}]
[null,null,null,null,null,null,null,null,null,null,null,null,null,null,null,"",0,0,0,{"$f":"IF(F1540=\"\",0,IF(isNccValid(F1540),0,1))","v":0}]
[null,null,null,null,null,null,null,null,null,null,null,null,null,null,null,"",0,0,0,{"$f":"IF(F1541=\"\",0,IF(isNccValid(F1541),0,1))","v":0}]
[null,null,null,null,null,null,null,null,null,null,null,null,null,null,null,"",0,0,0,{"$f":"IF(F1542=\"\",0,IF(isNccValid(F1542),0,1))","v":0}]
[null,null,null,null,null,null,null,null,null,null,null,null,null,null,null,"",0,0,0,{"$f":"IF(F1543=\"\",0,IF(isNccValid(F1543),0,1))","v":0}]
[null,null,null,null,null,null,null,null,null,null,null,null,null,null,null,"",0,0,0,{"$f":"IF(F1544=\"\",0,IF(isNccValid(F1544),0,1))","v":0}]
[null,null,null,null,null,null,null,null,null,null,null,null,null,null,null,"",0,0,0,{"$f":"IF(F1545=\"\",0,IF(isNccValid(F1545),0,1))","v":0}]
[null,null,null,null,null,null,null,null,null,null,null,null,null,null,null,"",0,0,0,{"$f":"IF(F1546=\"\",0,IF(isNccValid(F1546),0,1))","v":0}]
[null,null,null,null,null,null,null,null,null,null,null,null,null,null,null,"",0,0,0,{"$f":"IF(F1547=\"\",0,IF(isNccValid(F1547),0,1))","v":0}]
[null,null,null,null,null,null,null,null,null,null,null,null,null,null,null,"",0,0,0,{"$f":"IF(F1548=\"\",0,IF(isNccValid(F1548),0,1))","v":0}]
[null,null,null,null,null,null,null,null,null,null,null,null,null,null,null,"",0,0,0,{"$f":"IF(F1549=\"\",0,IF(isNccValid(F1549),0,1))","v":0}]
[null,null,null,null,null,null,null,null,null,null,null,null,null,null,null,"",0,0,0,{"$f":"IF(F1550=\"\",0,IF(isNccValid(F1550),0,1))","v":0}]
[null,null,null,null,null,null,null,null,null,null,null,null,null,null,null,"",0,0,0,{"$f":"IF(F1551=\"\",0,IF(isNccValid(F1551),0,1))","v":0}]
[null,null,null,null,null,null,null,null,null,null,null,null,null,null,null,"",0,0,0,{"$f":"IF(F1552=\"\",0,IF(isNccValid(F1552),0,1))","v":0}]
[null,null,null,null,null,null,null,null,null,null,null,null,null,null,null,"",0,0,0,{"$f":"IF(F1553=\"\",0,IF(isNccValid(F1553),0,1))","v":0}]
[null,null,null,null,null,null,null,null,null,null,null,null,null,null,null,"",0,0,0,{"$f":"IF(F1554=\"\",0,IF(isNccValid(F1554),0,1))","v":0}]
[null,null,null,null,null,null,null,null,null,null,null,null,null,null,null,"",0,0,0,{"$f":"IF(F1555=\"\",0,IF(isNccValid(F1555),0,1))","v":0}]
[null,null,null,null,null,null,null,null,null,null,null,null,null,null,null,"",0,0,0,{"$f":"IF(F1556=\"\",0,IF(isNccValid(F1556),0,1))","v":0}]
[null,null,null,null,null,null,null,null,null,null,null,null,null,null,null,"",0,0,0,{"$f":"IF(F1557=\"\",0,IF(isNccValid(F1557),0,1))","v":0}]
[null,null,null,null,null,null,null,null,null,null,null,null,null,null,null,{"$f":"IF(B1558=\"\",\"\",M1558*O1558)","v":""},0,0,0,{"$f":"IF(F1558=\"\",0,IF(isNccValid(F1558),0,1))","v":0}]
[null,null,null,null,null,null,null,null,null,null,null,null,null,null,null,"",0,0,0,{"$f":"IF(F1559=\"\",0,IF(isNccValid(F1559),0,1))","v":0}]
[null,null,null,null,null,null,null,null,null,null,null,null,null,null,null,"",0,0,0,{"$f":"IF(F1560=\"\",0,IF(isNccValid(F1560),0,1))","v":0}]
[null,null,null,null,null,null,null,null,null,null,null,null,null,null,null,"",0,0,0,{"$f":"IF(F1561=\"\",0,IF(isNccValid(F1561),0,1))","v":0}]
[null,null,null,null,null,null,null,null,null,null,null,null,null,null,null,"",0,0,0,{"$f":"IF(F1562=\"\",0,IF(isNccValid(F1562),0,1))","v":0}]
[null,null,null,null,null,null,null,null,null,null,null,null,null,null,null,"",0,0,0,{"$f":"IF(F1563=\"\",0,IF(isNccValid(F1563),0,1))","v":0}]
[null,null,null,null,null,null,null,null,null,null,null,null,null,null,null,"",0,0,0,{"$f":"IF(F1564=\"\",0,IF(isNccValid(F1564),0,1))","v":0}]
[null,null,null,null,null,null,null,null,null,null,null,null,null,null,null,"",0,0,0,{"$f":"IF(F1565=\"\",0,IF(isNccValid(F1565),0,1))","v":0}]
[null,null,null,null,null,null,null,null,null,null,null,null,null,null,null,"",0,0,0,{"$f":"IF(F1566=\"\",0,IF(isNccValid(F1566),0,1))","v":0}]
[null,null,null,null,null,null,null,null,null,null,null,null,null,null,null,"",0,0,0,{"$f":"IF(F1567=\"\",0,IF(isNccValid(F1567),0,1))","v":0}]
[null,null,null,null,null,null,null,null,null,null,null,null,null,null,null,"",0,0,0,{"$f":"IF(F1568=\"\",0,IF(isNccValid(F1568),0,1))","v":0}]
[null,null,null,null,null,null,null,null,null,null,null,null,null,null,null,"",0,0,0,{"$f":"IF(F1569=\"\",0,IF(isNccValid(F1569),0,1))","v":0}]
[null,null,null,null,null,null,null,null,null,null,null,null,null,null,null,"",0,0,0,{"$f":"IF(F1570=\"\",0,IF(isNccValid(F1570),0,1))","v":0}]
[null,null,null,null,null,null,null,null,null,null,null,null,null,null,null,"",0,0,0,{"$f":"IF(F1571=\"\",0,IF(isNccValid(F1571),0,1))","v":0}]
[null,null,null,null,null,null,null,null,null,null,null,null,null,null,null,"",0,0,0,{"$f":"IF(F1572=\"\",0,IF(isNccValid(F1572),0,1))","v":0}]
[null,null,null,null,null,null,null,null,null,null,null,null,null,null,null,"",0,0,0,{"$f":"IF(F1573=\"\",0,IF(isNccValid(F1573),0,1))","v":0}]
[null,null,null,null,null,null,null,null,null,null,null,null,null,null,null,"",0,0,0,{"$f":"IF(F1574=\"\",0,IF(isNccValid(F1574),0,1))","v":0}]
[null,null,null,null,null,null,null,null,null,null,null,null,null,null,null,"",0,0,0,{"$f":"IF(F1575=\"\",0,IF(isNccValid(F1575),0,1))","v":0}]
[null,null,null,null,null,null,null,null,null,null,null,null,null,null,null,"",0,0,0,{"$f":"IF(F1576=\"\",0,IF(isNccValid(F1576),0,1))","v":0}]
[null,null,null,null,null,null,null,null,null,null,null,null,null,null,null,"",0,0,0,{"$f":"IF(F1577=\"\",0,IF(isNccValid(F1577),0,1))","v":0}]
[null,null,null,null,null,null,null,null,null,null,null,null,null,null,null,"",0,0,0,{"$f":"IF(F1578=\"\",0,IF(isNccValid(F1578),0,1))","v":0}]
[null,null,null,null,null,null,null,null,null,null,null,null,null,null,null,"",0,0,0,{"$f":"IF(F1579=\"\",0,IF(isNccValid(F1579),0,1))","v":0}]
[null,null,null,null,null,null,null,null,null,null,null,null,null,null,null,"",0,0,0,{"$f":"IF(F1580=\"\",0,IF(isNccValid(F1580),0,1))","v":0}]
[null,null,null,null,null,null,null,null,null,null,null,null,null,null,null,"",0,0,0,{"$f":"IF(F1581=\"\",0,IF(isNccValid(F1581),0,1))","v":0}]
[null,null,null,null,null,null,null,null,null,null,null,null,null,null,null,"",0,0,0,{"$f":"IF(F1582=\"\",0,IF(isNccValid(F1582),0,1))","v":0}]
[null,null,null,null,null,null,null,null,null,null,null,null,null,null,null,"",0,0,0,{"$f":"IF(F1583=\"\",0,IF(isNccValid(F1583),0,1))","v":0}]
[null,null,null,null,null,null,null,null,null,null,null,null,null,null,null,"",0,0,0,{"$f":"IF(F1584=\"\",0,IF(isNccValid(F1584),0,1))","v":0}]
[null,null,null,null,null,null,null,null,null,null,null,null,null,null,null,"",0,0,0,{"$f":"IF(F1585=\"\",0,IF(isNccValid(F1585),0,1))","v":0}]
[null,null,null,null,null,null,null,null,null,null,null,null,null,null,null,"",0,0,0,{"$f":"IF(F1586=\"\",0,IF(isNccValid(F1586),0,1))","v":0}]
[null,null,null,null,null,null,null,null,null,null,null,null,null,null,null,"",0,0,0,{"$f":"IF(F1587=\"\",0,IF(isNccValid(F1587),0,1))","v":0}]
[null,null,null,null,null,null,null,null,null,null,null,null,null,null,null,"",0,0,0,{"$f":"IF(F1588=\"\",0,IF(isNccValid(F1588),0,1))","v":0}]
[null,null,null,null,null,null,null,null,null,null,null,null,null,null,null,"",0,0,0,{"$f":"IF(F1589=\"\",0,IF(isNccValid(F1589),0,1))","v":0}]
[null,null,null,null,null,null,null,null,null,null,null,null,null,null,null,"",0,0,0,{"$f":"IF(F1590=\"\",0,IF(isNccValid(F1590),0,1))","v":0}]
[null,null,null,null,null,null,null,null,null,null,null,null,null,null,null,"",0,0,0,{"$f":"IF(F1591=\"\",0,IF(isNccValid(F1591),0,1))","v":0}]
[null,null,null,null,null,null,null,null,null,null,null,null,null,null,null,"",0,0,0,{"$f":"IF(F1592=\"\",0,IF(isNccValid(F1592),0,1))","v":0}]
[null,null,null,null,null,null,null,null,null,null,null,null,null,null,null,"",0,0,0,{"$f":"IF(F1593=\"\",0,IF(isNccValid(F1593),0,1))","v":0}]
[null,null,null,null,null,null,null,null,null,null,null,null,null,null,null,"",0,0,0,{"$f":"IF(F1594=\"\",0,IF(isNccValid(F1594),0,1))","v":0}]
[null,null,null,null,null,null,null,null,null,null,null,null,null,null,null,"",0,0,0,{"$f":"IF(F1595=\"\",0,IF(isNccValid(F1595),0,1))","v":0}]
[null,null,null,null,null,null,null,null,null,null,null,null,null,null,null,"",0,0,0,{"$f":"IF(F1596=\"\",0,IF(isNccValid(F1596),0,1))","v":0}]
[null,null,null,null,null,null,null,null,null,null,null,null,null,null,null,"",0,0,0,{"$f":"IF(F1597=\"\",0,IF(isNccValid(F1597),0,1))","v":0}]
[null,null,null,null,null,null,null,null,null,null,null,null,null,null,null,"",0,0,0,{"$f":"IF(F1598=\"\",0,IF(isNccValid(F1598),0,1))","v":0}]
[null,null,null,null,null,null,null,null,null,null,null,null,null,null,null,"",0,0,0,{"$f":"IF(F1599=\"\",0,IF(isNccValid(F1599),0,1))","v":0}]
[null,null,null,null,null,null,null,null,null,null,null,null,null,null,null,"",0,0,0,{"$f":"IF(F1600=\"\",0,IF(isNccValid(F1600),0,1))","v":0}]
[null,null,null,null,null,null,null,null,null,null,null,null,null,null,null,"",0,0,0,{"$f":"IF(F1601=\"\",0,IF(isNccValid(F1601),0,1))","v":0}]
[null,null,null,null,null,null,null,null,null,null,null,null,null,null,null,"",0,0,0,{"$f":"IF(F1602=\"\",0,IF(isNccValid(F1602),0,1))","v":0}]
[null,null,null,null,null,null,null,null,null,null,null,null,null,null,null,"",0,0,0,{"$f":"IF(F1603=\"\",0,IF(isNccValid(F1603),0,1))","v":0}]
[null,null,null,null,null,null,null,null,null,null,null,null,null,null,null,"",0,0,0,{"$f":"IF(F1604=\"\",0,IF(isNccValid(F1604),0,1))","v":0}]
[null,null,null,null,null,null,null,null,null,null,null,null,null,null,null,"",0,0,0,{"$f":"IF(F1605=\"\",0,IF(isNccValid(F1605),0,1))","v":0}]
[null,null,null,null,null,null,null,null,null,null,null,null,null,null,null,"",0,0,0,{"$f":"IF(F1606=\"\",0,IF(isNccValid(F1606),0,1))","v":0}]
[null,null,null,null,null,null,null,null,null,null,null,null,null,null,null,"",0,0,0,{"$f":"IF(F1607=\"\",0,IF(isNccValid(F1607),0,1))","v":0}]
[null,null,null,null,null,null,null,null,null,null,null,null,null,null,null,"",0,0,0,{"$f":"IF(F1608=\"\",0,IF(isNccValid(F1608),0,1))","v":0}]
[null,null,null,null,null,null,null,null,null,null,null,null,null,null,null,"",0,0,0,{"$f":"IF(F1609=\"\",0,IF(isNccValid(F1609),0,1))","v":0}]
[null,null,null,null,null,null,null,null,null,null,null,null,null,null,null,"",0,0,0,{"$f":"IF(F1610=\"\",0,IF(isNccValid(F1610),0,1))","v":0}]
[null,null,null,null,null,null,null,null,null,null,null,null,null,null,null,"",0,0,0,{"$f":"IF(F1611=\"\",0,IF(isNccValid(F1611),0,1))","v":0}]
[null,null,null,null,null,null,null,null,null,null,null,null,null,null,null,"",0,0,0,{"$f":"IF(F1612=\"\",0,IF(isNccValid(F1612),0,1))","v":0}]
[null,null,null,null,null,null,null,null,null,null,null,null,null,null,null,"",0,0,0,{"$f":"IF(F1613=\"\",0,IF(isNccValid(F1613),0,1))","v":0}]
[null,null,null,null,null,null,null,null,null,null,null,null,null,null,null,"",0,0,0,{"$f":"IF(F1614=\"\",0,IF(isNccValid(F1614),0,1))","v":0}]
[null,null,null,null,null,null,null,null,null,null,null,null,null,null,null,"",0,0,0,{"$f":"IF(F1615=\"\",0,IF(isNccValid(F1615),0,1))","v":0}]
[null,null,null,null,null,null,null,null,null,null,null,null,null,null,null,"",0,0,0,{"$f":"IF(F1616=\"\",0,IF(isNccValid(F1616),0,1))","v":0}]
[null,null,null,null,null,null,null,null,null,null,null,null,null,null,null,"",0,0,0,{"$f":"IF(F1617=\"\",0,IF(isNccValid(F1617),0,1))","v":0}]
[null,null,null,null,null,null,null,null,null,null,null,null,null,null,null,"",0,0,0,{"$f":"IF(F1618=\"\",0,IF(isNccValid(F1618),0,1))","v":0}]
[null,null,null,null,null,null,null,null,null,null,null,null,null,null,null,"",0,0,0,{"$f":"IF(F1619=\"\",0,IF(isNccValid(F1619),0,1))","v":0}]
[null,null,null,null,null,null,null,null,null,null,null,null,null,null,null,"",0,0,0,{"$f":"IF(F1620=\"\",0,IF(isNccValid(F1620),0,1))","v":0}]
[null,null,null,null,null,null,null,null,null,null,null,null,null,null,null,"",0,0,0,{"$f":"IF(F1621=\"\",0,IF(isNccValid(F1621),0,1))","v":0}]
[null,null,null,null,null,null,null,null,null,null,null,null,null,null,null,{"$f":"IF(B1622=\"\",\"\",M1622*O1622)","v":""},0,0,0,{"$f":"IF(F1622=\"\",0,IF(isNccValid(F1622),0,1))","v":0}]
[null,null,null,null,null,null,null,null,null,null,null,null,null,null,null,"",0,0,0,{"$f":"IF(F1623=\"\",0,IF(isNccValid(F1623),0,1))","v":0}]
[null,null,null,null,null,null,null,null,null,null,null,null,null,null,null,"",0,0,0,{"$f":"IF(F1624=\"\",0,IF(isNccValid(F1624),0,1))","v":0}]
[null,null,null,null,null,null,null,null,null,null,null,null,null,null,null,"",0,0,0,{"$f":"IF(F1625=\"\",0,IF(isNccValid(F1625),0,1))","v":0}]
[null,null,null,null,null,null,null,null,null,null,null,null,null,null,null,"",0,0,0,{"$f":"IF(F1626=\"\",0,IF(isNccValid(F1626),0,1))","v":0}]
[null,null,null,null,null,null,null,null,null,null,null,null,null,null,null,"",0,0,0,{"$f":"IF(F1627=\"\",0,IF(isNccValid(F1627),0,1))","v":0}]
[null,null,null,null,null,null,null,null,null,null,null,null,null,null,null,"",0,0,0,{"$f":"IF(F1628=\"\",0,IF(isNccValid(F1628),0,1))","v":0}]
[null,null,null,null,null,null,null,null,null,null,null,null,null,null,null,"",0,0,0,{"$f":"IF(F1629=\"\",0,IF(isNccValid(F1629),0,1))","v":0}]
[null,null,null,null,null,null,null,null,null,null,null,null,null,null,null,"",0,0,0,{"$f":"IF(F1630=\"\",0,IF(isNccValid(F1630),0,1))","v":0}]
[null,null,null,null,null,null,null,null,null,null,null,null,null,null,null,"",0,0,0,{"$f":"IF(F1631=\"\",0,IF(isNccValid(F1631),0,1))","v":0}]
[null,null,null,null,null,null,null,null,null,null,null,null,null,null,null,"",0,0,0,{"$f":"IF(F1632=\"\",0,IF(isNccValid(F1632),0,1))","v":0}]
[null,null,null,null,null,null,null,null,null,null,null,null,null,null,null,"",0,0,0,{"$f":"IF(F1633=\"\",0,IF(isNccValid(F1633),0,1))","v":0}]
[null,null,null,null,null,null,null,null,null,null,null,null,null,null,null,"",0,0,0,{"$f":"IF(F1634=\"\",0,IF(isNccValid(F1634),0,1))","v":0}]
[null,null,null,null,null,null,null,null,null,null,null,null,null,null,null,"",0,0,0,{"$f":"IF(F1635=\"\",0,IF(isNccValid(F1635),0,1))","v":0}]
[null,null,null,null,null,null,null,null,null,null,null,null,null,null,null,"",0,0,0,{"$f":"IF(F1636=\"\",0,IF(isNccValid(F1636),0,1))","v":0}]
[null,null,null,null,null,null,null,null,null,null,null,null,null,null,null,"",0,0,0,{"$f":"IF(F1637=\"\",0,IF(isNccValid(F1637),0,1))","v":0}]
[null,null,null,null,null,null,null,null,null,null,null,null,null,null,null,"",0,0,0,{"$f":"IF(F1638=\"\",0,IF(isNccValid(F1638),0,1))","v":0}]
[null,null,null,null,null,null,null,null,null,null,null,null,null,null,null,"",0,0,0,{"$f":"IF(F1639=\"\",0,IF(isNccValid(F1639),0,1))","v":0}]
[null,null,null,null,null,null,null,null,null,null,null,null,null,null,null,"",0,0,0,{"$f":"IF(F1640=\"\",0,IF(isNccValid(F1640),0,1))","v":0}]
[null,null,null,null,null,null,null,null,null,null,null,null,null,null,null,"",0,0,0,{"$f":"IF(F1641=\"\",0,IF(isNccValid(F1641),0,1))","v":0}]
[null,null,null,null,null,null,null,null,null,null,null,null,null,null,null,"",0,0,0,{"$f":"IF(F1642=\"\",0,IF(isNccValid(F1642),0,1))","v":0}]
[null,null,null,null,null,null,null,null,null,null,null,null,null,null,null,"",0,0,0,{"$f":"IF(F1643=\"\",0,IF(isNccValid(F1643),0,1))","v":0}]
[null,null,null,null,null,null,null,null,null,null,null,null,null,null,null,"",0,0,0,{"$f":"IF(F1644=\"\",0,IF(isNccValid(F1644),0,1))","v":0}]
[null,null,null,null,null,null,null,null,null,null,null,null,null,null,null,"",0,0,0,{"$f":"IF(F1645=\"\",0,IF(isNccValid(F1645),0,1))","v":0}]
[null,null,null,null,null,null,null,null,null,null,null,null,null,null,null,"",0,0,0,{"$f":"IF(F1646=\"\",0,IF(isNccValid(F1646),0,1))","v":0}]
[null,null,null,null,null,null,null,null,null,null,null,null,null,null,null,"",0,0,0,{"$f":"IF(F1647=\"\",0,IF(isNccValid(F1647),0,1))","v":0}]
[null,null,null,null,null,null,null,null,null,null,null,null,null,null,null,"",0,0,0,{"$f":"IF(F1648=\"\",0,IF(isNccValid(F1648),0,1))","v":0}]
[null,null,null,null,null,null,null,null,null,null,null,null,null,null,null,"",0,0,0,{"$f":"IF(F1649=\"\",0,IF(isNccValid(F1649),0,1))","v":0}]
[null,null,null,null,null,null,null,null,null,null,null,null,null,null,null,"",0,0,0,{"$f":"IF(F1650=\"\",0,IF(isNccValid(F1650),0,1))","v":0}]
[null,null,null,null,null,null,null,null,null,null,null,null,null,null,null,"",0,0,0,{"$f":"IF(F1651=\"\",0,IF(isNccValid(F1651),0,1))","v":0}]
[null,null,null,null,null,null,null,null,null,null,null,null,null,null,null,"",0,0,0,{"$f":"IF(F1652=\"\",0,IF(isNccValid(F1652),0,1))","v":0}]
[null,null,null,null,null,null,null,null,null,null,null,null,null,null,null,"",0,0,0,{"$f":"IF(F1653=\"\",0,IF(isNccValid(F1653),0,1))","v":0}]
[null,null,null,null,null,null,null,null,null,null,null,null,null,null,null,"",0,0,0,{"$f":"IF(F1654=\"\",0,IF(isNccValid(F1654),0,1))","v":0}]
[null,null,null,null,null,null,null,null,null,null,null,null,null,null,null,"",0,0,0,{"$f":"IF(F1655=\"\",0,IF(isNccValid(F1655),0,1))","v":0}]
[null,null,null,null,null,null,null,null,null,null,null,null,null,null,null,"",0,0,0,{"$f":"IF(F1656=\"\",0,IF(isNccValid(F1656),0,1))","v":0}]
[null,null,null,null,null,null,null,null,null,null,null,null,null,null,null,"",0,0,0,{"$f":"IF(F1657=\"\",0,IF(isNccValid(F1657),0,1))","v":0}]
[null,null,null,null,null,null,null,null,null,null,null,null,null,null,null,"",0,0,0,{"$f":"IF(F1658=\"\",0,IF(isNccValid(F1658),0,1))","v":0}]
[null,null,null,null,null,null,null,null,null,null,null,null,null,null,null,"",0,0,0,{"$f":"IF(F1659=\"\",0,IF(isNccValid(F1659),0,1))","v":0}]
[null,null,null,null,null,null,null,null,null,null,null,null,null,null,null,"",0,0,0,{"$f":"IF(F1660=\"\",0,IF(isNccValid(F1660),0,1))","v":0}]
[null,null,null,null,null,null,null,null,null,null,null,null,null,null,null,"",0,0,0,{"$f":"IF(F1661=\"\",0,IF(isNccValid(F1661),0,1))","v":0}]
[null,null,null,null,null,null,null,null,null,null,null,null,null,null,null,"",0,0,0,{"$f":"IF(F1662=\"\",0,IF(isNccValid(F1662),0,1))","v":0}]
[null,null,null,null,null,null,null,null,null,null,null,null,null,null,null,"",0,0,0,{"$f":"IF(F1663=\"\",0,IF(isNccValid(F1663),0,1))","v":0}]
[null,null,null,null,null,null,null,null,null,null,null,null,null,null,null,"",0,0,0,{"$f":"IF(F1664=\"\",0,IF(isNccValid(F1664),0,1))","v":0}]
[null,null,null,null,null,null,null,null,null,null,null,null,null,null,null,"",0,0,0,{"$f":"IF(F1665=\"\",0,IF(isNccValid(F1665),0,1))","v":0}]
[null,null,null,null,null,null,null,null,null,null,null,null,null,null,null,"",0,0,0,{"$f":"IF(F1666=\"\",0,IF(isNccValid(F1666),0,1))","v":0}]
[null,null,null,null,null,null,null,null,null,null,null,null,null,null,null,"",0,0,0,{"$f":"IF(F1667=\"\",0,IF(isNccValid(F1667),0,1))","v":0}]
[null,null,null,null,null,null,null,null,null,null,null,null,null,null,null,"",0,0,0,{"$f":"IF(F1668=\"\",0,IF(isNccValid(F1668),0,1))","v":0}]
[null,null,null,null,null,null,null,null,null,null,null,null,null,null,null,"",0,0,0,{"$f":"IF(F1669=\"\",0,IF(isNccValid(F1669),0,1))","v":0}]
[null,null,null,null,null,null,null,null,null,null,null,null,null,null,null,"",0,0,0,{"$f":"IF(F1670=\"\",0,IF(isNccValid(F1670),0,1))","v":0}]
[null,null,null,null,null,null,null,null,null,null,null,null,null,null,null,"",0,0,0,{"$f":"IF(F1671=\"\",0,IF(isNccValid(F1671),0,1))","v":0}]
[null,null,null,null,null,null,null,null,null,null,null,null,null,null,null,"",0,0,0,{"$f":"IF(F1672=\"\",0,IF(isNccValid(F1672),0,1))","v":0}]
[null,null,null,null,null,null,null,null,null,null,null,null,null,null,null,"",0,0,0,{"$f":"IF(F1673=\"\",0,IF(isNccValid(F1673),0,1))","v":0}]
[null,null,null,null,null,null,null,null,null,null,null,null,null,null,null,"",0,0,0,{"$f":"IF(F1674=\"\",0,IF(isNccValid(F1674),0,1))","v":0}]
[null,null,null,null,null,null,null,null,null,null,null,null,null,null,null,"",0,0,0,{"$f":"IF(F1675=\"\",0,IF(isNccValid(F1675),0,1))","v":0}]
[null,null,null,null,null,null,null,null,null,null,null,null,null,null,null,"",0,0,0,{"$f":"IF(F1676=\"\",0,IF(isNccValid(F1676),0,1))","v":0}]
[null,null,null,null,null,null,null,null,null,null,null,null,null,null,null,"",0,0,0,{"$f":"IF(F1677=\"\",0,IF(isNccValid(F1677),0,1))","v":0}]
[null,null,null,null,null,null,null,null,null,null,null,null,null,null,null,"",0,0,0,{"$f":"IF(F1678=\"\",0,IF(isNccValid(F1678),0,1))","v":0}]
[null,null,null,null,null,null,null,null,null,null,null,null,null,null,null,"",0,0,0,{"$f":"IF(F1679=\"\",0,IF(isNccValid(F1679),0,1))","v":0}]
[null,null,null,null,null,null,null,null,null,null,null,null,null,null,null,"",0,0,0,{"$f":"IF(F1680=\"\",0,IF(isNccValid(F1680),0,1))","v":0}]
[null,null,null,null,null,null,null,null,null,null,null,null,null,null,null,"",0,0,0,{"$f":"IF(F1681=\"\",0,IF(isNccValid(F1681),0,1))","v":0}]
[null,null,null,null,null,null,null,null,null,null,null,null,null,null,null,"",0,0,0,{"$f":"IF(F1682=\"\",0,IF(isNccValid(F1682),0,1))","v":0}]
[null,null,null,null,null,null,null,null,null,null,null,null,null,null,null,"",0,0,0,{"$f":"IF(F1683=\"\",0,IF(isNccValid(F1683),0,1))","v":0}]
[null,null,null,null,null,null,null,null,null,null,null,null,null,null,null,"",0,0,0,{"$f":"IF(F1684=\"\",0,IF(isNccValid(F1684),0,1))","v":0}]
[null,null,null,null,null,null,null,null,null,null,null,null,null,null,null,"",0,0,0,{"$f":"IF(F1685=\"\",0,IF(isNccValid(F1685),0,1))","v":0}]
[null,null,null,null,null,null,null,null,null,null,null,null,null,null,null,{"$f":"IF(B1686=\"\",\"\",M1686*O1686)","v":""},0,0,0,{"$f":"IF(F1686=\"\",0,IF(isNccValid(F1686),0,1))","v":0}]
[null,null,null,null,null,null,null,null,null,null,null,null,null,null,null,"",0,0,0,{"$f":"IF(F1687=\"\",0,IF(isNccValid(F1687),0,1))","v":0}]
[null,null,null,null,null,null,null,null,null,null,null,null,null,null,null,"",0,0,0,{"$f":"IF(F1688=\"\",0,IF(isNccValid(F1688),0,1))","v":0}]
[null,null,null,null,null,null,null,null,null,null,null,null,null,null,null,"",0,0,0,{"$f":"IF(F1689=\"\",0,IF(isNccValid(F1689),0,1))","v":0}]
[null,null,null,null,null,null,null,null,null,null,null,null,null,null,null,"",0,0,0,{"$f":"IF(F1690=\"\",0,IF(isNccValid(F1690),0,1))","v":0}]
[null,null,null,null,null,null,null,null,null,null,null,null,null,null,null,"",0,0,0,{"$f":"IF(F1691=\"\",0,IF(isNccValid(F1691),0,1))","v":0}]
[null,null,null,null,null,null,null,null,null,null,null,null,null,null,null,"",0,0,0,{"$f":"IF(F1692=\"\",0,IF(isNccValid(F1692),0,1))","v":0}]
[null,null,null,null,null,null,null,null,null,null,null,null,null,null,null,"",0,0,0,{"$f":"IF(F1693=\"\",0,IF(isNccValid(F1693),0,1))","v":0}]
[null,null,null,null,null,null,null,null,null,null,null,null,null,null,null,"",0,0,0,{"$f":"IF(F1694=\"\",0,IF(isNccValid(F1694),0,1))","v":0}]
[null,null,null,null,null,null,null,null,null,null,null,null,null,null,null,"",0,0,0,{"$f":"IF(F1695=\"\",0,IF(isNccValid(F1695),0,1))","v":0}]
[null,null,null,null,null,null,null,null,null,null,null,null,null,null,null,"",0,0,0,{"$f":"IF(F1696=\"\",0,IF(isNccValid(F1696),0,1))","v":0}]
[null,null,null,null,null,null,null,null,null,null,null,null,null,null,null,"",0,0,0,{"$f":"IF(F1697=\"\",0,IF(isNccValid(F1697),0,1))","v":0}]
[null,null,null,null,null,null,null,null,null,null,null,null,null,null,null,"",0,0,0,{"$f":"IF(F1698=\"\",0,IF(isNccValid(F1698),0,1))","v":0}]
[null,null,null,null,null,null,null,null,null,null,null,null,null,null,null,"",0,0,0,{"$f":"IF(F1699=\"\",0,IF(isNccValid(F1699),0,1))","v":0}]
[null,null,null,null,null,null,null,null,null,null,null,null,null,null,null,"",0,0,0,{"$f":"IF(F1700=\"\",0,IF(isNccValid(F1700),0,1))","v":0}]
[null,null,null,null,null,null,null,null,null,null,null,null,null,null,null,"",0,0,0,{"$f":"IF(F1701=\"\",0,IF(isNccValid(F1701),0,1))","v":0}]
[null,null,null,null,null,null,null,null,null,null,null,null,null,null,null,"",0,0,0,{"$f":"IF(F1702=\"\",0,IF(isNccValid(F1702),0,1))","v":0}]
[null,null,null,null,null,null,null,null,null,null,null,null,null,null,null,"",0,0,0,{"$f":"IF(F1703=\"\",0,IF(isNccValid(F1703),0,1))","v":0}]
[null,null,null,null,null,null,null,null,null,null,null,null,null,null,null,"",0,0,0,{"$f":"IF(F1704=\"\",0,IF(isNccValid(F1704),0,1))","v":0}]
[null,null,null,null,null,null,null,null,null,null,null,null,null,null,null,"",0,0,0,{"$f":"IF(F1705=\"\",0,IF(isNccValid(F1705),0,1))","v":0}]
[null,null,null,null,null,null,null,null,null,null,null,null,null,null,null,"",0,0,0,{"$f":"IF(F1706=\"\",0,IF(isNccValid(F1706),0,1))","v":0}]
[null,null,null,null,null,null,null,null,null,null,null,null,null,null,null,"",0,0,0,{"$f":"IF(F1707=\"\",0,IF(isNccValid(F1707),0,1))","v":0}]
[null,null,null,null,null,null,null,null,null,null,null,null,null,null,null,"",0,0,0,{"$f":"IF(F1708=\"\",0,IF(isNccValid(F1708),0,1))","v":0}]
[null,null,null,null,null,null,null,null,null,null,null,null,null,null,null,"",0,0,0,{"$f":"IF(F1709=\"\",0,IF(isNccValid(F1709),0,1))","v":0}]
[null,null,null,null,null,null,null,null,null,null,null,null,null,null,null,"",0,0,0,{"$f":"IF(F1710=\"\",0,IF(isNccValid(F1710),0,1))","v":0}]
[null,null,null,null,null,null,null,null,null,null,null,null,null,null,null,"",0,0,0,{"$f":"IF(F1711=\"\",0,IF(isNccValid(F1711),0,1))","v":0}]
[null,null,null,null,null,null,null,null,null,null,null,null,null,null,null,"",0,0,0,{"$f":"IF(F1712=\"\",0,IF(isNccValid(F1712),0,1))","v":0}]
[null,null,null,null,null,null,null,null,null,null,null,null,null,null,null,"",0,0,0,{"$f":"IF(F1713=\"\",0,IF(isNccValid(F1713),0,1))","v":0}]
[null,null,null,null,null,null,null,null,null,null,null,null,null,null,null,"",0,0,0,{"$f":"IF(F1714=\"\",0,IF(isNccValid(F1714),0,1))","v":0}]
[null,null,null,null,null,null,null,null,null,null,null,null,null,null,null,"",0,0,0,{"$f":"IF(F1715=\"\",0,IF(isNccValid(F1715),0,1))","v":0}]
[null,null,null,null,null,null,null,null,null,null,null,null,null,null,null,"",0,0,0,{"$f":"IF(F1716=\"\",0,IF(isNccValid(F1716),0,1))","v":0}]
[null,null,null,null,null,null,null,null,null,null,null,null,null,null,null,"",0,0,0,{"$f":"IF(F1717=\"\",0,IF(isNccValid(F1717),0,1))","v":0}]
[null,null,null,null,null,null,null,null,null,null,null,null,null,null,null,"",0,0,0,{"$f":"IF(F1718=\"\",0,IF(isNccValid(F1718),0,1))","v":0}]
[null,null,null,null,null,null,null,null,null,null,null,null,null,null,null,"",0,0,0,{"$f":"IF(F1719=\"\",0,IF(isNccValid(F1719),0,1))","v":0}]
[null,null,null,null,null,null,null,null,null,null,null,null,null,null,null,"",0,0,0,{"$f":"IF(F1720=\"\",0,IF(isNccValid(F1720),0,1))","v":0}]
[null,null,null,null,null,null,null,null,null,null,null,null,null,null,null,"",0,0,0,{"$f":"IF(F1721=\"\",0,IF(isNccValid(F1721),0,1))","v":0}]
[null,null,null,null,null,null,null,null,null,null,null,null,null,null,null,"",0,0,0,{"$f":"IF(F1722=\"\",0,IF(isNccValid(F1722),0,1))","v":0}]
[null,null,null,null,null,null,null,null,null,null,null,null,null,null,null,"",0,0,0,{"$f":"IF(F1723=\"\",0,IF(isNccValid(F1723),0,1))","v":0}]
[null,null,null,null,null,null,null,null,null,null,null,null,null,null,null,"",0,0,0,{"$f":"IF(F1724=\"\",0,IF(isNccValid(F1724),0,1))","v":0}]
[null,null,null,null,null,null,null,null,null,null,null,null,null,null,null,"",{"$f":"IF(AND(B1725=\"\",R1725=1),1,IF(AND(D1725=\"\",R1725=1),1,IF(AND(E1725=\"\",R1725=1),1,IF(AND(F1725=\"\",R1725=1),1,IF(AND(M1725=\"\",R1725=1),1,IF(AND(O1725=\"\",R1725=1),1,0))))))","v":0},{"$f":"IF(C1725=\"\",0,IF(COUNTA(B1725:O1725)>0,1,0))","v":0},{"$f":"IFERROR(IF(LEN(F1725)=8,0,IF(LEN(F1725)=0,0,1)),1)","v":0},{"$f":"IF(F1725=\"\",0,IF(isNccValid(F1725),0,1))","v":0}]
[null,null,null,null,null,null,null,null,null,null,null,null,null,null,null,"",0,0,0,{"$f":"IF(F1726=\"\",0,IF(isNccValid(F1726),0,1))","v":0}]
[null,null,null,null,null,null,null,null,null,null,null,null,null,null,null,"",0,0,0,{"$f":"IF(F1727=\"\",0,IF(isNccValid(F1727),0,1))","v":0}]
[null,null,null,null,null,null,null,null,null,null,null,null,null,null,null,"",0,0,0,{"$f":"IF(F1728=\"\",0,IF(isNccValid(F1728),0,1))","v":0}]
[null,null,null,null,null,null,null,null,null,null,null,null,null,null,null,"",0,0,0,{"$f":"IF(F1729=\"\",0,IF(isNccValid(F1729),0,1))","v":0}]
[null,null,null,null,null,null,null,null,null,null,null,null,null,null,null,"",0,0,0,{"$f":"IF(F1730=\"\",0,IF(isNccValid(F1730),0,1))","v":0}]
[null,null,null,null,null,null,null,null,null,null,null,null,null,null,null,"",0,0,0,{"$f":"IF(F1731=\"\",0,IF(isNccValid(F1731),0,1))","v":0}]
[null,null,null,null,null,null,null,null,null,null,null,null,null,null,null,"",0,0,0,{"$f":"IF(F1732=\"\",0,IF(isNccValid(F1732),0,1))","v":0}]
[null,null,null,null,null,null,null,null,null,null,null,null,null,null,null,"",0,0,0,{"$f":"IF(F1733=\"\",0,IF(isNccValid(F1733),0,1))","v":0}]
[null,null,null,null,null,null,null,null,null,null,null,null,null,null,null,"",0,0,0,{"$f":"IF(F1734=\"\",0,IF(isNccValid(F1734),0,1))","v":0}]
[null,null,null,null,null,null,null,null,null,null,null,null,null,null,null,"",0,0,0,{"$f":"IF(F1735=\"\",0,IF(isNccValid(F1735),0,1))","v":0}]
[null,null,null,null,null,null,null,null,null,null,null,null,null,null,null,"",0,0,0,{"$f":"IF(F1736=\"\",0,IF(isNccValid(F1736),0,1))","v":0}]
[null,null,null,null,null,null,null,null,null,null,null,null,null,null,null,"",0,0,0,{"$f":"IF(F1737=\"\",0,IF(isNccValid(F1737),0,1))","v":0}]
[null,null,null,null,null,null,null,null,null,null,null,null,null,null,null,"",0,0,0,{"$f":"IF(F1738=\"\",0,IF(isNccValid(F1738),0,1))","v":0}]
[null,null,null,null,null,null,null,null,null,null,null,null,null,null,null,"",0,0,0,{"$f":"IF(F1739=\"\",0,IF(isNccValid(F1739),0,1))","v":0}]
[null,null,null,null,null,null,null,null,null,null,null,null,null,null,null,"",0,0,0,{"$f":"IF(F1740=\"\",0,IF(isNccValid(F1740),0,1))","v":0}]
[null,null,null,null,null,null,null,null,null,null,null,null,null,null,null,"",0,0,0,{"$f":"IF(F1741=\"\",0,IF(isNccValid(F1741),0,1))","v":0}]
[null,null,null,null,null,null,null,null,null,null,null,null,null,null,null,"",0,0,0,{"$f":"IF(F1742=\"\",0,IF(isNccValid(F1742),0,1))","v":0}]
[null,null,null,null,null,null,null,null,null,null,null,null,null,null,null,"",0,0,0,{"$f":"IF(F1743=\"\",0,IF(isNccValid(F1743),0,1))","v":0}]
[null,null,null,null,null,null,null,null,null,null,null,null,null,null,null,"",0,0,0,{"$f":"IF(F1744=\"\",0,IF(isNccValid(F1744),0,1))","v":0}]
[null,null,null,null,null,null,null,null,null,null,null,null,null,null,null,"",0,0,0,{"$f":"IF(F1745=\"\",0,IF(isNccValid(F1745),0,1))","v":0}]
[null,null,null,null,null,null,null,null,null,null,null,null,null,null,null,"",0,0,0,{"$f":"IF(F1746=\"\",0,IF(isNccValid(F1746),0,1))","v":0}]
[null,null,null,null,null,null,null,null,null,null,null,null,null,null,null,"",0,0,0,{"$f":"IF(F1747=\"\",0,IF(isNccValid(F1747),0,1))","v":0}]
[null,null,null,null,null,null,null,null,null,null,null,null,null,null,null,"",0,0,0,{"$f":"IF(F1748=\"\",0,IF(isNccValid(F1748),0,1))","v":0}]
[null,null,null,null,null,null,null,null,null,null,null,null,null,null,null,"",0,0,0,{"$f":"IF(F1749=\"\",0,IF(isNccValid(F1749),0,1))","v":0}]
[null,null,null,null,null,null,null,null,null,null,null,null,null,null,null,{"$f":"IF(B1750=\"\",\"\",M1750*O1750)","v":""},0,0,0,{"$f":"IF(F1750=\"\",0,IF(isNccValid(F1750),0,1))","v":0}]
[null,null,null,null,null,null,null,null,null,null,null,null,null,null,null,"",0,0,0,{"$f":"IF(F1751=\"\",0,IF(isNccValid(F1751),0,1))","v":0}]
[null,null,null,null,null,null,null,null,null,null,null,null,null,null,null,"",0,0,0,{"$f":"IF(F1752=\"\",0,IF(isNccValid(F1752),0,1))","v":0}]
[null,null,null,null,null,null,null,null,null,null,null,null,null,null,null,"",0,0,0,{"$f":"IF(F1753=\"\",0,IF(isNccValid(F1753),0,1))","v":0}]
[null,null,null,null,null,null,null,null,null,null,null,null,null,null,null,"",0,0,0,{"$f":"IF(F1754=\"\",0,IF(isNccValid(F1754),0,1))","v":0}]
[null,null,null,null,null,null,null,null,null,null,null,null,null,null,null,"",0,0,0,{"$f":"IF(F1755=\"\",0,IF(isNccValid(F1755),0,1))","v":0}]
[null,null,null,null,null,null,null,null,null,null,null,null,null,null,null,"",0,0,0,{"$f":"IF(F1756=\"\",0,IF(isNccValid(F1756),0,1))","v":0}]
[null,null,null,null,null,null,null,null,null,null,null,null,null,null,null,"",0,0,0,{"$f":"IF(F1757=\"\",0,IF(isNccValid(F1757),0,1))","v":0}]
[null,null,null,null,null,null,null,null,null,null,null,null,null,null,null,"",0,0,0,{"$f":"IF(F1758=\"\",0,IF(isNccValid(F1758),0,1))","v":0}]
[null,null,null,null,null,null,null,null,null,null,null,null,null,null,null,"",0,0,0,{"$f":"IF(F1759=\"\",0,IF(isNccValid(F1759),0,1))","v":0}]
[null,null,null,null,null,null,null,null,null,null,null,null,null,null,null,"",0,0,0,{"$f":"IF(F1760=\"\",0,IF(isNccValid(F1760),0,1))","v":0}]
[null,null,null,null,null,null,null,null,null,null,null,null,null,null,null,"",0,0,0,{"$f":"IF(F1761=\"\",0,IF(isNccValid(F1761),0,1))","v":0}]
[null,null,null,null,null,null,null,null,null,null,null,null,null,null,null,"",0,0,0,{"$f":"IF(F1762=\"\",0,IF(isNccValid(F1762),0,1))","v":0}]
[null,null,null,null,null,null,null,null,null,null,null,null,null,null,null,"",0,0,0,{"$f":"IF(F1763=\"\",0,IF(isNccValid(F1763),0,1))","v":0}]
[null,null,null,null,null,null,null,null,null,null,null,null,null,null,null,"",0,0,0,{"$f":"IF(F1764=\"\",0,IF(isNccValid(F1764),0,1))","v":0}]
[null,null,null,null,null,null,null,null,null,null,null,null,null,null,null,"",0,0,0,{"$f":"IF(F1765=\"\",0,IF(isNccValid(F1765),0,1))","v":0}]
[null,null,null,null,null,null,null,null,null,null,null,null,null,null,null,"",0,0,0,{"$f":"IF(F1766=\"\",0,IF(isNccValid(F1766),0,1))","v":0}]
[null,null,null,null,null,null,null,null,null,null,null,null,null,null,null,"",0,0,0,{"$f":"IF(F1767=\"\",0,IF(isNccValid(F1767),0,1))","v":0}]
[null,null,null,null,null,null,null,null,null,null,null,null,null,null,null,"",0,0,0,{"$f":"IF(F1768=\"\",0,IF(isNccValid(F1768),0,1))","v":0}]
[null,null,null,null,null,null,null,null,null,null,null,null,null,null,null,"",0,0,0,{"$f":"IF(F1769=\"\",0,IF(isNccValid(F1769),0,1))","v":0}]
[null,null,null,null,null,null,null,null,null,null,null,null,null,null,null,"",0,0,0,{"$f":"IF(F1770=\"\",0,IF(isNccValid(F1770),0,1))","v":0}]
[null,null,null,null,null,null,null,null,null,null,null,null,null,null,null,"",0,0,0,{"$f":"IF(F1771=\"\",0,IF(isNccValid(F1771),0,1))","v":0}]
[null,null,null,null,null,null,null,null,null,null,null,null,null,null,null,"",0,0,0,{"$f":"IF(F1772=\"\",0,IF(isNccValid(F1772),0,1))","v":0}]
[null,null,null,null,null,null,null,null,null,null,null,null,null,null,null,"",0,0,0,{"$f":"IF(F1773=\"\",0,IF(isNccValid(F1773),0,1))","v":0}]
[null,null,null,null,null,null,null,null,null,null,null,null,null,null,null,"",0,0,0,{"$f":"IF(F1774=\"\",0,IF(isNccValid(F1774),0,1))","v":0}]
[null,null,null,null,null,null,null,null,null,null,null,null,null,null,null,"",0,0,0,{"$f":"IF(F1775=\"\",0,IF(isNccValid(F1775),0,1))","v":0}]
[null,null,null,null,null,null,null,null,null,null,null,null,null,null,null,"",0,0,0,{"$f":"IF(F1776=\"\",0,IF(isNccValid(F1776),0,1))","v":0}]
[null,null,null,null,null,null,null,null,null,null,null,null,null,null,null,"",0,0,0,{"$f":"IF(F1777=\"\",0,IF(isNccValid(F1777),0,1))","v":0}]
[null,null,null,null,null,null,null,null,null,null,null,null,null,null,null,"",0,0,0,{"$f":"IF(F1778=\"\",0,IF(isNccValid(F1778),0,1))","v":0}]
[null,null,null,null,null,null,null,null,null,null,null,null,null,null,null,"",0,0,0,{"$f":"IF(F1779=\"\",0,IF(isNccValid(F1779),0,1))","v":0}]
[null,null,null,null,null,null,null,null,null,null,null,null,null,null,null,"",0,0,0,{"$f":"IF(F1780=\"\",0,IF(isNccValid(F1780),0,1))","v":0}]
[null,null,null,null,null,null,null,null,null,null,null,null,null,null,null,"",0,0,0,{"$f":"IF(F1781=\"\",0,IF(isNccValid(F1781),0,1))","v":0}]
[null,null,null,null,null,null,null,null,null,null,null,null,null,null,null,"",0,0,0,{"$f":"IF(F1782=\"\",0,IF(isNccValid(F1782),0,1))","v":0}]
[null,null,null,null,null,null,null,null,null,null,null,null,null,null,null,"",0,0,0,{"$f":"IF(F1783=\"\",0,IF(isNccValid(F1783),0,1))","v":0}]
[null,null,null,null,null,null,null,null,null,null,null,null,null,null,null,"",0,0,0,{"$f":"IF(F1784=\"\",0,IF(isNccValid(F1784),0,1))","v":0}]
[null,null,null,null,null,null,null,null,null,null,null,null,null,null,null,"",0,0,0,{"$f":"IF(F1785=\"\",0,IF(isNccValid(F1785),0,1))","v":0}]
[null,null,null,null,null,null,null,null,null,null,null,null,null,null,null,"",0,0,0,{"$f":"IF(F1786=\"\",0,IF(isNccValid(F1786),0,1))","v":0}]
[null,null,null,null,null,null,null,null,null,null,null,null,null,null,null,"",0,0,0,{"$f":"IF(F1787=\"\",0,IF(isNccValid(F1787),0,1))","v":0}]
[null,null,null,null,null,null,null,null,null,null,null,null,null,null,null,"",0,0,0,{"$f":"IF(F1788=\"\",0,IF(isNccValid(F1788),0,1))","v":0}]
[null,null,null,null,null,null,null,null,null,null,null,null,null,null,null,"",{"$f":"IF(AND(B1789=\"\",R1789=1),1,IF(AND(D1789=\"\",R1789=1),1,IF(AND(E1789=\"\",R1789=1),1,IF(AND(F1789=\"\",R1789=1),1,IF(AND(M1789=\"\",R1789=1),1,IF(AND(O1789=\"\",R1789=1),1,0))))))","v":0},{"$f":"IF(C1789=\"\",0,IF(COUNTA(B1789:O1789)>0,1,0))","v":0},{"$f":"IFERROR(IF(LEN(F1789)=8,0,IF(LEN(F1789)=0,0,1)),1)","v":0},{"$f":"IF(F1789=\"\",0,IF(isNccValid(F1789),0,1))","v":0}]
[null,null,null,null,null,null,null,null,null,null,null,null,null,null,null,"",0,0,0,{"$f":"IF(F1790=\"\",0,IF(isNccValid(F1790),0,1))","v":0}]
[null,null,null,null,null,null,null,null,null,null,null,null,null,null,null,"",0,0,0,{"$f":"IF(F1791=\"\",0,IF(isNccValid(F1791),0,1))","v":0}]
[null,null,null,null,null,null,null,null,null,null,null,null,null,null,null,"",0,0,0,{"$f":"IF(F1792=\"\",0,IF(isNccValid(F1792),0,1))","v":0}]
[null,null,null,null,null,null,null,null,null,null,null,null,null,null,null,"",0,0,0,{"$f":"IF(F1793=\"\",0,IF(isNccValid(F1793),0,1))","v":0}]
[null,null,null,null,null,null,null,null,null,null,null,null,null,null,null,"",0,0,0,{"$f":"IF(F1794=\"\",0,IF(isNccValid(F1794),0,1))","v":0}]
[null,null,null,null,null,null,null,null,null,null,null,null,null,null,null,"",0,0,0,{"$f":"IF(F1795=\"\",0,IF(isNccValid(F1795),0,1))","v":0}]
[null,null,null,null,null,null,null,null,null,null,null,null,null,null,null,"",0,0,0,{"$f":"IF(F1796=\"\",0,IF(isNccValid(F1796),0,1))","v":0}]
[null,null,null,null,null,null,null,null,null,null,null,null,null,null,null,"",0,0,0,{"$f":"IF(F1797=\"\",0,IF(isNccValid(F1797),0,1))","v":0}]
[null,null,null,null,null,null,null,null,null,null,null,null,null,null,null,"",0,0,0,{"$f":"IF(F1798=\"\",0,IF(isNccValid(F1798),0,1))","v":0}]
[null,null,null,null,null,null,null,null,null,null,null,null,null,null,null,"",0,0,0,{"$f":"IF(F1799=\"\",0,IF(isNccValid(F1799),0,1))","v":0}]
[null,null,null,null,null,null,null,null,null,null,null,null,null,null,null,"",0,0,0,{"$f":"IF(F1800=\"\",0,IF(isNccValid(F1800),0,1))","v":0}]
[null,null,null,null,null,null,null,null,null,null,null,null,null,null,null,"",0,0,0,{"$f":"IF(F1801=\"\",0,IF(isNccValid(F1801),0,1))","v":0}]
[null,null,null,null,null,null,null,null,null,null,null,null,null,null,null,"",0,0,0,{"$f":"IF(F1802=\"\",0,IF(isNccValid(F1802),0,1))","v":0}]
[null,null,null,null,null,null,null,null,null,null,null,null,null,null,null,"",0,0,0,{"$f":"IF(F1803=\"\",0,IF(isNccValid(F1803),0,1))","v":0}]
[null,null,null,null,null,null,null,null,null,null,null,null,null,null,null,"",0,0,0,{"$f":"IF(F1804=\"\",0,IF(isNccValid(F1804),0,1))","v":0}]
[null,null,null,null,null,null,null,null,null,null,null,null,null,null,null,"",0,0,0,{"$f":"IF(F1805=\"\",0,IF(isNccValid(F1805),0,1))","v":0}]
[null,null,null,null,null,null,null,null,null,null,null,null,null,null,null,"",0,0,0,{"$f":"IF(F1806=\"\",0,IF(isNccValid(F1806),0,1))","v":0}]
[null,null,null,null,null,null,null,null,null,null,null,null,null,null,null,"",0,0,0,{"$f":"IF(F1807=\"\",0,IF(isNccValid(F1807),0,1))","v":0}]
[null,null,null,null,null,null,null,null,null,null,null,null,null,null,null,"",0,0,0,{"$f":"IF(F1808=\"\",0,IF(isNccValid(F1808),0,1))","v":0}]
[null,null,null,null,null,null,null,null,null,null,null,null,null,null,null,"",0,0,0,{"$f":"IF(F1809=\"\",0,IF(isNccValid(F1809),0,1))","v":0}]
[null,null,null,null,null,null,null,null,null,null,null,null,null,null,null,"",0,0,0,{"$f":"IF(F1810=\"\",0,IF(isNccValid(F1810),0,1))","v":0}]
[null,null,null,null,null,null,null,null,null,null,null,null,null,null,null,"",0,0,0,{"$f":"IF(F1811=\"\",0,IF(isNccValid(F1811),0,1))","v":0}]
[null,null,null,null,null,null,null,null,null,null,null,null,null,null,null,"",0,0,0,{"$f":"IF(F1812=\"\",0,IF(isNccValid(F1812),0,1))","v":0}]
[null,null,null,null,null,null,null,null,null,null,null,null,null,null,null,"",0,0,0,{"$f":"IF(F1813=\"\",0,IF(isNccValid(F1813),0,1))","v":0}]
[null,null,null,null,null,null,null,null,null,null,null,null,null,null,null,{"$f":"IF(B1814=\"\",\"\",M1814*O1814)","v":""},0,0,0,{"$f":"IF(F1814=\"\",0,IF(isNccValid(F1814),0,1))","v":0}]
[null,null,null,null,null,null,null,null,null,null,null,null,null,null,null,"",0,0,0,{"$f":"IF(F1815=\"\",0,IF(isNccValid(F1815),0,1))","v":0}]
[null,null,null,null,null,null,null,null,null,null,null,null,null,null,null,"",0,0,0,{"$f":"IF(F1816=\"\",0,IF(isNccValid(F1816),0,1))","v":0}]
[null,null,null,null,null,null,null,null,null,null,null,null,null,null,null,"",0,0,0,{"$f":"IF(F1817=\"\",0,IF(isNccValid(F1817),0,1))","v":0}]
[null,null,null,null,null,null,null,null,null,null,null,null,null,null,null,"",0,0,0,{"$f":"IF(F1818=\"\",0,IF(isNccValid(F1818),0,1))","v":0}]
[null,null,null,null,null,null,null,null,null,null,null,null,null,null,null,"",0,0,0,{"$f":"IF(F1819=\"\",0,IF(isNccValid(F1819),0,1))","v":0}]
[null,null,null,null,null,null,null,null,null,null,null,null,null,null,null,"",0,0,0,{"$f":"IF(F1820=\"\",0,IF(isNccValid(F1820),0,1))","v":0}]
[null,null,null,null,null,null,null,null,null,null,null,null,null,null,null,"",0,0,0,{"$f":"IF(F1821=\"\",0,IF(isNccValid(F1821),0,1))","v":0}]
[null,null,null,null,null,null,null,null,null,null,null,null,null,null,null,"",0,0,0,{"$f":"IF(F1822=\"\",0,IF(isNccValid(F1822),0,1))","v":0}]
[null,null,null,null,null,null,null,null,null,null,null,null,null,null,null,"",0,0,0,{"$f":"IF(F1823=\"\",0,IF(isNccValid(F1823),0,1))","v":0}]
[null,null,null,null,null,null,null,null,null,null,null,null,null,null,null,"",0,0,0,{"$f":"IF(F1824=\"\",0,IF(isNccValid(F1824),0,1))","v":0}]
[null,null,null,null,null,null,null,null,null,null,null,null,null,null,null,"",0,0,0,{"$f":"IF(F1825=\"\",0,IF(isNccValid(F1825),0,1))","v":0}]
[null,null,null,null,null,null,null,null,null,null,null,null,null,null,null,"",0,0,0,{"$f":"IF(F1826=\"\",0,IF(isNccValid(F1826),0,1))","v":0}]
[null,null,null,null,null,null,null,null,null,null,null,null,null,null,null,"",0,0,0,{"$f":"IF(F1827=\"\",0,IF(isNccValid(F1827),0,1))","v":0}]
[null,null,null,null,null,null,null,null,null,null,null,null,null,null,null,"",0,0,0,{"$f":"IF(F1828=\"\",0,IF(isNccValid(F1828),0,1))","v":0}]
[null,null,null,null,null,null,null,null,null,null,null,null,null,null,null,"",0,0,0,{"$f":"IF(F1829=\"\",0,IF(isNccValid(F1829),0,1))","v":0}]
[null,null,null,null,null,null,null,null,null,null,null,null,null,null,null,"",0,0,0,{"$f":"IF(F1830=\"\",0,IF(isNccValid(F1830),0,1))","v":0}]
[null,null,null,null,null,null,null,null,null,null,null,null,null,null,null,"",0,0,0,{"$f":"IF(F1831=\"\",0,IF(isNccValid(F1831),0,1))","v":0}]
[null,null,null,null,null,null,null,null,null,null,null,null,null,null,null,"",0,0,0,{"$f":"IF(F1832=\"\",0,IF(isNccValid(F1832),0,1))","v":0}]
[null,null,null,null,null,null,null,null,null,null,null,null,null,null,null,"",0,0,0,{"$f":"IF(F1833=\"\",0,IF(isNccValid(F1833),0,1))","v":0}]
[null,null,null,null,null,null,null,null,null,null,null,null,null,null,null,"",0,0,0,{"$f":"IF(F1834=\"\",0,IF(isNccValid(F1834),0,1))","v":0}]
[null,null,null,null,null,null,null,null,null,null,null,null,null,null,null,"",0,0,0,{"$f":"IF(F1835=\"\",0,IF(isNccValid(F1835),0,1))","v":0}]
[null,null,null,null,null,null,null,null,null,null,null,null,null,null,null,"",0,0,0,{"$f":"IF(F1836=\"\",0,IF(isNccValid(F1836),0,1))","v":0}]
[null,null,null,null,null,null,null,null,null,null,null,null,null,null,null,"",0,0,0,{"$f":"IF(F1837=\"\",0,IF(isNccValid(F1837),0,1))","v":0}]
[null,null,null,null,null,null,null,null,null,null,null,null,null,null,null,"",0,0,0,{"$f":"IF(F1838=\"\",0,IF(isNccValid(F1838),0,1))","v":0}]
[null,null,null,null,null,null,null,null,null,null,null,null,null,null,null,"",0,0,0,{"$f":"IF(F1839=\"\",0,IF(isNccValid(F1839),0,1))","v":0}]
[null,null,null,null,null,null,null,null,null,null,null,null,null,null,null,"",0,0,0,{"$f":"IF(F1840=\"\",0,IF(isNccValid(F1840),0,1))","v":0}]
[null,null,null,null,null,null,null,null,null,null,null,null,null,null,null,"",0,0,0,{"$f":"IF(F1841=\"\",0,IF(isNccValid(F1841),0,1))","v":0}]
[null,null,null,null,null,null,null,null,null,null,null,null,null,null,null,"",0,0,0,{"$f":"IF(F1842=\"\",0,IF(isNccValid(F1842),0,1))","v":0}]
[null,null,null,null,null,null,null,null,null,null,null,null,null,null,null,"",0,0,0,{"$f":"IF(F1843=\"\",0,IF(isNccValid(F1843),0,1))","v":0}]
[null,null,null,null,null,null,null,null,null,null,null,null,null,null,null,"",0,0,0,{"$f":"IF(F1844=\"\",0,IF(isNccValid(F1844),0,1))","v":0}]
[null,null,null,null,null,null,null,null,null,null,null,null,null,null,null,"",0,0,0,{"$f":"IF(F1845=\"\",0,IF(isNccValid(F1845),0,1))","v":0}]
[null,null,null,null,null,null,null,null,null,null,null,null,null,null,null,"",0,0,0,{"$f":"IF(F1846=\"\",0,IF(isNccValid(F1846),0,1))","v":0}]
[null,null,null,null,null,null,null,null,null,null,null,null,null,null,null,"",0,0,0,{"$f":"IF(F1847=\"\",0,IF(isNccValid(F1847),0,1))","v":0}]
[null,null,null,null,null,null,null,null,null,null,null,null,null,null,null,"",0,0,0,{"$f":"IF(F1848=\"\",0,IF(isNccValid(F1848),0,1))","v":0}]
[null,null,null,null,null,null,null,null,null,null,null,null,null,null,null,"",0,0,0,{"$f":"IF(F1849=\"\",0,IF(isNccValid(F1849),0,1))","v":0}]
[null,null,null,null,null,null,null,null,null,null,null,null,null,null,null,"",0,0,0,{"$f":"IF(F1850=\"\",0,IF(isNccValid(F1850),0,1))","v":0}]
[null,null,null,null,null,null,null,null,null,null,null,null,null,null,null,"",0,0,0,{"$f":"IF(F1851=\"\",0,IF(isNccValid(F1851),0,1))","v":0}]
[null,null,null,null,null,null,null,null,null,null,null,null,null,null,null,"",0,0,0,{"$f":"IF(F1852=\"\",0,IF(isNccValid(F1852),0,1))","v":0}]
[null,null,null,null,null,null,null,null,null,null,null,null,null,null,null,"",{"$f":"IF(AND(B1853=\"\",R1853=1),1,IF(AND(D1853=\"\",R1853=1),1,IF(AND(E1853=\"\",R1853=1),1,IF(AND(F1853=\"\",R1853=1),1,IF(AND(M1853=\"\",R1853=1),1,IF(AND(O1853=\"\",R1853=1),1,0))))))","v":0},{"$f":"IF(C1853=\"\",0,IF(COUNTA(B1853:O1853)>0,1,0))","v":0},{"$f":"IFERROR(IF(LEN(F1853)=8,0,IF(LEN(F1853)=0,0,1)),1)","v":0},{"$f":"IF(F1853=\"\",0,IF(isNccValid(F1853),0,1))","v":0}]
[null,null,null,null,null,null,null,null,null,null,null,null,null,null,null,"",0,0,0,{"$f":"IF(F1854=\"\",0,IF(isNccValid(F1854),0,1))","v":0}]
[null,null,null,null,null,null,null,null,null,null,null,null,null,null,null,"",0,0,0,{"$f":"IF(F1855=\"\",0,IF(isNccValid(F1855),0,1))","v":0}]
[null,null,null,null,null,null,null,null,null,null,null,null,null,null,null,"",0,0,0,{"$f":"IF(F1856=\"\",0,IF(isNccValid(F1856),0,1))","v":0}]
[null,null,null,null,null,null,null,null,null,null,null,null,null,null,null,"",0,0,0,{"$f":"IF(F1857=\"\",0,IF(isNccValid(F1857),0,1))","v":0}]
[null,null,null,null,null,null,null,null,null,null,null,null,null,null,null,"",0,0,0,{"$f":"IF(F1858=\"\",0,IF(isNccValid(F1858),0,1))","v":0}]
[null,null,null,null,null,null,null,null,null,null,null,null,null,null,null,"",0,0,0,{"$f":"IF(F1859=\"\",0,IF(isNccValid(F1859),0,1))","v":0}]
[null,null,null,null,null,null,null,null,null,null,null,null,null,null,null,"",0,0,0,{"$f":"IF(F1860=\"\",0,IF(isNccValid(F1860),0,1))","v":0}]
[null,null,null,null,null,null,null,null,null,null,null,null,null,null,null,"",0,0,0,{"$f":"IF(F1861=\"\",0,IF(isNccValid(F1861),0,1))","v":0}]
[null,null,null,null,null,null,null,null,null,null,null,null,null,null,null,"",0,0,0,{"$f":"IF(F1862=\"\",0,IF(isNccValid(F1862),0,1))","v":0}]
[null,null,null,null,null,null,null,null,null,null,null,null,null,null,null,"",0,0,0,{"$f":"IF(F1863=\"\",0,IF(isNccValid(F1863),0,1))","v":0}]
[null,null,null,null,null,null,null,null,null,null,null,null,null,null,null,"",0,0,0,{"$f":"IF(F1864=\"\",0,IF(isNccValid(F1864),0,1))","v":0}]
[null,null,null,null,null,null,null,null,null,null,null,null,null,null,null,"",0,0,0,{"$f":"IF(F1865=\"\",0,IF(isNccValid(F1865),0,1))","v":0}]
[null,null,null,null,null,null,null,null,null,null,null,null,null,null,null,"",0,0,0,{"$f":"IF(F1866=\"\",0,IF(isNccValid(F1866),0,1))","v":0}]
[null,null,null,null,null,null,null,null,null,null,null,null,null,null,null,"",0,0,0,{"$f":"IF(F1867=\"\",0,IF(isNccValid(F1867),0,1))","v":0}]
[null,null,null,null,null,null,null,null,null,null,null,null,null,null,null,"",0,0,0,{"$f":"IF(F1868=\"\",0,IF(isNccValid(F1868),0,1))","v":0}]
[null,null,null,null,null,null,null,null,null,null,null,null,null,null,null,"",0,0,0,{"$f":"IF(F1869=\"\",0,IF(isNccValid(F1869),0,1))","v":0}]
[null,null,null,null,null,null,null,null,null,null,null,null,null,null,null,"",0,0,0,{"$f":"IF(F1870=\"\",0,IF(isNccValid(F1870),0,1))","v":0}]
[null,null,null,null,null,null,null,null,null,null,null,null,null,null,null,"",0,0,0,{"$f":"IF(F1871=\"\",0,IF(isNccValid(F1871),0,1))","v":0}]
[null,null,null,null,null,null,null,null,null,null,null,null,null,null,null,"",0,0,0,{"$f":"IF(F1872=\"\",0,IF(isNccValid(F1872),0,1))","v":0}]
[null,null,null,null,null,null,null,null,null,null,null,null,null,null,null,"",0,0,0,{"$f":"IF(F1873=\"\",0,IF(isNccValid(F1873),0,1))","v":0}]
[null,null,null,null,null,null,null,null,null,null,null,null,null,null,null,"",0,0,0,{"$f":"IF(F1874=\"\",0,IF(isNccValid(F1874),0,1))","v":0}]
[null,null,null,null,null,null,null,null,null,null,null,null,null,null,null,"",0,0,0,{"$f":"IF(F1875=\"\",0,IF(isNccValid(F1875),0,1))","v":0}]
[null,null,null,null,null,null,null,null,null,null,null,null,null,null,null,"",0,0,0,{"$f":"IF(F1876=\"\",0,IF(isNccValid(F1876),0,1))","v":0}]
[null,null,null,null,null,null,null,null,null,null,null,null,null,null,null,"",0,0,0,{"$f":"IF(F1877=\"\",0,IF(isNccValid(F1877),0,1))","v":0}]
[null,null,null,null,null,null,null,null,null,null,null,null,null,null,null,{"$f":"IF(B1878=\"\",\"\",M1878*O1878)","v":""},0,0,0,{"$f":"IF(F1878=\"\",0,IF(isNccValid(F1878),0,1))","v":0}]
[null,null,null,null,null,null,null,null,null,null,null,null,null,null,null,"",0,0,0,{"$f":"IF(F1879=\"\",0,IF(isNccValid(F1879),0,1))","v":0}]
[null,null,null,null,null,null,null,null,null,null,null,null,null,null,null,"",0,0,0,{"$f":"IF(F1880=\"\",0,IF(isNccValid(F1880),0,1))","v":0}]
[null,null,null,null,null,null,null,null,null,null,null,null,null,null,null,"",0,0,0,{"$f":"IF(F1881=\"\",0,IF(isNccValid(F1881),0,1))","v":0}]
[null,null,null,null,null,null,null,null,null,null,null,null,null,null,null,"",0,0,0,{"$f":"IF(F1882=\"\",0,IF(isNccValid(F1882),0,1))","v":0}]
[null,null,null,null,null,null,null,null,null,null,null,null,null,null,null,"",0,0,0,{"$f":"IF(F1883=\"\",0,IF(isNccValid(F1883),0,1))","v":0}]
[null,null,null,null,null,null,null,null,null,null,null,null,null,null,null,"",0,0,0,{"$f":"IF(F1884=\"\",0,IF(isNccValid(F1884),0,1))","v":0}]
[null,null,null,null,null,null,null,null,null,null,null,null,null,null,null,"",0,0,0,{"$f":"IF(F1885=\"\",0,IF(isNccValid(F1885),0,1))","v":0}]
[null,null,null,null,null,null,null,null,null,null,null,null,null,null,null,"",0,0,0,{"$f":"IF(F1886=\"\",0,IF(isNccValid(F1886),0,1))","v":0}]
[null,null,null,null,null,null,null,null,null,null,null,null,null,null,null,"",0,0,0,{"$f":"IF(F1887=\"\",0,IF(isNccValid(F1887),0,1))","v":0}]
[null,null,null,null,null,null,null,null,null,null,null,null,null,null,null,"",0,0,0,{"$f":"IF(F1888=\"\",0,IF(isNccValid(F1888),0,1))","v":0}]
[null,null,null,null,null,null,null,null,null,null,null,null,null,null,null,"",0,0,0,{"$f":"IF(F1889=\"\",0,IF(isNccValid(F1889),0,1))","v":0}]
[null,null,null,null,null,null,null,null,null,null,null,null,null,null,null,"",0,0,0,{"$f":"IF(F1890=\"\",0,IF(isNccValid(F1890),0,1))","v":0}]
[null,null,null,null,null,null,null,null,null,null,null,null,null,null,null,"",0,0,0,{"$f":"IF(F1891=\"\",0,IF(isNccValid(F1891),0,1))","v":0}]
[null,null,null,null,null,null,null,null,null,null,null,null,null,null,null,"",0,0,0,{"$f":"IF(F1892=\"\",0,IF(isNccValid(F1892),0,1))","v":0}]
[null,null,null,null,null,null,null,null,null,null,null,null,null,null,null,"",0,0,0,{"$f":"IF(F1893=\"\",0,IF(isNccValid(F1893),0,1))","v":0}]
[null,null,null,null,null,null,null,null,null,null,null,null,null,null,null,"",0,0,0,{"$f":"IF(F1894=\"\",0,IF(isNccValid(F1894),0,1))","v":0}]
[null,null,null,null,null,null,null,null,null,null,null,null,null,null,null,"",0,0,0,{"$f":"IF(F1895=\"\",0,IF(isNccValid(F1895),0,1))","v":0}]
[null,null,null,null,null,null,null,null,null,null,null,null,null,null,null,"",0,0,0,{"$f":"IF(F1896=\"\",0,IF(isNccValid(F1896),0,1))","v":0}]
[null,null,null,null,null,null,null,null,null,null,null,null,null,null,null,"",0,0,0,{"$f":"IF(F1897=\"\",0,IF(isNccValid(F1897),0,1))","v":0}]
[null,null,null,null,null,null,null,null,null,null,null,null,null,null,null,"",0,0,0,{"$f":"IF(F1898=\"\",0,IF(isNccValid(F1898),0,1))","v":0}]
[null,null,null,null,null,null,null,null,null,null,null,null,null,null,null,"",0,0,0,{"$f":"IF(F1899=\"\",0,IF(isNccValid(F1899),0,1))","v":0}]
[null,null,null,null,null,null,null,null,null,null,null,null,null,null,null,"",0,0,0,{"$f":"IF(F1900=\"\",0,IF(isNccValid(F1900),0,1))","v":0}]
[null,null,null,null,null,null,null,null,null,null,null,null,null,null,null,"",0,0,0,{"$f":"IF(F1901=\"\",0,IF(isNccValid(F1901),0,1))","v":0}]
[null,null,null,null,null,null,null,null,null,null,null,null,null,null,null,"",0,0,0,{"$f":"IF(F1902=\"\",0,IF(isNccValid(F1902),0,1))","v":0}]
[null,null,null,null,null,null,null,null,null,null,null,null,null,null,null,"",0,0,0,{"$f":"IF(F1903=\"\",0,IF(isNccValid(F1903),0,1))","v":0}]
[null,null,null,null,null,null,null,null,null,null,null,null,null,null,null,"",0,0,0,{"$f":"IF(F1904=\"\",0,IF(isNccValid(F1904),0,1))","v":0}]
[null,null,null,null,null,null,null,null,null,null,null,null,null,null,null,"",0,0,0,{"$f":"IF(F1905=\"\",0,IF(isNccValid(F1905),0,1))","v":0}]
[null,null,null,null,null,null,null,null,null,null,null,null,null,null,null,"",0,0,0,{"$f":"IF(F1906=\"\",0,IF(isNccValid(F1906),0,1))","v":0}]
[null,null,null,null,null,null,null,null,null,null,null,null,null,null,null,"",0,0,0,{"$f":"IF(F1907=\"\",0,IF(isNccValid(F1907),0,1))","v":0}]
[null,null,null,null,null,null,null,null,null,null,null,null,null,null,null,"",0,0,0,{"$f":"IF(F1908=\"\",0,IF(isNccValid(F1908),0,1))","v":0}]
[null,null,null,null,null,null,null,null,null,null,null,null,null,null,null,"",0,0,0,{"$f":"IF(F1909=\"\",0,IF(isNccValid(F1909),0,1))","v":0}]
[null,null,null,null,null,null,null,null,null,null,null,null,null,null,null,"",0,0,0,{"$f":"IF(F1910=\"\",0,IF(isNccValid(F1910),0,1))","v":0}]
[null,null,null,null,null,null,null,null,null,null,null,null,null,null,null,"",0,0,0,{"$f":"IF(F1911=\"\",0,IF(isNccValid(F1911),0,1))","v":0}]
[null,null,null,null,null,null,null,null,null,null,null,null,null,null,null,"",0,0,0,{"$f":"IF(F1912=\"\",0,IF(isNccValid(F1912),0,1))","v":0}]
[null,null,null,null,null,null,null,null,null,null,null,null,null,null,null,"",0,0,0,{"$f":"IF(F1913=\"\",0,IF(isNccValid(F1913),0,1))","v":0}]
[null,null,null,null,null,null,null,null,null,null,null,null,null,null,null,"",0,0,0,{"$f":"IF(F1914=\"\",0,IF(isNccValid(F1914),0,1))","v":0}]
[null,null,null,null,null,null,null,null,null,null,null,null,null,null,null,"",0,0,0,{"$f":"IF(F1915=\"\",0,IF(isNccValid(F1915),0,1))","v":0}]
[null,null,null,null,null,null,null,null,null,null,null,null,null,null,null,"",0,0,0,{"$f":"IF(F1916=\"\",0,IF(isNccValid(F1916),0,1))","v":0}]
[null,null,null,null,null,null,null,null,null,null,null,null,null,null,null,"",{"$f":"IF(AND(B1917=\"\",R1917=1),1,IF(AND(D1917=\"\",R1917=1),1,IF(AND(E1917=\"\",R1917=1),1,IF(AND(F1917=\"\",R1917=1),1,IF(AND(M1917=\"\",R1917=1),1,IF(AND(O1917=\"\",R1917=1),1,0))))))","v":0},{"$f":"IF(C1917=\"\",0,IF(COUNTA(B1917:O1917)>0,1,0))","v":0},{"$f":"IFERROR(IF(LEN(F1917)=8,0,IF(LEN(F1917)=0,0,1)),1)","v":0},{"$f":"IF(F1917=\"\",0,IF(isNccValid(F1917),0,1))","v":0}]
[null,null,null,null,null,null,null,null,null,null,null,null,null,null,null,"",0,0,0,{"$f":"IF(F1918=\"\",0,IF(isNccValid(F1918),0,1))","v":0}]
[null,null,null,null,null,null,null,null,null,null,null,null,null,null,null,"",0,0,0,{"$f":"IF(F1919=\"\",0,IF(isNccValid(F1919),0,1))","v":0}]
[null,null,null,null,null,null,null,null,null,null,null,null,null,null,null,"",0,0,0,{"$f":"IF(F1920=\"\",0,IF(isNccValid(F1920),0,1))","v":0}]
[null,null,null,null,null,null,null,null,null,null,null,null,null,null,null,"",0,0,0,{"$f":"IF(F1921=\"\",0,IF(isNccValid(F1921),0,1))","v":0}]
[null,null,null,null,null,null,null,null,null,null,null,null,null,null,null,"",0,0,0,{"$f":"IF(F1922=\"\",0,IF(isNccValid(F1922),0,1))","v":0}]
[null,null,null,null,null,null,null,null,null,null,null,null,null,null,null,"",0,0,0,{"$f":"IF(F1923=\"\",0,IF(isNccValid(F1923),0,1))","v":0}]
[null,null,null,null,null,null,null,null,null,null,null,null,null,null,null,"",0,0,0,{"$f":"IF(F1924=\"\",0,IF(isNccValid(F1924),0,1))","v":0}]
[null,null,null,null,null,null,null,null,null,null,null,null,null,null,null,"",0,0,0,{"$f":"IF(F1925=\"\",0,IF(isNccValid(F1925),0,1))","v":0}]
[null,null,null,null,null,null,null,null,null,null,null,null,null,null,null,"",0,0,0,{"$f":"IF(F1926=\"\",0,IF(isNccValid(F1926),0,1))","v":0}]
[null,null,null,null,null,null,null,null,null,null,null,null,null,null,null,"",0,0,0,{"$f":"IF(F1927=\"\",0,IF(isNccValid(F1927),0,1))","v":0}]
[null,null,null,null,null,null,null,null,null,null,null,null,null,null,null,"",0,0,0,{"$f":"IF(F1928=\"\",0,IF(isNccValid(F1928),0,1))","v":0}]
[null,null,null,null,null,null,null,null,null,null,null,null,null,null,null,"",0,0,0,{"$f":"IF(F1929=\"\",0,IF(isNccValid(F1929),0,1))","v":0}]
[null,null,null,null,null,null,null,null,null,null,null,null,null,null,null,"",0,0,0,{"$f":"IF(F1930=\"\",0,IF(isNccValid(F1930),0,1))","v":0}]
[null,null,null,null,null,null,null,null,null,null,null,null,null,null,null,"",0,0,0,{"$f":"IF(F1931=\"\",0,IF(isNccValid(F1931),0,1))","v":0}]
[null,null,null,null,null,null,null,null,null,null,null,null,null,null,null,"",0,0,0,{"$f":"IF(F1932=\"\",0,IF(isNccValid(F1932),0,1))","v":0}]
[null,null,null,null,null,null,null,null,null,null,null,null,null,null,null,"",0,0,0,{"$f":"IF(F1933=\"\",0,IF(isNccValid(F1933),0,1))","v":0}]
[null,null,null,null,null,null,null,null,null,null,null,null,null,null,null,"",0,0,0,{"$f":"IF(F1934=\"\",0,IF(isNccValid(F1934),0,1))","v":0}]
[null,null,null,null,null,null,null,null,null,null,null,null,null,null,null,"",0,0,0,{"$f":"IF(F1935=\"\",0,IF(isNccValid(F1935),0,1))","v":0}]
[null,null,null,null,null,null,null,null,null,null,null,null,null,null,null,"",0,0,0,{"$f":"IF(F1936=\"\",0,IF(isNccValid(F1936),0,1))","v":0}]
[null,null,null,null,null,null,null,null,null,null,null,null,null,null,null,"",0,0,0,{"$f":"IF(F1937=\"\",0,IF(isNccValid(F1937),0,1))","v":0}]
[null,null,null,null,null,null,null,null,null,null,null,null,null,null,null,"",0,0,0,{"$f":"IF(F1938=\"\",0,IF(isNccValid(F1938),0,1))","v":0}]
[null,null,null,null,null,null,null,null,null,null,null,null,null,null,null,"",0,0,0,{"$f":"IF(F1939=\"\",0,IF(isNccValid(F1939),0,1))","v":0}]
[null,null,null,null,null,null,null,null,null,null,null,null,null,null,null,"",0,0,0,{"$f":"IF(F1940=\"\",0,IF(isNccValid(F1940),0,1))","v":0}]
[null,null,null,null,null,null,null,null,null,null,null,null,null,null,null,"",0,0,0,{"$f":"IF(F1941=\"\",0,IF(isNccValid(F1941),0,1))","v":0}]
[null,null,null,null,null,null,null,null,null,null,null,null,null,null,null,{"$f":"IF(B1942=\"\",\"\",M1942*O1942)","v":""},0,0,0,{"$f":"IF(F1942=\"\",0,IF(isNccValid(F1942),0,1))","v":0}]
[null,null,null,null,null,null,null,null,null,null,null,null,null,null,null,"",0,0,0,{"$f":"IF(F1943=\"\",0,IF(isNccValid(F1943),0,1))","v":0}]
[null,null,null,null,null,null,null,null,null,null,null,null,null,null,null,"",0,0,0,{"$f":"IF(F1944=\"\",0,IF(isNccValid(F1944),0,1))","v":0}]
[null,null,null,null,null,null,null,null,null,null,null,null,null,null,null,"",0,0,0,{"$f":"IF(F1945=\"\",0,IF(isNccValid(F1945),0,1))","v":0}]
[null,null,null,null,null,null,null,null,null,null,null,null,null,null,null,"",0,0,0,{"$f":"IF(F1946=\"\",0,IF(isNccValid(F1946),0,1))","v":0}]
[null,null,null,null,null,null,null,null,null,null,null,null,null,null,null,"",0,0,0,{"$f":"IF(F1947=\"\",0,IF(isNccValid(F1947),0,1))","v":0}]
[null,null,null,null,null,null,null,null,null,null,null,null,null,null,null,"",0,0,0,{"$f":"IF(F1948=\"\",0,IF(isNccValid(F1948),0,1))","v":0}]
[null,null,null,null,null,null,null,null,null,null,null,null,null,null,null,"",0,0,0,{"$f":"IF(F1949=\"\",0,IF(isNccValid(F1949),0,1))","v":0}]
[null,null,null,null,null,null,null,null,null,null,null,null,null,null,null,"",0,0,0,{"$f":"IF(F1950=\"\",0,IF(isNccValid(F1950),0,1))","v":0}]
[null,null,null,null,null,null,null,null,null,null,null,null,null,null,null,"",0,0,0,{"$f":"IF(F1951=\"\",0,IF(isNccValid(F1951),0,1))","v":0}]
[null,null,null,null,null,null,null,null,null,null,null,null,null,null,null,"",0,0,0,{"$f":"IF(F1952=\"\",0,IF(isNccValid(F1952),0,1))","v":0}]
[null,null,null,null,null,null,null,null,null,null,null,null,null,null,null,"",0,0,0,{"$f":"IF(F1953=\"\",0,IF(isNccValid(F1953),0,1))","v":0}]
[null,null,null,null,null,null,null,null,null,null,null,null,null,null,null,"",0,0,0,{"$f":"IF(F1954=\"\",0,IF(isNccValid(F1954),0,1))","v":0}]
[null,null,null,null,null,null,null,null,null,null,null,null,null,null,null,"",0,0,0,{"$f":"IF(F1955=\"\",0,IF(isNccValid(F1955),0,1))","v":0}]
[null,null,null,null,null,null,null,null,null,null,null,null,null,null,null,"",0,0,0,{"$f":"IF(F1956=\"\",0,IF(isNccValid(F1956),0,1))","v":0}]
[null,null,null,null,null,null,null,null,null,null,null,null,null,null,null,"",0,0,0,{"$f":"IF(F1957=\"\",0,IF(isNccValid(F1957),0,1))","v":0}]
[null,null,null,null,null,null,null,null,null,null,null,null,null,null,null,"",0,0,0,{"$f":"IF(F1958=\"\",0,IF(isNccValid(F1958),0,1))","v":0}]
[null,null,null,null,null,null,null,null,null,null,null,null,null,null,null,"",0,0,0,{"$f":"IF(F1959=\"\",0,IF(isNccValid(F1959),0,1))","v":0}]
[null,null,null,null,null,null,null,null,null,null,null,null,null,null,null,"",0,0,0,{"$f":"IF(F1960=\"\",0,IF(isNccValid(F1960),0,1))","v":0}]
[null,null,null,null,null,null,null,null,null,null,null,null,null,null,null,"",0,0,0,{"$f":"IF(F1961=\"\",0,IF(isNccValid(F1961),0,1))","v":0}]
[null,null,null,null,null,null,null,null,null,null,null,null,null,null,null,"",0,0,0,{"$f":"IF(F1962=\"\",0,IF(isNccValid(F1962),0,1))","v":0}]
[null,null,null,null,null,null,null,null,null,null,null,null,null,null,null,"",0,0,0,{"$f":"IF(F1963=\"\",0,IF(isNccValid(F1963),0,1))","v":0}]
[null,null,null,null,null,null,null,null,null,null,null,null,null,null,null,"",0,0,0,{"$f":"IF(F1964=\"\",0,IF(isNccValid(F1964),0,1))","v":0}]
[null,null,null,null,null,null,null,null,null,null,null,null,null,null,null,"",0,0,0,{"$f":"IF(F1965=\"\",0,IF(isNccValid(F1965),0,1))","v":0}]
[null,null,null,null,null,null,null,null,null,null,null,null,null,null,null,"",0,0,0,{"$f":"IF(F1966=\"\",0,IF(isNccValid(F1966),0,1))","v":0}]
[null,null,null,null,null,null,null,null,null,null,null,null,null,null,null,"",0,0,0,{"$f":"IF(F1967=\"\",0,IF(isNccValid(F1967),0,1))","v":0}]
[null,null,null,null,null,null,null,null,null,null,null,null,null,null,null,"",0,0,0,{"$f":"IF(F1968=\"\",0,IF(isNccValid(F1968),0,1))","v":0}]
[null,null,null,null,null,null,null,null,null,null,null,null,null,null,null,"",0,0,0,{"$f":"IF(F1969=\"\",0,IF(isNccValid(F1969),0,1))","v":0}]
[null,null,null,null,null,null,null,null,null,null,null,null,null,null,null,"",0,0,0,{"$f":"IF(F1970=\"\",0,IF(isNccValid(F1970),0,1))","v":0}]
[null,null,null,null,null,null,null,null,null,null,null,null,null,null,null,"",0,0,0,{"$f":"IF(F1971=\"\",0,IF(isNccValid(F1971),0,1))","v":0}]
[null,null,null,null,null,null,null,null,null,null,null,null,null,null,null,"",0,0,0,{"$f":"IF(F1972=\"\",0,IF(isNccValid(F1972),0,1))","v":0}]
[null,null,null,null,null,null,null,null,null,null,null,null,null,null,null,"",0,0,0,{"$f":"IF(F1973=\"\",0,IF(isNccValid(F1973),0,1))","v":0}]
[null,null,null,null,null,null,null,null,null,null,null,null,null,null,null,"",0,0,0,{"$f":"IF(F1974=\"\",0,IF(isNccValid(F1974),0,1))","v":0}]
[null,null,null,null,null,null,null,null,null,null,null,null,null,null,null,"",0,0,0,{"$f":"IF(F1975=\"\",0,IF(isNccValid(F1975),0,1))","v":0}]
[null,null,null,null,null,null,null,null,null,null,null,null,null,null,null,"",0,0,0,{"$f":"IF(F1976=\"\",0,IF(isNccValid(F1976),0,1))","v":0}]
[null,null,null,null,null,null,null,null,null,null,null,null,null,null,null,"",0,0,0,{"$f":"IF(F1977=\"\",0,IF(isNccValid(F1977),0,1))","v":0}]
[null,null,null,null,null,null,null,null,null,null,null,null,null,null,null,"",0,0,0,{"$f":"IF(F1978=\"\",0,IF(isNccValid(F1978),0,1))","v":0}]
[null,null,null,null,null,null,null,null,null,null,null,null,null,null,null,"",0,0,0,{"$f":"IF(F1979=\"\",0,IF(isNccValid(F1979),0,1))","v":0}]
[null,null,null,null,null,null,null,null,null,null,null,null,null,null,null,"",0,0,0,{"$f":"IF(F1980=\"\",0,IF(isNccValid(F1980),0,1))","v":0}]
[null,null,null,null,null,null,null,null,null,null,null,null,null,null,null,"",{"$f":"IF(AND(B1981=\"\",R1981=1),1,IF(AND(D1981=\"\",R1981=1),1,IF(AND(E1981=\"\",R1981=1),1,IF(AND(F1981=\"\",R1981=1),1,IF(AND(M1981=\"\",R1981=1),1,IF(AND(O1981=\"\",R1981=1),1,0))))))","v":0},{"$f":"IF(C1981=\"\",0,IF(COUNTA(B1981:O1981)>0,1,0))","v":0},{"$f":"IFERROR(IF(LEN(F1981)=8,0,IF(LEN(F1981)=0,0,1)),1)","v":0},{"$f":"IF(F1981=\"\",0,IF(isNccValid(F1981),0,1))","v":0}]
[null,null,null,null,null,null,null,null,null,null,null,null,null,null,null,"",0,0,0,{"$f":"IF(F1982=\"\",0,IF(isNccValid(F1982),0,1))","v":0}]
[null,null,null,null,null,null,null,null,null,null,null,null,null,null,null,"",0,0,0,{"$f":"IF(F1983=\"\",0,IF(isNccValid(F1983),0,1))","v":0}]
[null,null,null,null,null,null,null,null,null,null,null,null,null,null,null,"",0,0,0,{"$f":"IF(F1984=\"\",0,IF(isNccValid(F1984),0,1))","v":0}]
[null,null,null,null,null,null,null,null,null,null,null,null,null,null,null,"",0,0,0,{"$f":"IF(F1985=\"\",0,IF(isNccValid(F1985),0,1))","v":0}]
[null,null,null,null,null,null,null,null,null,null,null,null,null,null,null,"",0,0,0,{"$f":"IF(F1986=\"\",0,IF(isNccValid(F1986),0,1))","v":0}]
[null,null,null,null,null,null,null,null,null,null,null,null,null,null,null,"",0,0,0,{"$f":"IF(F1987=\"\",0,IF(isNccValid(F1987),0,1))","v":0}]
[null,null,null,null,null,null,null,null,null,null,null,null,null,null,null,"",0,0,0,{"$f":"IF(F1988=\"\",0,IF(isNccValid(F1988),0,1))","v":0}]
[null,null,null,null,null,null,null,null,null,null,null,null,null,null,null,"",0,0,0,{"$f":"IF(F1989=\"\",0,IF(isNccValid(F1989),0,1))","v":0}]
[null,null,null,null,null,null,null,null,null,null,null,null,null,null,null,"",0,0,0,{"$f":"IF(F1990=\"\",0,IF(isNccValid(F1990),0,1))","v":0}]
[null,null,null,null,null,null,null,null,null,null,null,null,null,null,null,"",0,0,0,{"$f":"IF(F1991=\"\",0,IF(isNccValid(F1991),0,1))","v":0}]
[null,null,null,null,null,null,null,null,null,null,null,null,null,null,null,"",0,0,0,{"$f":"IF(F1992=\"\",0,IF(isNccValid(F1992),0,1))","v":0}]
[null,null,null,null,null,null,null,null,null,null,null,null,null,null,null,"",0,0,0,{"$f":"IF(F1993=\"\",0,IF(isNccValid(F1993),0,1))","v":0}]
[null,null,null,null,null,null,null,null,null,null,null,null,null,null,null,"",0,0,0,{"$f":"IF(F1994=\"\",0,IF(isNccValid(F1994),0,1))","v":0}]
[null,null,null,null,null,null,null,null,null,null,null,null,null,null,null,"",0,0,0,{"$f":"IF(F1995=\"\",0,IF(isNccValid(F1995),0,1))","v":0}]
[null,null,null,null,null,null,null,null,null,null,null,null,null,null,null,"",0,0,0,{"$f":"IF(F1996=\"\",0,IF(isNccValid(F1996),0,1))","v":0}]
[null,null,null,null,null,null,null,null,null,null,null,null,null,null,null,"",0,0,0,{"$f":"IF(F1997=\"\",0,IF(isNccValid(F1997),0,1))","v":0}]
[null,null,null,null,null,null,null,null,null,null,null,null,null,null,null,"",0,0,0,{"$f":"IF(F1998=\"\",0,IF(isNccValid(F1998),0,1))","v":0}]
[null,null,null,null,null,null,null,null,null,null,null,null,null,null,null,"",0,0,0,{"$f":"IF(F1999=\"\",0,IF(isNccValid(F1999),0,1))","v":0}]
[null,null,null,null,null,null,null,null,null,null,null,null,null,null,null,"",0,0,0,{"$f":"IF(F2000=\"\",0,IF(isNccValid(F2000),0,1))","v":0}]
[null,null,null,null,null,null,null,null,null,null,null,null,null,null,null,"",0,0,0,{"$f":"IF(F2004=\"\",0,IF(isNccValid(F2004),0,1))","v":0}]
[null,null,null,null,null,null,null,null,null,null,null,null,null,null,null,"",0,0,0,{"$f":"IF(F2014=\"\",0,IF(isNccValid(F2014),0,1))","v":0}]
[null,null,null,null,null,null,null,null,null,null,null,null,null,null,null,"",0,0,0,{"$f":"IF(F2031=\"\",0,IF(isNccValid(F2031),0,1))","v":0}]
[null,null,null,null,null,null,null,null,null,null,null,null,null,null,null,"",0,0,0,{"$f":"IF(F2042=\"\",0,IF(isNccValid(F2042),0,1))","v":0}]
[null,null,null,null,null,null,null,null,null,null,null,null,null,null,null,"",0,0,0,{"$f":"IF(F2048=\"\",0,IF(isNccValid(F2048),0,1))","v":0}]
[null,null,null,null,null,null,null,null,null,null,null,null,null,null,null,"",0,0,0,{"$f":"IF(F2065=\"\",0,IF(isNccValid(F2065),0,1))","v":0}]
[null,null,null,null,null,null,null,null,null,null,null,null,null,null,null,"",0,0,0,{"$f":"IF(F2075=\"\",0,IF(isNccValid(F2075),0,1))","v":0}]
[null,null,null,null,null,null,null,null,null,null,null,null,null,null,null,"",0,0,0,{"$f":"IF(F2079=\"\",0,IF(isNccValid(F2079),0,1))","v":0}]
[null,null,null,null,null,null,null,null,null,null,null,null,null,null,null,"",0,0,0,{"$f":"IF(F2092=\"\",0,IF(isNccValid(F2092),0,1))","v":0}]
[null,null,null,null,null,null,null,null,null,null,null,null,null,null,null,"",{"$f":"IF(AND(B2109=\"\",R2109=1),1,IF(AND(D2109=\"\",R2109=1),1,IF(AND(E2109=\"\",R2109=1),1,IF(AND(F2109=\"\",R2109=1),1,IF(AND(M2109=\"\",R2109=1),1,IF(AND(O2109=\"\",R2109=1),1,0))))))","v":0},{"$f":"IF(C2109=\"\",0,IF(COUNTA(B2109:O2109)>0,1,0))","v":0},{"$f":"IFERROR(IF(LEN(F2109)=8,0,IF(LEN(F2109)=0,0,1)),1)","v":0},{"$f":"IF(F2109=\"\",0,IF(isNccValid(F2109),0,1))","v":0}]
[null,null,null,null,null,null,null,null,null,null,null,null,null,null,null,"",0,0,0,{"$f":"IF(F2115=\"\",0,IF(isNccValid(F2115),0,1))","v":0}]
[null,null,null,null,null,null,null,null,null,null,null,null,null,null,null,"",0,0,0,{"$f":"IF(F2132=\"\",0,IF(isNccValid(F2132),0,1))","v":0}]
[null,null,null,null,null,null,null,null,null,null,null,null,null,null,null,"",0,0,0,{"$f":"IF(F2143=\"\",0,IF(isNccValid(F2143),0,1))","v":0}]
[null,null,null,null,null,null,null,null,null,null,null,null,null,null,null,"",0,0,0,{"$f":"IF(F2149=\"\",0,IF(isNccValid(F2149),0,1))","v":0}]
[null,null,null,null,null,null,null,null,null,null,null,null,null,null,null,"",0,0,0,{"$f":"IF(F2159=\"\",0,IF(isNccValid(F2159),0,1))","v":0}]
[null,null,null,null,null,null,null,null,null,null,null,null,null,null,null,"",0,0,0,{"$f":"IF(F2169=\"\",0,IF(isNccValid(F2169),0,1))","v":0}]
[null,null,null,null,null,null,null,null,null,null,null,null,null,null,null,"",0,0,0,{"$f":"IF(F2187=\"\",0,IF(isNccValid(F2187),0,1))","v":0}]
[null,null,null,null,null,null,null,null,null,null,null,null,null,null,null,"",0,0,0,{"$f":"IF(F2193=\"\",0,IF(isNccValid(F2193),0,1))","v":0}]
[null,null,null,null,null,null,null,null,null,null,null,null,null,null,null,"",0,0,0,{"$f":"IF(F2210=\"\",0,IF(isNccValid(F2210),0,1))","v":0}]
[null,null,null,null,null,null,null,null,null,null,null,null,null,null,null,"",0,0,0,{"$f":"IF(F2222=\"\",0,IF(isNccValid(F2222),0,1))","v":0}]
[null,null,null,null,null,null,null,null,null,null,null,null,null,null,null,"",0,0,0,{"$f":"IF(F2227=\"\",0,IF(isNccValid(F2227),0,1))","v":0}]
[null,null,null,null,null,null,null,null,null,null,null,null,null,null,null,"",{"$f":"IF(AND(B2237=\"\",R2237=1),1,IF(AND(D2237=\"\",R2237=1),1,IF(AND(E2237=\"\",R2237=1),1,IF(AND(F2237=\"\",R2237=1),1,IF(AND(M2237=\"\",R2237=1),1,IF(AND(O2237=\"\",R2237=1),1,0))))))","v":0},{"$f":"IF(C2237=\"\",0,IF(COUNTA(B2237:O2237)>0,1,0))","v":0},{"$f":"IFERROR(IF(LEN(F2237)=8,0,IF(LEN(F2237)=0,0,1)),1)","v":0},{"$f":"IF(F2237=\"\",0,IF(isNccValid(F2237),0,1))","v":0}]
[null,null,null,null,null,null,null,null,null,null,null,null,null,null,null,"",0,0,0,{"$f":"IF(F2254=\"\",0,IF(isNccValid(F2254),0,1))","v":0}]
[null,null,null,null,null,null,null,null,null,null,null,null,null,null,null,"",0,0,0,{"$f":"IF(F2259=\"\",0,IF(isNccValid(F2259),0,1))","v":0}]
[null,null,null,null,null,null,null,null,null,null,null,null,null,null,null,"",0,0,0,{"$f":"IF(F2271=\"\",0,IF(isNccValid(F2271),0,1))","v":0}]
[null,null,null,null,null,null,null,null,null,null,null,null,null,null,null,"",0,0,0,{"$f":"IF(F2288=\"\",0,IF(isNccValid(F2288),0,1))","v":0}]
[null,null,null,null,null,null,null,null,null,null,null,null,null,null,null,"",0,0,0,{"$f":"IF(F2294=\"\",0,IF(isNccValid(F2294),0,1))","v":0}]
[null,null,null,null,null,null,null,null,null,null,null,null,null,null,null,"",0,0,0,{"$f":"IF(F2312=\"\",0,IF(isNccValid(F2312),0,1))","v":0}]
[null,null,null,null,null,null,null,null,null,null,null,null,null,null,null,"",0,0,0,{"$f":"IF(F2322=\"\",0,IF(isNccValid(F2322),0,1))","v":0}]
[null,null,null,null,null,null,null,null,null,null,null,null,null,null,null,"",0,0,0,{"$f":"IF(F2332=\"\",0,IF(isNccValid(F2332),0,1))","v":0}]
[null,null,null,null,null,null,null,null,null,null,null,null,null,null,null,"",0,0,0,{"$f":"IF(F2338=\"\",0,IF(isNccValid(F2338),0,1))","v":0}]
[null,null,null,null,null,null,null,null,null,null,null,null,null,null,null,"",0,0,0,{"$f":"IF(F2349=\"\",0,IF(isNccValid(F2349),0,1))","v":0}]
[null,null,null,null,null,null,null,null,null,null,null,null,null,null,null,"",0,0,0,{"$f":"IF(F2366=\"\",0,IF(isNccValid(F2366),0,1))","v":0}]
[null,null,null,null,null,null,null,null,null,null,null,null,null,null,null,"",0,0,0,{"$f":"IF(F2372=\"\",0,IF(isNccValid(F2372),0,1))","v":0}]
[null,null,null,null,null,null,null,null,null,null,null,null,null,null,null,"",0,0,0,{"$f":"IF(F2389=\"\",0,IF(isNccValid(F2389),0,1))","v":0}]
[null,null,null,null,null,null,null,null,null,null,null,null,null,null,null,"",0,0,0,{"$f":"IF(F2402=\"\",0,IF(isNccValid(F2402),0,1))","v":0}]
[null,null,null,null,null,null,null,null,null,null,null,null,null,null,null,"",0,0,0,{"$f":"IF(F2406=\"\",0,IF(isNccValid(F2406),0,1))","v":0}]
[null,null,null,null,null,null,null,null,null,null,null,null,null,null,null,"",0,0,0,{"$f":"IF(F2427=\"\",0,IF(isNccValid(F2427),0,1))","v":0}]
[null,null,null,null,null,null,null,null,null,null,null,null,null,null,null,"",0,0,0,{"$f":"IF(F2433=\"\",0,IF(isNccValid(F2433),0,1))","v":0}]
[null,null,null,null,null,null,null,null,null,null,null,null,null,null,null,"",0,0,0,{"$f":"IF(F2439=\"\",0,IF(isNccValid(F2439),0,1))","v":0}]
[null,null,null,null,null,null,null,null,null,null,null,null,null,null,null,"",0,0,0,{"$f":"IF(F2461=\"\",0,IF(isNccValid(F2461),0,1))","v":0}]
[null,null,null,null,null,null,null,null,null,null,null,null,null,null,null,"",0,0,0,{"$f":"IF(F2467=\"\",0,IF(isNccValid(F2467),0,1))","v":0}]
[null,null,null,null,null,null,null,null,null,null,null,null,null,null,null,"",0,0,0,{"$f":"IF(F2477=\"\",0,IF(isNccValid(F2477),0,1))","v":0}]
[null,null,null,null,null,null,null,null,null,null,null,null,null,null,null,"",0,0,0,{"$f":"IF(F2492=\"\",0,IF(isNccValid(F2492),0,1))","v":0}]
[null,null,null,null,null,null,null,null,null,null,null,null,null,null,null,"",0,0,0,{"$f":"IF(F2501=\"\",0,IF(isNccValid(F2501),0,1))","v":0}]
[null,null,null,null,null,null,null,null,null,null,null,null,null,null,null,"",0,0,0,{"$f":"IF(F2511=\"\",0,IF(isNccValid(F2511),0,1))","v":0}]
[null,null,null,null,null,null,null,null,null,null,null,null,null,null,null,"",0,0,0,{"$f":"IF(F2528=\"\",0,IF(isNccValid(F2528),0,1))","v":0}]
[null,null,null,null,null,null,null,null,null,null,null,null,null,null,null,"",0,0,0,{"$f":"IF(F2529=\"\",0,IF(isNccValid(F2529),0,1))","v":0}]
[null,null,null,null,null,null,null,null,null,null,null,null,null,null,null,"",0,0,0,{"$f":"IF(F2545=\"\",0,IF(isNccValid(F2545),0,1))","v":0}]
[null,null,null,null,null,null,null,null,null,null,null,null,null,null,null,"",0,0,0,{"$f":"IF(F2562=\"\",0,IF(isNccValid(F2562),0,1))","v":0}]
[null,null,null,null,null,null,null,null,null,null,null,null,null,null,null,"",0,0,0,{"$f":"IF(F2572=\"\",0,IF(isNccValid(F2572),0,1))","v":0}]
[null,null,null,null,null,null,null,null,null,null,null,null,null,null,null,{"$f":"IF(B2582=\"\",\"\",M2582*O2582)","v":""},0,0,0,{"$f":"IF(F2582=\"\",0,IF(isNccValid(F2582),0,1))","v":0}]
[null,null,null,null,null,null,null,null,null,null,null,null,null,null,null,"",0,0,0,{"$f":"IF(F2596=\"\",0,IF(isNccValid(F2596),0,1))","v":0}]
[null,null,null,null,null,null,null,null,null,null,null,null,null,null,null,"",0,0,0,{"$f":"IF(F2606=\"\",0,IF(isNccValid(F2606),0,1))","v":0}]
[null,null,null,null,null,null,null,null,null,null,null,null,null,null,null,"",0,0,0,{"$f":"IF(F2612=\"\",0,IF(isNccValid(F2612),0,1))","v":0}]
[null,null,null,null,null,null,null,null,null,null,null,null,null,null,null,"",0,0,0,{"$f":"IF(F2623=\"\",0,IF(isNccValid(F2623),0,1))","v":0}]
[null,null,null,null,null,null,null,null,null,null,null,null,null,null,null,"",0,0,0,{"$f":"IF(F2640=\"\",0,IF(isNccValid(F2640),0,1))","v":0}]
[null,null,null,null,null,null,null,null,null,null,null,null,null,null,null,{"$f":"IF(B2646=\"\",\"\",M2646*O2646)","v":""},0,0,0,{"$f":"IF(F2646=\"\",0,IF(isNccValid(F2646),0,1))","v":0}]
[null,null,null,null,null,null,null,null,null,null,null,null,null,null,null,"",0,0,0,{"$f":"IF(F2656=\"\",0,IF(isNccValid(F2656),0,1))","v":0}]
[null,null,null,null,null,null,null,null,null,null,null,null,null,null,null,"",0,0,0,{"$f":"IF(F2672=\"\",0,IF(isNccValid(F2672),0,1))","v":0}]
[null,null,null,null,null,null,null,null,null,null,null,null,null,null,null,"",0,0,0,{"$f":"IF(F2680=\"\",0,IF(isNccValid(F2680),0,1))","v":0}]
[null,null,null,null,null,null,null,null,null,null,null,null,null,null,null,"",0,0,0,{"$f":"IF(F2690=\"\",0,IF(isNccValid(F2690),0,1))","v":0}]
[null,null,null,null,null,null,null,null,null,null,null,null,null,null,null,"",0,0,0,{"$f":"IF(F2707=\"\",0,IF(isNccValid(F2707),0,1))","v":0}]
[null,null,null,null,null,null,null,null,null,null,null,null,null,null,null,"",0,0,0,{"$f":"IF(F2713=\"\",0,IF(isNccValid(F2713),0,1))","v":0}]
[null,null,null,null,null,null,null,null,null,null,null,null,null,null,null,"",0,0,0,{"$f":"IF(F2724=\"\",0,IF(isNccValid(F2724),0,1))","v":0}]
[null,null,null,null,null,null,null,null,null,null,null,null,null,null,null,"",0,0,0,{"$f":"IF(F2741=\"\",0,IF(isNccValid(F2741),0,1))","v":0}]
[null,null,null,null,null,null,null,null,null,null,null,null,null,null,null,"",0,0,0,{"$f":"IF(F2751=\"\",0,IF(isNccValid(F2751),0,1))","v":0}]
[null,null,null,null,null,null,null,null,null,null,null,null,null,null,null,"",0,0,0,{"$f":"IF(F2762=\"\",0,IF(isNccValid(F2762),0,1))","v":0}]
[null,null,null,null,null,null,null,null,null,null,null,null,null,null,null,"",0,0,0,{"$f":"IF(F2775=\"\",0,IF(isNccValid(F2775),0,1))","v":0}]
[null,null,null,null,null,null,null,null,null,null,null,null,null,null,null,"",0,0,0,{"$f":"IF(F2785=\"\",0,IF(isNccValid(F2785),0,1))","v":0}]
[null,null,null,null,null,null,null,null,null,null,null,null,null,null,null,"",0,0,0,{"$f":"IF(F2791=\"\",0,IF(isNccValid(F2791),0,1))","v":0}]
[null,null,null,null,null,null,null,null,null,null,null,null,null,null,null,"",0,0,0,{"$f":"IF(F2803=\"\",0,IF(isNccValid(F2803),0,1))","v":0}]
[null,null,null,null,null,null,null,null,null,null,null,null,null,null,null,"",0,0,0,{"$f":"IF(F2819=\"\",0,IF(isNccValid(F2819),0,1))","v":0}]
[null,null,null,null,null,null,null,null,null,null,null,null,null,null,null,"",0,0,0,{"$f":"IF(F2825=\"\",0,IF(isNccValid(F2825),0,1))","v":0}]
[null,null,null,null,null,null,null,null,null,null,null,null,null,null,null,"",0,0,0,{"$f":"IF(F2835=\"\",0,IF(isNccValid(F2835),0,1))","v":0}]
[null,null,null,null,null,null,null,null,null,null,null,null,null,null,null,"",0,0,0,{"$f":"IF(F2852=\"\",0,IF(isNccValid(F2852),0,1))","v":0}]
[null,null,null,null,null,null,null,null,null,null,null,null,null,null,null,"",0,0,0,{"$f":"IF(F2863=\"\",0,IF(isNccValid(F2863),0,1))","v":0}]
[null,null,null,null,null,null,null,null,null,null,null,null,null,null,null,"",0,0,0,{"$f":"IF(F2869=\"\",0,IF(isNccValid(F2869),0,1))","v":0}]
[null,null,null,null,null,null,null,null,null,null,null,null,null,null,null,"",0,0,0,{"$f":"IF(F2886=\"\",0,IF(isNccValid(F2886),0,1))","v":0}]
[null,null,null,null,null,null,null,null,null,null,null,null,null,null,null,"",0,0,0,{"$f":"IF(F2893=\"\",0,IF(isNccValid(F2893),0,1))","v":0}]
[null,null,null,null,null,null,null,null,null,null,null,null,null,null,null,"",0,0,0,{"$f":"IF(F2903=\"\",0,IF(isNccValid(F2903),0,1))","v":0}]
[null,null,null,null,null,null,null,null,null,null,null,null,null,null,null,"",0,0,0,{"$f":"IF(F2920=\"\",0,IF(isNccValid(F2920),0,1))","v":0}]
[null,null,null,null,null,null,null,null,null,null,null,null,null,null,null,"",0,0,0,{"$f":"IF(F2930=\"\",0,IF(isNccValid(F2930),0,1))","v":0}]
[null,null,null,null,null,null,null,null,null,null,null,null,null,null,null,"",0,0,0,{"$f":"IF(F2942=\"\",0,IF(isNccValid(F2942),0,1))","v":0}]
[null,null,null,null,null,null,null,null,null,null,null,null,null,null,null,"",0,0,0,{"$f":"IF(F2947=\"\",0,IF(isNccValid(F2947),0,1))","v":0}]
[null,null,null,null,null,null,null,null,null,null,null,null,null,null,null,"",0,0,0,{"$f":"IF(F2964=\"\",0,IF(isNccValid(F2964),0,1))","v":0}]
[null,null,null,null,null,null,null,null,null,null,null,null,null,null,null,"",0,0,0,{"$f":"IF(F2970=\"\",0,IF(isNccValid(F2970),0,1))","v":0}]
[null,null,null,null,null,null,null,null,null,null,null,null,null,null,null,"",0,0,0,{"$f":"IF(F2983=\"\",0,IF(isNccValid(F2983),0,1))","v":0}]
[null,null,null,null,null,null,null,null,null,null,null,null,null,null,null,"",0,0,0,{"$f":"IF(F2998=\"\",0,IF(isNccValid(F2998),0,1))","v":0}]
[null,null,null,null,null,null,null,null,null,null,null,null,null,null,null,"",0,0,0,{"$f":"IF(F3004=\"\",0,IF(isNccValid(F3004),0,1))","v":0}]
[null,null,null,null,null,null,null,null,null,null,null,null,null,null,null,"",0,0,0,{"$f":"IF(F3014=\"\",0,IF(isNccValid(F3014),0,1))","v":0}]
[null,null,null,null,null,null,null,null,null,null,null,null,null,null,null,"",0,0,0,{"$f":"IF(F3032=\"\",0,IF(isNccValid(F3032),0,1))","v":0}]
[null,null,null,null,null,null,null,null,null,null,null,null,null,null,null,"",0,0,0,{"$f":"IF(F3042=\"\",0,IF(isNccValid(F3042),0,1))","v":0}]
[null,null,null,null,null,null,null,null,null,null,null,null,null,null,null,"",0,0,0,{"$f":"IF(F3048=\"\",0,IF(isNccValid(F3048),0,1))","v":0}]
[null,null,null,null,null,null,null,null,null,null,null,null,null,null,null,"",0,0,0,{"$f":"IF(F3065=\"\",0,IF(isNccValid(F3065),0,1))","v":0}]
[null,null,null,null,null,null,null,null,null,null,null,null,null,null,null,"",0,0,0,{"$f":"IF(F3073=\"\",0,IF(isNccValid(F3073),0,1))","v":0}]
[null,null,null,null,null,null,null,null,null,null,null,null,null,null,null,"",0,0,0,{"$f":"IF(F3082=\"\",0,IF(isNccValid(F3082),0,1))","v":0}]
[null,null,null,null,null,null,null,null,null,null,null,null,null,null,null,"",0,0,0,{"$f":"IF(F3092=\"\",0,IF(isNccValid(F3092),0,1))","v":0}]
[null,null,null,null,null,null,null,null,null,null,null,null,null,null,null,"",0,0,0,{"$f":"IF(F3109=\"\",0,IF(isNccValid(F3109),0,1))","v":0}]
[null,null,null,null,null,null,null,null,null,null,null,null,null,null,null,"",0,0,0,{"$f":"IF(F3122=\"\",0,IF(isNccValid(F3122),0,1))","v":0}]
[null,null,null,null,null,null,null,null,null,null,null,null,null,null,null,"",0,0,0,{"$f":"IF(F3126=\"\",0,IF(isNccValid(F3126),0,1))","v":0}]
[null,null,null,null,null,null,null,null,null,null,null,null,null,null,null,"",0,0,0,{"$f":"IF(F3143=\"\",0,IF(isNccValid(F3143),0,1))","v":0}]
[null,null,null,null,null,null,null,null,null,null,null,null,null,null,null,"",0,0,0,{"$f":"IF(F3149=\"\",0,IF(isNccValid(F3149),0,1))","v":0}]
[null,null,null,null,null,null,null,null,null,null,null,null,null,null,null,"",0,0,0,{"$f":"IF(F3163=\"\",0,IF(isNccValid(F3163),0,1))","v":0}]
[null,null,null,null,null,null,null,null,null,null,null,null,null,null,null,"",0,0,0,{"$f":"IF(F3177=\"\",0,IF(isNccValid(F3177),0,1))","v":0}]
[null,null,null,null,null,null,null,null,null,null,null,null,null,null,null,"",0,0,0,{"$f":"IF(F3187=\"\",0,IF(isNccValid(F3187),0,1))","v":0}]
[null,null,null,null,null,null,null,null,null,null,null,null,null,null,null,"",0,0,0,{"$f":"IF(F3193=\"\",0,IF(isNccValid(F3193),0,1))","v":0}]
[null,null,null,null,null,null,null,null,null,null,null,null,null,null,null,"",0,0,0,{"$f":"IF(F3212=\"\",0,IF(isNccValid(F3212),0,1))","v":0}]
[null,null,null,null,null,null,null,null,null,null,null,null,null,null,null,"",0,0,0,{"$f":"IF(F3221=\"\",0,IF(isNccValid(F3221),0,1))","v":0}]
[null,null,null,null,null,null,null,null,null,null,null,null,null,null,null,"",0,0,0,{"$f":"IF(F3227=\"\",0,IF(isNccValid(F3227),0,1))","v":0}]
[null,null,null,null,null,null,null,null,null,null,null,null,null,null,null,"",0,0,0,{"$f":"IF(F3248=\"\",0,IF(isNccValid(F3248),0,1))","v":0}]
[null,null,null,null,null,null,null,null,null,null,null,null,null,null,null,"",0,0,0,{"$f":"IF(F3253=\"\",0,IF(isNccValid(F3253),0,1))","v":0}]
[null,null,null,null,null,null,null,null,null,null,null,null,null,null,null,"",{"$f":"IF(AND(B3261=\"\",R3261=1),1,IF(AND(D3261=\"\",R3261=1),1,IF(AND(E3261=\"\",R3261=1),1,IF(AND(F3261=\"\",R3261=1),1,IF(AND(M3261=\"\",R3261=1),1,IF(AND(O3261=\"\",R3261=1),1,0))))))","v":0},{"$f":"IF(C3261=\"\",0,IF(COUNTA(B3261:O3261)>0,1,0))","v":0},{"$f":"IFERROR(IF(LEN(F3261)=8,0,IF(LEN(F3261)=0,0,1)),1)","v":0},{"$f":"IF(F3261=\"\",0,IF(isNccValid(F3261),0,1))","v":0}]
[null,null,null,null,null,null,null,null,null,null,null,null,null,null,null,"",0,0,0,{"$f":"IF(F3282=\"\",0,IF(isNccValid(F3282),0,1))","v":0}]
[null,null,null,null,null,null,null,null,null,null,null,null,null,null,null,"",0,0,0,{"$f":"IF(F3288=\"\",0,IF(isNccValid(F3288),0,1))","v":0}]
[null,null,null,null,null,null,null,null,null,null,null,null,null,null,null,"",0,0,0,{"$f":"IF(F3302=\"\",0,IF(isNccValid(F3302),0,1))","v":0}]
[null,null,null,null,null,null,null,null,null,null,null,null,null,null,null,"",0,0,0,{"$f":"IF(F3316=\"\",0,IF(isNccValid(F3316),0,1))","v":0}]
[null,null,null,null,null,null,null,null,null,null,null,null,null,null,null,"",0,0,0,{"$f":"IF(F3322=\"\",0,IF(isNccValid(F3322),0,1))","v":0}]
[null,null,null,null,null,null,null,null,null,null,null,null,null,null,null,"",0,0,0,{"$f":"IF(F3332=\"\",0,IF(isNccValid(F3332),0,1))","v":0}]
[null,null,null,null,null,null,null,null,null,null,null,null,null,null,null,"",0,0,0,{"$f":"IF(F3343=\"\",0,IF(isNccValid(F3343),0,1))","v":0}]
[null,null,null,null,null,null,null,null,null,null,null,null,null,null,null,"",0,0,0,{"$f":"IF(F3356=\"\",0,IF(isNccValid(F3356),0,1))","v":0}]
[null,null,null,null,null,null,null,null,null,null,null,null,null,null,null,"",0,0,0,{"$f":"IF(F3366=\"\",0,IF(isNccValid(F3366),0,1))","v":0}]
[null,null,null,null,null,null,null,null,null,null,null,null,null,null,null,"",0,0,0,{"$f":"IF(F3383=\"\",0,IF(isNccValid(F3383),0,1))","v":0}]
[null,null,null,null,null,null,null,null,null,null,null,null,null,null,null,"",0,0,0,{"$f":"IF(F3392=\"\",0,IF(isNccValid(F3392),0,1))","v":0}]
[null,null,null,null,null,null,null,null,null,null,null,null,null,null,null,"",0,0,0,{"$f":"IF(F3400=\"\",0,IF(isNccValid(F3400),0,1))","v":0}]
[null,null,null,null,null,null,null,null,null,null,null,null,null,null,null,"",0,0,0,{"$f":"IF(F3417=\"\",0,IF(isNccValid(F3417),0,1))","v":0}]
[null,null,null,null,null,null,null,null,null,null,null,null,null,null,null,"",0,0,0,{"$f":"IF(F3427=\"\",0,IF(isNccValid(F3427),0,1))","v":0}]
[null,null,null,null,null,null,null,null,null,null,null,null,null,null,null,"",0,0,0,{"$f":"IF(F3433=\"\",0,IF(isNccValid(F3433),0,1))","v":0}]
[null,null,null,null,null,null,null,null,null,null,null,null,null,null,null,"",0,0,0,{"$f":"IF(F3451=\"\",0,IF(isNccValid(F3451),0,1))","v":0}]
[null,null,null,null,null,null,null,null,null,null,null,null,null,null,null,"",0,0,0,{"$f":"IF(F3461=\"\",0,IF(isNccValid(F3461),0,1))","v":0}]
[null,null,null,null,null,null,null,null,null,null,null,null,null,null,null,"",0,0,0,{"$f":"IF(F3467=\"\",0,IF(isNccValid(F3467),0,1))","v":0}]
[null,null,null,null,null,null,null,null,null,null,null,null,null,null,null,"",0,0,0,{"$f":"IF(F3474=\"\",0,IF(isNccValid(F3474),0,1))","v":0}]
[null,null,null,null,null,null,null,null,null,null,null,null,null,null,null,"",0,0,0,{"$f":"IF(F3495=\"\",0,IF(isNccValid(F3495),0,1))","v":0}]
[null,null,null,null,null,null,null,null,null,null,null,null,null,null,null,"",0,0,0,{"$f":"IF(F3501=\"\",0,IF(isNccValid(F3501),0,1))","v":0}]
[null,null,null,null,null,null,null,null,null,null,null,null,null,null,null,"",0,0,0,{"$f":"IF(F3511=\"\",0,IF(isNccValid(F3511),0,1))","v":0}]
[null,null,null,null,null,null,null,null,null,null,null,null,null,null,null,"",0,0,0,{"$f":"IF(F3523=\"\",0,IF(isNccValid(F3523),0,1))","v":0}]
[null,null,null,null,null,null,null,null,null,null,null,null,null,null,null,"",0,0,0,{"$f":"IF(F3535=\"\",0,IF(isNccValid(F3535),0,1))","v":0}]
[null,null,null,null,null,null,null,null,null,null,null,null,null,null,null,"",0,0,0,{"$f":"IF(F3545=\"\",0,IF(isNccValid(F3545),0,1))","v":0}]
[null,null,null,null,null,null,null,null,null,null,null,null,null,null,null,"",0,0,0,{"$f":"IF(F3562=\"\",0,IF(isNccValid(F3562),0,1))","v":0}]
[null,null,null,null,null,null,null,null,null,null,null,null,null,null,null,"",0,0,0,{"$f":"IF(F3564=\"\",0,IF(isNccValid(F3564),0,1))","v":0}]
[null,null,null,null,null,null,null,null,null,null,null,null,null,null,null,"",0,0,0,{"$f":"IF(F3579=\"\",0,IF(isNccValid(F3579),0,1))","v":0}]
[null,null,null,null,null,null,null,null,null,null,null,null,null,null,null,"",0,0,0,{"$f":"IF(F3596=\"\",0,IF(isNccValid(F3596),0,1))","v":0}]
[null,null,null,null,null,null,null,null,null,null,null,null,null,null,null,{"$f":"IF(B3606=\"\",\"\",M3606*O3606)","v":""},0,0,0,{"$f":"IF(F3606=\"\",0,IF(isNccValid(F3606),0,1))","v":0}]
[null,null,null,null,null,null,null,null,null,null,null,null,null,null,null,"",0,0,0,{"$f":"IF(F3613=\"\",0,IF(isNccValid(F3613),0,1))","v":0}]
[null,null,null,null,null,null,null,null,null,null,null,null,null,null,null,"",0,0,0,{"$f":"IF(F3623=\"\",0,IF(isNccValid(F3623),0,1))","v":0}]
[null,null,null,null,null,null,null,null,null,null,null,null,null,null,null,"",0,0,0,{"$f":"IF(F3640=\"\",0,IF(isNccValid(F3640),0,1))","v":0}]
[null,null,null,null,null,null,null,null,null,null,null,null,null,null,null,"",0,0,0,{"$f":"IF(F3646=\"\",0,IF(isNccValid(F3646),0,1))","v":0}]
[null,null,null,null,null,null,null,null,null,null,null,null,null,null,null,"",0,0,0,{"$f":"IF(F3654=\"\",0,IF(isNccValid(F3654),0,1))","v":0}]
[null,null,null,null,null,null,null,null,null,null,null,null,null,null,null,"",0,0,0,{"$f":"IF(F3674=\"\",0,IF(isNccValid(F3674),0,1))","v":0}]
[null,null,null,null,null,null,null,null,null,null,null,null,null,null,null,"",0,0,0,{"$f":"IF(F3680=\"\",0,IF(isNccValid(F3680),0,1))","v":0}]
[null,null,null,null,null,null,null,null,null,null,null,null,null,null,null,"",0,0,0,{"$f":"IF(F3690=\"\",0,IF(isNccValid(F3690),0,1))","v":0}]
[null,null,null,null,null,null,null,null,null,null,null,null,null,null,null,"",0,0,0,{"$f":"IF(F3703=\"\",0,IF(isNccValid(F3703),0,1))","v":0}]
[null,null,null,null,null,null,null,null,null,null,null,null,null,null,null,"",0,0,0,{"$f":"IF(F3718=\"\",0,IF(isNccValid(F3718),0,1))","v":0}]
[null,null,null,null,null,null,null,null,null,null,null,null,null,null,null,"",0,0,0,{"$f":"IF(F3724=\"\",0,IF(isNccValid(F3724),0,1))","v":0}]
[null,null,null,null,null,null,null,null,null,null,null,null,null,null,null,"",0,0,0,{"$f":"IF(F3741=\"\",0,IF(isNccValid(F3741),0,1))","v":0}]
[null,null,null,null,null,null,null,null,null,null,null,null,null,null,null,"",0,0,0,{"$f":"IF(F3744=\"\",0,IF(isNccValid(F3744),0,1))","v":0}]
[null,null,null,null,null,null,null,null,null,null,null,null,null,null,null,"",0,0,0,{"$f":"IF(F3758=\"\",0,IF(isNccValid(F3758),0,1))","v":0}]
[null,null,null,null,null,null,null,null,null,null,null,null,null,null,null,"",0,0,0,{"$f":"IF(F3775=\"\",0,IF(isNccValid(F3775),0,1))","v":0}]
[null,null,null,null,null,null,null,null,null,null,null,null,null,null,null,"",0,0,0,{"$f":"IF(F3785=\"\",0,IF(isNccValid(F3785),0,1))","v":0}]
[null,null,null,null,null,null,null,null,null,null,null,null,null,null,null,"",0,0,0,{"$f":"IF(F3793=\"\",0,IF(isNccValid(F3793),0,1))","v":0}]
[null,null,null,null,null,null,null,null,null,null,null,null,null,null,null,"",0,0,0,{"$f":"IF(F3802=\"\",0,IF(isNccValid(F3802),0,1))","v":0}]
[null,null,null,null,null,null,null,null,null,null,null,null,null,null,null,"",0,0,0,{"$f":"IF(F3819=\"\",0,IF(isNccValid(F3819),0,1))","v":0}]
[null,null,null,null,null,null,null,null,null,null,null,null,null,null,null,"",0,0,0,{"$f":"IF(F3825=\"\",0,IF(isNccValid(F3825),0,1))","v":0}]
[null,null,null,null,null,null,null,null,null,null,null,null,null,null,null,"",0,0,0,{"$f":"IF(F3834=\"\",0,IF(isNccValid(F3834),0,1))","v":0}]
[null,null,null,null,null,null,null,null,null,null,null,null,null,null,null,"",0,0,0,{"$f":"IF(F3853=\"\",0,IF(isNccValid(F3853),0,1))","v":0}]
[null,null,null,null,null,null,null,null,null,null,null,null,null,null,null,"",0,0,0,{"$f":"IF(F3863=\"\",0,IF(isNccValid(F3863),0,1))","v":0}]
[null,null,null,null,null,null,null,null,null,null,null,null,null,null,null,"",0,0,0,{"$f":"IF(F3869=\"\",0,IF(isNccValid(F3869),0,1))","v":0}]
[null,null,null,null,null,null,null,null,null,null,null,null,null,null,null,"",0,0,0,{"$f":"IF(F3883=\"\",0,IF(isNccValid(F3883),0,1))","v":0}]
[null,null,null,null,null,null,null,null,null,null,null,null,null,null,null,"",0,0,0,{"$f":"IF(F3897=\"\",0,IF(isNccValid(F3897),0,1))","v":0}]
[null,null,null,null,null,null,null,null,null,null,null,null,null,null,null,"",0,0,0,{"$f":"IF(F3903=\"\",0,IF(isNccValid(F3903),0,1))","v":0}]
[null,null,null,null,null,null,null,null,null,null,null,null,null,null,null,"",0,0,0,{"$f":"IF(F3920=\"\",0,IF(isNccValid(F3920),0,1))","v":0}]
[null,null,null,null,null,null,null,null,null,null,null,null,null,null,null,"",0,0,0,{"$f":"IF(F3924=\"\",0,IF(isNccValid(F3924),0,1))","v":0}]
[null,null,null,null,null,null,null,null,null,null,null,null,null,null,null,"",0,0,0,{"$f":"IF(F3937=\"\",0,IF(isNccValid(F3937),0,1))","v":0}]
[null,null,null,null,null,null,null,null,null,null,null,null,null,null,null,"",0,0,0,{"$f":"IF(F3947=\"\",0,IF(isNccValid(F3947),0,1))","v":0}]
[null,null,null,null,null,null,null,null,null,null,null,null,null,null,null,"",0,0,0,{"$f":"IF(F3964=\"\",0,IF(isNccValid(F3964),0,1))","v":0}]
[null,null,null,null,null,null,null,null,null,null,null,null,null,null,null,"",0,0,0,{"$f":"IF(F3973=\"\",0,IF(isNccValid(F3973),0,1))","v":0}]
[null,null,null,null,null,null,null,null,null,null,null,null,null,null,null,"",0,0,0,{"$f":"IF(F3981=\"\",0,IF(isNccValid(F3981),0,1))","v":0}]
[null,null,null,null,null,null,null,null,null,null,null,null,null,null,null,"",0,0,0,{"$f":"IF(F3998=\"\",0,IF(isNccValid(F3998),0,1))","v":0}]
[null,null,null,null,null,null,null,null,null,null,null,null,null,null,null,"",0,0,0,{"$f":"IF(F4004=\"\",0,IF(isNccValid(F4004),0,1))","v":0}]
[null,null,null,null,null,null,null,null,null,null,null,null,null,null,null,"",0,0,0,{"$f":"IF(F4014=\"\",0,IF(isNccValid(F4014),0,1))","v":0}]
[null,null,null,null,null,null,null,null,null,null,null,null,null,null,null,"",0,0,0,{"$f":"IF(F4032=\"\",0,IF(isNccValid(F4032),0,1))","v":0}]
[null,null,null,null,null,null,null,null,null,null,null,null,null,null,null,"",0,0,0,{"$f":"IF(F4042=\"\",0,IF(isNccValid(F4042),0,1))","v":0}]
[null,null,null,null,null,null,null,null,null,null,null,null,null,null,null,"",0,0,0,{"$f":"IF(F4048=\"\",0,IF(isNccValid(F4048),0,1))","v":0}]
[null,null,null,null,null,null,null,null,null,null,null,null,null,null,null,"",0,0,0,{"$f":"IF(F4063=\"\",0,IF(isNccValid(F4063),0,1))","v":0}]
[null,null,null,null,null,null,null,null,null,null,null,null,null,null,null,"",0,0,0,{"$f":"IF(F4076=\"\",0,IF(isNccValid(F4076),0,1))","v":0}]
[null,null,null,null,null,null,null,null,null,null,null,null,null,null,null,"",0,0,0,{"$f":"IF(F4082=\"\",0,IF(isNccValid(F4082),0,1))","v":0}]
[null,null,null,null,null,null,null,null,null,null,null,null,null,null,null,"",0,0,0,{"$f":"IF(F4103=\"\",0,IF(isNccValid(F4103),0,1))","v":0}]
[null,null,null,null,null,null,null,null,null,null,null,null,null,null,null,"",0,0,0,{"$f":"IF(F4104=\"\",0,IF(isNccValid(F4104),0,1))","v":0}]
[null,null,null,null,null,null,null,null,null,null,null,null,null,null,null,"",0,0,0,{"$f":"IF(F4116=\"\",0,IF(isNccValid(F4116),0,1))","v":0}]
[null,null,null,null,null,null,null,null,null,null,null,null,null,null,null,"",0,0,0,{"$f":"IF(F4137=\"\",0,IF(isNccValid(F4137),0,1))","v":0}]
[null,null,null,null,null,null,null,null,null,null,null,null,null,null,null,"",0,0,0,{"$f":"IF(F4143=\"\",0,IF(isNccValid(F4143),0,1))","v":0}]
[null,null,null,null,null,null,null,null,null,null,null,null,null,null,null,"",0,0,0,{"$f":"IF(F4153=\"\",0,IF(isNccValid(F4153),0,1))","v":0}]
[null,null,null,null,null,null,null,null,null,null,null,null,null,null,null,"",0,0,0,{"$f":"IF(F4171=\"\",0,IF(isNccValid(F4171),0,1))","v":0}]
[null,null,null,null,null,null,null,null,null,null,null,null,null,null,null,"",0,0,0,{"$f":"IF(F4177=\"\",0,IF(isNccValid(F4177),0,1))","v":0}]
[null,null,null,null,null,null,null,null,null,null,null,null,null,null,null,"",0,0,0,{"$f":"IF(F4187=\"\",0,IF(isNccValid(F4187),0,1))","v":0}]
[null,null,null,null,null,null,null,null,null,null,null,null,null,null,null,"",0,0,0,{"$f":"IF(F4194=\"\",0,IF(isNccValid(F4194),0,1))","v":0}]
[null,null,null,null,null,null,null,null,null,null,null,null,null,null,null,"",0,0,0,{"$f":"IF(F4211=\"\",0,IF(isNccValid(F4211),0,1))","v":0}]
[null,null,null,null,null,null,null,null,null,null,null,null,null,null,null,"",{"$f":"IF(AND(B4221=\"\",R4221=1),1,IF(AND(D4221=\"\",R4221=1),1,IF(AND(E4221=\"\",R4221=1),1,IF(AND(F4221=\"\",R4221=1),1,IF(AND(M4221=\"\",R4221=1),1,IF(AND(O4221=\"\",R4221=1),1,0))))))","v":0},{"$f":"IF(C4221=\"\",0,IF(COUNTA(B4221:O4221)>0,1,0))","v":0},{"$f":"IFERROR(IF(LEN(F4221)=8,0,IF(LEN(F4221)=0,0,1)),1)","v":0},{"$f":"IF(F4221=\"\",0,IF(isNccValid(F4221),0,1))","v":0}]
[null,null,null,null,null,null,null,null,null,null,null,null,null,null,null,"",0,0,0,{"$f":"IF(F4238=\"\",0,IF(isNccValid(F4238),0,1))","v":0}]
[null,null,null,null,null,null,null,null,null,null,null,null,null,null,null,"",0,0,0,{"$f":"IF(F4247=\"\",0,IF(isNccValid(F4247),0,1))","v":0}]
[null,null,null,null,null,null,null,null,null,null,null,null,null,null,null,"",0,0,0,{"$f":"IF(F4255=\"\",0,IF(isNccValid(F4255),0,1))","v":0}]
[null,null,null,null,null,null,null,null,null,null,null,null,null,null,null,"",0,0,0,{"$f":"IF(F4272=\"\",0,IF(isNccValid(F4272),0,1))","v":0}]
[null,null,null,null,null,null,null,null,null,null,null,null,null,null,null,"",0,0,0,{"$f":"IF(F4282=\"\",0,IF(isNccValid(F4282),0,1))","v":0}]
[null,null,null,null,null,null,null,null,null,null,null,null,null,null,null,"",0,0,0,{"$f":"IF(F4284=\"\",0,IF(isNccValid(F4284),0,1))","v":0}]
[null,null,null,null,null,null,null,null,null,null,null,null,null,null,null,"",0,0,0,{"$f":"IF(F4306=\"\",0,IF(isNccValid(F4306),0,1))","v":0}]
[null,null,null,null,null,null,null,null,null,null,null,null,null,null,null,"",0,0,0,{"$f":"IF(F4316=\"\",0,IF(isNccValid(F4316),0,1))","v":0}]
[null,null,null,null,null,null,null,null,null,null,null,null,null,null,null,"",0,0,0,{"$f":"IF(F4322=\"\",0,IF(isNccValid(F4322),0,1))","v":0}]
[null,null,null,null,null,null,null,null,null,null,null,null,null,null,null,"",0,0,0,{"$f":"IF(F4337=\"\",0,IF(isNccValid(F4337),0,1))","v":0}]
[null,null,null,null,null,null,null,null,null,null,null,null,null,null,null,"",0,0,0,{"$f":"IF(F4350=\"\",0,IF(isNccValid(F4350),0,1))","v":0}]
[null,null,null,null,null,null,null,null,null,null,null,null,null,null,null,"",0,0,0,{"$f":"IF(F4356=\"\",0,IF(isNccValid(F4356),0,1))","v":0}]
[null,null,null,null,null,null,null,null,null,null,null,null,null,null,null,"",0,0,0,{"$f":"IF(F4366=\"\",0,IF(isNccValid(F4366),0,1))","v":0}]
[null,null,null,null,null,null,null,null,null,null,null,null,null,null,null,{"$f":"IF(B4374=\"\",\"\",M4374*O4374)","v":""},0,0,0,{"$f":"IF(F4374=\"\",0,IF(isNccValid(F4374),0,1))","v":0}]
[null,null,null,null,null,null,null,null,null,null,null,null,null,null,null,"",0,0,0,{"$f":"IF(F4390=\"\",0,IF(isNccValid(F4390),0,1))","v":0}]
[null,null,null,null,null,null,null,null,null,null,null,null,null,null,null,"",0,0,0,{"$f":"IF(F4400=\"\",0,IF(isNccValid(F4400),0,1))","v":0}]
[null,null,null,null,null,null,null,null,null,null,null,null,null,null,null,"",0,0,0,{"$f":"IF(F4417=\"\",0,IF(isNccValid(F4417),0,1))","v":0}]
[null,null,null,null,null,null,null,null,null,null,null,null,null,null,null,"",0,0,0,{"$f":"IF(F4427=\"\",0,IF(isNccValid(F4427),0,1))","v":0}]
[null,null,null,null,null,null,null,null,null,null,null,null,null,null,null,"",0,0,0,{"$f":"IF(F4434=\"\",0,IF(isNccValid(F4434),0,1))","v":0}]
[null,null,null,null,null,null,null,null,null,null,null,null,null,null,null,"",0,0,0,{"$f":"IF(F4451=\"\",0,IF(isNccValid(F4451),0,1))","v":0}]
[null,null,null,null,null,null,null,null,null,null,null,null,null,null,null,"",0,0,0,{"$f":"IF(F4461=\"\",0,IF(isNccValid(F4461),0,1))","v":0}]
[null,null,null,null,null,null,null,null,null,null,null,null,null,null,null,"",0,0,0,{"$f":"IF(F4464=\"\",0,IF(isNccValid(F4464),0,1))","v":0}]
[null,null,null,null,null,null,null,null,null,null,null,null,null,null,null,"",0,0,0,{"$f":"IF(F4478=\"\",0,IF(isNccValid(F4478),0,1))","v":0}]
[null,null,null,null,null,null,null,null,null,null,null,null,null,null,null,"",0,0,0,{"$f":"IF(F4495=\"\",0,IF(isNccValid(F4495),0,1))","v":0}]
[null,null,null,null,null,null,null,null,null,null,null,null,null,null,null,"",0,0,0,{"$f":"IF(F4501=\"\",0,IF(isNccValid(F4501),0,1))","v":0}]
[null,null,null,null,null,null,null,null,null,null,null,null,null,null,null,"",0,0,0,{"$f":"IF(F4517=\"\",0,IF(isNccValid(F4517),0,1))","v":0}]
[null,null,null,null,null,null,null,null,null,null,null,null,null,null,null,"",0,0,0,{"$f":"IF(F4529=\"\",0,IF(isNccValid(F4529),0,1))","v":0}]
[null,null,null,null,null,null,null,null,null,null,null,null,null,null,null,"",0,0,0,{"$f":"IF(F4535=\"\",0,IF(isNccValid(F4535),0,1))","v":0}]
[null,null,null,null,null,null,null,null,null,null,null,null,null,null,null,"",0,0,0,{"$f":"IF(F4545=\"\",0,IF(isNccValid(F4545),0,1))","v":0}]
[null,null,null,null,null,null,null,null,null,null,null,null,null,null,null,"",0,0,0,{"$f":"IF(F4554=\"\",0,IF(isNccValid(F4554),0,1))","v":0}]
[null,null,null,null,null,null,null,null,null,null,null,null,null,null,null,"",0,0,0,{"$f":"IF(F4573=\"\",0,IF(isNccValid(F4573),0,1))","v":0}]
[null,null,null,null,null,null,null,null,null,null,null,null,null,null,null,"",0,0,0,{"$f":"IF(F4579=\"\",0,IF(isNccValid(F4579),0,1))","v":0}]
[null,null,null,null,null,null,null,null,null,null,null,null,null,null,null,"",0,0,0,{"$f":"IF(F4596=\"\",0,IF(isNccValid(F4596),0,1))","v":0}]
[null,null,null,null,null,null,null,null,null,null,null,null,null,null,null,"",0,0,0,{"$f":"IF(F4607=\"\",0,IF(isNccValid(F4607),0,1))","v":0}]
[null,null,null,null,null,null,null,null,null,null,null,null,null,null,null,"",0,0,0,{"$f":"IF(F4613=\"\",0,IF(isNccValid(F4613),0,1))","v":0}]
[null,null,null,null,null,null,null,null,null,null,null,null,null,null,null,{"$f":"IF(B4630=\"\",\"\",M4630*O4630)","v":""},0,0,0,{"$f":"IF(F4630=\"\",0,IF(isNccValid(F4630),0,1))","v":0}]
[null,null,null,null,null,null,null,null,null,null,null,null,null,null,null,"",0,0,0,{"$f":"IF(F4640=\"\",0,IF(isNccValid(F4640),0,1))","v":0}]
[null,null,null,null,null,null,null,null,null,null,null,null,null,null,null,"",0,0,0,{"$f":"IF(F4644=\"\",0,IF(isNccValid(F4644),0,1))","v":0}]
[null,null,null,null,null,null,null,null,null,null,null,null,null,null,null,"",0,0,0,{"$f":"IF(F4657=\"\",0,IF(isNccValid(F4657),0,1))","v":0}]
[null,null,null,null,null,null,null,null,null,null,null,null,null,null,null,"",0,0,0,{"$f":"IF(F4674=\"\",0,IF(isNccValid(F4674),0,1))","v":0}]
[null,null,null,null,null,null,null,null,null,null,null,null,null,null,null,"",0,0,0,{"$f":"IF(F4680=\"\",0,IF(isNccValid(F4680),0,1))","v":0}]
[null,null,null,null,null,null,null,null,null,null,null,null,null,null,null,"",0,0,0,{"$f":"IF(F4697=\"\",0,IF(isNccValid(F4697),0,1))","v":0}]
[null,null,null,null,null,null,null,null,null,null,null,null,null,null,null,"",0,0,0,{"$f":"IF(F4708=\"\",0,IF(isNccValid(F4708),0,1))","v":0}]
[null,null,null,null,null,null,null,null,null,null,null,null,null,null,null,"",0,0,0,{"$f":"IF(F4718=\"\",0,IF(isNccValid(F4718),0,1))","v":0}]
[null,null,null,null,null,null,null,null,null,null,null,null,null,null,null,"",0,0,0,{"$f":"IF(F4724=\"\",0,IF(isNccValid(F4724),0,1))","v":0}]
[null,null,null,null,null,null,null,null,null,null,null,null,null,null,null,"",0,0,0,{"$f":"IF(F4734=\"\",0,IF(isNccValid(F4734),0,1))","v":0}]
[null,null,null,null,null,null,null,null,null,null,null,null,null,null,null,"",0,0,0,{"$f":"IF(F4752=\"\",0,IF(isNccValid(F4752),0,1))","v":0}]
[null,null,null,null,null,null,null,null,null,null,null,null,null,null,null,{"$f":"IF(B4758=\"\",\"\",M4758*O4758)","v":""},0,0,0,{"$f":"IF(F4758=\"\",0,IF(isNccValid(F4758),0,1))","v":0}]
[null,null,null,null,null,null,null,null,null,null,null,null,null,null,null,"",0,0,0,{"$f":"IF(F4775=\"\",0,IF(isNccValid(F4775),0,1))","v":0}]
[null,null,null,null,null,null,null,null,null,null,null,null,null,null,null,"",0,0,0,{"$f":"IF(F4787=\"\",0,IF(isNccValid(F4787),0,1))","v":0}]
[null,null,null,null,null,null,null,null,null,null,null,null,null,null,null,"",0,0,0,{"$f":"IF(F4792=\"\",0,IF(isNccValid(F4792),0,1))","v":0}]
[null,null,null,null,null,null,null,null,null,null,null,null,null,null,null,"",0,0,0,{"$f":"IF(F4802=\"\",0,IF(isNccValid(F4802),0,1))","v":0}]
[null,null,null,null,null,null,null,null,null,null,null,null,null,null,null,"",0,0,0,{"$f":"IF(F4819=\"\",0,IF(isNccValid(F4819),0,1))","v":0}]
[null,null,null,null,null,null,null,null,null,null,null,null,null,null,null,"",0,0,0,{"$f":"IF(F4824=\"\",0,IF(isNccValid(F4824),0,1))","v":0}]
[null,null,null,null,null,null,null,null,null,null,null,null,null,null,null,"",0,0,0,{"$f":"IF(F4836=\"\",0,IF(isNccValid(F4836),0,1))","v":0}]
[null,null,null,null,null,null,null,null,null,null,null,null,null,null,null,"",0,0,0,{"$f":"IF(F4853=\"\",0,IF(isNccValid(F4853),0,1))","v":0}]
[null,null,null,null,null,null,null,null,null,null,null,null,null,null,null,"",0,0,0,{"$f":"IF(F4863=\"\",0,IF(isNccValid(F4863),0,1))","v":0}]
[null,null,null,null,null,null,null,null,null,null,null,null,null,null,null,"",0,0,0,{"$f":"IF(F4877=\"\",0,IF(isNccValid(F4877),0,1))","v":0}]
[null,null,null,null,null,null,null,null,null,null,null,null,null,null,null,"",0,0,0,{"$f":"IF(F4887=\"\",0,IF(isNccValid(F4887),0,1))","v":0}]
[null,null,null,null,null,null,null,null,null,null,null,null,null,null,null,"",0,0,0,{"$f":"IF(F4897=\"\",0,IF(isNccValid(F4897),0,1))","v":0}]
[null,null,null,null,null,null,null,null,null,null,null,null,null,null,null,"",0,0,0,{"$f":"IF(F4903=\"\",0,IF(isNccValid(F4903),0,1))","v":0}]
[null,null,null,null,null,null,null,null,null,null,null,null,null,null,null,"",0,0,0,{"$f":"IF(F4914=\"\",0,IF(isNccValid(F4914),0,1))","v":0}]
[null,null,null,null,null,null,null,null,null,null,null,null,null,null,null,"",0,0,0,{"$f":"IF(F4931=\"\",0,IF(isNccValid(F4931),0,1))","v":0}]
[null,null,null,null,null,null,null,null,null,null,null,null,null,null,null,"",0,0,0,{"$f":"IF(F4937=\"\",0,IF(isNccValid(F4937),0,1))","v":0}]
[null,null,null,null,null,null,null,null,null,null,null,null,null,null,null,"",0,0,0,{"$f":"IF(F4958=\"\",0,IF(isNccValid(F4958),0,1))","v":0}]
[null,null,null,null,null,null,null,null,null,null,null,null,null,null,null,"",0,0,0,{"$f":"IF(F4967=\"\",0,IF(isNccValid(F4967),0,1))","v":0}]
[null,null,null,null,null,null,null,null,null,null,null,null,null,null,null,"",0,0,0,{"$f":"IF(F4971=\"\",0,IF(isNccValid(F4971),0,1))","v":0}]
[null,null,null,null,null,null,null,null,null,null,null,null,null,null,null,"",0,0,0,{"$f":"IF(F4992=\"\",0,IF(isNccValid(F4992),0,1))","v":0}]
[null,null,null,null,null,null,null,null,null,null,null,null,null,null,null,"",0,0,0,{"$f":"IF(F4998=\"\",0,IF(isNccValid(F4998),0,1))","v":0}]
[null,null,null,null,null,null,null,null,null,null,null,null,null,null,null,"",0,0,0,{"$f":"IF(F5004=\"\",0,IF(isNccValid(F5004),0,1))","v":0}]
[null,null,null,null,null,null,null,null,null,null,null,null,null,null,null,"",0,0,0,{"$f":"IF(F5026=\"\",0,IF(isNccValid(F5026),0,1))","v":0}]
[null,null,null,null,null,null,null,null,null,null,null,null,null,null,null,"",0,0,0,{"$f":"IF(F5032=\"\",0,IF(isNccValid(F5032),0,1))","v":0}]
[null,null,null,null,null,null,null,null,null,null,null,null,null,null,null,"",0,0,0,{"$f":"IF(F5042=\"\",0,IF(isNccValid(F5042),0,1))","v":0}]
[null,null,null,null,null,null,null,null,null,null,null,null,null,null,null,"",0,0,0,{"$f":"IF(F5057=\"\",0,IF(isNccValid(F5057),0,1))","v":0}]
[null,null,null,null,null,null,null,null,null,null,null,null,null,null,null,"",0,0,0,{"$f":"IF(F5066=\"\",0,IF(isNccValid(F5066),0,1))","v":0}]
[null,null,null,null,null,null,null,null,null,null,null,null,null,null,null,"",0,0,0,{"$f":"IF(F5076=\"\",0,IF(isNccValid(F5076),0,1))","v":0}]
[null,null,null,null,null,null,null,null,null,null,null,null,null,null,null,"",0,0,0,{"$f":"IF(F5093=\"\",0,IF(isNccValid(F5093),0,1))","v":0}]
[null,null,null,null,null,null,null,null,null,null,null,null,null,null,null,"",0,0,0,{"$f":"IF(F5098=\"\",0,IF(isNccValid(F5098),0,1))","v":0}]
[null,null,null,null,null,null,null,null,null,null,null,null,null,null,null,"",0,0,0,{"$f":"IF(F5110=\"\",0,IF(isNccValid(F5110),0,1))","v":0}]
[null,null,null,null,null,null,null,null,null,null,null,null,null,null,null,"",0,0,0,{"$f":"IF(F5127=\"\",0,IF(isNccValid(F5127),0,1))","v":0}]
[null,null,null,null,null,null,null,null,null,null,null,null,null,null,null,"",0,0,0,{"$f":"IF(F5137=\"\",0,IF(isNccValid(F5137),0,1))","v":0}]
[null,null,null,null,null,null,null,null,null,null,null,null,null,null,null,"",0,0,0,{"$f":"IF(F5147=\"\",0,IF(isNccValid(F5147),0,1))","v":0}]
[null,null,null,null,null,null,null,null,null,null,null,null,null,null,null,"",0,0,0,{"$f":"IF(F5161=\"\",0,IF(isNccValid(F5161),0,1))","v":0}]
[null,null,null,null,null,null,null,null,null,null,null,null,null,null,null,"",0,0,0,{"$f":"IF(F5171=\"\",0,IF(isNccValid(F5171),0,1))","v":0}]
[null,null,null,null,null,null,null,null,null,null,null,null,null,null,null,"",0,0,0,{"$f":"IF(F5177=\"\",0,IF(isNccValid(F5177),0,1))","v":0}]
[null,null,null,null,null,null,null,null,null,null,null,null,null,null,null,"",0,0,0,{"$f":"IF(F5188=\"\",0,IF(isNccValid(F5188),0,1))","v":0}]
[null,null,null,null,null,null,null,null,null,null,null,null,null,null,null,"",0,0,0,{"$f":"IF(F5205=\"\",0,IF(isNccValid(F5205),0,1))","v":0}]
[null,null,null,null,null,null,null,null,null,null,null,null,null,null,null,"",0,0,0,{"$f":"IF(F5211=\"\",0,IF(isNccValid(F5211),0,1))","v":0}]
[null,null,null,null,null,null,null,null,null,null,null,null,null,null,null,"",0,0,0,{"$f":"IF(F5221=\"\",0,IF(isNccValid(F5221),0,1))","v":0}]
[null,null,null,null,null,null,null,null,null,null,null,null,null,null,null,"",0,0,0,{"$f":"IF(F5237=\"\",0,IF(isNccValid(F5237),0,1))","v":0}]
[null,null,null,null,null,null,null,null,null,null,null,null,null,null,null,"",0,0,0,{"$f":"IF(F5249=\"\",0,IF(isNccValid(F5249),0,1))","v":0}]
[null,null,null,null,null,null,null,null,null,null,null,null,null,null,null,"",0,0,0,{"$f":"IF(F5255=\"\",0,IF(isNccValid(F5255),0,1))","v":0}]
[null,null,null,null,null,null,null,null,null,null,null,null,null,null,null,"",0,0,0,{"$f":"IF(F5272=\"\",0,IF(isNccValid(F5272),0,1))","v":0}]
[null,null,null,null,null,null,null,null,null,null,null,null,null,null,null,"",0,0,0,{"$f":"IF(F5278=\"\",0,IF(isNccValid(F5278),0,1))","v":0}]
[null,null,null,null,null,null,null,null,null,null,null,null,null,null,null,"",0,0,0,{"$f":"IF(F5289=\"\",0,IF(isNccValid(F5289),0,1))","v":0}]
[null,null,null,null,null,null,null,null,null,null,null,null,null,null,null,"",0,0,0,{"$f":"IF(F5306=\"\",0,IF(isNccValid(F5306),0,1))","v":0}]
[null,null,null,null,null,null,null,null,null,null,null,null,null,null,null,"",0,0,0,{"$f":"IF(F5316=\"\",0,IF(isNccValid(F5316),0,1))","v":0}]
[null,null,null,null,null,null,null,null,null,null,null,null,null,null,null,"",0,0,0,{"$f":"IF(F5327=\"\",0,IF(isNccValid(F5327),0,1))","v":0}]
[null,null,null,null,null,null,null,null,null,null,null,null,null,null,null,"",0,0,0,{"$f":"IF(F5333=\"\",0,IF(isNccValid(F5333),0,1))","v":0}]
[null,null,null,null,null,null,null,null,null,null,null,null,null,null,null,"",0,0,0,{"$f":"IF(F5350=\"\",0,IF(isNccValid(F5350),0,1))","v":0}]
[null,null,null,null,null,null,null,null,null,null,null,null,null,null,null,"",0,0,0,{"$f":"IF(F5356=\"\",0,IF(isNccValid(F5356),0,1))","v":0}]
[null,null,null,null,null,null,null,null,null,null,null,null,null,null,null,"",0,0,0,{"$f":"IF(F5368=\"\",0,IF(isNccValid(F5368),0,1))","v":0}]
[null,null,null,null,null,null,null,null,null,null,null,null,null,null,null,"",0,0,0,{"$f":"IF(F5384=\"\",0,IF(isNccValid(F5384),0,1))","v":0}]
[null,null,null,null,null,null,null,null,null,null,null,null,null,null,null,"",0,0,0,{"$f":"IF(F5390=\"\",0,IF(isNccValid(F5390),0,1))","v":0}]
[null,null,null,null,null,null,null,null,null,null,null,null,null,null,null,"",0,0,0,{"$f":"IF(F5400=\"\",0,IF(isNccValid(F5400),0,1))","v":0}]
[null,null,null,null,null,null,null,null,null,null,null,null,null,null,null,"",0,0,0,{"$f":"IF(F5417=\"\",0,IF(isNccValid(F5417),0,1))","v":0}]
[null,null,null,null,null,null,null,null,null,null,null,null,null,null,null,"",0,0,0,{"$f":"IF(F5428=\"\",0,IF(isNccValid(F5428),0,1))","v":0}]
[null,null,null,null,null,null,null,null,null,null,null,null,null,null,null,"",0,0,0,{"$f":"IF(F5434=\"\",0,IF(isNccValid(F5434),0,1))","v":0}]
[null,null,null,null,null,null,null,null,null,null,null,null,null,null,null,"",0,0,0,{"$f":"IF(F5451=\"\",0,IF(isNccValid(F5451),0,1))","v":0}]
[null,null,null,null,null,null,null,null,null,null,null,null,null,null,null,"",0,0,0,{"$f":"IF(F5458=\"\",0,IF(isNccValid(F5458),0,1))","v":0}]
[null,null,null,null,null,null,null,null,null,null,null,null,null,null,null,"",0,0,0,{"$f":"IF(F5468=\"\",0,IF(isNccValid(F5468),0,1))","v":0}]
[null,null,null,null,null,null,null,null,null,null,null,null,null,null,null,"",0,0,0,{"$f":"IF(F5478=\"\",0,IF(isNccValid(F5478),0,1))","v":0}]
[null,null,null,null,null,null,null,null,null,null,null,null,null,null,null,"",0,0,0,{"$f":"IF(F5495=\"\",0,IF(isNccValid(F5495),0,1))","v":0}]
[null,null,null,null,null,null,null,null,null,null,null,null,null,null,null,"",0,0,0,{"$f":"IF(F5507=\"\",0,IF(isNccValid(F5507),0,1))","v":0}]
[null,null,null,null,null,null,null,null,null,null,null,null,null,null,null,"",0,0,0,{"$f":"IF(F5512=\"\",0,IF(isNccValid(F5512),0,1))","v":0}]
[null,null,null,null,null,null,null,null,null,null,null,null,null,null,null,"",0,0,0,{"$f":"IF(F5529=\"\",0,IF(isNccValid(F5529),0,1))","v":0}]
[null,null,null,null,null,null,null,null,null,null,null,null,null,null,null,"",0,0,0,{"$f":"IF(F5535=\"\",0,IF(isNccValid(F5535),0,1))","v":0}]
[null,null,null,null,null,null,null,null,null,null,null,null,null,null,null,"",0,0,0,{"$f":"IF(F5548=\"\",0,IF(isNccValid(F5548),0,1))","v":0}]
[null,null,null,null,null,null,null,null,null,null,null,null,null,null,null,"",0,0,0,{"$f":"IF(F5563=\"\",0,IF(isNccValid(F5563),0,1))","v":0}]
[null,null,null,null,null,null,null,null,null,null,null,null,null,null,null,"",0,0,0,{"$f":"IF(F5573=\"\",0,IF(isNccValid(F5573),0,1))","v":0}]
[null,null,null,null,null,null,null,null,null,null,null,null,null,null,null,"",0,0,0,{"$f":"IF(F5579=\"\",0,IF(isNccValid(F5579),0,1))","v":0}]
[null,null,null,null,null,null,null,null,null,null,null,null,null,null,null,"",0,0,0,{"$f":"IF(F5597=\"\",0,IF(isNccValid(F5597),0,1))","v":0}]
[null,null,null,null,null,null,null,null,null,null,null,null,null,null,null,"",0,0,0,{"$f":"IF(F5607=\"\",0,IF(isNccValid(F5607),0,1))","v":0}]
[null,null,null,null,null,null,null,null,null,null,null,null,null,null,null,"",0,0,0,{"$f":"IF(F5613=\"\",0,IF(isNccValid(F5613),0,1))","v":0}]
[null,null,null,null,null,null,null,null,null,null,null,null,null,null,null,"",0,0,0,{"$f":"IF(F5630=\"\",0,IF(isNccValid(F5630),0,1))","v":0}]
[null,null,null,null,null,null,null,null,null,null,null,null,null,null,null,"",0,0,0,{"$f":"IF(F5638=\"\",0,IF(isNccValid(F5638),0,1))","v":0}]
[null,null,null,null,null,null,null,null,null,null,null,null,null,null,null,"",0,0,0,{"$f":"IF(F5647=\"\",0,IF(isNccValid(F5647),0,1))","v":0}]
[null,null,null,null,null,null,null,null,null,null,null,null,null,null,null,"",0,0,0,{"$f":"IF(F5657=\"\",0,IF(isNccValid(F5657),0,1))","v":0}]
[null,null,null,null,null,null,null,null,null,null,null,null,null,null,null,"",0,0,0,{"$f":"IF(F5674=\"\",0,IF(isNccValid(F5674),0,1))","v":0}]
[null,null,null,null,null,null,null,null,null,null,null,null,null,null,null,"",0,0,0,{"$f":"IF(F5687=\"\",0,IF(isNccValid(F5687),0,1))","v":0}]
[null,null,null,null,null,null,null,null,null,null,null,null,null,null,null,"",0,0,0,{"$f":"IF(F5691=\"\",0,IF(isNccValid(F5691),0,1))","v":0}]
[null,null,null,null,null,null,null,null,null,null,null,null,null,null,null,"",0,0,0,{"$f":"IF(F5708=\"\",0,IF(isNccValid(F5708),0,1))","v":0}]
[null,null,null,null,null,null,null,null,null,null,null,null,null,null,null,{"$f":"IF(B5718=\"\",\"\",M5718*O5718)","v":""},0,0,0,{"$f":"IF(F5718=\"\",0,IF(isNccValid(F5718),0,1))","v":0}]
[null,null,null,null,null,null,null,null,null,null,null,null,null,null,null,"",0,0,0,{"$f":"IF(F5728=\"\",0,IF(isNccValid(F5728),0,1))","v":0}]
[null,null,null,null,null,null,null,null,null,null,null,null,null,null,null,"",0,0,0,{"$f":"IF(F5742=\"\",0,IF(isNccValid(F5742),0,1))","v":0}]
[null,null,null,null,null,null,null,null,null,null,null,null,null,null,null,"",0,0,0,{"$f":"IF(F5752=\"\",0,IF(isNccValid(F5752),0,1))","v":0}]
[null,null,null,null,null,null,null,null,null,null,null,null,null,null,null,"",0,0,0,{"$f":"IF(F5758=\"\",0,IF(isNccValid(F5758),0,1))","v":0}]
[null,null,null,null,null,null,null,null,null,null,null,null,null,null,null,"",0,0,0,{"$f":"IF(F5777=\"\",0,IF(isNccValid(F5777),0,1))","v":0}]
[null,null,null,null,null,null,null,null,null,null,null,null,null,null,null,"",0,0,0,{"$f":"IF(F5786=\"\",0,IF(isNccValid(F5786),0,1))","v":0}]
[null,null,null,null,null,null,null,null,null,null,null,null,null,null,null,"",0,0,0,{"$f":"IF(F5792=\"\",0,IF(isNccValid(F5792),0,1))","v":0}]
[null,null,null,null,null,null,null,null,null,null,null,null,null,null,null,"",0,0,0,{"$f":"IF(F5813=\"\",0,IF(isNccValid(F5813),0,1))","v":0}]
[null,null,null,null,null,null,null,null,null,null,null,null,null,null,null,"",0,0,0,{"$f":"IF(F5818=\"\",0,IF(isNccValid(F5818),0,1))","v":0}]
[null,null,null,null,null,null,null,null,null,null,null,null,null,null,null,"",0,0,0,{"$f":"IF(F5826=\"\",0,IF(isNccValid(F5826),0,1))","v":0}]
[null,null,null,null,null,null,null,null,null,null,null,null,null,null,null,"",0,0,0,{"$f":"IF(F5847=\"\",0,IF(isNccValid(F5847),0,1))","v":0}]
[null,null,null,null,null,null,null,null,null,null,null,null,null,null,null,"",0,0,0,{"$f":"IF(F5853=\"\",0,IF(isNccValid(F5853),0,1))","v":0}]
[null,null,null,null,null,null,null,null,null,null,null,null,null,null,null,"",0,0,0,{"$f":"IF(F5859=\"\",0,IF(isNccValid(F5859),0,1))","v":0}]
[null,null,null,null,null,null,null,null,null,null,null,null,null,null,null,"",0,0,0,{"$f":"IF(F5881=\"\",0,IF(isNccValid(F5881),0,1))","v":0}]
[null,null,null,null,null,null,null,null,null,null,null,null,null,null,null,"",0,0,0,{"$f":"IF(F5887=\"\",0,IF(isNccValid(F5887),0,1))","v":0}]
[null,null,null,null,null,null,null,null,null,null,null,null,null,null,null,"",0,0,0,{"$f":"IF(F5897=\"\",0,IF(isNccValid(F5897),0,1))","v":0}]
[null,null,null,null,null,null,null,null,null,null,null,null,null,null,null,"",0,0,0,{"$f":"IF(F5908=\"\",0,IF(isNccValid(F5908),0,1))","v":0}]
[null,null,null,null,null,null,null,null,null,null,null,null,null,null,null,"",0,0,0,{"$f":"IF(F5921=\"\",0,IF(isNccValid(F5921),0,1))","v":0}]
[null,null,null,null,null,null,null,null,null,null,null,null,null,null,null,"",0,0,0,{"$f":"IF(F5931=\"\",0,IF(isNccValid(F5931),0,1))","v":0}]
[null,null,null,null,null,null,null,null,null,null,null,null,null,null,null,"",0,0,0,{"$f":"IF(F5948=\"\",0,IF(isNccValid(F5948),0,1))","v":0}]
[null,null,null,null,null,null,null,null,null,null,null,null,null,null,null,"",0,0,0,{"$f":"IF(F5949=\"\",0,IF(isNccValid(F5949),0,1))","v":0}]
[null,null,null,null,null,null,null,null,null,null,null,null,null,null,null,"",0,0,0,{"$f":"IF(F5965=\"\",0,IF(isNccValid(F5965),0,1))","v":0}]
[null,null,null,null,null,null,null,null,null,null,null,null,null,null,null,"",0,0,0,{"$f":"IF(F5982=\"\",0,IF(isNccValid(F5982),0,1))","v":0}]
[null,null,null,null,null,null,null,null,null,null,null,null,null,null,null,"",0,0,0,{"$f":"IF(F5992=\"\",0,IF(isNccValid(F5992),0,1))","v":0}]
[null,null,null,null,null,null,null,null,null,null,null,null,null,null,null,"",0,0,0,{"$f":"IF(F5998=\"\",0,IF(isNccValid(F5998),0,1))","v":0}]
[null,null,null,null,null,null,null,null,null,null,null,null,null,null,null,"",0,0,0,{"$f":"IF(F6016=\"\",0,IF(isNccValid(F6016),0,1))","v":0}]
[null,null,null,null,null,null,null,null,null,null,null,null,null,null,null,"",0,0,0,{"$f":"IF(F6026=\"\",0,IF(isNccValid(F6026),0,1))","v":0}]
[null,null,null,null,null,null,null,null,null,null,null,null,null,null,null,"",0,0,0,{"$f":"IF(F6032=\"\",0,IF(isNccValid(F6032),0,1))","v":0}]
[null,null,null,null,null,null,null,null,null,null,null,null,null,null,null,"",0,0,0,{"$f":"IF(F6039=\"\",0,IF(isNccValid(F6039),0,1))","v":0}]
[null,null,null,null,null,null,null,null,null,null,null,null,null,null,null,"",0,0,0,{"$f":"IF(F6060=\"\",0,IF(isNccValid(F6060),0,1))","v":0}]
[null,null,null,null,null,null,null,null,null,null,null,null,null,null,null,"",0,0,0,{"$f":"IF(F6066=\"\",0,IF(isNccValid(F6066),0,1))","v":0}]
[null,null,null,null,null,null,null,null,null,null,null,null,null,null,null,"",0,0,0,{"$f":"IF(F6076=\"\",0,IF(isNccValid(F6076),0,1))","v":0}]
[null,null,null,null,null,null,null,null,null,null,null,null,null,null,null,"",0,0,0,{"$f":"IF(F6088=\"\",0,IF(isNccValid(F6088),0,1))","v":0}]
[null,null,null,null,null,null,null,null,null,null,null,null,null,null,null,"",0,0,0,{"$f":"IF(F6104=\"\",0,IF(isNccValid(F6104),0,1))","v":0}]
[null,null,null,null,null,null,null,null,null,null,null,null,null,null,null,"",0,0,0,{"$f":"IF(F6110=\"\",0,IF(isNccValid(F6110),0,1))","v":0}]
[null,null,null,null,null,null,null,null,null,null,null,null,null,null,null,"",0,0,0,{"$f":"IF(F6127=\"\",0,IF(isNccValid(F6127),0,1))","v":0}]
[null,null,null,null,null,null,null,null,null,null,null,null,null,null,null,"",0,0,0,{"$f":"IF(F6129=\"\",0,IF(isNccValid(F6129),0,1))","v":0}]
[null,null,null,null,null,null,null,null,null,null,null,null,null,null,null,"",0,0,0,{"$f":"IF(F6144=\"\",0,IF(isNccValid(F6144),0,1))","v":0}]
[null,null,null,null,null,null,null,null,null,null,null,null,null,null,null,"",0,0,0,{"$f":"IF(F6161=\"\",0,IF(isNccValid(F6161),0,1))","v":0}]
[null,null,null,null,null,null,null,null,null,null,null,null,null,null,null,"",0,0,0,{"$f":"IF(F6171=\"\",0,IF(isNccValid(F6171),0,1))","v":0}]
[null,null,null,null,null,null,null,null,null,null,null,null,null,null,null,"",0,0,0,{"$f":"IF(F6178=\"\",0,IF(isNccValid(F6178),0,1))","v":0}]
[null,null,null,null,null,null,null,null,null,null,null,null,null,null,null,"",0,0,0,{"$f":"IF(F6188=\"\",0,IF(isNccValid(F6188),0,1))","v":0}]
[null,null,null,null,null,null,null,null,null,null,null,null,null,null,null,"",0,0,0,{"$f":"IF(F6205=\"\",0,IF(isNccValid(F6205),0,1))","v":0}]
[null,null,null,null,null,null,null,null,null,null,null,null,null,null,null,"",0,0,0,{"$f":"IF(F6211=\"\",0,IF(isNccValid(F6211),0,1))","v":0}]
[null,null,null,null,null,null,null,null,null,null,null,null,null,null,null,"",0,0,0,{"$f":"IF(F6219=\"\",0,IF(isNccValid(F6219),0,1))","v":0}]
[null,null,null,null,null,null,null,null,null,null,null,null,null,null,null,"",0,0,0,{"$f":"IF(F6239=\"\",0,IF(isNccValid(F6239),0,1))","v":0}]
[null,null,null,null,null,null,null,null,null,null,null,null,null,null,null,"",0,0,0,{"$f":"IF(F6249=\"\",0,IF(isNccValid(F6249),0,1))","v":0}]
[null,null,null,null,null,null,null,null,null,null,null,null,null,null,null,"",0,0,0,{"$f":"IF(F6255=\"\",0,IF(isNccValid(F6255),0,1))","v":0}]
[null,null,null,null,null,null,null,null,null,null,null,null,null,null,null,"",0,0,0,{"$f":"IF(F6268=\"\",0,IF(isNccValid(F6268),0,1))","v":0}]
[null,null,null,null,null,null,null,null,null,null,null,null,null,null,null,"",0,0,0,{"$f":"IF(F6283=\"\",0,IF(isNccValid(F6283),0,1))","v":0}]
[null,null,null,null,null,null,null,null,null,null,null,null,null,null,null,"",0,0,0,{"$f":"IF(F6289=\"\",0,IF(isNccValid(F6289),0,1))","v":0}]
[null,null,null,null,null,null,null,null,null,null,null,null,null,null,null,"",0,0,0,{"$f":"IF(F6306=\"\",0,IF(isNccValid(F6306),0,1))","v":0}]
[null,null,null,null,null,null,null,null,null,null,null,null,null,null,null,"",0,0,0,{"$f":"IF(F6309=\"\",0,IF(isNccValid(F6309),0,1))","v":0}]
[null,null,null,null,null,null,null,null,null,null,null,null,null,null,null,"",0,0,0,{"$f":"IF(F6323=\"\",0,IF(isNccValid(F6323),0,1))","v":0}]
[null,null,null,null,null,null,null,null,null,null,null,null,null,null,null,"",0,0,0,{"$f":"IF(F6333=\"\",0,IF(isNccValid(F6333),0,1))","v":0}]
[null,null,null,null,null,null,null,null,null,null,null,null,null,null,null,"",0,0,0,{"$f":"IF(F6350=\"\",0,IF(isNccValid(F6350),0,1))","v":0}]
[null,null,null,null,null,null,null,null,null,null,null,null,null,null,null,{"$f":"IF(B6358=\"\",\"\",M6358*O6358)","v":""},0,0,0,{"$f":"IF(F6358=\"\",0,IF(isNccValid(F6358),0,1))","v":0}]
[null,null,null,null,null,null,null,null,null,null,null,null,null,null,null,"",0,0,0,{"$f":"IF(F6367=\"\",0,IF(isNccValid(F6367),0,1))","v":0}]
[null,null,null,null,null,null,null,null,null,null,null,null,null,null,null,"",0,0,0,{"$f":"IF(F6384=\"\",0,IF(isNccValid(F6384),0,1))","v":0}]
[null,null,null,null,null,null,null,null,null,null,null,null,null,null,null,"",{"$f":"IF(AND(B6390=\"\",R6390=1),1,IF(AND(D6390=\"\",R6390=1),1,IF(AND(E6390=\"\",R6390=1),1,IF(AND(F6390=\"\",R6390=1),1,IF(AND(M6390=\"\",R6390=1),1,IF(AND(O6390=\"\",R6390=1),1,0))))))","v":0},{"$f":"IF(C6390=\"\",0,IF(COUNTA(B6390:O6390)>0,1,0))","v":0},{"$f":"IFERROR(IF(LEN(F6390)=8,0,IF(LEN(F6390)=0,0,1)),1)","v":0},{"$f":"IF(F6390=\"\",0,IF(isNccValid(F6390),0,1))","v":0}]
[null,null,null,null,null,null,null,null,null,null,null,null,null,null,null,"",0,0,0,{"$f":"IF(F6399=\"\",0,IF(isNccValid(F6399),0,1))","v":0}]
[null,null,null,null,null,null,null,null,null,null,null,null,null,null,null,"",0,0,0,{"$f":"IF(F6418=\"\",0,IF(isNccValid(F6418),0,1))","v":0}]
[null,null,null,null,null,null,null,null,null,null,null,null,null,null,null,"",0,0,0,{"$f":"IF(F6428=\"\",0,IF(isNccValid(F6428),0,1))","v":0}]
[null,null,null,null,null,null,null,null,null,null,null,null,null,null,null,"",0,0,0,{"$f":"IF(F6434=\"\",0,IF(isNccValid(F6434),0,1))","v":0}]
[null,null,null,null,null,null,null,null,null,null,null,null,null,null,null,"",0,0,0,{"$f":"IF(F6448=\"\",0,IF(isNccValid(F6448),0,1))","v":0}]
[null,null,null,null,null,null,null,null,null,null,null,null,null,null,null,"",0,0,0,{"$f":"IF(F6462=\"\",0,IF(isNccValid(F6462),0,1))","v":0}]
[null,null,null,null,null,null,null,null,null,null,null,null,null,null,null,"",0,0,0,{"$f":"IF(F6468=\"\",0,IF(isNccValid(F6468),0,1))","v":0}]
[null,null,null,null,null,null,null,null,null,null,null,null,null,null,null,"",0,0,0,{"$f":"IF(F6478=\"\",0,IF(isNccValid(F6478),0,1))","v":0}]
[null,null,null,null,null,null,null,null,null,null,null,null,null,null,null,"",0,0,0,{"$f":"IF(F6489=\"\",0,IF(isNccValid(F6489),0,1))","v":0}]
[null,null,null,null,null,null,null,null,null,null,null,null,null,null,null,"",0,0,0,{"$f":"IF(F6502=\"\",0,IF(isNccValid(F6502),0,1))","v":0}]
[null,null,null,null,null,null,null,null,null,null,null,null,null,null,null,"",0,0,0,{"$f":"IF(F6512=\"\",0,IF(isNccValid(F6512),0,1))","v":0}]
[null,null,null,null,null,null,null,null,null,null,null,null,null,null,null,"",0,0,0,{"$f":"IF(F6529=\"\",0,IF(isNccValid(F6529),0,1))","v":0}]
[null,null,null,null,null,null,null,null,null,null,null,null,null,null,null,"",0,0,0,{"$f":"IF(F6538=\"\",0,IF(isNccValid(F6538),0,1))","v":0}]
[null,null,null,null,null,null,null,null,null,null,null,null,null,null,null,"",0,0,0,{"$f":"IF(F6546=\"\",0,IF(isNccValid(F6546),0,1))","v":0}]
[null,null,null,null,null,null,null,null,null,null,null,null,null,null,null,"",0,0,0,{"$f":"IF(F6563=\"\",0,IF(isNccValid(F6563),0,1))","v":0}]
[null,null,null,null,null,null,null,null,null,null,null,null,null,null,null,"",0,0,0,{"$f":"IF(F6573=\"\",0,IF(isNccValid(F6573),0,1))","v":0}]
[null,null,null,null,null,null,null,null,null,null,null,null,null,null,null,"",0,0,0,{"$f":"IF(F6579=\"\",0,IF(isNccValid(F6579),0,1))","v":0}]
[null,null,null,null,null,null,null,null,null,null,null,null,null,null,null,"",0,0,0,{"$f":"IF(F6597=\"\",0,IF(isNccValid(F6597),0,1))","v":0}]
[null,null,null,null,null,null,null,null,null,null,null,null,null,null,null,"",0,0,0,{"$f":"IF(F6607=\"\",0,IF(isNccValid(F6607),0,1))","v":0}]
[null,null,null,null,null,null,null,null,null,null,null,null,null,null,null,"",0,0,0,{"$f":"IF(F6613=\"\",0,IF(isNccValid(F6613),0,1))","v":0}]
[null,null,null,null,null,null,null,null,null,null,null,null,null,null,null,"",0,0,0,{"$f":"IF(F6628=\"\",0,IF(isNccValid(F6628),0,1))","v":0}]
[null,null,null,null,null,null,null,null,null,null,null,null,null,null,null,"",0,0,0,{"$f":"IF(F6641=\"\",0,IF(isNccValid(F6641),0,1))","v":0}]
[null,null,null,null,null,null,null,null,null,null,null,null,null,null,null,"",0,0,0,{"$f":"IF(F6647=\"\",0,IF(isNccValid(F6647),0,1))","v":0}]
[null,null,null,null,null,null,null,null,null,null,null,null,null,null,null,"",0,0,0,{"$f":"IF(F6668=\"\",0,IF(isNccValid(F6668),0,1))","v":0}]
[null,null,null,null,null,null,null,null,null,null,null,null,null,null,null,"",0,0,0,{"$f":"IF(F6669=\"\",0,IF(isNccValid(F6669),0,1))","v":0}]
[null,null,null,null,null,null,null,null,null,null,null,null,null,null,null,"",0,0,0,{"$f":"IF(F6681=\"\",0,IF(isNccValid(F6681),0,1))","v":0}]
[null,null,null,null,null,null,null,null,null,null,null,null,null,null,null,"",0,0,0,{"$f":"IF(F6702=\"\",0,IF(isNccValid(F6702),0,1))","v":0}]
[null,null,null,null,null,null,null,null,null,null,null,null,null,null,null,"",0,0,0,{"$f":"IF(F6708=\"\",0,IF(isNccValid(F6708),0,1))","v":0}]
[null,null,null,null,null,null,null,null,null,null,null,null,null,null,null,"",0,0,0,{"$f":"IF(F6722=\"\",0,IF(isNccValid(F6722),0,1))","v":0}]
[null,null,null,null,null,null,null,null,null,null,null,null,null,null,null,"",0,0,0,{"$f":"IF(F6736=\"\",0,IF(isNccValid(F6736),0,1))","v":0}]
[null,null,null,null,null,null,null,null,null,null,null,null,null,null,null,{"$f":"IF(B6742=\"\",\"\",M6742*O6742)","v":""},0,0,0,{"$f":"IF(F6742=\"\",0,IF(isNccValid(F6742),0,1))","v":0}]
[null,null,null,null,null,null,null,null,null,null,null,null,null,null,null,"",0,0,0,{"$f":"IF(F6752=\"\",0,IF(isNccValid(F6752),0,1))","v":0}]
[null,null,null,null,null,null,null,null,null,null,null,null,null,null,null,"",0,0,0,{"$f":"IF(F6759=\"\",0,IF(isNccValid(F6759),0,1))","v":0}]
[null,null,null,null,null,null,null,null,null,null,null,null,null,null,null,"",0,0,0,{"$f":"IF(F6776=\"\",0,IF(isNccValid(F6776),0,1))","v":0}]
[null,null,null,null,null,null,null,null,null,null,null,null,null,null,null,"",0,0,0,{"$f":"IF(F6786=\"\",0,IF(isNccValid(F6786),0,1))","v":0}]
[null,null,null,null,null,null,null,null,null,null,null,null,null,null,null,"",0,0,0,{"$f":"IF(F6803=\"\",0,IF(isNccValid(F6803),0,1))","v":0}]
[null,null,null,null,null,null,null,null,null,null,null,null,null,null,null,"",0,0,0,{"$f":"IF(F6812=\"\",0,IF(isNccValid(F6812),0,1))","v":0}]
[null,null,null,null,null,null,null,null,null,null,null,null,null,null,null,"",0,0,0,{"$f":"IF(F6820=\"\",0,IF(isNccValid(F6820),0,1))","v":0}]
[null,null,null,null,null,null,null,null,null,null,null,null,null,null,null,"",0,0,0,{"$f":"IF(F6837=\"\",0,IF(isNccValid(F6837),0,1))","v":0}]
[null,null,null,null,null,null,null,null,null,null,null,null,null,null,null,"",0,0,0,{"$f":"IF(F6847=\"\",0,IF(isNccValid(F6847),0,1))","v":0}]
[null,null,null,null,null,null,null,null,null,null,null,null,null,null,null,"",0,0,0,{"$f":"IF(F6849=\"\",0,IF(isNccValid(F6849),0,1))","v":0}]
[null,null,null,null,null,null,null,null,null,null,null,null,null,null,null,"",0,0,0,{"$f":"IF(F6864=\"\",0,IF(isNccValid(F6864),0,1))","v":0}]
[null,null,null,null,null,null,null,null,null,null,null,null,null,null,null,"",0,0,0,{"$f":"IF(F6881=\"\",0,IF(isNccValid(F6881),0,1))","v":0}]
[null,null,null,null,null,null,null,null,null,null,null,null,null,null,null,"",0,0,0,{"$f":"IF(F6887=\"\",0,IF(isNccValid(F6887),0,1))","v":0}]
[null,null,null,null,null,null,null,null,null,null,null,null,null,null,null,"",{"$f":"IF(AND(B6902=\"\",R6902=1),1,IF(AND(D6902=\"\",R6902=1),1,IF(AND(E6902=\"\",R6902=1),1,IF(AND(F6902=\"\",R6902=1),1,IF(AND(M6902=\"\",R6902=1),1,IF(AND(O6902=\"\",R6902=1),1,0))))))","v":0},{"$f":"IF(C6902=\"\",0,IF(COUNTA(B6902:O6902)>0,1,0))","v":0},{"$f":"IFERROR(IF(LEN(F6902)=8,0,IF(LEN(F6902)=0,0,1)),1)","v":0},{"$f":"IF(F6902=\"\",0,IF(isNccValid(F6902),0,1))","v":0}]
[null,null,null,null,null,null,null,null,null,null,null,null,null,null,null,"",0,0,0,{"$f":"IF(F6915=\"\",0,IF(isNccValid(F6915),0,1))","v":0}]
[null,null,null,null,null,null,null,null,null,null,null,null,null,null,null,"",0,0,0,{"$f":"IF(F6921=\"\",0,IF(isNccValid(F6921),0,1))","v":0}]
[null,null,null,null,null,null,null,null,null,null,null,null,null,null,null,"",0,0,0,{"$f":"IF(F6931=\"\",0,IF(isNccValid(F6931),0,1))","v":0}]
[null,null,null,null,null,null,null,null,null,null,null,null,null,null,null,"",0,0,0,{"$f":"IF(F6939=\"\",0,IF(isNccValid(F6939),0,1))","v":0}]
[null,null,null,null,null,null,null,null,null,null,null,null,null,null,null,"",0,0,0,{"$f":"IF(F6959=\"\",0,IF(isNccValid(F6959),0,1))","v":0}]
[null,null,null,null,null,null,null,null,null,null,null,null,null,null,null,"",0,0,0,{"$f":"IF(F6965=\"\",0,IF(isNccValid(F6965),0,1))","v":0}]
[null,null,null,null,null,null,null,null,null,null,null,null,null,null,null,"",0,0,0,{"$f":"IF(F6982=\"\",0,IF(isNccValid(F6982),0,1))","v":0}]
[null,null,null,null,null,null,null,null,null,null,null,null,null,null,null,"",0,0,0,{"$f":"IF(F6992=\"\",0,IF(isNccValid(F6992),0,1))","v":0}]
[null,null,null,null,null,null,null,null,null,null,null,null,null,null,null,"",0,0,0,{"$f":"IF(F6999=\"\",0,IF(isNccValid(F6999),0,1))","v":0}]
[null,null,null,null,null,null,null,null,null,null,null,null,null,null,null,"",0,0,0,{"$f":"IF(F7016=\"\",0,IF(isNccValid(F7016),0,1))","v":0}]
[null,null,null,null,null,null,null,null,null,null,null,null,null,null,null,"",0,0,0,{"$f":"IF(F7026=\"\",0,IF(isNccValid(F7026),0,1))","v":0}]
[null,null,null,null,null,null,null,null,null,null,null,null,null,null,null,"",0,0,0,{"$f":"IF(F7029=\"\",0,IF(isNccValid(F7029),0,1))","v":0}]
[null,null,null,null,null,null,null,null,null,null,null,null,null,null,null,"",0,0,0,{"$f":"IF(F7043=\"\",0,IF(isNccValid(F7043),0,1))","v":0}]
[null,null,null,null,null,null,null,null,null,null,null,null,null,null,null,"",0,0,0,{"$f":"IF(F7060=\"\",0,IF(isNccValid(F7060),0,1))","v":0}]
[null,null,null,null,null,null,null,null,null,null,null,null,null,null,null,"",0,0,0,{"$f":"IF(F7066=\"\",0,IF(isNccValid(F7066),0,1))","v":0}]
[null,null,null,null,null,null,null,null,null,null,null,null,null,null,null,"",0,0,0,{"$f":"IF(F7082=\"\",0,IF(isNccValid(F7082),0,1))","v":0}]
[null,null,null,null,null,null,null,null,null,null,null,null,null,null,null,"",{"$f":"IF(AND(B7094=\"\",R7094=1),1,IF(AND(D7094=\"\",R7094=1),1,IF(AND(E7094=\"\",R7094=1),1,IF(AND(F7094=\"\",R7094=1),1,IF(AND(M7094=\"\",R7094=1),1,IF(AND(O7094=\"\",R7094=1),1,0))))))","v":0},{"$f":"IF(C7094=\"\",0,IF(COUNTA(B7094:O7094)>0,1,0))","v":0},{"$f":"IFERROR(IF(LEN(F7094)=8,0,IF(LEN(F7094)=0,0,1)),1)","v":0},{"$f":"IF(F7094=\"\",0,IF(isNccValid(F7094),0,1))","v":0}]
[null,null,null,null,null,null,null,null,null,null,null,null,null,null,null,"",0,0,0,{"$f":"IF(F7104=\"\",0,IF(isNccValid(F7104),0,1))","v":0}]
[null,null,null,null,null,null,null,null,null,null,null,null,null,null,null,"",0,0,0,{"$f":"IF(F7110=\"\",0,IF(isNccValid(F7110),0,1))","v":0}]
[null,null,null,null,null,null,null,null,null,null,null,null,null,null,null,"",0,0,0,{"$f":"IF(F7119=\"\",0,IF(isNccValid(F7119),0,1))","v":0}]
[null,null,null,null,null,null,null,null,null,null,null,null,null,null,null,"",0,0,0,{"$f":"IF(F7138=\"\",0,IF(isNccValid(F7138),0,1))","v":0}]
[null,null,null,null,null,null,null,null,null,null,null,null,null,null,null,"",0,0,0,{"$f":"IF(F7144=\"\",0,IF(isNccValid(F7144),0,1))","v":0}]
[null,null,null,null,null,null,null,null,null,null,null,null,null,null,null,"",0,0,0,{"$f":"IF(F7161=\"\",0,IF(isNccValid(F7161),0,1))","v":0}]
[null,null,null,null,null,null,null,null,null,null,null,null,null,null,null,"",0,0,0,{"$f":"IF(F7172=\"\",0,IF(isNccValid(F7172),0,1))","v":0}]
[null,null,null,null,null,null,null,null,null,null,null,null,null,null,null,"",0,0,0,{"$f":"IF(F7178=\"\",0,IF(isNccValid(F7178),0,1))","v":0}]
[null,null,null,null,null,null,null,null,null,null,null,null,null,null,null,"",0,0,0,{"$f":"IF(F7188=\"\",0,IF(isNccValid(F7188),0,1))","v":0}]
[null,null,null,null,null,null,null,null,null,null,null,null,null,null,null,"",0,0,0,{"$f":"IF(F7205=\"\",0,IF(isNccValid(F7205),0,1))","v":0}]
[null,null,null,null,null,null,null,null,null,null,null,null,null,null,null,"",0,0,0,{"$f":"IF(F7209=\"\",0,IF(isNccValid(F7209),0,1))","v":0}]
[null,null,null,null,null,null,null,null,null,null,null,null,null,null,null,"",{"$f":"IF(AND(B7222=\"\",R7222=1),1,IF(AND(D7222=\"\",R7222=1),1,IF(AND(E7222=\"\",R7222=1),1,IF(AND(F7222=\"\",R7222=1),1,IF(AND(M7222=\"\",R7222=1),1,IF(AND(O7222=\"\",R7222=1),1,0))))))","v":0},{"$f":"IF(C7222=\"\",0,IF(COUNTA(B7222:O7222)>0,1,0))","v":0},{"$f":"IFERROR(IF(LEN(F7222)=8,0,IF(LEN(F7222)=0,0,1)),1)","v":0},{"$f":"IF(F7222=\"\",0,IF(isNccValid(F7222),0,1))","v":0}]
[null,null,null,null,null,null,null,null,null,null,null,null,null,null,null,"",0,0,0,{"$f":"IF(F7239=\"\",0,IF(isNccValid(F7239),0,1))","v":0}]
[null,null,null,null,null,null,null,null,null,null,null,null,null,null,null,"",0,0,0,{"$f":"IF(F7245=\"\",0,IF(isNccValid(F7245),0,1))","v":0}]
[null,null,null,null,null,null,null,null,null,null,null,null,null,null,null,"",0,0,0,{"$f":"IF(F7262=\"\",0,IF(isNccValid(F7262),0,1))","v":0}]
[null,null,null,null,null,null,null,null,null,null,null,null,null,null,null,"",0,0,0,{"$f":"IF(F7273=\"\",0,IF(isNccValid(F7273),0,1))","v":0}]
[null,null,null,null,null,null,null,null,null,null,null,null,null,null,null,"",0,0,0,{"$f":"IF(F7283=\"\",0,IF(isNccValid(F7283),0,1))","v":0}]
[null,null,null,null,null,null,null,null,null,null,null,null,null,null,null,"",0,0,0,{"$f":"IF(F7289=\"\",0,IF(isNccValid(F7289),0,1))","v":0}]
[null,null,null,null,null,null,null,null,null,null,null,null,null,null,null,"",0,0,0,{"$f":"IF(F7299=\"\",0,IF(isNccValid(F7299),0,1))","v":0}]
[null,null,null,null,null,null,null,null,null,null,null,null,null,null,null,"",0,0,0,{"$f":"IF(F7317=\"\",0,IF(isNccValid(F7317),0,1))","v":0}]
[null,null,null,null,null,null,null,null,null,null,null,null,null,null,null,"",0,0,0,{"$f":"IF(F7323=\"\",0,IF(isNccValid(F7323),0,1))","v":0}]
[null,null,null,null,null,null,null,null,null,null,null,null,null,null,null,"",0,0,0,{"$f":"IF(F7333=\"\",0,IF(isNccValid(F7333),0,1))","v":0}]
[null,null,null,null,null,null,null,null,null,null,null,null,null,null,null,"",0,0,0,{"$f":"IF(F7352=\"\",0,IF(isNccValid(F7352),0,1))","v":0}]
[null,null,null,null,null,null,null,null,null,null,null,null,null,null,null,"",0,0,0,{"$f":"IF(F7357=\"\",0,IF(isNccValid(F7357),0,1))","v":0}]
[null,null,null,null,null,null,null,null,null,null,null,null,null,null,null,"",0,0,0,{"$f":"IF(F7367=\"\",0,IF(isNccValid(F7367),0,1))","v":0}]
[null,null,null,null,null,null,null,null,null,null,null,null,null,null,null,"",0,0,0,{"$f":"IF(F7384=\"\",0,IF(isNccValid(F7384),0,1))","v":0}]
[null,null,null,null,null,null,null,null,null,null,null,null,null,null,null,"",0,0,0,{"$f":"IF(F7389=\"\",0,IF(isNccValid(F7389),0,1))","v":0}]
[null,null,null,null,null,null,null,null,null,null,null,null,null,null,null,"",0,0,0,{"$f":"IF(F7401=\"\",0,IF(isNccValid(F7401),0,1))","v":0}]
[null,null,null,null,null,null,null,null,null,null,null,null,null,null,null,"",0,0,0,{"$f":"IF(F7418=\"\",0,IF(isNccValid(F7418),0,1))","v":0}]
[null,null,null,null,null,null,null,null,null,null,null,null,null,null,null,"",0,0,0,{"$f":"IF(F7428=\"\",0,IF(isNccValid(F7428),0,1))","v":0}]
[null,null,null,null,null,null,null,null,null,null,null,null,null,null,null,"",0,0,0,{"$f":"IF(F7442=\"\",0,IF(isNccValid(F7442),0,1))","v":0}]
[null,null,null,null,null,null,null,null,null,null,null,null,null,null,null,"",0,0,0,{"$f":"IF(F7452=\"\",0,IF(isNccValid(F7452),0,1))","v":0}]
[null,null,null,null,null,null,null,null,null,null,null,null,null,null,null,"",0,0,0,{"$f":"IF(F7462=\"\",0,IF(isNccValid(F7462),0,1))","v":0}]
[null,null,null,null,null,null,null,null,null,null,null,null,null,null,null,"",0,0,0,{"$f":"IF(F7468=\"\",0,IF(isNccValid(F7468),0,1))","v":0}]
[null,null,null,null,null,null,null,null,null,null,null,null,null,null,null,"",0,0,0,{"$f":"IF(F7483=\"\",0,IF(isNccValid(F7483),0,1))","v":0}]
[null,null,null,null,null,null,null,null,null,null,null,null,null,null,null,"",0,0,0,{"$f":"IF(F7496=\"\",0,IF(isNccValid(F7496),0,1))","v":0}]
[null,null,null,null,null,null,null,null,null,null,null,null,null,null,null,"",0,0,0,{"$f":"IF(F7502=\"\",0,IF(isNccValid(F7502),0,1))","v":0}]
[null,null,null,null,null,null,null,null,null,null,null,null,null,null,null,"",0,0,0,{"$f":"IF(F7523=\"\",0,IF(isNccValid(F7523),0,1))","v":0}]
[null,null,null,null,null,null,null,null,null,null,null,null,null,null,null,"",0,0,0,{"$f":"IF(F7532=\"\",0,IF(isNccValid(F7532),0,1))","v":0}]
[null,null,null,null,null,null,null,null,null,null,null,null,null,null,null,"",0,0,0,{"$f":"IF(F7536=\"\",0,IF(isNccValid(F7536),0,1))","v":0}]
[null,null,null,null,null,null,null,null,null,null,null,null,null,null,null,"",0,0,0,{"$f":"IF(F7557=\"\",0,IF(isNccValid(F7557),0,1))","v":0}]
[null,null,null,null,null,null,null,null,null,null,null,null,null,null,null,"",0,0,0,{"$f":"IF(F7563=\"\",0,IF(isNccValid(F7563),0,1))","v":0}]
[null,null,null,null,null,null,null,null,null,null,null,null,null,null,null,"",0,0,0,{"$f":"IF(F7573=\"\",0,IF(isNccValid(F7573),0,1))","v":0}]
[null,null,null,null,null,null,null,null,null,null,null,null,null,null,null,"",0,0,0,{"$f":"IF(F7591=\"\",0,IF(isNccValid(F7591),0,1))","v":0}]
[null,null,null,null,null,null,null,null,null,null,null,null,null,null,null,"",0,0,0,{"$f":"IF(F7597=\"\",0,IF(isNccValid(F7597),0,1))","v":0}]
[null,null,null,null,null,null,null,null,null,null,null,null,null,null,null,"",0,0,0,{"$f":"IF(F7607=\"\",0,IF(isNccValid(F7607),0,1))","v":0}]
[null,null,null,null,null,null,null,null,null,null,null,null,null,null,null,"",0,0,0,{"$f":"IF(F7622=\"\",0,IF(isNccValid(F7622),0,1))","v":0}]
[null,null,null,null,null,null,null,null,null,null,null,null,null,null,null,"",0,0,0,{"$f":"IF(F7631=\"\",0,IF(isNccValid(F7631),0,1))","v":0}]
[null,null,null,null,null,null,null,null,null,null,null,null,null,null,null,"",0,0,0,{"$f":"IF(F7641=\"\",0,IF(isNccValid(F7641),0,1))","v":0}]
[null,null,null,null,null,null,null,null,null,null,null,null,null,null,null,"",0,0,0,{"$f":"IF(F7651=\"\",0,IF(isNccValid(F7651),0,1))","v":0}]
[null,null,null,null,null,null,null,null,null,null,null,null,null,null,null,"",0,0,0,{"$f":"IF(F7669=\"\",0,IF(isNccValid(F7669),0,1))","v":0}]
[null,null,null,null,null,null,null,null,null,null,null,null,null,null,null,"",0,0,0,{"$f":"IF(F7675=\"\",0,IF(isNccValid(F7675),0,1))","v":0}]
[null,null,null,null,null,null,null,null,null,null,null,null,null,null,null,"",0,0,0,{"$f":"IF(F7692=\"\",0,IF(isNccValid(F7692),0,1))","v":0}]
[null,null,null,null,null,null,null,null,null,null,null,null,null,null,null,"",0,0,0,{"$f":"IF(F7704=\"\",0,IF(isNccValid(F7704),0,1))","v":0}]
[null,null,null,null,null,null,null,null,null,null,null,null,null,null,null,"",0,0,0,{"$f":"IF(F7709=\"\",0,IF(isNccValid(F7709),0,1))","v":0}]
[null,null,null,null,null,null,null,null,null,null,null,null,null,null,null,"",0,0,0,{"$f":"IF(F7719=\"\",0,IF(isNccValid(F7719),0,1))","v":0}]
[null,null,null,null,null,null,null,null,null,null,null,null,null,null,null,"",0,0,0,{"$f":"IF(F7736=\"\",0,IF(isNccValid(F7736),0,1))","v":0}]
[null,null,null,null,null,null,null,null,null,null,null,null,null,null,null,"",0,0,0,{"$f":"IF(F7741=\"\",0,IF(isNccValid(F7741),0,1))","v":0}]
[null,null,null,null,null,null,null,null,null,null,null,null,null,null,null,"",0,0,0,{"$f":"IF(F7753=\"\",0,IF(isNccValid(F7753),0,1))","v":0}]
[null,null,null,null,null,null,null,null,null,null,null,null,null,null,null,"",0,0,0,{"$f":"IF(F7770=\"\",0,IF(isNccValid(F7770),0,1))","v":0}]
[null,null,null,null,null,null,null,null,null,null,null,null,null,null,null,"",0,0,0,{"$f":"IF(F7776=\"\",0,IF(isNccValid(F7776),0,1))","v":0}]
[null,null,null,null,null,null,null,null,null,null,null,null,null,null,null,"",0,0,0,{"$f":"IF(F7794=\"\",0,IF(isNccValid(F7794),0,1))","v":0}]
[null,null,null,null,null,null,null,null,null,null,null,null,null,null,null,"",0,0,0,{"$f":"IF(F7804=\"\",0,IF(isNccValid(F7804),0,1))","v":0}]
[null,null,null,null,null,null,null,null,null,null,null,null,null,null,null,"",0,0,0,{"$f":"IF(F7814=\"\",0,IF(isNccValid(F7814),0,1))","v":0}]
[null,null,null,null,null,null,null,null,null,null,null,null,null,null,null,"",0,0,0,{"$f":"IF(F7820=\"\",0,IF(isNccValid(F7820),0,1))","v":0}]
[null,null,null,null,null,null,null,null,null,null,null,null,null,null,null,"",0,0,0,{"$f":"IF(F7831=\"\",0,IF(isNccValid(F7831),0,1))","v":0}]
[null,null,null,null,null,null,null,null,null,null,null,null,null,null,null,"",0,0,0,{"$f":"IF(F7848=\"\",0,IF(isNccValid(F7848),0,1))","v":0}]
[null,null,null,null,null,null,null,null,null,null,null,null,null,null,null,"",0,0,0,{"$f":"IF(F7854=\"\",0,IF(isNccValid(F7854),0,1))","v":0}]
[null,null,null,null,null,null,null,null,null,null,null,null,null,null,null,"",0,0,0,{"$f":"IF(F7864=\"\",0,IF(isNccValid(F7864),0,1))","v":0}]
[null,null,null,null,null,null,null,null,null,null,null,null,null,null,null,"",0,0,0,{"$f":"IF(F7884=\"\",0,IF(isNccValid(F7884),0,1))","v":0}]
[null,null,null,null,null,null,null,null,null,null,null,null,null,null,null,"",0,0,0,{"$f":"IF(F7888=\"\",0,IF(isNccValid(F7888),0,1))","v":0}]
[null,null,null,null,null,null,null,null,null,null,null,null,null,null,null,"",0,0,0,{"$f":"IF(F7898=\"\",0,IF(isNccValid(F7898),0,1))","v":0}]
[null,null,null,null,null,null,null,null,null,null,null,null,null,null,null,"",0,0,0,{"$f":"IF(F7915=\"\",0,IF(isNccValid(F7915),0,1))","v":0}]
[null,null,null,null,null,null,null,null,null,null,null,null,null,null,null,"",0,0,0,{"$f":"IF(F7921=\"\",0,IF(isNccValid(F7921),0,1))","v":0}]
[null,null,null,null,null,null,null,null,null,null,null,null,null,null,null,"",0,0,0,{"$f":"IF(F7932=\"\",0,IF(isNccValid(F7932),0,1))","v":0}]
[null,null,null,null,null,null,null,null,null,null,null,null,null,null,null,"",0,0,0,{"$f":"IF(F7949=\"\",0,IF(isNccValid(F7949),0,1))","v":0}]
[null,null,null,null,null,null,null,null,null,null,null,null,null,null,null,"",0,0,0,{"$f":"IF(F7959=\"\",0,IF(isNccValid(F7959),0,1))","v":0}]
[null,null,null,null,null,null,null,null,null,null,null,null,null,null,null,"",0,0,0,{"$f":"IF(F7974=\"\",0,IF(isNccValid(F7974),0,1))","v":0}]
[null,null,null,null,null,null,null,null,null,null,null,null,null,null,null,"",0,0,0,{"$f":"IF(F7983=\"\",0,IF(isNccValid(F7983),0,1))","v":0}]
[null,null,null,null,null,null,null,null,null,null,null,null,null,null,null,"",0,0,0,{"$f":"IF(F7993=\"\",0,IF(isNccValid(F7993),0,1))","v":0}]
[null,null,null,null,null,null,null,null,null,null,null,null,null,null,null,"",0,0,0,{"$f":"IF(F7999=\"\",0,IF(isNccValid(F7999),0,1))","v":0}]
[null,null,null,null,null,null,null,null,null,null,null,null,null,null,null,"",0,0,0,{"$f":"IF(F8011=\"\",0,IF(isNccValid(F8011),0,1))","v":0}]
[null,null,null,null,null,null,null,null,null,null,null,null,null,null,null,"",0,0,0,{"$f":"IF(F8027=\"\",0,IF(isNccValid(F8027),0,1))","v":0}]
[null,null,null,null,null,null,null,null,null,null,null,null,null,null,null,"",0,0,0,{"$f":"IF(F8033=\"\",0,IF(isNccValid(F8033),0,1))","v":0}]
[null,null,null,null,null,null,null,null,null,null,null,null,null,null,null,"",0,0,0,{"$f":"IF(F8043=\"\",0,IF(isNccValid(F8043),0,1))","v":0}]
[null,null,null,null,null,null,null,null,null,null,null,null,null,null,null,"",0,0,0,{"$f":"IF(F8064=\"\",0,IF(isNccValid(F8064),0,1))","v":0}]
[null,null,null,null,null,null,null,null,null,null,null,null,null,null,null,"",0,0,0,{"$f":"IF(F8067=\"\",0,IF(isNccValid(F8067),0,1))","v":0}]
[null,null,null,null,null,null,null,null,null,null,null,null,null,null,null,"",0,0,0,{"$f":"IF(F8077=\"\",0,IF(isNccValid(F8077),0,1))","v":0}]
[null,null,null,null,null,null,null,null,null,null,null,null,null,null,null,"",0,0,0,{"$f":"IF(F8094=\"\",0,IF(isNccValid(F8094),0,1))","v":0}]
[null,null,null,null,null,null,null,null,null,null,null,null,null,null,null,"",0,0,0,{"$f":"IF(F8105=\"\",0,IF(isNccValid(F8105),0,1))","v":0}]
[null,null,null,null,null,null,null,null,null,null,null,null,null,null,null,"",0,0,0,{"$f":"IF(F8111=\"\",0,IF(isNccValid(F8111),0,1))","v":0}]
[null,null,null,null,null,null,null,null,null,null,null,null,null,null,null,"",0,0,0,{"$f":"IF(F8128=\"\",0,IF(isNccValid(F8128),0,1))","v":0}]
[null,null,null,null,null,null,null,null,null,null,null,null,null,null,null,"",0,0,0,{"$f":"IF(F8138=\"\",0,IF(isNccValid(F8138),0,1))","v":0}]
[null,null,null,null,null,null,null,null,null,null,null,null,null,null,null,"",0,0,0,{"$f":"IF(F8154=\"\",0,IF(isNccValid(F8154),0,1))","v":0}]
[null,null,null,null,null,null,null,null,null,null,null,null,null,null,null,"",0,0,0,{"$f":"IF(F8162=\"\",0,IF(isNccValid(F8162),0,1))","v":0}]
[null,null,null,null,null,null,null,null,null,null,null,null,null,null,null,"",0,0,0,{"$f":"IF(F8172=\"\",0,IF(isNccValid(F8172),0,1))","v":0}]
[null,null,null,null,null,null,null,null,null,null,null,null,null,null,null,"",0,0,0,{"$f":"IF(F8178=\"\",0,IF(isNccValid(F8178),0,1))","v":0}]
[null,null,null,null,null,null,null,null,null,null,null,null,null,null,null,"",0,0,0,{"$f":"IF(F8195=\"\",0,IF(isNccValid(F8195),0,1))","v":0}]
[null,null,null,null,null,null,null,null,null,null,null,null,null,null,null,"",0,0,0,{"$f":"IF(F8206=\"\",0,IF(isNccValid(F8206),0,1))","v":0}]
[null,null,null,null,null,null,null,null,null,null,null,null,null,null,null,"",0,0,0,{"$f":"IF(F8212=\"\",0,IF(isNccValid(F8212),0,1))","v":0}]
[null,null,null,null,null,null,null,null,null,null,null,null,null,null,null,"",0,0,0,{"$f":"IF(F8222=\"\",0,IF(isNccValid(F8222),0,1))","v":0}]
[null,null,null,null,null,null,null,null,null,null,null,null,null,null,null,"",0,0,0,{"$f":"IF(F8244=\"\",0,IF(isNccValid(F8244),0,1))","v":0}]
[null,null,null,null,null,null,null,null,null,null,null,null,null,null,null,"",{"$f":"IF(AND(B8246=\"\",R8246=1),1,IF(AND(D8246=\"\",R8246=1),1,IF(AND(E8246=\"\",R8246=1),1,IF(AND(F8246=\"\",R8246=1),1,IF(AND(M8246=\"\",R8246=1),1,IF(AND(O8246=\"\",R8246=1),1,0))))))","v":0},{"$f":"IF(C8246=\"\",0,IF(COUNTA(B8246:O8246)>0,1,0))","v":0},{"$f":"IFERROR(IF(LEN(F8246)=8,0,IF(LEN(F8246)=0,0,1)),1)","v":0},{"$f":"IF(F8246=\"\",0,IF(isNccValid(F8246),0,1))","v":0}]
[null,null,null,null,null,null,null,null,null,null,null,null,null,null,null,"",0,0,0,{"$f":"IF(F8256=\"\",0,IF(isNccValid(F8256),0,1))","v":0}]
[null,null,null,null,null,null,null,null,null,null,null,null,null,null,null,"",0,0,0,{"$f":"IF(F8273=\"\",0,IF(isNccValid(F8273),0,1))","v":0}]
[null,null,null,null,null,null,null,null,null,null,null,null,null,null,null,"",0,0,0,{"$f":"IF(F8285=\"\",0,IF(isNccValid(F8285),0,1))","v":0}]
[null,null,null,null,null,null,null,null,null,null,null,null,null,null,null,"",0,0,0,{"$f":"IF(F8290=\"\",0,IF(isNccValid(F8290),0,1))","v":0}]
[null,null,null,null,null,null,null,null,null,null,null,null,null,null,null,"",0,0,0,{"$f":"IF(F8307=\"\",0,IF(isNccValid(F8307),0,1))","v":0}]
[null,null,null,null,null,null,null,null,null,null,null,null,null,null,null,"",0,0,0,{"$f":"IF(F8317=\"\",0,IF(isNccValid(F8317),0,1))","v":0}]
[null,null,null,null,null,null,null,null,null,null,null,null,null,null,null,"",0,0,0,{"$f":"IF(F8334=\"\",0,IF(isNccValid(F8334),0,1))","v":0}]
[null,null,null,null,null,null,null,null,null,null,null,null,null,null,null,"",0,0,0,{"$f":"IF(F8345=\"\",0,IF(isNccValid(F8345),0,1))","v":0}]
[null,null,null,null,null,null,null,null,null,null,null,null,null,null,null,"",0,0,0,{"$f":"IF(F8351=\"\",0,IF(isNccValid(F8351),0,1))","v":0}]
[null,null,null,null,null,null,null,null,null,null,null,null,null,null,null,"",0,0,0,{"$f":"IF(F8357=\"\",0,IF(isNccValid(F8357),0,1))","v":0}]
[null,null,null,null,null,null,null,null,null,null,null,null,null,null,null,"",0,0,0,{"$f":"IF(F8375=\"\",0,IF(isNccValid(F8375),0,1))","v":0}]
[null,null,null,null,null,null,null,null,null,null,null,null,null,null,null,"",0,0,0,{"$f":"IF(F8385=\"\",0,IF(isNccValid(F8385),0,1))","v":0}]
[null,null,null,null,null,null,null,null,null,null,null,null,null,null,null,"",0,0,0,{"$f":"IF(F8391=\"\",0,IF(isNccValid(F8391),0,1))","v":0}]
[null,null,null,null,null,null,null,null,null,null,null,null,null,null,null,"",0,0,0,{"$f":"IF(F8412=\"\",0,IF(isNccValid(F8412),0,1))","v":0}]
[null,null,null,null,null,null,null,null,null,null,null,null,null,null,null,"",0,0,0,{"$f":"IF(F8424=\"\",0,IF(isNccValid(F8424),0,1))","v":0}]
[null,null,null,null,null,null,null,null,null,null,null,null,null,null,null,"",0,0,0,{"$f":"IF(F8429=\"\",0,IF(isNccValid(F8429),0,1))","v":0}]
[null,null,null,null,null,null,null,null,null,null,null,null,null,null,null,"",0,0,0,{"$f":"IF(F8446=\"\",0,IF(isNccValid(F8446),0,1))","v":0}]
[null,null,null,null,null,null,null,null,null,null,null,null,null,null,null,"",0,0,0,{"$f":"IF(F8452=\"\",0,IF(isNccValid(F8452),0,1))","v":0}]
[null,null,null,null,null,null,null,null,null,null,null,null,null,null,null,"",0,0,0,{"$f":"IF(F8465=\"\",0,IF(isNccValid(F8465),0,1))","v":0}]
[null,null,null,null,null,null,null,null,null,null,null,null,null,null,null,"",0,0,0,{"$f":"IF(F8480=\"\",0,IF(isNccValid(F8480),0,1))","v":0}]
[null,null,null,null,null,null,null,null,null,null,null,null,null,null,null,"",0,0,0,{"$f":"IF(F8490=\"\",0,IF(isNccValid(F8490),0,1))","v":0}]
[null,null,null,null,null,null,null,null,null,null,null,null,null,null,null,"",0,0,0,{"$f":"IF(F8496=\"\",0,IF(isNccValid(F8496),0,1))","v":0}]
[null,null,null,null,null,null,null,null,null,null,null,null,null,null,null,"",0,0,0,{"$f":"IF(F8514=\"\",0,IF(isNccValid(F8514),0,1))","v":0}]
[null,null,null,null,null,null,null,null,null,null,null,null,null,null,null,"",0,0,0,{"$f":"IF(F8524=\"\",0,IF(isNccValid(F8524),0,1))","v":0}]
[null,null,null,null,null,null,null,null,null,null,null,null,null,null,null,"",0,0,0,{"$f":"IF(F8530=\"\",0,IF(isNccValid(F8530),0,1))","v":0}]
[null,null,null,null,null,null,null,null,null,null,null,null,null,null,null,"",0,0,0,{"$f":"IF(F8547=\"\",0,IF(isNccValid(F8547),0,1))","v":0}]
[null,null,null,null,null,null,null,null,null,null,null,null,null,null,null,"",0,0,0,{"$f":"IF(F8555=\"\",0,IF(isNccValid(F8555),0,1))","v":0}]
[null,null,null,null,null,null,null,null,null,null,null,null,null,null,null,"",0,0,0,{"$f":"IF(F8564=\"\",0,IF(isNccValid(F8564),0,1))","v":0}]
[null,null,null,null,null,null,null,null,null,null,null,null,null,null,null,"",0,0,0,{"$f":"IF(F8574=\"\",0,IF(isNccValid(F8574),0,1))","v":0}]
[null,null,null,null,null,null,null,null,null,null,null,null,null,null,null,"",0,0,0,{"$f":"IF(F8591=\"\",0,IF(isNccValid(F8591),0,1))","v":0}]
[null,null,null,null,null,null,null,null,null,null,null,null,null,null,null,"",0,0,0,{"$f":"IF(F8604=\"\",0,IF(isNccValid(F8604),0,1))","v":0}]
[null,null,null,null,null,null,null,null,null,null,null,null,null,null,null,"",0,0,0,{"$f":"IF(F8608=\"\",0,IF(isNccValid(F8608),0,1))","v":0}]
[null,null,null,null,null,null,null,null,null,null,null,null,null,null,null,"",0,0,0,{"$f":"IF(F8625=\"\",0,IF(isNccValid(F8625),0,1))","v":0}]
[null,null,null,null,null,null,null,null,null,null,null,null,null,null,null,"",0,0,0,{"$f":"IF(F8631=\"\",0,IF(isNccValid(F8631),0,1))","v":0}]
[null,null,null,null,null,null,null,null,null,null,null,null,null,null,null,"",0,0,0,{"$f":"IF(F8645=\"\",0,IF(isNccValid(F8645),0,1))","v":0}]
[null,null,null,null,null,null,null,null,null,null,null,null,null,null,null,"",0,0,0,{"$f":"IF(F8659=\"\",0,IF(isNccValid(F8659),0,1))","v":0}]
[null,null,null,null,null,null,null,null,null,null,null,null,null,null,null,"",0,0,0,{"$f":"IF(F8669=\"\",0,IF(isNccValid(F8669),0,1))","v":0}]
[null,null,null,null,null,null,null,null,null,null,null,null,null,null,null,"",0,0,0,{"$f":"IF(F8675=\"\",0,IF(isNccValid(F8675),0,1))","v":0}]
[null,null,null,null,null,null,null,null,null,null,null,null,null,null,null,"",{"$f":"IF(AND(B8694=\"\",R8694=1),1,IF(AND(D8694=\"\",R8694=1),1,IF(AND(E8694=\"\",R8694=1),1,IF(AND(F8694=\"\",R8694=1),1,IF(AND(M8694=\"\",R8694=1),1,IF(AND(O8694=\"\",R8694=1),1,0))))))","v":0},{"$f":"IF(C8694=\"\",0,IF(COUNTA(B8694:O8694)>0,1,0))","v":0},{"$f":"IFERROR(IF(LEN(F8694)=8,0,IF(LEN(F8694)=0,0,1)),1)","v":0},{"$f":"IF(F8694=\"\",0,IF(isNccValid(F8694),0,1))","v":0}]
[null,null,null,null,null,null,null,null,null,null,null,null,null,null,null,"",0,0,0,{"$f":"IF(F8703=\"\",0,IF(isNccValid(F8703),0,1))","v":0}]
[null,null,null,null,null,null,null,null,null,null,null,null,null,null,null,"",0,0,0,{"$f":"IF(F8709=\"\",0,IF(isNccValid(F8709),0,1))","v":0}]
[null,null,null,null,null,null,null,null,null,null,null,null,null,null,null,"",0,0,0,{"$f":"IF(F8719=\"\",0,IF(isNccValid(F8719),0,1))","v":0}]
[null,null,null,null,null,null,null,null,null,null,null,null,null,null,null,"",0,0,0,{"$f":"IF(F8735=\"\",0,IF(isNccValid(F8735),0,1))","v":0}]
[null,null,null,null,null,null,null,null,null,null,null,null,null,null,null,"",0,0,0,{"$f":"IF(F8743=\"\",0,IF(isNccValid(F8743),0,1))","v":0}]
[null,null,null,null,null,null,null,null,null,null,null,null,null,null,null,"",0,0,0,{"$f":"IF(F8753=\"\",0,IF(isNccValid(F8753),0,1))","v":0}]
[null,null,null,null,null,null,null,null,null,null,null,null,null,null,null,"",0,0,0,{"$f":"IF(F8770=\"\",0,IF(isNccValid(F8770),0,1))","v":0}]
[null,null,null,null,null,null,null,null,null,null,null,null,null,null,null,"",0,0,0,{"$f":"IF(F8784=\"\",0,IF(isNccValid(F8784),0,1))","v":0}]
[null,null,null,null,null,null,null,null,null,null,null,null,null,null,null,"",0,0,0,{"$f":"IF(F8787=\"\",0,IF(isNccValid(F8787),0,1))","v":0}]
[null,null,null,null,null,null,null,null,null,null,null,null,null,null,null,"",0,0,0,{"$f":"IF(F8804=\"\",0,IF(isNccValid(F8804),0,1))","v":0}]
[null,null,null,null,null,null,null,null,null,null,null,null,null,null,null,"",0,0,0,{"$f":"IF(F8814=\"\",0,IF(isNccValid(F8814),0,1))","v":0}]
[null,null,null,null,null,null,null,null,null,null,null,null,null,null,null,"",0,0,0,{"$f":"IF(F8825=\"\",0,IF(isNccValid(F8825),0,1))","v":0}]
[null,null,null,null,null,null,null,null,null,null,null,null,null,null,null,"",0,0,0,{"$f":"IF(F8838=\"\",0,IF(isNccValid(F8838),0,1))","v":0}]
[null,null,null,null,null,null,null,null,null,null,null,null,null,null,null,"",0,0,0,{"$f":"IF(F8848=\"\",0,IF(isNccValid(F8848),0,1))","v":0}]
[null,null,null,null,null,null,null,null,null,null,null,null,null,null,null,{"$f":"IF(B8854=\"\",\"\",M8854*O8854)","v":""},0,0,0,{"$f":"IF(F8854=\"\",0,IF(isNccValid(F8854),0,1))","v":0}]
[null,null,null,null,null,null,null,null,null,null,null,null,null,null,null,"",0,0,0,{"$f":"IF(F8874=\"\",0,IF(isNccValid(F8874),0,1))","v":0}]
[null,null,null,null,null,null,null,null,null,null,null,null,null,null,null,"",0,0,0,{"$f":"IF(F8882=\"\",0,IF(isNccValid(F8882),0,1))","v":0}]
[null,null,null,null,null,null,null,null,null,null,null,null,null,null,null,"",0,0,0,{"$f":"IF(F8888=\"\",0,IF(isNccValid(F8888),0,1))","v":0}]
[null,null,null,null,null,null,null,null,null,null,null,null,null,null,null,"",0,0,0,{"$f":"IF(F8898=\"\",0,IF(isNccValid(F8898),0,1))","v":0}]
[null,null,null,null,null,null,null,null,null,null,null,null,null,null,null,"",0,0,0,{"$f":"IF(F8915=\"\",0,IF(isNccValid(F8915),0,1))","v":0}]
[null,null,null,null,null,null,null,null,null,null,null,null,null,null,null,"",0,0,0,{"$f":"IF(F8922=\"\",0,IF(isNccValid(F8922),0,1))","v":0}]
[null,null,null,null,null,null,null,null,null,null,null,null,null,null,null,"",0,0,0,{"$f":"IF(F8932=\"\",0,IF(isNccValid(F8932),0,1))","v":0}]
[null,null,null,null,null,null,null,null,null,null,null,null,null,null,null,"",0,0,0,{"$f":"IF(F8949=\"\",0,IF(isNccValid(F8949),0,1))","v":0}]
[null,null,null,null,null,null,null,null,null,null,null,null,null,null,null,"",0,0,0,{"$f":"IF(F8956=\"\",0,IF(isNccValid(F8956),0,1))","v":0}]
[null,null,null,null,null,null,null,null,null,null,null,null,null,null,null,"",0,0,0,{"$f":"IF(F8966=\"\",0,IF(isNccValid(F8966),0,1))","v":0}]
[null,null,null,null,null,null,null,null,null,null,null,null,null,null,null,"",0,0,0,{"$f":"IF(F8983=\"\",0,IF(isNccValid(F8983),0,1))","v":0}]
[null,null,null,null,null,null,null,null,null,null,null,null,null,null,null,"",0,0,0,{"$f":"IF(F8993=\"\",0,IF(isNccValid(F8993),0,1))","v":0}]
[null,null,null,null,null,null,null,null,null,null,null,null,null,null,null,"",0,0,0,{"$f":"IF(F9005=\"\",0,IF(isNccValid(F9005),0,1))","v":0}]
[null,null,null,null,null,null,null,null,null,null,null,null,null,null,null,"",0,0,0,{"$f":"IF(F9017=\"\",0,IF(isNccValid(F9017),0,1))","v":0}]
[null,null,null,null,null,null,null,null,null,null,null,null,null,null,null,"",0,0,0,{"$f":"IF(F9027=\"\",0,IF(isNccValid(F9027),0,1))","v":0}]
[null,null,null,null,null,null,null,null,null,null,null,null,null,null,null,"",0,0,0,{"$f":"IF(F9033=\"\",0,IF(isNccValid(F9033),0,1))","v":0}]
[null,null,null,null,null,null,null,null,null,null,null,null,null,null,null,{"$f":"IF(B9046=\"\",\"\",M9046*O9046)","v":""},0,0,0,{"$f":"IF(F9046=\"\",0,IF(isNccValid(F9046),0,1))","v":0}]
[null,null,null,null,null,null,null,null,null,null,null,null,null,null,null,"",0,0,0,{"$f":"IF(F9061=\"\",0,IF(isNccValid(F9061),0,1))","v":0}]
[null,null,null,null,null,null,null,null,null,null,null,null,null,null,null,"",0,0,0,{"$f":"IF(F9067=\"\",0,IF(isNccValid(F9067),0,1))","v":0}]
[null,null,null,null,null,null,null,null,null,null,null,null,null,null,null,"",0,0,0,{"$f":"IF(F9077=\"\",0,IF(isNccValid(F9077),0,1))","v":0}]
[null,null,null,null,null,null,null,null,null,null,null,null,null,null,null,"",0,0,0,{"$f":"IF(F9095=\"\",0,IF(isNccValid(F9095),0,1))","v":0}]
[null,null,null,null,null,null,null,null,null,null,null,null,null,null,null,"",0,0,0,{"$f":"IF(F9105=\"\",0,IF(isNccValid(F9105),0,1))","v":0}]
[null,null,null,null,null,null,null,null,null,null,null,null,null,null,null,"",0,0,0,{"$f":"IF(F9111=\"\",0,IF(isNccValid(F9111),0,1))","v":0}]
[null,null,null,null,null,null,null,null,null,null,null,null,null,null,null,"",0,0,0,{"$f":"IF(F9128=\"\",0,IF(isNccValid(F9128),0,1))","v":0}]
[null,null,null,null,null,null,null,null,null,null,null,null,null,null,null,"",0,0,0,{"$f":"IF(F9136=\"\",0,IF(isNccValid(F9136),0,1))","v":0}]
[null,null,null,null,null,null,null,null,null,null,null,null,null,null,null,"",0,0,0,{"$f":"IF(F9145=\"\",0,IF(isNccValid(F9145),0,1))","v":0}]
[null,null,null,null,null,null,null,null,null,null,null,null,null,null,null,"",0,0,0,{"$f":"IF(F9162=\"\",0,IF(isNccValid(F9162),0,1))","v":0}]
[null,null,null,null,null,null,null,null,null,null,null,null,null,null,null,"",0,0,0,{"$f":"IF(F9172=\"\",0,IF(isNccValid(F9172),0,1))","v":0}]
[null,null,null,null,null,null,null,null,null,null,null,null,null,null,null,"",0,0,0,{"$f":"IF(F9185=\"\",0,IF(isNccValid(F9185),0,1))","v":0}]
[null,null,null,null,null,null,null,null,null,null,null,null,null,null,null,"",0,0,0,{"$f":"IF(F9200=\"\",0,IF(isNccValid(F9200),0,1))","v":0}]
[null,null,null,null,null,null,null,null,null,null,null,null,null,null,null,"",{"$f":"IF(AND(B9206=\"\",R9206=1),1,IF(AND(D9206=\"\",R9206=1),1,IF(AND(E9206=\"\",R9206=1),1,IF(AND(F9206=\"\",R9206=1),1,IF(AND(M9206=\"\",R9206=1),1,IF(AND(O9206=\"\",R9206=1),1,0))))))","v":0},{"$f":"IF(C9206=\"\",0,IF(COUNTA(B9206:O9206)>0,1,0))","v":0},{"$f":"IFERROR(IF(LEN(F9206)=8,0,IF(LEN(F9206)=0,0,1)),1)","v":0},{"$f":"IF(F9206=\"\",0,IF(isNccValid(F9206),0,1))","v":0}]
[null,null,null,null,null,null,{"$f":"IF(OR(B9212=Referentiel!#REF!,B9212=Referentiel!#REF!),\"Choisir un pays\",\"\")","v":{"$error":"#REF!"}},null,null,null,null,null,null,null,null,"",0,0,0,{"$f":"IF(F9212=\"\",0,IF(isNccValid(F9212),0,1))","v":0}]
[null,null,null,null,null,null,{"$f":"IF(OR(B9226=Referentiel!#REF!,B9226=Referentiel!#REF!),\"Choisir un pays\",\"\")","v":{"$error":"#REF!"}},null,null,null,null,null,null,null,null,"",0,0,0,{"$f":"IF(F9226=\"\",0,IF(isNccValid(F9226),0,1))","v":0}]
[null,null,null,null,null,null,{"$f":"IF(OR(B9240=Referentiel!#REF!,B9240=Referentiel!#REF!),\"Choisir un pays\",\"\")","v":{"$error":"#REF!"}},null,null,null,null,null,null,null,null,"",0,0,0,{"$f":"IF(F9240=\"\",0,IF(isNccValid(F9240),0,1))","v":0}]
[null,null,null,null,null,null,null,null,null,null,null,null,null,null,null,"",0,0,0,{"$f":"IF(F9246=\"\",0,IF(isNccValid(F9246),0,1))","v":0}]
[null,null,null,null,null,null,null,null,null,null,null,null,null,null,null,"",0,0,0,{"$f":"IF(F9267=\"\",0,IF(isNccValid(F9267),0,1))","v":0}]
[null,null,null,null,null,null,null,null,null,null,null,null,null,null,null,"",{"$f":"IF(AND(B9275=\"\",R9275=1),1,IF(AND(D9275=\"\",R9275=1),1,IF(AND(E9275=\"\",R9275=1),1,IF(AND(F9275=\"\",R9275=1),1,IF(AND(M9275=\"\",R9275=1),1,IF(AND(O9275=\"\",R9275=1),1,0))))))","v":0},{"$f":"IF(C9275=\"\",0,IF(COUNTA(B9275:O9275)>0,1,0))","v":0},{"$f":"IFERROR(IF(LEN(F9275)=8,0,IF(LEN(F9275)=0,0,1)),1)","v":0},{"$f":"IF(F9275=\"\",0,IF(isNccValid(F9275),0,1))","v":0}]
[null,null,null,null,null,null,null,null,null,null,null,null,null,null,null,"",0,0,0,{"$f":"IF(F9284=\"\",0,IF(isNccValid(F9284),0,1))","v":0}]
[null,null,null,null,null,null,null,null,null,null,null,null,null,null,null,"",0,0,0,{"$f":"IF(F9301=\"\",0,IF(isNccValid(F9301),0,1))","v":0}]
[null,null,null,null,null,null,null,null,null,null,null,null,null,null,null,"",0,0,0,{"$f":"IF(F9307=\"\",0,IF(isNccValid(F9307),0,1))","v":0}]
[null,null,null,null,null,null,null,null,null,null,null,null,null,null,null,"",0,0,0,{"$f":"IF(F9316=\"\",0,IF(isNccValid(F9316),0,1))","v":0}]
[null,null,null,null,null,null,null,null,null,null,null,null,null,null,null,"",0,0,0,{"$f":"IF(F9335=\"\",0,IF(isNccValid(F9335),0,1))","v":0}]
[null,null,null,null,null,null,null,null,null,null,null,null,null,null,null,"",0,0,0,{"$f":"IF(F9345=\"\",0,IF(isNccValid(F9345),0,1))","v":0}]
[null,null,null,null,null,null,null,null,null,null,null,null,null,null,null,"",0,0,0,{"$f":"IF(F9351=\"\",0,IF(isNccValid(F9351),0,1))","v":0}]
[null,null,null,null,null,null,null,null,null,null,null,null,null,null,null,"",0,0,0,{"$f":"IF(F9365=\"\",0,IF(isNccValid(F9365),0,1))","v":0}]
[null,null,null,null,null,null,null,null,null,null,null,null,null,null,null,"",0,0,0,{"$f":"IF(F9379=\"\",0,IF(isNccValid(F9379),0,1))","v":0}]
[null,null,null,null,null,null,null,null,null,null,null,null,null,null,null,"",0,0,0,{"$f":"IF(F9385=\"\",0,IF(isNccValid(F9385),0,1))","v":0}]
[null,null,null,null,null,null,null,null,null,null,null,null,null,null,null,"",0,0,0,{"$f":"IF(F9402=\"\",0,IF(isNccValid(F9402),0,1))","v":0}]
[null,null,null,null,null,null,null,null,null,null,null,null,null,null,null,"",0,0,0,{"$f":"IF(F9406=\"\",0,IF(isNccValid(F9406),0,1))","v":0}]
[null,null,null,null,null,null,null,null,null,null,null,null,null,null,null,"",0,0,0,{"$f":"IF(F9419=\"\",0,IF(isNccValid(F9419),0,1))","v":0}]
[null,null,null,null,null,null,null,null,null,null,null,null,null,null,null,"",0,0,0,{"$f":"IF(F9429=\"\",0,IF(isNccValid(F9429),0,1))","v":0}]
[null,null,null,null,null,null,null,null,null,null,null,null,null,null,null,"",0,0,0,{"$f":"IF(F9446=\"\",0,IF(isNccValid(F9446),0,1))","v":0}]
[null,null,null,null,null,null,null,null,null,null,null,null,null,null,null,"",0,0,0,{"$f":"IF(F9455=\"\",0,IF(isNccValid(F9455),0,1))","v":0}]
[null,null,null,null,null,null,null,null,null,null,null,null,null,null,null,"",0,0,0,{"$f":"IF(F9463=\"\",0,IF(isNccValid(F9463),0,1))","v":0}]
[null,null,null,null,null,null,null,null,null,null,null,null,null,null,null,"",0,0,0,{"$f":"IF(F9480=\"\",0,IF(isNccValid(F9480),0,1))","v":0}]
[null,null,null,null,null,null,null,null,null,null,null,null,null,null,null,"",0,0,0,{"$f":"IF(F9490=\"\",0,IF(isNccValid(F9490),0,1))","v":0}]
[null,null,null,null,null,null,null,null,null,null,null,null,null,null,null,"",0,0,0,{"$f":"IF(F9496=\"\",0,IF(isNccValid(F9496),0,1))","v":0}]
[null,null,null,null,null,null,null,null,null,null,null,null,null,null,null,"",0,0,0,{"$f":"IF(F9514=\"\",0,IF(isNccValid(F9514),0,1))","v":0}]
[null,null,null,null,null,null,null,null,null,null,null,null,null,null,null,"",0,0,0,{"$f":"IF(F9524=\"\",0,IF(isNccValid(F9524),0,1))","v":0}]
[null,null,null,null,null,null,null,null,null,null,null,null,null,null,null,"",0,0,0,{"$f":"IF(F9530=\"\",0,IF(isNccValid(F9530),0,1))","v":0}]
[null,null,null,null,null,null,null,null,null,null,null,null,null,null,null,"",0,0,0,{"$f":"IF(F9545=\"\",0,IF(isNccValid(F9545),0,1))","v":0}]
[null,null,null,null,null,null,null,null,null,null,null,null,null,null,null,{"$f":"IF(B9558=\"\",\"\",M9558*O9558)","v":""},0,0,0,{"$f":"IF(F9558=\"\",0,IF(isNccValid(F9558),0,1))","v":0}]
[null,null,null,null,null,null,null,null,null,null,null,null,null,null,null,"",0,0,0,{"$f":"IF(F9564=\"\",0,IF(isNccValid(F9564),0,1))","v":0}]
[null,null,null,null,null,null,null,null,null,null,null,null,null,null,null,"",0,0,0,{"$f":"IF(F9574=\"\",0,IF(isNccValid(F9574),0,1))","v":0}]
[null,null,null,null,null,null,null,null,null,null,null,null,null,null,null,"",0,0,0,{"$f":"IF(F9586=\"\",0,IF(isNccValid(F9586),0,1))","v":0}]
[null,null,null,null,null,null,null,null,null,null,null,null,null,null,null,"",0,0,0,{"$f":"IF(F9598=\"\",0,IF(isNccValid(F9598),0,1))","v":0}]
[null,null,null,null,null,null,null,null,null,null,null,null,null,null,null,"",0,0,0,{"$f":"IF(F9608=\"\",0,IF(isNccValid(F9608),0,1))","v":0}]
[null,null,null,null,null,null,null,null,null,null,null,null,null,null,null,"",0,0,0,{"$f":"IF(F9625=\"\",0,IF(isNccValid(F9625),0,1))","v":0}]
[null,null,null,null,null,null,null,null,null,null,null,null,null,null,null,"",0,0,0,{"$f":"IF(F9635=\"\",0,IF(isNccValid(F9635),0,1))","v":0}]
[null,null,null,null,null,null,null,null,null,null,null,null,null,null,null,"",0,0,0,{"$f":"IF(F9642=\"\",0,IF(isNccValid(F9642),0,1))","v":0}]
[null,null,null,null,null,null,null,null,null,null,null,null,null,null,null,"",0,0,0,{"$f":"IF(F9659=\"\",0,IF(isNccValid(F9659),0,1))","v":0}]
[null,null,null,null,null,null,null,null,null,null,null,null,null,null,null,"",0,0,0,{"$f":"IF(F9669=\"\",0,IF(isNccValid(F9669),0,1))","v":0}]
[null,null,null,null,null,null,null,null,null,null,null,null,null,null,null,"",0,0,0,{"$f":"IF(F9676=\"\",0,IF(isNccValid(F9676),0,1))","v":0}]
[null,null,null,null,null,null,null,null,null,null,null,null,null,null,null,"",0,0,0,{"$f":"IF(F9693=\"\",0,IF(isNccValid(F9693),0,1))","v":0}]
[null,null,null,null,null,null,null,null,null,null,null,null,null,null,null,"",0,0,0,{"$f":"IF(F9703=\"\",0,IF(isNccValid(F9703),0,1))","v":0}]
[null,null,null,null,null,null,null,null,null,null,null,null,null,null,null,"",0,0,0,{"$f":"IF(F9709=\"\",0,IF(isNccValid(F9709),0,1))","v":0}]
[null,null,null,null,null,null,null,null,null,null,null,null,null,null,null,"",0,0,0,{"$f":"IF(F9729=\"\",0,IF(isNccValid(F9729),0,1))","v":0}]
[null,null,null,null,null,null,null,null,null,null,null,null,null,null,null,"",0,0,0,{"$f":"IF(F9737=\"\",0,IF(isNccValid(F9737),0,1))","v":0}]
[null,null,null,null,null,null,null,null,null,null,null,null,null,null,null,"",0,0,0,{"$f":"IF(F9743=\"\",0,IF(isNccValid(F9743),0,1))","v":0}]
[null,null,null,null,null,null,null,null,null,null,null,null,null,null,null,"",0,0,0,{"$f":"IF(F9753=\"\",0,IF(isNccValid(F9753),0,1))","v":0}]
[null,null,null,null,null,null,null,null,null,null,null,null,null,null,null,"",0,0,0,{"$f":"IF(F9766=\"\",0,IF(isNccValid(F9766),0,1))","v":0}]
[null,null,null,null,null,null,null,null,null,null,null,null,null,null,null,"",0,0,0,{"$f":"IF(F9777=\"\",0,IF(isNccValid(F9777),0,1))","v":0}]
[null,null,null,null,null,null,null,null,null,null,null,null,null,null,null,"",0,0,0,{"$f":"IF(F9787=\"\",0,IF(isNccValid(F9787),0,1))","v":0}]
[null,null,null,null,null,null,null,null,null,null,null,null,null,null,null,"",0,0,0,{"$f":"IF(F9804=\"\",0,IF(isNccValid(F9804),0,1))","v":0}]
[null,null,null,null,null,null,null,null,null,null,null,null,null,null,null,"",0,0,0,{"$f":"IF(F9819=\"\",0,IF(isNccValid(F9819),0,1))","v":0}]
[null,null,null,null,null,null,null,null,null,null,null,null,null,null,null,"",0,0,0,{"$f":"IF(F9821=\"\",0,IF(isNccValid(F9821),0,1))","v":0}]
[null,null,null,null,null,null,null,null,null,null,null,null,null,null,null,"",0,0,0,{"$f":"IF(F9838=\"\",0,IF(isNccValid(F9838),0,1))","v":0}]
[null,null,null,null,null,null,null,null,null,null,null,null,null,null,null,"",0,0,0,{"$f":"IF(F9848=\"\",0,IF(isNccValid(F9848),0,1))","v":0}]
[null,null,null,null,null,null,null,null,null,null,null,null,null,null,null,"",0,0,0,{"$f":"IF(F9856=\"\",0,IF(isNccValid(F9856),0,1))","v":0}]
[null,null,null,null,null,null,null,null,null,null,null,null,null,null,null,"",0,0,0,{"$f":"IF(F9872=\"\",0,IF(isNccValid(F9872),0,1))","v":0}]
[null,null,null,null,null,null,null,null,null,null,null,null,null,null,null,"",0,0,0,{"$f":"IF(F9882=\"\",0,IF(isNccValid(F9882),0,1))","v":0}]
[null,null,null,null,null,null,null,null,null,null,null,null,null,null,null,"",0,0,0,{"$f":"IF(F9888=\"\",0,IF(isNccValid(F9888),0,1))","v":0}]
[null,null,null,null,null,null,null,null,null,null,null,null,null,null,null,"",0,0,0,{"$f":"IF(F9909=\"\",0,IF(isNccValid(F9909),0,1))","v":0}]
[null,null,null,null,null,null,null,null,null,null,null,null,null,null,null,"",0,0,0,{"$f":"IF(F9916=\"\",0,IF(isNccValid(F9916),0,1))","v":0}]
[null,null,null,null,null,null,null,null,null,null,null,null,null,null,null,"",0,0,0,{"$f":"IF(F9922=\"\",0,IF(isNccValid(F9922),0,1))","v":0}]
[null,null,null,null,null,null,null,null,null,null,null,null,null,null,null,"",0,0,0,{"$f":"IF(F9932=\"\",0,IF(isNccValid(F9932),0,1))","v":0}]
[null,null,null,null,null,null,null,null,null,null,null,null,null,null,null,"",0,0,0,{"$f":"IF(F9946=\"\",0,IF(isNccValid(F9946),0,1))","v":0}]
[null,null,null,null,null,null,null,null,null,null,null,null,null,null,null,"",0,0,0,{"$f":"IF(F9960=\"\",0,IF(isNccValid(F9960),0,1))","v":0}]
[null,null,null,null,null,null,null,null,null,null,null,null,null,null,null,"",0,0,0,{"$f":"IF(F9966=\"\",0,IF(isNccValid(F9966),0,1))","v":0}]
[null,null,null,null,null,null,null,null,null,null,null,null,null,null,null,"",0,0,0,{"$f":"IF(F9983=\"\",0,IF(isNccValid(F9983),0,1))","v":0}]
[null,null,null,null,null,null,null,null,null,null,null,null,null,null,null,"",0,0,0,{"$f":"IF(F9999=\"\",0,IF(isNccValid(F9999),0,1))","v":0}]
[null,null,null,null,null,null,null,null,null,null,null,null,null,null,null,"",0,0,0,{"$f":"IF(F10000=\"\",0,IF(isNccValid(F10000),0,1))","v":0}]
[null,null,null,null,null,null,null,null,null,null,null,null,null,null,null,"",0,0,0,{"$f":"IF(F10017=\"\",0,IF(isNccValid(F10017),0,1))","v":0}]
[null,null,null,null,null,null,null,null,null,null,null,null,null,null,null,"",0,0,0,{"$f":"IF(F10027=\"\",0,IF(isNccValid(F10027),0,1))","v":0}]
[null,null,null,null,null,null,null,null,null,null,null,null,null,null,null,"",0,0,0,{"$f":"IF(F10036=\"\",0,IF(isNccValid(F10036),0,1))","v":0}]
[null,null,null,null,null,null,null,null,null,null,null,null,null,null,null,"",0,0,0,{"$f":"IF(F10055=\"\",0,IF(isNccValid(F10055),0,1))","v":0}]
[null,null,null,null,null,null,null,null,null,null,null,null,null,null,null,"",0,0,0,{"$f":"IF(F10061=\"\",0,IF(isNccValid(F10061),0,1))","v":0}]
[null,null,null,null,null,null,null,null,null,null,null,null,null,null,null,"",{"$f":"IF(AND(B10067=\"\",R10067=1),1,IF(AND(D10067=\"\",R10067=1),1,IF(AND(E10067=\"\",R10067=1),1,IF(AND(F10067=\"\",R10067=1),1,IF(AND(M10067=\"\",R10067=1),1,IF(AND(O10067=\"\",R10067=1),1,0))))))","v":0},{"$f":"IF(C10067=\"\",0,IF(COUNTA(B10067:O10067)>0,1,0))","v":0},{"$f":"IFERROR(IF(LEN(F10067)=8,0,IF(LEN(F10067)=0,0,1)),1)","v":0},{"$f":"IF(F10067=\"\",0,IF(isNccValid(F10067),0,1))","v":0}]
[null,null,null,null,null,null,null,null,null,null,null,null,null,null,null,"",0,0,0,{"$f":"IF(F10089=\"\",0,IF(isNccValid(F10089),0,1))","v":0}]
[null,null,null,null,null,null,null,null,null,null,null,null,null,null,null,"",0,0,0,{"$f":"IF(F10095=\"\",0,IF(isNccValid(F10095),0,1))","v":0}]
[null,null,null,null,null,null,null,null,null,null,null,null,null,null,null,"",0,0,0,{"$f":"IF(F10105=\"\",0,IF(isNccValid(F10105),0,1))","v":0}]
[null,null,null,null,null,null,null,null,null,null,null,null,null,null,null,"",0,0,0,{"$f":"IF(F10122=\"\",0,IF(isNccValid(F10122),0,1))","v":0}]
[null,null,null,null,null,null,null,null,null,null,null,null,null,null,null,"",0,0,0,{"$f":"IF(F10126=\"\",0,IF(isNccValid(F10126),0,1))","v":0}]
[null,null,null,null,null,null,null,null,null,null,null,null,null,null,null,"",0,0,0,{"$f":"IF(F10139=\"\",0,IF(isNccValid(F10139),0,1))","v":0}]
[null,null,null,null,null,null,null,null,null,null,null,null,null,null,null,"",0,0,0,{"$f":"IF(F10156=\"\",0,IF(isNccValid(F10156),0,1))","v":0}]
[null,null,null,null,null,null,null,null,null,null,null,null,null,null,null,"",0,0,0,{"$f":"IF(F10162=\"\",0,IF(isNccValid(F10162),0,1))","v":0}]
[null,null,null,null,null,null,null,null,null,null,null,null,null,null,null,"",0,0,0,{"$f":"IF(F10179=\"\",0,IF(isNccValid(F10179),0,1))","v":0}]
[null,null,null,null,null,null,null,null,null,null,null,null,null,null,null,"",0,0,0,{"$f":"IF(F10190=\"\",0,IF(isNccValid(F10190),0,1))","v":0}]
[null,null,null,null,null,null,null,null,null,null,null,null,null,null,null,"",0,0,0,{"$f":"IF(F10200=\"\",0,IF(isNccValid(F10200),0,1))","v":0}]
[null,null,null,null,null,null,null,null,null,null,null,null,null,null,null,"",0,0,0,{"$f":"IF(F10206=\"\",0,IF(isNccValid(F10206),0,1))","v":0}]
[null,null,null,null,null,null,null,null,null,null,null,null,null,null,null,"",0,0,0,{"$f":"IF(F10216=\"\",0,IF(isNccValid(F10216),0,1))","v":0}]
[null,null,null,null,null,null,null,null,null,null,null,null,null,null,null,"",0,0,0,{"$f":"IF(F10234=\"\",0,IF(isNccValid(F10234),0,1))","v":0}]
[null,null,null,null,null,null,null,null,null,null,null,null,null,null,null,"",0,0,0,{"$f":"IF(F10240=\"\",0,IF(isNccValid(F10240),0,1))","v":0}]
[null,null,null,null,null,null,null,null,null,null,null,null,null,null,null,"",0,0,0,{"$f":"IF(F10257=\"\",0,IF(isNccValid(F10257),0,1))","v":0}]
[null,null,null,null,null,null,null,null,null,null,null,null,null,null,null,"",0,0,0,{"$f":"IF(F10269=\"\",0,IF(isNccValid(F10269),0,1))","v":0}]
[null,null,null,null,null,null,null,null,null,null,null,null,null,null,null,"",0,0,0,{"$f":"IF(F10274=\"\",0,IF(isNccValid(F10274),0,1))","v":0}]
[null,null,null,null,null,null,null,null,null,null,null,null,null,null,null,"",0,0,0,{"$f":"IF(F10284=\"\",0,IF(isNccValid(F10284),0,1))","v":0}]
[null,null,null,null,null,null,null,null,null,null,null,null,null,null,null,"",0,0,0,{"$f":"IF(F10301=\"\",0,IF(isNccValid(F10301),0,1))","v":0}]
[null,null,null,null,null,null,null,null,null,null,null,null,null,null,null,"",0,0,0,{"$f":"IF(F10306=\"\",0,IF(isNccValid(F10306),0,1))","v":0}]
[null,null,null,null,null,null,null,null,null,null,null,null,null,null,null,"",0,0,0,{"$f":"IF(F10318=\"\",0,IF(isNccValid(F10318),0,1))","v":0}]
[null,null,null,null,null,null,null,null,null,null,null,null,null,null,null,"",0,0,0,{"$f":"IF(F10335=\"\",0,IF(isNccValid(F10335),0,1))","v":0}]
[null,null,null,null,null,null,null,null,null,null,null,null,null,null,null,"",0,0,0,{"$f":"IF(F10345=\"\",0,IF(isNccValid(F10345),0,1))","v":0}]
[null,null,null,null,null,null,null,null,null,null,null,null,null,null,null,"",0,0,0,{"$f":"IF(F10359=\"\",0,IF(isNccValid(F10359),0,1))","v":0}]
[null,null,null,null,null,null,null,null,null,null,null,null,null,null,null,"",0,0,0,{"$f":"IF(F10369=\"\",0,IF(isNccValid(F10369),0,1))","v":0}]
[null,null,null,null,null,null,null,null,null,null,null,null,null,null,null,"",0,0,0,{"$f":"IF(F10379=\"\",0,IF(isNccValid(F10379),0,1))","v":0}]
[null,null,null,null,null,null,null,null,null,null,null,null,null,null,null,"",0,0,0,{"$f":"IF(F10385=\"\",0,IF(isNccValid(F10385),0,1))","v":0}]
[null,null,null,null,null,null,null,null,null,null,null,null,null,null,null,"",0,0,0,{"$f":"IF(F10396=\"\",0,IF(isNccValid(F10396),0,1))","v":0}]
[null,null,null,null,null,null,null,null,null,null,null,null,null,null,null,"",0,0,0,{"$f":"IF(F10413=\"\",0,IF(isNccValid(F10413),0,1))","v":0}]
[null,null,null,null,null,null,null,null,null,null,null,null,null,null,null,"",0,0,0,{"$f":"IF(F10419=\"\",0,IF(isNccValid(F10419),0,1))","v":0}]
[null,null,null,null,null,null,null,null,null,null,null,null,null,null,null,"",0,0,0,{"$f":"IF(F10429=\"\",0,IF(isNccValid(F10429),0,1))","v":0}]
[null,null,null,null,null,null,null,null,null,null,null,null,null,null,null,"",0,0,0,{"$f":"IF(F10449=\"\",0,IF(isNccValid(F10449),0,1))","v":0}]
[null,null,null,null,null,null,null,null,null,null,null,null,null,null,null,"",0,0,0,{"$f":"IF(F10453=\"\",0,IF(isNccValid(F10453),0,1))","v":0}]
[null,null,null,null,null,null,null,null,null,null,null,null,null,null,null,"",0,0,0,{"$f":"IF(F10463=\"\",0,IF(isNccValid(F10463),0,1))","v":0}]
[null,null,null,null,null,null,null,null,null,null,null,null,null,null,null,"",0,0,0,{"$f":"IF(F10480=\"\",0,IF(isNccValid(F10480),0,1))","v":0}]
[null,null,null,null,null,null,null,null,null,null,null,null,null,null,null,"",0,0,0,{"$f":"IF(F10490=\"\",0,IF(isNccValid(F10490),0,1))","v":0}]
[null,null,null,null,null,null,null,null,null,null,null,null,null,null,null,"",0,0,0,{"$f":"IF(F10497=\"\",0,IF(isNccValid(F10497),0,1))","v":0}]
[null,null,null,null,null,null,null,null,null,null,null,null,null,null,null,"",0,0,0,{"$f":"IF(F10514=\"\",0,IF(isNccValid(F10514),0,1))","v":0}]
[null,null,null,null,null,null,null,null,null,null,null,null,null,null,null,"",0,0,0,{"$f":"IF(F10524=\"\",0,IF(isNccValid(F10524),0,1))","v":0}]
[null,null,null,null,null,null,null,null,null,null,null,null,null,null,null,"",0,0,0,{"$f":"IF(F10539=\"\",0,IF(isNccValid(F10539),0,1))","v":0}]
[null,null,null,null,null,null,null,null,null,null,null,null,null,null,null,"",0,0,0,{"$f":"IF(F10548=\"\",0,IF(isNccValid(F10548),0,1))","v":0}]
[null,null,null,null,null,null,null,null,null,null,null,null,null,null,null,"",0,0,0,{"$f":"IF(F10558=\"\",0,IF(isNccValid(F10558),0,1))","v":0}]
[null,null,null,null,null,null,null,null,null,null,null,null,null,null,null,"",0,0,0,{"$f":"IF(F10564=\"\",0,IF(isNccValid(F10564),0,1))","v":0}]
[null,null,null,null,null,null,null,null,null,null,null,null,null,null,null,"",0,0,0,{"$f":"IF(F10580=\"\",0,IF(isNccValid(F10580),0,1))","v":0}]
[null,null,null,null,null,null,null,null,null,null,null,null,null,null,null,"",0,0,0,{"$f":"IF(F10592=\"\",0,IF(isNccValid(F10592),0,1))","v":0}]
[null,null,null,null,null,null,null,null,null,null,null,null,null,null,null,"",0,0,0,{"$f":"IF(F10598=\"\",0,IF(isNccValid(F10598),0,1))","v":0}]
[null,null,null,null,null,null,null,null,null,null,null,null,null,null,null,"",0,0,0,{"$f":"IF(F10608=\"\",0,IF(isNccValid(F10608),0,1))","v":0}]
[null,null,null,null,null,null,null,null,null,null,null,null,null,null,null,"",0,0,0,{"$f":"IF(F10629=\"\",0,IF(isNccValid(F10629),0,1))","v":0}]
[null,null,null,null,null,null,null,null,null,null,null,null,null,null,null,"",0,0,0,{"$f":"IF(F10632=\"\",0,IF(isNccValid(F10632),0,1))","v":0}]
[null,null,null,null,null,null,null,null,null,null,null,null,null,null,null,"",0,0,0,{"$f":"IF(F10642=\"\",0,IF(isNccValid(F10642),0,1))","v":0}]
[null,null,null,null,null,null,null,null,null,null,null,null,null,null,null,"",0,0,0,{"$f":"IF(F10659=\"\",0,IF(isNccValid(F10659),0,1))","v":0}]
[null,null,null,null,null,null,null,null,null,null,null,null,null,null,null,"",0,0,0,{"$f":"IF(F10670=\"\",0,IF(isNccValid(F10670),0,1))","v":0}]
[null,null,null,null,null,null,null,null,null,null,null,null,null,null,null,"",0,0,0,{"$f":"IF(F10676=\"\",0,IF(isNccValid(F10676),0,1))","v":0}]
[null,null,null,null,null,null,null,null,null,null,null,null,null,null,null,"",0,0,0,{"$f":"IF(F10693=\"\",0,IF(isNccValid(F10693),0,1))","v":0}]
[null,null,null,null,null,null,null,null,null,null,null,null,null,null,null,"",0,0,0,{"$f":"IF(F10703=\"\",0,IF(isNccValid(F10703),0,1))","v":0}]
[null,null,null,null,null,null,null,null,null,null,null,null,null,null,null,"",0,0,0,{"$f":"IF(F10719=\"\",0,IF(isNccValid(F10719),0,1))","v":0}]
[null,null,null,null,null,null,null,null,null,null,null,null,null,null,null,"",0,0,0,{"$f":"IF(F10720=\"\",0,IF(isNccValid(F10720),0,1))","v":0}]
[null,null,null,null,null,null,null,null,null,null,null,null,null,null,null,"",0,0,0,{"$f":"IF(F10737=\"\",0,IF(isNccValid(F10737),0,1))","v":0}]
[null,null,null,null,null,null,null,null,null,null,null,null,null,null,null,"",0,0,0,{"$f":"IF(F10743=\"\",0,IF(isNccValid(F10743),0,1))","v":0}]
[null,null,null,null,null,null,null,null,null,null,null,null,null,null,null,"",0,0,0,{"$f":"IF(F10760=\"\",0,IF(isNccValid(F10760),0,1))","v":0}]
[null,null,null,null,null,null,null,null,null,null,null,null,null,null,null,"",{"$f":"IF(AND(B10771=\"\",R10771=1),1,IF(AND(D10771=\"\",R10771=1),1,IF(AND(E10771=\"\",R10771=1),1,IF(AND(F10771=\"\",R10771=1),1,IF(AND(M10771=\"\",R10771=1),1,IF(AND(O10771=\"\",R10771=1),1,0))))))","v":0},{"$f":"IF(C10771=\"\",0,IF(COUNTA(B10771:O10771)>0,1,0))","v":0},{"$f":"IFERROR(IF(LEN(F10771)=8,0,IF(LEN(F10771)=0,0,1)),1)","v":0},{"$f":"IF(F10771=\"\",0,IF(isNccValid(F10771),0,1))","v":0}]
[null,null,null,null,null,null,null,null,null,null,null,null,null,null,null,"",0,0,0,{"$f":"IF(F10777=\"\",0,IF(isNccValid(F10777),0,1))","v":0}]
[null,null,null,null,null,null,null,null,null,null,null,null,null,null,null,"",0,0,0,{"$f":"IF(F10787=\"\",0,IF(isNccValid(F10787),0,1))","v":0}]
[null,null,null,null,null,null,null,null,null,null,null,null,null,null,null,"",0,0,0,{"$f":"IF(F10809=\"\",0,IF(isNccValid(F10809),0,1))","v":0}]
[null,null,null,null,null,null,null,null,null,null,null,null,null,null,null,"",0,0,0,{"$f":"IF(F10815=\"\",0,IF(isNccValid(F10815),0,1))","v":0}]
[null,null,null,null,null,null,null,null,null,null,null,null,null,null,null,"",0,0,0,{"$f":"IF(F10821=\"\",0,IF(isNccValid(F10821),0,1))","v":0}]
[null,null,null,null,null,null,null,null,null,null,null,null,null,null,null,{"$f":"IF(B10838=\"\",\"\",M10838*O10838)","v":""},0,0,0,{"$f":"IF(F10838=\"\",0,IF(isNccValid(F10838),0,1))","v":0}]
[null,null,null,null,null,null,null,null,null,null,null,null,null,null,null,"",0,0,0,{"$f":"IF(F10850=\"\",0,IF(isNccValid(F10850),0,1))","v":0}]
[null,null,null,null,null,null,null,null,null,null,null,null,null,null,null,"",0,0,0,{"$f":"IF(F10855=\"\",0,IF(isNccValid(F10855),0,1))","v":0}]
[null,null,null,null,null,null,null,null,null,null,null,null,null,null,null,"",0,0,0,{"$f":"IF(F10872=\"\",0,IF(isNccValid(F10872),0,1))","v":0}]
[null,null,null,null,null,null,null,null,null,null,null,null,null,null,null,"",0,0,0,{"$f":"IF(F10882=\"\",0,IF(isNccValid(F10882),0,1))","v":0}]
[null,null,null,null,null,null,null,null,null,null,null,null,null,null,null,"",{"$f":"IF(AND(B10899=\"\",R10899=1),1,IF(AND(D10899=\"\",R10899=1),1,IF(AND(E10899=\"\",R10899=1),1,IF(AND(F10899=\"\",R10899=1),1,IF(AND(M10899=\"\",R10899=1),1,IF(AND(O10899=\"\",R10899=1),1,0))))))","v":0},{"$f":"IF(C10899=\"\",0,IF(COUNTA(B10899:O10899)>0,1,0))","v":0},{"$f":"IFERROR(IF(LEN(F10899)=8,0,IF(LEN(F10899)=0,0,1)),1)","v":0},{"$f":"IF(F10899=\"\",0,IF(isNccValid(F10899),0,1))","v":0}]
[null,null,null,null,null,null,null,null,null,null,null,null,null,null,null,"",0,0,0,{"$f":"IF(F10910=\"\",0,IF(isNccValid(F10910),0,1))","v":0}]
[null,null,null,null,null,null,null,null,null,null,null,null,null,null,null,"",0,0,0,{"$f":"IF(F10916=\"\",0,IF(isNccValid(F10916),0,1))","v":0}]
[null,null,null,null,null,null,null,null,null,null,null,null,null,null,null,"",0,0,0,{"$f":"IF(F10922=\"\",0,IF(isNccValid(F10922),0,1))","v":0}]
[null,null,null,null,null,null,null,null,null,null,null,null,null,null,null,"",0,0,0,{"$f":"IF(F10940=\"\",0,IF(isNccValid(F10940),0,1))","v":0}]
[null,null,null,null,null,null,null,null,null,null,null,null,null,null,null,"",0,0,0,{"$f":"IF(F10950=\"\",0,IF(isNccValid(F10950),0,1))","v":0}]
[null,null,null,null,null,null,null,null,null,null,null,null,null,null,null,"",0,0,0,{"$f":"IF(F10960=\"\",0,IF(isNccValid(F10960),0,1))","v":0}]
[null,null,null,null,null,null,null,null,null,null,null,null,null,null,null,"",0,0,0,{"$f":"IF(F10977=\"\",0,IF(isNccValid(F10977),0,1))","v":0}]
[null,null,null,null,null,null,null,null,null,null,null,null,null,null,null,"",0,0,0,{"$f":"IF(F10989=\"\",0,IF(isNccValid(F10989),0,1))","v":0}]
[null,null,null,null,null,null,null,null,null,null,null,null,null,null,null,"",0,0,0,{"$f":"IF(F10994=\"\",0,IF(isNccValid(F10994),0,1))","v":0}]
[null,null,null,null,null,null,null,null,null,null,null,null,null,null,null,"",0,0,0,{"$f":"IF(F11011=\"\",0,IF(isNccValid(F11011),0,1))","v":0}]
[null,null,null,null,null,null,null,null,null,null,null,null,null,null,null,"",0,0,0,{"$f":"IF(F11017=\"\",0,IF(isNccValid(F11017),0,1))","v":0}]
[null,null,null,null,null,null,null,null,null,null,null,null,null,null,null,{"$f":"IF(B11030=\"\",\"\",M11030*O11030)","v":""},0,0,0,{"$f":"IF(F11030=\"\",0,IF(isNccValid(F11030),0,1))","v":0}]
[null,null,null,null,null,null,null,null,null,null,null,null,null,null,null,"",0,0,0,{"$f":"IF(F11045=\"\",0,IF(isNccValid(F11045),0,1))","v":0}]
[null,null,null,null,null,null,null,null,null,null,null,null,null,null,null,"",0,0,0,{"$f":"IF(F11055=\"\",0,IF(isNccValid(F11055),0,1))","v":0}]
[null,null,null,null,null,null,null,null,null,null,null,null,null,null,null,"",0,0,0,{"$f":"IF(F11061=\"\",0,IF(isNccValid(F11061),0,1))","v":0}]
[null,null,null,null,null,null,null,null,null,null,null,null,null,null,null,"",0,0,0,{"$f":"IF(F11079=\"\",0,IF(isNccValid(F11079),0,1))","v":0}]
[null,null,null,null,null,null,null,null,null,null,null,null,null,null,null,"",0,0,0,{"$f":"IF(F11089=\"\",0,IF(isNccValid(F11089),0,1))","v":0}]
[null,null,null,null,null,null,null,null,null,null,null,null,null,null,null,"",0,0,0,{"$f":"IF(F11095=\"\",0,IF(isNccValid(F11095),0,1))","v":0}]
[null,null,null,null,null,null,null,null,null,null,null,null,null,null,null,"",0,0,0,{"$f":"IF(F11105=\"\",0,IF(isNccValid(F11105),0,1))","v":0}]
[null,null,null,null,null,null,null,null,null,null,null,null,null,null,null,"",0,0,0,{"$f":"IF(F11120=\"\",0,IF(isNccValid(F11120),0,1))","v":0}]
[null,null,null,null,null,null,null,null,null,null,null,null,null,null,null,"",0,0,0,{"$f":"IF(F11129=\"\",0,IF(isNccValid(F11129),0,1))","v":0}]
[null,null,null,null,null,null,null,null,null,null,null,null,null,null,null,"",0,0,0,{"$f":"IF(F11139=\"\",0,IF(isNccValid(F11139),0,1))","v":0}]
[null,null,null,null,null,null,null,null,null,null,null,null,null,null,null,"",0,0,0,{"$f":"IF(F11156=\"\",0,IF(isNccValid(F11156),0,1))","v":0}]
[null,null,null,null,null,null,null,null,null,null,null,null,null,null,null,"",0,0,0,{"$f":"IF(F11169=\"\",0,IF(isNccValid(F11169),0,1))","v":0}]
[null,null,null,null,null,null,null,null,null,null,null,null,null,null,null,"",0,0,0,{"$f":"IF(F11173=\"\",0,IF(isNccValid(F11173),0,1))","v":0}]
[null,null,null,null,null,null,null,null,null,null,null,null,null,null,null,"",0,0,0,{"$f":"IF(F11190=\"\",0,IF(isNccValid(F11190),0,1))","v":0}]
[null,null,null,null,null,null,null,null,null,null,null,null,null,null,null,"",0,0,0,{"$f":"IF(F11200=\"\",0,IF(isNccValid(F11200),0,1))","v":0}]
[null,null,null,null,null,null,null,null,null,null,null,null,null,null,null,"",0,0,0,{"$f":"IF(F11210=\"\",0,IF(isNccValid(F11210),0,1))","v":0}]
[null,null,null,null,null,null,null,null,null,null,null,null,null,null,null,"",0,0,0,{"$f":"IF(F11224=\"\",0,IF(isNccValid(F11224),0,1))","v":0}]
[null,null,null,null,null,null,null,null,null,null,null,null,null,null,null,"",0,0,0,{"$f":"IF(F11234=\"\",0,IF(isNccValid(F11234),0,1))","v":0}]
[null,null,null,null,null,null,null,null,null,null,null,null,null,null,null,"",0,0,0,{"$f":"IF(F11240=\"\",0,IF(isNccValid(F11240),0,1))","v":0}]
[null,null,null,null,null,null,null,null,null,null,null,null,null,null,null,"",0,0,0,{"$f":"IF(F11259=\"\",0,IF(isNccValid(F11259),0,1))","v":0}]
[null,null,null,null,null,null,null,null,null,null,null,null,null,null,null,"",0,0,0,{"$f":"IF(F11268=\"\",0,IF(isNccValid(F11268),0,1))","v":0}]
[null,null,null,null,null,null,null,null,null,null,null,null,null,null,null,"",0,0,0,{"$f":"IF(F11274=\"\",0,IF(isNccValid(F11274),0,1))","v":0}]
[null,null,null,null,null,null,null,null,null,null,null,null,null,null,null,"",0,0,0,{"$f":"IF(F11284=\"\",0,IF(isNccValid(F11284),0,1))","v":0}]
[null,null,null,null,null,null,null,null,null,null,null,null,null,null,null,"",0,0,0,{"$f":"IF(F11300=\"\",0,IF(isNccValid(F11300),0,1))","v":0}]
[null,null,null,null,null,null,null,null,null,null,null,null,null,null,null,"",0,0,0,{"$f":"IF(F11308=\"\",0,IF(isNccValid(F11308),0,1))","v":0}]
[null,null,null,null,null,null,null,null,null,null,null,null,null,null,null,"",0,0,0,{"$f":"IF(F11318=\"\",0,IF(isNccValid(F11318),0,1))","v":0}]
[null,null,null,null,null,null,null,null,null,null,null,null,null,null,null,"",0,0,0,{"$f":"IF(F11335=\"\",0,IF(isNccValid(F11335),0,1))","v":0}]
[null,null,null,null,null,null,null,null,null,null,null,null,null,null,null,"",0,0,0,{"$f":"IF(F11341=\"\",0,IF(isNccValid(F11341),0,1))","v":0}]
[null,null,null,null,null,null,null,null,null,null,null,null,null,null,null,"",0,0,0,{"$f":"IF(F11352=\"\",0,IF(isNccValid(F11352),0,1))","v":0}]
[null,null,null,null,null,null,null,null,null,null,null,null,null,null,null,"",0,0,0,{"$f":"IF(F11369=\"\",0,IF(isNccValid(F11369),0,1))","v":0}]
[null,null,null,null,null,null,null,null,null,null,null,null,null,null,null,"",0,0,0,{"$f":"IF(F11379=\"\",0,IF(isNccValid(F11379),0,1))","v":0}]
[null,null,null,null,null,null,null,null,null,null,null,null,null,null,null,"",0,0,0,{"$f":"IF(F11390=\"\",0,IF(isNccValid(F11390),0,1))","v":0}]
[null,null,null,null,null,null,null,null,null,null,null,null,null,null,null,"",0,0,0,{"$f":"IF(F11403=\"\",0,IF(isNccValid(F11403),0,1))","v":0}]
[null,null,null,null,null,null,null,null,null,null,null,null,null,null,null,"",0,0,0,{"$f":"IF(F11413=\"\",0,IF(isNccValid(F11413),0,1))","v":0}]
[null,null,null,null,null,null,null,null,null,null,null,null,null,null,null,"",0,0,0,{"$f":"IF(F11419=\"\",0,IF(isNccValid(F11419),0,1))","v":0}]
[null,null,null,null,null,null,null,null,null,null,null,null,null,null,null,"",0,0,0,{"$f":"IF(F11431=\"\",0,IF(isNccValid(F11431),0,1))","v":0}]
[null,null,null,null,null,null,null,null,null,null,null,null,null,null,null,"",0,0,0,{"$f":"IF(F11447=\"\",0,IF(isNccValid(F11447),0,1))","v":0}]
[null,null,null,null,null,null,null,null,null,null,null,null,null,null,null,"",0,0,0,{"$f":"IF(F11453=\"\",0,IF(isNccValid(F11453),0,1))","v":0}]
[null,null,null,null,null,null,null,null,null,null,null,null,null,null,null,"",0,0,0,{"$f":"IF(F11463=\"\",0,IF(isNccValid(F11463),0,1))","v":0}]
[null,null,null,null,null,null,null,null,null,null,null,null,null,null,null,"",0,0,0,{"$f":"IF(F11480=\"\",0,IF(isNccValid(F11480),0,1))","v":0}]
[null,null,null,null,null,null,null,null,null,null,null,null,null,null,null,"",0,0,0,{"$f":"IF(F11487=\"\",0,IF(isNccValid(F11487),0,1))","v":0}]
[null,null,null,null,null,null,null,null,null,null,null,null,null,null,null,"",0,0,0,{"$f":"IF(F11497=\"\",0,IF(isNccValid(F11497),0,1))","v":0}]
[null,null,null,null,null,null,null,null,null,null,null,null,null,null,null,"",0,0,0,{"$f":"IF(F11514=\"\",0,IF(isNccValid(F11514),0,1))","v":0}]
[null,null,null,null,null,null,null,null,null,null,null,null,null,null,null,"",0,0,0,{"$f":"IF(F11521=\"\",0,IF(isNccValid(F11521),0,1))","v":0}]
[null,null,null,null,null,null,null,null,null,null,null,null,null,null,null,"",0,0,0,{"$f":"IF(F11531=\"\",0,IF(isNccValid(F11531),0,1))","v":0}]
[null,null,null,null,null,null,null,null,null,null,null,null,null,null,null,"",0,0,0,{"$f":"IF(F11548=\"\",0,IF(isNccValid(F11548),0,1))","v":0}]
[null,null,null,null,null,null,null,null,null,null,null,null,null,null,null,"",0,0,0,{"$f":"IF(F11558=\"\",0,IF(isNccValid(F11558),0,1))","v":0}]
[null,null,null,null,null,null,null,null,null,null,null,null,null,null,null,"",0,0,0,{"$f":"IF(F11570=\"\",0,IF(isNccValid(F11570),0,1))","v":0}]
[null,null,null,null,null,null,null,null,null,null,null,null,null,null,null,"",0,0,0,{"$f":"IF(F11575=\"\",0,IF(isNccValid(F11575),0,1))","v":0}]
[null,null,null,null,null,null,null,null,null,null,null,null,null,null,null,"",0,0,0,{"$f":"IF(F11592=\"\",0,IF(isNccValid(F11592),0,1))","v":0}]
[null,null,null,null,null,null,null,null,null,null,null,null,null,null,null,"",0,0,0,{"$f":"IF(F11598=\"\",0,IF(isNccValid(F11598),0,1))","v":0}]
[null,null,null,null,null,null,null,null,null,null,null,null,null,null,null,"",0,0,0,{"$f":"IF(F11611=\"\",0,IF(isNccValid(F11611),0,1))","v":0}]
[null,null,null,null,null,null,null,null,null,null,null,null,null,null,null,"",0,0,0,{"$f":"IF(F11626=\"\",0,IF(isNccValid(F11626),0,1))","v":0}]
[null,null,null,null,null,null,null,null,null,null,null,null,null,null,null,"",0,0,0,{"$f":"IF(F11632=\"\",0,IF(isNccValid(F11632),0,1))","v":0}]
[null,null,null,null,null,null,null,null,null,null,null,null,null,null,null,"",0,0,0,{"$f":"IF(F11642=\"\",0,IF(isNccValid(F11642),0,1))","v":0}]
[null,null,null,null,null,null,null,null,null,null,null,null,null,null,null,"",0,0,0,{"$f":"IF(F11660=\"\",0,IF(isNccValid(F11660),0,1))","v":0}]
[null,null,null,null,null,null,null,null,null,null,null,null,null,null,null,{"$f":"IF(B11670=\"\",\"\",M11670*O11670)","v":""},0,0,0,{"$f":"IF(F11670=\"\",0,IF(isNccValid(F11670),0,1))","v":0}]
[null,null,null,null,null,null,null,null,null,null,null,null,null,null,null,"",0,0,0,{"$f":"IF(F11676=\"\",0,IF(isNccValid(F11676),0,1))","v":0}]
[null,null,null,null,null,null,null,null,null,null,null,null,null,null,null,"",0,0,0,{"$f":"IF(F11693=\"\",0,IF(isNccValid(F11693),0,1))","v":0}]
[null,null,null,null,null,null,null,null,null,null,null,null,null,null,null,"",0,0,0,{"$f":"IF(F11701=\"\",0,IF(isNccValid(F11701),0,1))","v":0}]
[null,null,null,null,null,null,null,null,null,null,null,null,null,null,null,"",0,0,0,{"$f":"IF(F11710=\"\",0,IF(isNccValid(F11710),0,1))","v":0}]
[null,null,null,null,null,null,null,null,null,null,null,null,null,null,null,"",{"$f":"IF(AND(B11731=\"\",R11731=1),1,IF(AND(D11731=\"\",R11731=1),1,IF(AND(E11731=\"\",R11731=1),1,IF(AND(F11731=\"\",R11731=1),1,IF(AND(M11731=\"\",R11731=1),1,IF(AND(O11731=\"\",R11731=1),1,0))))))","v":0},{"$f":"IF(C11731=\"\",0,IF(COUNTA(B11731:O11731)>0,1,0))","v":0},{"$f":"IFERROR(IF(LEN(F11731)=8,0,IF(LEN(F11731)=0,0,1)),1)","v":0},{"$f":"IF(F11731=\"\",0,IF(isNccValid(F11731),0,1))","v":0}]
[null,null,null,null,null,null,null,null,null,null,null,null,null,null,null,"",0,0,0,{"$f":"IF(F11737=\"\",0,IF(isNccValid(F11737),0,1))","v":0}]
[null,null,null,null,null,null,null,null,null,null,null,null,null,null,null,"",0,0,0,{"$f":"IF(F11750=\"\",0,IF(isNccValid(F11750),0,1))","v":0}]
[null,null,null,null,null,null,null,null,null,null,null,null,null,null,null,"",0,0,0,{"$f":"IF(F11765=\"\",0,IF(isNccValid(F11765),0,1))","v":0}]
[null,null,null,null,null,null,null,null,null,null,null,null,null,null,null,"",0,0,0,{"$f":"IF(F11771=\"\",0,IF(isNccValid(F11771),0,1))","v":0}]
[null,null,null,null,null,null,null,null,null,null,null,null,null,null,null,"",0,0,0,{"$f":"IF(F11777=\"\",0,IF(isNccValid(F11777),0,1))","v":0}]
[null,null,null,null,null,null,null,null,null,null,null,null,null,null,null,"",0,0,0,{"$f":"IF(F11791=\"\",0,IF(isNccValid(F11791),0,1))","v":0}]
[null,null,null,null,null,null,null,null,null,null,null,null,null,null,null,"",0,0,0,{"$f":"IF(F11805=\"\",0,IF(isNccValid(F11805),0,1))","v":0}]
[null,null,null,null,null,null,null,null,null,null,null,null,null,null,null,"",0,0,0,{"$f":"IF(F11815=\"\",0,IF(isNccValid(F11815),0,1))","v":0}]
[null,null,null,null,null,null,null,null,null,null,null,null,null,null,null,"",0,0,0,{"$f":"IF(F11832=\"\",0,IF(isNccValid(F11832),0,1))","v":0}]
[null,null,null,null,null,null,null,null,null,null,null,null,null,null,null,"",0,0,0,{"$f":"IF(F11840=\"\",0,IF(isNccValid(F11840),0,1))","v":0}]
[null,null,null,null,null,null,null,null,null,null,null,null,null,null,null,"",0,0,0,{"$f":"IF(F11849=\"\",0,IF(isNccValid(F11849),0,1))","v":0}]
[null,null,null,null,null,null,null,null,null,null,null,null,null,null,null,"",0,0,0,{"$f":"IF(F11866=\"\",0,IF(isNccValid(F11866),0,1))","v":0}]
[null,null,null,null,null,null,null,null,null,null,null,null,null,null,null,"",0,0,0,{"$f":"IF(F11872=\"\",0,IF(isNccValid(F11872),0,1))","v":0}]
[null,null,null,null,null,null,null,null,null,null,null,null,null,null,null,"",0,0,0,{"$f":"IF(F11881=\"\",0,IF(isNccValid(F11881),0,1))","v":0}]
[null,null,null,null,null,null,null,null,null,null,null,null,null,null,null,"",0,0,0,{"$f":"IF(F11900=\"\",0,IF(isNccValid(F11900),0,1))","v":0}]
[null,null,null,null,null,null,null,null,null,null,null,null,null,null,null,"",0,0,0,{"$f":"IF(F11910=\"\",0,IF(isNccValid(F11910),0,1))","v":0}]
[null,null,null,null,null,null,null,null,null,null,null,null,null,null,null,"",0,0,0,{"$f":"IF(F11916=\"\",0,IF(isNccValid(F11916),0,1))","v":0}]
[null,null,null,null,null,null,null,null,null,null,null,null,null,null,null,"",0,0,0,{"$f":"IF(F11930=\"\",0,IF(isNccValid(F11930),0,1))","v":0}]
[null,null,null,null,null,null,null,null,null,null,null,null,null,null,null,"",0,0,0,{"$f":"IF(F11944=\"\",0,IF(isNccValid(F11944),0,1))","v":0}]
[null,null,null,null,null,null,null,null,null,null,null,null,null,null,null,"",0,0,0,{"$f":"IF(F11950=\"\",0,IF(isNccValid(F11950),0,1))","v":0}]
[null,null,null,null,null,null,null,null,null,null,null,null,null,null,null,"",0,0,0,{"$f":"IF(F11960=\"\",0,IF(isNccValid(F11960),0,1))","v":0}]
[null,null,null,null,null,null,null,null,null,null,null,null,null,null,null,"",0,0,0,{"$f":"IF(F11971=\"\",0,IF(isNccValid(F11971),0,1))","v":0}]
[null,null,null,null,null,null,null,null,null,null,null,null,null,null,null,"",0,0,0,{"$f":"IF(F11984=\"\",0,IF(isNccValid(F11984),0,1))","v":0}]
[null,null,null,null,null,null,null,null,null,null,null,null,null,null,null,"",0,0,0,{"$f":"IF(F11994=\"\",0,IF(isNccValid(F11994),0,1))","v":0}]
[null,null,null,null,null,null,null,null,null,null,null,null,null,null,null,"",0,0,0,{"$f":"IF(F12011=\"\",0,IF(isNccValid(F12011),0,1))","v":0}]
[null,null,null,null,null,null,null,null,null,null,null,null,null,null,null,"",0,0,0,{"$f":"IF(F12020=\"\",0,IF(isNccValid(F12020),0,1))","v":0}]
[null,null,null,null,null,null,null,null,null,null,null,null,null,null,null,"",0,0,0,{"$f":"IF(F12028=\"\",0,IF(isNccValid(F12028),0,1))","v":0}]
[null,null,null,null,null,null,null,null,null,null,null,null,null,null,null,"",0,0,0,{"$f":"IF(F12045=\"\",0,IF(isNccValid(F12045),0,1))","v":0}]
[null,null,null,null,null,null,null,null,null,null,null,null,null,null,null,"",0,0,0,{"$f":"IF(F12055=\"\",0,IF(isNccValid(F12055),0,1))","v":0}]
[null,null,null,null,null,null,null,null,null,null,null,null,null,null,null,"",0,0,0,{"$f":"IF(F12061=\"\",0,IF(isNccValid(F12061),0,1))","v":0}]
[null,null,null,null,null,null,null,null,null,null,null,null,null,null,null,"",0,0,0,{"$f":"IF(F12079=\"\",0,IF(isNccValid(F12079),0,1))","v":0}]
[null,null,null,null,null,null,null,null,null,null,null,null,null,null,null,"",0,0,0,{"$f":"IF(F12089=\"\",0,IF(isNccValid(F12089),0,1))","v":0}]
[null,null,null,null,null,null,null,null,null,null,null,null,null,null,null,"",0,0,0,{"$f":"IF(F12095=\"\",0,IF(isNccValid(F12095),0,1))","v":0}]
[null,null,null,null,null,null,null,null,null,null,null,null,null,null,null,"",0,0,0,{"$f":"IF(F12114=\"\",0,IF(isNccValid(F12114),0,1))","v":0}]
[null,null,null,null,null,null,null,null,null,null,null,null,null,null,null,"",0,0,0,{"$f":"IF(F12123=\"\",0,IF(isNccValid(F12123),0,1))","v":0}]
[null,null,null,null,null,null,null,null,null,null,null,null,null,null,null,"",0,0,0,{"$f":"IF(F12129=\"\",0,IF(isNccValid(F12129),0,1))","v":0}]
[null,null,null,null,null,null,null,null,null,null,null,null,null,null,null,"",0,0,0,{"$f":"IF(F12139=\"\",0,IF(isNccValid(F12139),0,1))","v":0}]
[null,null,null,null,null,null,null,null,null,null,null,null,null,null,null,"",0,0,0,{"$f":"IF(F12151=\"\",0,IF(isNccValid(F12151),0,1))","v":0}]
[null,null,null,null,null,null,null,null,null,null,null,null,null,null,null,"",0,0,0,{"$f":"IF(F12163=\"\",0,IF(isNccValid(F12163),0,1))","v":0}]
[null,null,null,null,null,null,null,null,null,null,null,null,null,null,null,"",0,0,0,{"$f":"IF(F12173=\"\",0,IF(isNccValid(F12173),0,1))","v":0}]
[null,null,null,null,null,null,null,null,null,null,null,null,null,null,null,"",0,0,0,{"$f":"IF(F12190=\"\",0,IF(isNccValid(F12190),0,1))","v":0}]
[null,null,null,null,null,null,null,null,null,null,null,null,null,null,null,"",0,0,0,{"$f":"IF(F12204=\"\",0,IF(isNccValid(F12204),0,1))","v":0}]
[null,null,null,null,null,null,null,null,null,null,null,null,null,null,null,"",0,0,0,{"$f":"IF(F12207=\"\",0,IF(isNccValid(F12207),0,1))","v":0}]
[null,null,null,null,null,null,null,null,null,null,null,null,null,null,null,"",0,0,0,{"$f":"IF(F12224=\"\",0,IF(isNccValid(F12224),0,1))","v":0}]
[null,null,null,null,null,null,null,null,null,null,null,null,null,null,null,"",0,0,0,{"$f":"IF(F12234=\"\",0,IF(isNccValid(F12234),0,1))","v":0}]
[null,null,null,null,null,null,null,null,null,null,null,null,null,null,null,"",0,0,0,{"$f":"IF(F12241=\"\",0,IF(isNccValid(F12241),0,1))","v":0}]
[null,null,null,null,null,null,null,null,null,null,null,null,null,null,null,"",0,0,0,{"$f":"IF(F12258=\"\",0,IF(isNccValid(F12258),0,1))","v":0}]
[null,null,null,null,null,null,null,null,null,null,null,null,null,null,null,"",0,0,0,{"$f":"IF(F12268=\"\",0,IF(isNccValid(F12268),0,1))","v":0}]
[null,null,null,null,null,null,null,null,null,null,null,null,null,null,null,"",0,0,0,{"$f":"IF(F12274=\"\",0,IF(isNccValid(F12274),0,1))","v":0}]
[null,null,null,null,null,null,null,null,null,null,null,null,null,null,null,"",0,0,0,{"$f":"IF(F12294=\"\",0,IF(isNccValid(F12294),0,1))","v":0}]
[null,null,null,null,null,null,null,null,null,null,null,null,null,null,null,"",0,0,0,{"$f":"IF(F12302=\"\",0,IF(isNccValid(F12302),0,1))","v":0}]
[null,null,null,null,null,null,null,null,null,null,null,null,null,null,null,"",0,0,0,{"$f":"IF(F12308=\"\",0,IF(isNccValid(F12308),0,1))","v":0}]
[null,null,null,null,null,null,null,null,null,null,null,null,null,null,null,"",0,0,0,{"$f":"IF(F12318=\"\",0,IF(isNccValid(F12318),0,1))","v":0}]
[null,null,null,null,null,null,null,null,null,null,null,null,null,null,null,"",0,0,0,{"$f":"IF(F12331=\"\",0,IF(isNccValid(F12331),0,1))","v":0}]
[null,null,null,null,null,null,null,null,null,null,null,null,null,null,null,"",0,0,0,{"$f":"IF(F12346=\"\",0,IF(isNccValid(F12346),0,1))","v":0}]
[null,null,null,null,null,null,null,null,null,null,null,null,null,null,null,"",0,0,0,{"$f":"IF(F12352=\"\",0,IF(isNccValid(F12352),0,1))","v":0}]
[null,null,null,null,null,null,null,null,null,null,null,null,null,null,null,"",0,0,0,{"$f":"IF(F12369=\"\",0,IF(isNccValid(F12369),0,1))","v":0}]
[null,null,null,null,null,null,null,null,null,null,null,null,null,null,null,"",0,0,0,{"$f":"IF(F12384=\"\",0,IF(isNccValid(F12384),0,1))","v":0}]
[null,null,null,null,null,null,null,null,null,null,null,null,null,null,null,"",0,0,0,{"$f":"IF(F12386=\"\",0,IF(isNccValid(F12386),0,1))","v":0}]
[null,null,null,null,null,null,null,null,null,null,null,null,null,null,null,"",0,0,0,{"$f":"IF(F12403=\"\",0,IF(isNccValid(F12403),0,1))","v":0}]
[null,null,null,null,null,null,null,null,null,null,null,null,null,null,null,"",0,0,0,{"$f":"IF(F12413=\"\",0,IF(isNccValid(F12413),0,1))","v":0}]
[null,null,null,null,null,null,null,null,null,null,null,null,null,null,null,"",0,0,0,{"$f":"IF(F12421=\"\",0,IF(isNccValid(F12421),0,1))","v":0}]
[null,null,null,null,null,null,null,null,null,null,null,null,null,null,null,"",0,0,0,{"$f":"IF(F12430=\"\",0,IF(isNccValid(F12430),0,1))","v":0}]
[null,null,null,null,null,null,null,null,null,null,null,null,null,null,null,"",0,0,0,{"$f":"IF(F12447=\"\",0,IF(isNccValid(F12447),0,1))","v":0}]
[null,null,null,null,null,null,null,null,null,null,null,null,null,null,null,"",0,0,0,{"$f":"IF(F12453=\"\",0,IF(isNccValid(F12453),0,1))","v":0}]
[null,null,null,null,null,null,null,null,null,null,null,null,null,null,null,"",0,0,0,{"$f":"IF(F12474=\"\",0,IF(isNccValid(F12474),0,1))","v":0}]
[null,null,null,null,null,null,null,null,null,null,null,null,null,null,null,"",0,0,0,{"$f":"IF(F12481=\"\",0,IF(isNccValid(F12481),0,1))","v":0}]
[null,null,null,null,null,null,null,null,null,null,null,null,null,null,null,"",0,0,0,{"$f":"IF(F12487=\"\",0,IF(isNccValid(F12487),0,1))","v":0}]
[null,null,null,null,null,null,null,null,null,null,null,null,null,null,null,"",0,0,0,{"$f":"IF(F12497=\"\",0,IF(isNccValid(F12497),0,1))","v":0}]
[null,null,null,null,null,null,null,null,null,null,null,null,null,null,null,"",0,0,0,{"$f":"IF(F12511=\"\",0,IF(isNccValid(F12511),0,1))","v":0}]
[null,null,null,null,null,null,null,null,null,null,null,null,null,null,null,"",0,0,0,{"$f":"IF(F12525=\"\",0,IF(isNccValid(F12525),0,1))","v":0}]
[null,null,null,null,null,null,null,null,null,null,null,null,null,null,null,"",0,0,0,{"$f":"IF(F12531=\"\",0,IF(isNccValid(F12531),0,1))","v":0}]
[null,null,null,null,null,null,null,null,null,null,null,null,null,null,null,"",0,0,0,{"$f":"IF(F12548=\"\",0,IF(isNccValid(F12548),0,1))","v":0}]
[null,null,null,null,null,null,null,null,null,null,null,null,null,null,null,"",0,0,0,{"$f":"IF(F12564=\"\",0,IF(isNccValid(F12564),0,1))","v":0}]
[null,null,null,null,null,null,null,null,null,null,null,null,null,null,null,"",0,0,0,{"$f":"IF(F12565=\"\",0,IF(isNccValid(F12565),0,1))","v":0}]
[null,null,null,null,null,null,null,null,null,null,null,null,null,null,null,"",0,0,0,{"$f":"IF(F12586=\"\",0,IF(isNccValid(F12586),0,1))","v":0}]
[null,null,null,null,null,null,null,null,null,null,null,null,null,null,null,"",0,0,0,{"$f":"IF(F12592=\"\",0,IF(isNccValid(F12592),0,1))","v":0}]
[null,null,null,null,null,null,null,null,null,null,null,null,null,null,null,"",0,0,0,{"$f":"IF(F12601=\"\",0,IF(isNccValid(F12601),0,1))","v":0}]
[null,null,null,null,null,null,null,null,null,null,null,null,null,null,null,"",0,0,0,{"$f":"IF(F12620=\"\",0,IF(isNccValid(F12620),0,1))","v":0}]
[null,null,null,null,null,null,null,null,null,null,null,null,null,null,null,"",0,0,0,{"$f":"IF(F12626=\"\",0,IF(isNccValid(F12626),0,1))","v":0}]
[null,null,null,null,null,null,null,null,null,null,null,null,null,null,null,"",0,0,0,{"$f":"IF(F12632=\"\",0,IF(isNccValid(F12632),0,1))","v":0}]
[null,null,null,null,null,null,null,null,null,null,null,null,null,null,null,"",0,0,0,{"$f":"IF(F12654=\"\",0,IF(isNccValid(F12654),0,1))","v":0}]
[null,null,null,null,null,null,null,null,null,null,null,null,null,null,null,"",0,0,0,{"$f":"IF(F12660=\"\",0,IF(isNccValid(F12660),0,1))","v":0}]
[null,null,null,null,null,null,null,null,null,null,null,null,null,null,null,"",0,0,0,{"$f":"IF(F12670=\"\",0,IF(isNccValid(F12670),0,1))","v":0}]
[null,null,null,null,null,null,null,null,null,null,null,null,null,null,null,"",0,0,0,{"$f":"IF(F12687=\"\",0,IF(isNccValid(F12687),0,1))","v":0}]
[null,null,null,null,null,null,null,null,null,null,null,null,null,null,null,"",{"$f":"IF(AND(B12691=\"\",R12691=1),1,IF(AND(D12691=\"\",R12691=1),1,IF(AND(E12691=\"\",R12691=1),1,IF(AND(F12691=\"\",R12691=1),1,IF(AND(M12691=\"\",R12691=1),1,IF(AND(O12691=\"\",R12691=1),1,0))))))","v":0},{"$f":"IF(C12691=\"\",0,IF(COUNTA(B12691:O12691)>0,1,0))","v":0},{"$f":"IFERROR(IF(LEN(F12691)=8,0,IF(LEN(F12691)=0,0,1)),1)","v":0},{"$f":"IF(F12691=\"\",0,IF(isNccValid(F12691),0,1))","v":0}]
[null,null,null,null,null,null,null,null,null,null,null,null,null,null,null,"",0,0,0,{"$f":"IF(F12704=\"\",0,IF(isNccValid(F12704),0,1))","v":0}]
[null,null,null,null,null,null,null,null,null,null,null,null,null,null,null,"",0,0,0,{"$f":"IF(F12721=\"\",0,IF(isNccValid(F12721),0,1))","v":0}]
[null,null,null,null,null,null,null,null,null,null,null,null,null,null,null,"",0,0,0,{"$f":"IF(F12731=\"\",0,IF(isNccValid(F12731),0,1))","v":0}]
[null,null,null,null,null,null,null,null,null,null,null,null,null,null,null,"",0,0,0,{"$f":"IF(F12744=\"\",0,IF(isNccValid(F12744),0,1))","v":0}]
[null,null,null,null,null,null,null,null,null,null,null,null,null,null,null,"",{"$f":"IF(AND(B12755=\"\",R12755=1),1,IF(AND(D12755=\"\",R12755=1),1,IF(AND(E12755=\"\",R12755=1),1,IF(AND(F12755=\"\",R12755=1),1,IF(AND(M12755=\"\",R12755=1),1,IF(AND(O12755=\"\",R12755=1),1,0))))))","v":0},{"$f":"IF(C12755=\"\",0,IF(COUNTA(B12755:O12755)>0,1,0))","v":0},{"$f":"IFERROR(IF(LEN(F12755)=8,0,IF(LEN(F12755)=0,0,1)),1)","v":0},{"$f":"IF(F12755=\"\",0,IF(isNccValid(F12755),0,1))","v":0}]
[null,null,null,null,null,null,null,null,null,null,null,null,null,null,null,"",0,0,0,{"$f":"IF(F12765=\"\",0,IF(isNccValid(F12765),0,1))","v":0}]
[null,null,null,null,null,null,null,null,null,null,null,null,null,null,null,"",0,0,0,{"$f":"IF(F12771=\"\",0,IF(isNccValid(F12771),0,1))","v":0}]
[null,null,null,null,null,null,null,null,null,null,null,null,null,null,null,"",0,0,0,{"$f":"IF(F12781=\"\",0,IF(isNccValid(F12781),0,1))","v":0}]
[null,null,null,null,null,null,null,null,null,null,null,null,null,null,null,"",0,0,0,{"$f":"IF(F12799=\"\",0,IF(isNccValid(F12799),0,1))","v":0}]
[null,null,null,null,null,null,null,null,null,null,null,null,null,null,null,"",0,0,0,{"$f":"IF(F12805=\"\",0,IF(isNccValid(F12805),0,1))","v":0}]
[null,null,null,null,null,null,null,null,null,null,null,null,null,null,null,"",0,0,0,{"$f":"IF(F12815=\"\",0,IF(isNccValid(F12815),0,1))","v":0}]
[null,null,null,null,null,null,null,null,null,null,null,null,null,null,null,"",0,0,0,{"$f":"IF(F12834=\"\",0,IF(isNccValid(F12834),0,1))","v":0}]
[null,null,null,null,null,null,null,null,null,null,null,null,null,null,null,"",0,0,0,{"$f":"IF(F12839=\"\",0,IF(isNccValid(F12839),0,1))","v":0}]
[null,null,null,null,null,null,null,null,null,null,null,null,null,null,null,"",0,0,0,{"$f":"IF(F12849=\"\",0,IF(isNccValid(F12849),0,1))","v":0}]
[null,null,null,null,null,null,null,null,null,null,null,null,null,null,null,"",0,0,0,{"$f":"IF(F12866=\"\",0,IF(isNccValid(F12866),0,1))","v":0}]
[null,null,null,null,null,null,null,null,null,null,null,null,null,null,null,"",0,0,0,{"$f":"IF(F12871=\"\",0,IF(isNccValid(F12871),0,1))","v":0}]
[null,null,null,null,null,null,null,null,null,null,null,null,null,null,null,"",{"$f":"IF(AND(B12883=\"\",R12883=1),1,IF(AND(D12883=\"\",R12883=1),1,IF(AND(E12883=\"\",R12883=1),1,IF(AND(F12883=\"\",R12883=1),1,IF(AND(M12883=\"\",R12883=1),1,IF(AND(O12883=\"\",R12883=1),1,0))))))","v":0},{"$f":"IF(C12883=\"\",0,IF(COUNTA(B12883:O12883)>0,1,0))","v":0},{"$f":"IFERROR(IF(LEN(F12883)=8,0,IF(LEN(F12883)=0,0,1)),1)","v":0},{"$f":"IF(F12883=\"\",0,IF(isNccValid(F12883),0,1))","v":0}]
[null,null,null,null,null,null,null,null,null,null,null,null,null,null,null,"",0,0,0,{"$f":"IF(F12900=\"\",0,IF(isNccValid(F12900),0,1))","v":0}]
[null,null,null,null,null,null,null,null,null,null,null,null,null,null,null,"",0,0,0,{"$f":"IF(F12910=\"\",0,IF(isNccValid(F12910),0,1))","v":0}]
[null,null,null,null,null,null,null,null,null,null,null,null,null,null,null,"",0,0,0,{"$f":"IF(F12924=\"\",0,IF(isNccValid(F12924),0,1))","v":0}]
[null,null,null,null,null,null,null,null,null,null,null,null,null,null,null,"",0,0,0,{"$f":"IF(F12934=\"\",0,IF(isNccValid(F12934),0,1))","v":0}]
[null,null,null,null,null,null,null,null,null,null,null,null,null,null,null,"",0,0,0,{"$f":"IF(F12944=\"\",0,IF(isNccValid(F12944),0,1))","v":0}]
[null,null,null,null,null,null,null,null,null,null,null,null,null,null,null,{"$f":"IF(B12950=\"\",\"\",M12950*O12950)","v":""},0,0,0,{"$f":"IF(F12950=\"\",0,IF(isNccValid(F12950),0,1))","v":0}]
[null,null,null,null,null,null,null,null,null,null,null,null,null,null,null,"",0,0,0,{"$f":"IF(F12965=\"\",0,IF(isNccValid(F12965),0,1))","v":0}]
[null,null,null,null,null,null,null,null,null,null,null,null,null,null,null,"",0,0,0,{"$f":"IF(F12978=\"\",0,IF(isNccValid(F12978),0,1))","v":0}]
[null,null,null,null,null,null,null,null,null,null,null,null,null,null,null,"",0,0,0,{"$f":"IF(F12984=\"\",0,IF(isNccValid(F12984),0,1))","v":0}]
[null,null,null,null,null,null,null,null,null,null,null,null,null,null,null,"",0,0,0,{"$f":"IF(F12994=\"\",0,IF(isNccValid(F12994),0,1))","v":0}]
[null,null,null,null,null,null,null,null,null,null,null,null,null,null,null,{"$f":"IF(B13014=\"\",\"\",M13014*O13014)","v":""},0,0,0,{"$f":"IF(F13014=\"\",0,IF(isNccValid(F13014),0,1))","v":0}]
[null,null,null,null,null,null,null,null,null,null,null,null,null,null,null,"",0,0,0,{"$f":"IF(F13018=\"\",0,IF(isNccValid(F13018),0,1))","v":0}]
[null,null,null,null,null,null,null,null,null,null,null,null,null,null,null,"",0,0,0,{"$f":"IF(F13028=\"\",0,IF(isNccValid(F13028),0,1))","v":0}]
[null,null,null,null,null,null,null,null,null,null,null,null,null,null,null,"",0,0,0,{"$f":"IF(F13045=\"\",0,IF(isNccValid(F13045),0,1))","v":0}]
[null,null,null,null,null,null,{"$f":"IF(OR(B13055=Referentiel!#REF!,B13055=Referentiel!#REF!),\"Choisir un pays\",\"\")","v":{"$error":"#REF!"}},null,null,null,null,null,null,null,null,"",0,0,0,{"$f":"IF(F13055=\"\",0,IF(isNccValid(F13055),0,1))","v":0}]
[null,null,null,null,null,null,{"$f":"IF(OR(B13062=Referentiel!#REF!,B13062=Referentiel!#REF!),\"Choisir un pays\",\"\")","v":{"$error":"#REF!"}},null,null,null,null,null,null,null,null,"",0,0,0,{"$f":"IF(F13062=\"\",0,IF(isNccValid(F13062),0,1))","v":0}]
[null,null,null,null,null,null,{"$f":"IF(OR(B13079=Referentiel!#REF!,B13079=Referentiel!#REF!),\"Choisir un pays\",\"\")","v":{"$error":"#REF!"}},null,null,null,null,null,null,null,null,"",0,0,0,{"$f":"IF(F13079=\"\",0,IF(isNccValid(F13079),0,1))","v":0}]
[null,null,null,null,null,null,null,null,null,null,null,null,null,null,null,"",0,0,0,{"$f":"IF(F13089=\"\",0,IF(isNccValid(F13089),0,1))","v":0}]
[null,null,null,null,null,null,null,null,null,null,null,null,null,null,null,"",0,0,0,{"$f":"IF(F13104=\"\",0,IF(isNccValid(F13104),0,1))","v":0}]
[null,null,null,null,null,null,null,null,null,null,null,null,null,null,null,"",0,0,0,{"$f":"IF(F13106=\"\",0,IF(isNccValid(F13106),0,1))","v":0}]
[null,null,null,null,null,null,null,null,null,null,null,null,null,null,null,"",0,0,0,{"$f":"IF(F13123=\"\",0,IF(isNccValid(F13123),0,1))","v":0}]
[null,null,null,null,null,null,null,null,null,null,null,null,null,null,null,"",0,0,0,{"$f":"IF(F13129=\"\",0,IF(isNccValid(F13129),0,1))","v":0}]
[null,null,null,null,null,null,null,null,null,null,null,null,null,null,null,"",0,0,0,{"$f":"IF(F13145=\"\",0,IF(isNccValid(F13145),0,1))","v":0}]
[null,null,null,null,null,null,null,null,null,null,null,null,null,null,null,"",0,0,0,{"$f":"IF(F13157=\"\",0,IF(isNccValid(F13157),0,1))","v":0}]
[null,null,null,null,null,null,null,null,null,null,null,null,null,null,null,"",0,0,0,{"$f":"IF(F13163=\"\",0,IF(isNccValid(F13163),0,1))","v":0}]
[null,null,null,null,null,null,null,null,null,null,null,null,null,null,null,"",0,0,0,{"$f":"IF(F13173=\"\",0,IF(isNccValid(F13173),0,1))","v":0}]
[null,null,null,null,null,null,null,null,null,null,null,null,null,null,null,"",0,0,0,{"$f":"IF(F13194=\"\",0,IF(isNccValid(F13194),0,1))","v":0}]
[null,null,null,null,null,null,null,null,null,null,null,null,null,null,null,"",0,0,0,{"$f":"IF(F13201=\"\",0,IF(isNccValid(F13201),0,1))","v":0}]
[null,null,null,null,null,null,null,null,null,null,null,null,null,null,null,"",0,0,0,{"$f":"IF(F13207=\"\",0,IF(isNccValid(F13207),0,1))","v":0}]
[null,null,null,null,null,null,null,null,null,null,null,null,null,null,null,"",0,0,0,{"$f":"IF(F13224=\"\",0,IF(isNccValid(F13224),0,1))","v":0}]
[null,null,null,null,null,null,null,null,null,null,null,null,null,null,null,"",0,0,0,{"$f":"IF(F13235=\"\",0,IF(isNccValid(F13235),0,1))","v":0}]
[null,null,null,null,null,null,null,null,null,null,null,null,null,null,null,"",0,0,0,{"$f":"IF(F13241=\"\",0,IF(isNccValid(F13241),0,1))","v":0}]
[null,null,null,null,null,null,null,null,null,null,null,null,null,null,null,"",0,0,0,{"$f":"IF(F13258=\"\",0,IF(isNccValid(F13258),0,1))","v":0}]
[null,null,null,null,null,null,null,null,null,null,null,null,null,null,null,"",0,0,0,{"$f":"IF(F13264=\"\",0,IF(isNccValid(F13264),0,1))","v":0}]
[null,null,null,null,null,null,null,null,null,null,null,null,null,null,null,"",0,0,0,{"$f":"IF(F13275=\"\",0,IF(isNccValid(F13275),0,1))","v":0}]
[null,null,null,null,null,null,null,null,null,null,null,null,null,null,null,"",0,0,0,{"$f":"IF(F13285=\"\",0,IF(isNccValid(F13285),0,1))","v":0}]
[null,null,null,null,null,null,null,null,null,null,null,null,null,null,null,"",0,0,0,{"$f":"IF(F13302=\"\",0,IF(isNccValid(F13302),0,1))","v":0}]
[null,null,null,null,null,null,null,null,null,null,null,null,null,null,null,"",0,0,0,{"$f":"IF(F13313=\"\",0,IF(isNccValid(F13313),0,1))","v":0}]
[null,null,null,null,null,null,null,null,null,null,null,null,null,null,null,"",0,0,0,{"$f":"IF(F13319=\"\",0,IF(isNccValid(F13319),0,1))","v":0}]
[null,null,null,null,null,null,null,null,null,null,null,null,null,null,null,"",0,0,0,{"$f":"IF(F13336=\"\",0,IF(isNccValid(F13336),0,1))","v":0}]
[null,null,null,null,null,null,null,null,null,null,null,null,null,null,null,"",0,0,0,{"$f":"IF(F13346=\"\",0,IF(isNccValid(F13346),0,1))","v":0}]
[null,null,null,null,null,null,null,null,null,null,null,null,null,null,null,"",0,0,0,{"$f":"IF(F13354=\"\",0,IF(isNccValid(F13354),0,1))","v":0}]
[null,null,null,null,null,null,null,null,null,null,null,null,null,null,null,"",0,0,0,{"$f":"IF(F13370=\"\",0,IF(isNccValid(F13370),0,1))","v":0}]
[null,null,null,null,null,null,null,null,null,null,null,null,null,null,null,"",0,0,0,{"$f":"IF(F13380=\"\",0,IF(isNccValid(F13380),0,1))","v":0}]
[null,null,null,null,null,null,null,null,null,null,null,null,null,null,null,"",0,0,0,{"$f":"IF(F13386=\"\",0,IF(isNccValid(F13386),0,1))","v":0}]
[null,null,null,null,null,null,null,null,null,null,null,null,null,null,null,"",0,0,0,{"$f":"IF(F13403=\"\",0,IF(isNccValid(F13403),0,1))","v":0}]
[null,null,null,null,null,null,null,null,null,null,null,null,null,null,null,"",0,0,0,{"$f":"IF(F13414=\"\",0,IF(isNccValid(F13414),0,1))","v":0}]
[null,null,null,null,null,null,null,null,null,null,null,null,null,null,null,"",0,0,0,{"$f":"IF(F13420=\"\",0,IF(isNccValid(F13420),0,1))","v":0}]
[null,null,null,null,null,null,null,null,null,null,null,null,null,null,null,"",0,0,0,{"$f":"IF(F13441=\"\",0,IF(isNccValid(F13441),0,1))","v":0}]
[null,null,null,null,null,null,null,null,null,null,null,null,null,null,null,"",0,0,0,{"$f":"IF(F13444=\"\",0,IF(isNccValid(F13444),0,1))","v":0}]
[null,null,null,null,null,null,null,null,null,null,null,null,null,null,null,"",0,0,0,{"$f":"IF(F13454=\"\",0,IF(isNccValid(F13454),0,1))","v":0}]
[null,null,null,null,null,null,null,null,null,null,null,null,null,null,null,"",0,0,0,{"$f":"IF(F13475=\"\",0,IF(isNccValid(F13475),0,1))","v":0}]
[null,null,null,null,null,null,null,null,null,null,null,null,null,null,null,"",0,0,0,{"$f":"IF(F13481=\"\",0,IF(isNccValid(F13481),0,1))","v":0}]
[null,null,null,null,null,null,null,null,null,null,null,null,null,null,null,"",0,0,0,{"$f":"IF(F13493=\"\",0,IF(isNccValid(F13493),0,1))","v":0}]
[null,null,null,null,null,null,null,null,null,null,null,null,null,null,null,"",0,0,0,{"$f":"IF(F13509=\"\",0,IF(isNccValid(F13509),0,1))","v":0}]
[null,null,null,null,null,null,null,null,null,null,null,null,null,null,null,"",0,0,0,{"$f":"IF(F13515=\"\",0,IF(isNccValid(F13515),0,1))","v":0}]
[null,null,null,null,null,null,null,null,null,null,null,null,null,null,null,"",0,0,0,{"$f":"IF(F13525=\"\",0,IF(isNccValid(F13525),0,1))","v":0}]
[null,null,null,null,null,null,null,null,null,null,null,null,null,null,null,"",0,0,0,{"$f":"IF(F13534=\"\",0,IF(isNccValid(F13534),0,1))","v":0}]
[null,null,null,null,null,null,null,null,null,null,null,null,null,null,null,"",0,0,0,{"$f":"IF(F13549=\"\",0,IF(isNccValid(F13549),0,1))","v":0}]
[null,null,null,null,null,null,null,null,null,null,null,null,null,null,null,"",0,0,0,{"$f":"IF(F13559=\"\",0,IF(isNccValid(F13559),0,1))","v":0}]
[null,null,null,null,null,null,null,null,null,null,null,null,null,null,null,"",0,0,0,{"$f":"IF(F13576=\"\",0,IF(isNccValid(F13576),0,1))","v":0}]
[null,null,null,null,null,null,null,null,null,null,null,null,null,null,null,"",0,0,0,{"$f":"IF(F13587=\"\",0,IF(isNccValid(F13587),0,1))","v":0}]
[null,null,null,null,null,null,null,null,null,null,null,null,null,null,null,"",0,0,0,{"$f":"IF(F13593=\"\",0,IF(isNccValid(F13593),0,1))","v":0}]
[null,null,null,null,null,null,null,null,null,null,null,null,null,null,null,"",0,0,0,{"$f":"IF(F13610=\"\",0,IF(isNccValid(F13610),0,1))","v":0}]
[null,null,null,null,null,null,null,null,null,null,null,null,null,null,null,"",0,0,0,{"$f":"IF(F13620=\"\",0,IF(isNccValid(F13620),0,1))","v":0}]
[null,null,null,null,null,null,null,null,null,null,null,null,null,null,null,"",0,0,0,{"$f":"IF(F13624=\"\",0,IF(isNccValid(F13624),0,1))","v":0}]
[null,null,null,null,null,null,null,null,null,null,null,null,null,null,null,"",{"$f":"IF(AND(B13644=\"\",R13644=1),1,IF(AND(D13644=\"\",R13644=1),1,IF(AND(E13644=\"\",R13644=1),1,IF(AND(F13644=\"\",R13644=1),1,IF(AND(M13644=\"\",R13644=1),1,IF(AND(O13644=\"\",R13644=1),1,0))))))","v":0},{"$f":"IF(C13644=\"\",0,IF(COUNTA(B13644:O13644)>0,1,0))","v":0},{"$f":"IFERROR(IF(LEN(F13644)=8,0,IF(LEN(F13644)=0,0,1)),1)","v":0},{"$f":"IF(F13644=\"\",0,IF(isNccValid(F13644),0,1))","v":0}]
[null,null,null,null,null,null,null,null,null,null,null,null,null,null,null,{"$f":"IF(B13654=\"\",\"\",M13654*O13654)","v":""},0,0,0,{"$f":"IF(F13654=\"\",0,IF(isNccValid(F13654),0,1))","v":0}]
[null,null,null,null,null,null,null,null,null,null,null,null,null,null,null,"",0,0,0,{"$f":"IF(F13660=\"\",0,IF(isNccValid(F13660),0,1))","v":0}]
[null,null,null,null,null,null,null,null,null,null,null,null,null,null,null,"",0,0,0,{"$f":"IF(F13677=\"\",0,IF(isNccValid(F13677),0,1))","v":0}]
[null,null,null,null,null,null,null,null,null,null,null,null,null,null,null,"",0,0,0,{"$f":"IF(F13688=\"\",0,IF(isNccValid(F13688),0,1))","v":0}]
[null,null,null,null,null,null,null,null,null,null,null,null,null,null,null,"",0,0,0,{"$f":"IF(F13694=\"\",0,IF(isNccValid(F13694),0,1))","v":0}]
[null,null,null,null,null,null,null,null,null,null,null,null,null,null,null,"",0,0,0,{"$f":"IF(F13704=\"\",0,IF(isNccValid(F13704),0,1))","v":0}]
[null,null,null,null,null,null,null,null,null,null,null,null,null,null,null,"",0,0,0,{"$f":"IF(F13714=\"\",0,IF(isNccValid(F13714),0,1))","v":0}]
[null,null,null,null,null,null,null,null,null,null,null,null,null,null,null,"",0,0,0,{"$f":"IF(F13732=\"\",0,IF(isNccValid(F13732),0,1))","v":0}]
[null,null,null,null,null,null,null,null,null,null,null,null,null,null,null,"",0,0,0,{"$f":"IF(F13738=\"\",0,IF(isNccValid(F13738),0,1))","v":0}]
[null,null,null,null,null,null,null,null,null,null,null,null,null,null,null,"",0,0,0,{"$f":"IF(F13755=\"\",0,IF(isNccValid(F13755),0,1))","v":0}]
[null,null,null,null,null,null,null,null,null,null,null,null,null,null,null,"",0,0,0,{"$f":"IF(F13767=\"\",0,IF(isNccValid(F13767),0,1))","v":0}]
[null,null,null,null,null,null,null,null,null,null,null,null,null,null,null,"",{"$f":"IF(AND(B13772=\"\",R13772=1),1,IF(AND(D13772=\"\",R13772=1),1,IF(AND(E13772=\"\",R13772=1),1,IF(AND(F13772=\"\",R13772=1),1,IF(AND(M13772=\"\",R13772=1),1,IF(AND(O13772=\"\",R13772=1),1,0))))))","v":0},{"$f":"IF(C13772=\"\",0,IF(COUNTA(B13772:O13772)>0,1,0))","v":0},{"$f":"IFERROR(IF(LEN(F13772)=8,0,IF(LEN(F13772)=0,0,1)),1)","v":0},{"$f":"IF(F13772=\"\",0,IF(isNccValid(F13772),0,1))","v":0}]
[null,null,null,null,null,null,null,null,null,null,null,null,null,null,null,"",0,0,0,{"$f":"IF(F13789=\"\",0,IF(isNccValid(F13789),0,1))","v":0}]
[null,null,null,null,null,null,null,null,null,null,null,null,null,null,null,"",0,0,0,{"$f":"IF(F13799=\"\",0,IF(isNccValid(F13799),0,1))","v":0}]
[null,null,null,null,null,null,null,null,null,null,null,null,null,null,null,"",0,0,0,{"$f":"IF(F13804=\"\",0,IF(isNccValid(F13804),0,1))","v":0}]
[null,null,null,null,null,null,null,null,null,null,null,null,null,null,null,"",0,0,0,{"$f":"IF(F13816=\"\",0,IF(isNccValid(F13816),0,1))","v":0}]
[null,null,null,null,null,null,null,null,null,null,null,null,null,null,null,"",0,0,0,{"$f":"IF(F13833=\"\",0,IF(isNccValid(F13833),0,1))","v":0}]
[null,null,null,null,null,null,null,null,null,null,null,null,null,null,null,"",0,0,0,{"$f":"IF(F13839=\"\",0,IF(isNccValid(F13839),0,1))","v":0}]
[null,null,null,null,null,null,null,null,null,null,null,null,null,null,null,"",0,0,0,{"$f":"IF(F13857=\"\",0,IF(isNccValid(F13857),0,1))","v":0}]
[null,null,null,null,null,null,null,null,null,null,null,null,null,null,null,"",0,0,0,{"$f":"IF(F13867=\"\",0,IF(isNccValid(F13867),0,1))","v":0}]
[null,null,null,null,null,null,null,null,null,null,null,null,null,null,null,"",0,0,0,{"$f":"IF(F13873=\"\",0,IF(isNccValid(F13873),0,1))","v":0}]
[null,null,null,null,null,null,null,null,null,null,null,null,null,null,null,"",0,0,0,{"$f":"IF(F13883=\"\",0,IF(isNccValid(F13883),0,1))","v":0}]
[null,null,null,null,null,null,null,null,null,null,null,null,null,null,null,"",0,0,0,{"$f":"IF(F13894=\"\",0,IF(isNccValid(F13894),0,1))","v":0}]
[null,null,null,null,null,null,null,null,null,null,null,null,null,null,null,"",0,0,0,{"$f":"IF(F13911=\"\",0,IF(isNccValid(F13911),0,1))","v":0}]
[null,null,null,null,null,null,null,null,null,null,null,null,null,null,null,"",0,0,0,{"$f":"IF(F13917=\"\",0,IF(isNccValid(F13917),0,1))","v":0}]
[null,null,null,null,null,null,null,null,null,null,null,null,null,null,null,"",0,0,0,{"$f":"IF(F13934=\"\",0,IF(isNccValid(F13934),0,1))","v":0}]
[null,null,null,null,null,null,null,null,null,null,null,null,null,null,null,"",0,0,0,{"$f":"IF(F13947=\"\",0,IF(isNccValid(F13947),0,1))","v":0}]
[null,null,null,null,null,null,null,null,null,null,null,null,null,null,null,"",0,0,0,{"$f":"IF(F13951=\"\",0,IF(isNccValid(F13951),0,1))","v":0}]
[null,null,null,null,null,null,null,null,null,null,null,null,null,null,null,"",0,0,0,{"$f":"IF(F13961=\"\",0,IF(isNccValid(F13961),0,1))","v":0}]
[null,null,null,null,null,null,null,null,null,null,null,null,null,null,null,"",0,0,0,{"$f":"IF(F13978=\"\",0,IF(isNccValid(F13978),0,1))","v":0}]
[null,null,null,null,null,null,null,null,null,null,null,null,null,null,null,"",0,0,0,{"$f":"IF(F13984=\"\",0,IF(isNccValid(F13984),0,1))","v":0}]
[null,null,null,null,null,null,null,null,null,null,null,null,null,null,null,"",0,0,0,{"$f":"IF(F13995=\"\",0,IF(isNccValid(F13995),0,1))","v":0}]
[null,null,null,null,null,null,null,null,null,null,null,null,null,null,null,"",0,0,0,{"$f":"IF(F14012=\"\",0,IF(isNccValid(F14012),0,1))","v":0}]
[null,null,null,null,null,null,null,null,null,null,null,null,null,null,null,"",0,0,0,{"$f":"IF(F14018=\"\",0,IF(isNccValid(F14018),0,1))","v":0}]
[null,null,null,null,null,null,null,null,null,null,null,null,null,null,null,"",0,0,0,{"$f":"IF(F14037=\"\",0,IF(isNccValid(F14037),0,1))","v":0}]
[null,null,null,null,null,null,null,null,null,null,null,null,null,null,null,"",0,0,0,{"$f":"IF(F14046=\"\",0,IF(isNccValid(F14046),0,1))","v":0}]
[null,null,null,null,null,null,null,null,null,null,null,null,null,null,null,"",0,0,0,{"$f":"IF(F14056=\"\",0,IF(isNccValid(F14056),0,1))","v":0}]
[null,null,null,null,null,null,null,null,null,null,null,null,null,null,null,"",0,0,0,{"$f":"IF(F14062=\"\",0,IF(isNccValid(F14062),0,1))","v":0}]
[null,null,null,null,null,null,null,null,null,null,null,null,null,null,null,"",0,0,0,{"$f":"IF(F14074=\"\",0,IF(isNccValid(F14074),0,1))","v":0}]
[null,null,null,null,null,null,null,null,null,null,null,null,null,null,null,"",0,0,0,{"$f":"IF(F14090=\"\",0,IF(isNccValid(F14090),0,1))","v":0}]
[null,null,null,null,null,null,null,null,null,null,null,null,null,null,null,"",0,0,0,{"$f":"IF(F14096=\"\",0,IF(isNccValid(F14096),0,1))","v":0}]
[null,null,null,null,null,null,null,null,null,null,null,null,null,null,null,"",0,0,0,{"$f":"IF(F14113=\"\",0,IF(isNccValid(F14113),0,1))","v":0}]
[null,null,null,null,null,null,null,null,null,null,null,null,null,null,null,"",0,0,0,{"$f":"IF(F14127=\"\",0,IF(isNccValid(F14127),0,1))","v":0}]
[null,null,null,null,null,null,null,null,null,null,null,null,null,null,null,"",0,0,0,{"$f":"IF(F14130=\"\",0,IF(isNccValid(F14130),0,1))","v":0}]
[null,null,null,null,null,null,null,null,null,null,null,null,null,null,null,"",0,0,0,{"$f":"IF(F14140=\"\",0,IF(isNccValid(F14140),0,1))","v":0}]
[null,null,null,null,null,null,null,null,null,null,null,null,null,null,null,"",0,0,0,{"$f":"IF(F14157=\"\",0,IF(isNccValid(F14157),0,1))","v":0}]
[null,null,null,null,null,null,null,null,null,null,null,null,null,null,null,"",0,0,0,{"$f":"IF(F14164=\"\",0,IF(isNccValid(F14164),0,1))","v":0}]
[null,null,null,null,null,null,null,null,null,null,null,null,null,null,null,"",0,0,0,{"$f":"IF(F14174=\"\",0,IF(isNccValid(F14174),0,1))","v":0}]
[null,null,null,null,null,null,null,null,null,null,null,null,null,null,null,"",0,0,0,{"$f":"IF(F14191=\"\",0,IF(isNccValid(F14191),0,1))","v":0}]
[null,null,null,null,null,null,null,null,null,null,null,null,null,null,null,"",0,0,0,{"$f":"IF(F14201=\"\",0,IF(isNccValid(F14201),0,1))","v":0}]
[null,null,null,null,null,null,null,null,null,null,null,null,null,null,null,"",0,0,0,{"$f":"IF(F14217=\"\",0,IF(isNccValid(F14217),0,1))","v":0}]
[null,null,null,null,null,null,null,null,null,null,null,null,null,null,null,"",0,0,0,{"$f":"IF(F14225=\"\",0,IF(isNccValid(F14225),0,1))","v":0}]
[null,null,null,null,null,null,null,null,null,null,null,null,null,null,null,"",0,0,0,{"$f":"IF(F14235=\"\",0,IF(isNccValid(F14235),0,1))","v":0}]
[null,null,null,null,null,null,null,null,null,null,null,null,null,null,null,"",0,0,0,{"$f":"IF(F14241=\"\",0,IF(isNccValid(F14241),0,1))","v":0}]
[null,null,null,null,null,null,null,null,null,null,null,null,null,null,null,"",0,0,0,{"$f":"IF(F14254=\"\",0,IF(isNccValid(F14254),0,1))","v":0}]
[null,null,null,null,null,null,null,null,null,null,null,null,null,null,null,"",0,0,0,{"$f":"IF(F14269=\"\",0,IF(isNccValid(F14269),0,1))","v":0}]
[null,null,null,null,null,null,null,null,null,null,null,null,null,null,null,"",0,0,0,{"$f":"IF(F14275=\"\",0,IF(isNccValid(F14275),0,1))","v":0}]
[null,null,null,null,null,null,null,null,null,null,null,null,null,null,null,"",0,0,0,{"$f":"IF(F14296=\"\",0,IF(isNccValid(F14296),0,1))","v":0}]
[null,null,null,null,null,null,null,null,null,null,null,null,null,null,null,"",0,0,0,{"$f":"IF(F14307=\"\",0,IF(isNccValid(F14307),0,1))","v":0}]
[null,null,null,null,null,null,null,null,null,null,null,null,null,null,null,"",0,0,0,{"$f":"IF(F14309=\"\",0,IF(isNccValid(F14309),0,1))","v":0}]
[null,null,null,null,null,null,null,null,null,null,null,null,null,null,null,"",0,0,0,{"$f":"IF(F14330=\"\",0,IF(isNccValid(F14330),0,1))","v":0}]
[null,null,null,null,null,null,null,null,null,null,null,null,null,null,null,"",0,0,0,{"$f":"IF(F14336=\"\",0,IF(isNccValid(F14336),0,1))","v":0}]
[null,null,null,null,null,null,null,null,null,null,null,null,null,null,null,"",{"$f":"IF(AND(B14348=\"\",R14348=1),1,IF(AND(D14348=\"\",R14348=1),1,IF(AND(E14348=\"\",R14348=1),1,IF(AND(F14348=\"\",R14348=1),1,IF(AND(M14348=\"\",R14348=1),1,IF(AND(O14348=\"\",R14348=1),1,0))))))","v":0},{"$f":"IF(C14348=\"\",0,IF(COUNTA(B14348:O14348)>0,1,0))","v":0},{"$f":"IFERROR(IF(LEN(F14348)=8,0,IF(LEN(F14348)=0,0,1)),1)","v":0},{"$f":"IF(F14348=\"\",0,IF(isNccValid(F14348),0,1))","v":0}]
[null,null,null,null,null,null,null,null,null,null,null,null,null,null,null,"",0,0,0,{"$f":"IF(F14364=\"\",0,IF(isNccValid(F14364),0,1))","v":0}]
[null,null,null,null,null,null,null,null,null,null,null,null,null,null,null,"",0,0,0,{"$f":"IF(F14370=\"\",0,IF(isNccValid(F14370),0,1))","v":0}]
[null,null,null,null,null,null,null,null,null,null,null,null,null,null,null,"",0,0,0,{"$f":"IF(F14380=\"\",0,IF(isNccValid(F14380),0,1))","v":0}]
[null,null,null,null,null,null,null,null,null,null,null,null,null,null,null,"",0,0,0,{"$f":"IF(F14397=\"\",0,IF(isNccValid(F14397),0,1))","v":0}]
[null,null,null,null,null,null,null,null,null,null,null,null,null,null,null,"",0,0,0,{"$f":"IF(F14404=\"\",0,IF(isNccValid(F14404),0,1))","v":0}]
[null,null,null,null,null,null,null,null,null,null,null,null,null,null,null,"",0,0,0,{"$f":"IF(F14414=\"\",0,IF(isNccValid(F14414),0,1))","v":0}]
[null,null,null,null,null,null,null,null,null,null,null,null,null,null,null,"",0,0,0,{"$f":"IF(F14431=\"\",0,IF(isNccValid(F14431),0,1))","v":0}]
[null,null,null,null,null,null,null,null,null,null,null,null,null,null,null,"",0,0,0,{"$f":"IF(F14438=\"\",0,IF(isNccValid(F14438),0,1))","v":0}]
[null,null,null,null,null,null,null,null,null,null,null,null,null,null,null,"",0,0,0,{"$f":"IF(F14448=\"\",0,IF(isNccValid(F14448),0,1))","v":0}]
[null,null,null,null,null,null,null,null,null,null,null,null,null,null,null,"",0,0,0,{"$f":"IF(F14465=\"\",0,IF(isNccValid(F14465),0,1))","v":0}]
[null,null,null,null,null,null,null,null,null,null,null,null,null,null,null,"",0,0,0,{"$f":"IF(F14475=\"\",0,IF(isNccValid(F14475),0,1))","v":0}]
[null,null,null,null,null,null,null,null,null,null,null,null,null,null,null,"",0,0,0,{"$f":"IF(F14487=\"\",0,IF(isNccValid(F14487),0,1))","v":0}]
[null,null,null,null,null,null,null,null,null,null,null,null,null,null,null,"",0,0,0,{"$f":"IF(F14499=\"\",0,IF(isNccValid(F14499),0,1))","v":0}]
[null,null,null,null,null,null,null,null,null,null,null,null,null,null,null,"",0,0,0,{"$f":"IF(F14509=\"\",0,IF(isNccValid(F14509),0,1))","v":0}]
[null,null,null,null,null,null,null,null,null,null,null,null,null,null,null,"",0,0,0,{"$f":"IF(F14515=\"\",0,IF(isNccValid(F14515),0,1))","v":0}]
[null,null,null,null,null,null,null,null,null,null,null,null,null,null,null,"",0,0,0,{"$f":"IF(F14528=\"\",0,IF(isNccValid(F14528),0,1))","v":0}]
[null,null,null,null,null,null,null,null,null,null,null,null,null,null,null,"",0,0,0,{"$f":"IF(F14543=\"\",0,IF(isNccValid(F14543),0,1))","v":0}]
[null,null,null,null,null,null,null,null,null,null,null,null,null,null,null,"",0,0,0,{"$f":"IF(F14549=\"\",0,IF(isNccValid(F14549),0,1))","v":0}]
[null,null,null,null,null,null,null,null,null,null,null,null,null,null,null,"",0,0,0,{"$f":"IF(F14559=\"\",0,IF(isNccValid(F14559),0,1))","v":0}]
[null,null,null,null,null,null,null,null,null,null,null,null,null,null,null,"",0,0,0,{"$f":"IF(F14577=\"\",0,IF(isNccValid(F14577),0,1))","v":0}]
[null,null,null,null,null,null,null,null,null,null,null,null,null,null,null,"",0,0,0,{"$f":"IF(F14587=\"\",0,IF(isNccValid(F14587),0,1))","v":0}]
[null,null,null,null,null,null,null,null,null,null,null,null,null,null,null,"",0,0,0,{"$f":"IF(F14593=\"\",0,IF(isNccValid(F14593),0,1))","v":0}]
[null,null,null,null,null,null,null,null,null,null,null,null,null,null,null,"",0,0,0,{"$f":"IF(F14610=\"\",0,IF(isNccValid(F14610),0,1))","v":0}]
[null,null,null,null,null,null,null,null,null,null,null,null,null,null,null,"",0,0,0,{"$f":"IF(F14618=\"\",0,IF(isNccValid(F14618),0,1))","v":0}]
[null,null,null,null,null,null,null,null,null,null,null,null,null,null,null,"",0,0,0,{"$f":"IF(F14627=\"\",0,IF(isNccValid(F14627),0,1))","v":0}]
[null,null,null,null,null,null,null,null,null,null,null,null,null,null,null,"",0,0,0,{"$f":"IF(F14644=\"\",0,IF(isNccValid(F14644),0,1))","v":0}]
[null,null,null,null,null,null,null,null,null,null,null,null,null,null,null,"",0,0,0,{"$f":"IF(F14654=\"\",0,IF(isNccValid(F14654),0,1))","v":0}]
[null,null,null,null,null,null,null,null,null,null,null,null,null,null,null,"",0,0,0,{"$f":"IF(F14667=\"\",0,IF(isNccValid(F14667),0,1))","v":0}]
[null,null,null,null,null,null,null,null,null,null,null,null,null,null,null,"",0,0,0,{"$f":"IF(F14671=\"\",0,IF(isNccValid(F14671),0,1))","v":0}]
[null,null,null,null,null,null,null,null,null,null,null,null,null,null,null,"",0,0,0,{"$f":"IF(F14688=\"\",0,IF(isNccValid(F14688),0,1))","v":0}]
[null,null,null,null,null,null,null,null,null,null,null,null,null,null,null,"",0,0,0,{"$f":"IF(F14694=\"\",0,IF(isNccValid(F14694),0,1))","v":0}]
[null,null,null,null,null,null,null,null,null,null,null,null,null,null,null,"",0,0,0,{"$f":"IF(F14708=\"\",0,IF(isNccValid(F14708),0,1))","v":0}]
[null,null,null,null,null,null,null,null,null,null,null,null,null,null,null,"",0,0,0,{"$f":"IF(F14722=\"\",0,IF(isNccValid(F14722),0,1))","v":0}]
[null,null,null,null,null,null,null,null,null,null,null,null,null,null,null,"",{"$f":"IF(AND(B14732=\"\",R14732=1),1,IF(AND(D14732=\"\",R14732=1),1,IF(AND(E14732=\"\",R14732=1),1,IF(AND(F14732=\"\",R14732=1),1,IF(AND(M14732=\"\",R14732=1),1,IF(AND(O14732=\"\",R14732=1),1,0))))))","v":0},{"$f":"IF(C14732=\"\",0,IF(COUNTA(B14732:O14732)>0,1,0))","v":0},{"$f":"IFERROR(IF(LEN(F14732)=8,0,IF(LEN(F14732)=0,0,1)),1)","v":0},{"$f":"IF(F14732=\"\",0,IF(isNccValid(F14732),0,1))","v":0}]
[null,null,null,null,null,null,null,null,null,null,null,null,null,null,null,"",0,0,0,{"$f":"IF(F14738=\"\",0,IF(isNccValid(F14738),0,1))","v":0}]
[null,null,null,null,null,null,null,null,null,null,null,null,null,null,null,"",0,0,0,{"$f":"IF(F14757=\"\",0,IF(isNccValid(F14757),0,1))","v":0}]
[null,null,null,null,null,null,null,null,null,null,null,null,null,null,null,"",0,0,0,{"$f":"IF(F14766=\"\",0,IF(isNccValid(F14766),0,1))","v":0}]
[null,null,null,null,null,null,null,null,null,null,null,null,null,null,null,"",0,0,0,{"$f":"IF(F14772=\"\",0,IF(isNccValid(F14772),0,1))","v":0}]
[null,null,null,null,null,null,null,null,null,null,null,null,null,null,null,"",0,0,0,{"$f":"IF(F14789=\"\",0,IF(isNccValid(F14789),0,1))","v":0}]
[null,null,null,null,null,null,null,null,null,null,null,null,null,null,null,"",0,0,0,{"$f":"IF(F14798=\"\",0,IF(isNccValid(F14798),0,1))","v":0}]
[null,null,null,null,null,null,null,null,null,null,null,null,null,null,null,{"$f":"IF(B14806=\"\",\"\",M14806*O14806)","v":""},0,0,0,{"$f":"IF(F14806=\"\",0,IF(isNccValid(F14806),0,1))","v":0}]
[null,null,null,null,null,null,null,null,null,null,null,null,null,null,null,"",0,0,0,{"$f":"IF(F14816=\"\",0,IF(isNccValid(F14816),0,1))","v":0}]
[null,null,null,null,null,null,null,null,null,null,null,null,null,null,null,"",0,0,0,{"$f":"IF(F14833=\"\",0,IF(isNccValid(F14833),0,1))","v":0}]
[null,null,null,null,null,null,null,null,null,null,null,null,null,null,null,"",0,0,0,{"$f":"IF(F14847=\"\",0,IF(isNccValid(F14847),0,1))","v":0}]
[null,null,null,null,null,null,null,null,null,null,null,null,null,null,null,"",0,0,0,{"$f":"IF(F14850=\"\",0,IF(isNccValid(F14850),0,1))","v":0}]
[null,null,null,null,null,null,null,null,null,null,null,null,null,null,null,"",0,0,0,{"$f":"IF(F14867=\"\",0,IF(isNccValid(F14867),0,1))","v":0}]
[null,null,null,null,null,null,null,null,null,null,null,null,null,null,null,"",0,0,0,{"$f":"IF(F14873=\"\",0,IF(isNccValid(F14873),0,1))","v":0}]
[null,null,null,null,null,null,null,null,null,null,null,null,null,null,null,"",0,0,0,{"$f":"IF(F14888=\"\",0,IF(isNccValid(F14888),0,1))","v":0}]
[null,null,null,null,null,null,null,null,null,null,null,null,null,null,null,"",0,0,0,{"$f":"IF(F14901=\"\",0,IF(isNccValid(F14901),0,1))","v":0}]
[null,null,null,null,null,null,null,null,null,null,null,null,null,null,null,"",0,0,0,{"$f":"IF(F14911=\"\",0,IF(isNccValid(F14911),0,1))","v":0}]
[null,null,null,null,null,null,null,null,null,null,null,null,null,null,null,"",0,0,0,{"$f":"IF(F14917=\"\",0,IF(isNccValid(F14917),0,1))","v":0}]
[null,null,null,null,null,null,null,null,null,null,null,null,null,null,null,"",0,0,0,{"$f":"IF(F14937=\"\",0,IF(isNccValid(F14937),0,1))","v":0}]
[null,null,null,null,null,null,null,null,null,null,null,null,null,null,null,"",0,0,0,{"$f":"IF(F14945=\"\",0,IF(isNccValid(F14945),0,1))","v":0}]
[null,null,null,null,null,null,null,null,null,null,null,null,null,null,null,"",0,0,0,{"$f":"IF(F14951=\"\",0,IF(isNccValid(F14951),0,1))","v":0}]
[null,null,null,null,null,null,null,null,null,null,null,null,null,null,null,"",0,0,0,{"$f":"IF(F14961=\"\",0,IF(isNccValid(F14961),0,1))","v":0}]
[null,null,null,null,null,null,null,null,null,null,null,null,null,null,null,"",0,0,0,{"$f":"IF(F14978=\"\",0,IF(isNccValid(F14978),0,1))","v":0}]
[null,null,null,null,null,null,null,null,null,null,null,null,null,null,null,"",0,0,0,{"$f":"IF(F14985=\"\",0,IF(isNccValid(F14985),0,1))","v":0}]
[null,null,null,null,null,null,null,null,null,null,null,null,null,null,null,"",0,0,0,{"$f":"IF(F14995=\"\",0,IF(isNccValid(F14995),0,1))","v":0}]
[null,null,null,null,null,null,null,null,null,null,null,null,null,null,null,"",0,0,0,{"$f":"IF(F15012=\"\",0,IF(isNccValid(F15012),0,1))","v":0}]
[null,null,null,null,null,null,null,null,null,null,null,null,null,null,null,"",0,0,0,{"$f":"IF(F15027=\"\",0,IF(isNccValid(F15027),0,1))","v":0}]
[null,null,null,null,null,null,null,null,null,null,null,null,null,null,null,"",0,0,0,{"$f":"IF(F15029=\"\",0,IF(isNccValid(F15029),0,1))","v":0}]
[null,null,null,null,null,null,null,null,null,null,null,null,null,null,null,"",0,0,0,{"$f":"IF(F15046=\"\",0,IF(isNccValid(F15046),0,1))","v":0}]
[null,null,null,null,null,null,null,null,null,null,null,null,null,null,null,"",0,0,0,{"$f":"IF(F15056=\"\",0,IF(isNccValid(F15056),0,1))","v":0}]
[null,null,null,null,null,null,null,null,null,null,null,null,null,null,null,"",0,0,0,{"$f":"IF(F15068=\"\",0,IF(isNccValid(F15068),0,1))","v":0}]
[null,null,null,null,null,null,null,null,null,null,null,null,null,null,null,"",0,0,0,{"$f":"IF(F15080=\"\",0,IF(isNccValid(F15080),0,1))","v":0}]
[null,null,null,null,null,null,null,null,null,null,null,null,null,null,null,"",0,0,0,{"$f":"IF(F15090=\"\",0,IF(isNccValid(F15090),0,1))","v":0}]
[null,null,null,null,null,null,null,null,null,null,null,null,null,null,null,"",0,0,0,{"$f":"IF(F15096=\"\",0,IF(isNccValid(F15096),0,1))","v":0}]
[null,null,null,null,null,null,null,null,null,null,null,null,null,null,null,"",0,0,0,{"$f":"IF(F15117=\"\",0,IF(isNccValid(F15117),0,1))","v":0}]
[null,null,null,null,null,null,null,null,null,null,null,null,null,null,null,"",0,0,0,{"$f":"IF(F15124=\"\",0,IF(isNccValid(F15124),0,1))","v":0}]
[null,null,null,null,null,null,null,null,null,null,null,null,null,null,null,"",0,0,0,{"$f":"IF(F15130=\"\",0,IF(isNccValid(F15130),0,1))","v":0}]
[null,null,null,null,null,null,null,null,null,null,null,null,null,null,null,"",0,0,0,{"$f":"IF(F15151=\"\",0,IF(isNccValid(F15151),0,1))","v":0}]
[null,null,null,null,null,null,null,null,null,null,null,null,null,null,null,"",0,0,0,{"$f":"IF(F15158=\"\",0,IF(isNccValid(F15158),0,1))","v":0}]
[null,null,null,null,null,null,null,null,null,null,null,null,null,null,null,"",0,0,0,{"$f":"IF(F15164=\"\",0,IF(isNccValid(F15164),0,1))","v":0}]
[null,null,null,null,null,null,null,null,null,null,null,null,null,null,null,"",0,0,0,{"$f":"IF(F15185=\"\",0,IF(isNccValid(F15185),0,1))","v":0}]
[null,null,null,null,null,null,null,null,null,null,null,null,null,null,null,"",0,0,0,{"$f":"IF(F15191=\"\",0,IF(isNccValid(F15191),0,1))","v":0}]
[null,null,null,null,null,null,null,null,null,null,null,null,null,null,null,"",0,0,0,{"$f":"IF(F15199=\"\",0,IF(isNccValid(F15199),0,1))","v":0}]
[null,null,null,null,null,null,null,null,null,null,null,null,null,null,null,"",0,0,0,{"$f":"IF(F15219=\"\",0,IF(isNccValid(F15219),0,1))","v":0}]
[null,null,null,null,null,null,null,null,null,null,null,null,null,null,null,"",0,0,0,{"$f":"IF(F15225=\"\",0,IF(isNccValid(F15225),0,1))","v":0}]
[null,null,null,null,null,null,null,null,null,null,null,null,null,null,null,"",0,0,0,{"$f":"IF(F15235=\"\",0,IF(isNccValid(F15235),0,1))","v":0}]
[null,null,null,null,null,null,null,null,null,null,null,null,null,null,null,"",0,0,0,{"$f":"IF(F15248=\"\",0,IF(isNccValid(F15248),0,1))","v":0}]
[null,null,null,null,null,null,null,null,null,null,null,null,null,null,null,"",0,0,0,{"$f":"IF(F15259=\"\",0,IF(isNccValid(F15259),0,1))","v":0}]
[null,null,null,null,null,null,null,null,null,null,null,null,null,null,null,"",0,0,0,{"$f":"IF(F15269=\"\",0,IF(isNccValid(F15269),0,1))","v":0}]
[null,null,null,null,null,null,null,null,null,null,null,null,null,null,null,"",0,0,0,{"$f":"IF(F15286=\"\",0,IF(isNccValid(F15286),0,1))","v":0}]
[null,null,null,null,null,null,null,null,null,null,null,null,null,null,null,"",0,0,0,{"$f":"IF(F15289=\"\",0,IF(isNccValid(F15289),0,1))","v":0}]
[null,null,null,null,null,null,null,null,null,null,null,null,null,null,null,"",0,0,0,{"$f":"IF(F15303=\"\",0,IF(isNccValid(F15303),0,1))","v":0}]
[null,null,null,null,null,null,null,null,null,null,null,null,null,null,null,"",0,0,0,{"$f":"IF(F15320=\"\",0,IF(isNccValid(F15320),0,1))","v":0}]
[null,null,null,null,null,null,null,null,null,null,null,null,null,null,null,"",0,0,0,{"$f":"IF(F15330=\"\",0,IF(isNccValid(F15330),0,1))","v":0}]
[null,null,null,null,null,null,null,null,null,null,null,null,null,null,null,"",0,0,0,{"$f":"IF(F15338=\"\",0,IF(isNccValid(F15338),0,1))","v":0}]
[null,null,null,null,null,null,null,null,null,null,null,null,null,null,null,"",0,0,0,{"$f":"IF(F15347=\"\",0,IF(isNccValid(F15347),0,1))","v":0}]
[null,null,null,null,null,null,null,null,null,null,null,null,null,null,null,"",0,0,0,{"$f":"IF(F15364=\"\",0,IF(isNccValid(F15364),0,1))","v":0}]
[null,null,null,null,null,null,null,null,null,null,null,null,null,null,null,"",0,0,0,{"$f":"IF(F15370=\"\",0,IF(isNccValid(F15370),0,1))","v":0}]
[null,null,null,null,null,null,null,null,null,null,null,null,null,null,null,"",0,0,0,{"$f":"IF(F15379=\"\",0,IF(isNccValid(F15379),0,1))","v":0}]
[null,null,null,null,null,null,null,null,null,null,null,null,null,null,null,"",0,0,0,{"$f":"IF(F15398=\"\",0,IF(isNccValid(F15398),0,1))","v":0}]
[null,null,null,null,null,null,null,null,null,null,null,null,null,null,null,"",0,0,0,{"$f":"IF(F15404=\"\",0,IF(isNccValid(F15404),0,1))","v":0}]
[null,null,null,null,null,null,null,null,null,null,null,null,null,null,null,"",0,0,0,{"$f":"IF(F15414=\"\",0,IF(isNccValid(F15414),0,1))","v":0}]
[null,null,null,null,null,null,null,null,null,null,null,null,null,null,null,"",0,0,0,{"$f":"IF(F15428=\"\",0,IF(isNccValid(F15428),0,1))","v":0}]
[null,null,null,null,null,null,null,null,null,null,null,null,null,null,null,"",0,0,0,{"$f":"IF(F15442=\"\",0,IF(isNccValid(F15442),0,1))","v":0}]
[null,null,null,null,null,null,null,null,null,null,null,null,null,null,null,"",0,0,0,{"$f":"IF(F15448=\"\",0,IF(isNccValid(F15448),0,1))","v":0}]
[null,null,null,null,null,null,null,null,null,null,null,null,null,null,null,"",0,0,0,{"$f":"IF(F15465=\"\",0,IF(isNccValid(F15465),0,1))","v":0}]
[null,null,null,null,null,null,null,null,null,null,null,null,null,null,null,"",0,0,0,{"$f":"IF(F15469=\"\",0,IF(isNccValid(F15469),0,1))","v":0}]
[null,null,null,null,null,null,null,null,null,null,null,null,null,null,null,"",0,0,0,{"$f":"IF(F15482=\"\",0,IF(isNccValid(F15482),0,1))","v":0}]
[null,null,null,null,null,null,null,null,null,null,null,null,null,null,null,"",0,0,0,{"$f":"IF(F15499=\"\",0,IF(isNccValid(F15499),0,1))","v":0}]
[null,null,null,null,null,null,null,null,null,null,null,null,null,null,null,"",0,0,0,{"$f":"IF(F15509=\"\",0,IF(isNccValid(F15509),0,1))","v":0}]
[null,null,null,null,null,null,null,null,null,null,null,null,null,null,null,"",0,0,0,{"$f":"IF(F15518=\"\",0,IF(isNccValid(F15518),0,1))","v":0}]
[null,null,null,null,null,null,null,null,null,null,null,null,null,null,null,"",0,0,0,{"$f":"IF(F15526=\"\",0,IF(isNccValid(F15526),0,1))","v":0}]
[null,null,null,null,null,null,null,null,null,null,null,null,null,null,null,"",0,0,0,{"$f":"IF(F15543=\"\",0,IF(isNccValid(F15543),0,1))","v":0}]
[null,null,null,null,null,null,null,null,null,null,null,null,null,null,null,"",0,0,0,{"$f":"IF(F15549=\"\",0,IF(isNccValid(F15549),0,1))","v":0}]
[null,null,null,null,null,null,null,null,null,null,null,null,null,null,null,"",0,0,0,{"$f":"IF(F15559=\"\",0,IF(isNccValid(F15559),0,1))","v":0}]
[null,null,null,null,null,null,null,null,null,null,null,null,null,null,null,"",0,0,0,{"$f":"IF(F15577=\"\",0,IF(isNccValid(F15577),0,1))","v":0}]
[null,null,null,null,null,null,null,null,null,null,null,null,null,null,null,"",0,0,0,{"$f":"IF(F15587=\"\",0,IF(isNccValid(F15587),0,1))","v":0}]
[null,null,null,null,null,null,null,null,null,null,null,null,null,null,null,"",0,0,0,{"$f":"IF(F15593=\"\",0,IF(isNccValid(F15593),0,1))","v":0}]
[null,null,null,null,null,null,null,null,null,null,null,null,null,null,null,"",0,0,0,{"$f":"IF(F15608=\"\",0,IF(isNccValid(F15608),0,1))","v":0}]
[null,null,null,null,null,null,null,null,null,null,null,null,null,null,null,"",0,0,0,{"$f":"IF(F15621=\"\",0,IF(isNccValid(F15621),0,1))","v":0}]
[null,null,null,null,null,null,null,null,null,null,null,null,null,null,null,"",0,0,0,{"$f":"IF(F15627=\"\",0,IF(isNccValid(F15627),0,1))","v":0}]
[null,null,null,null,null,null,null,null,null,null,null,null,null,null,null,"",0,0,0,{"$f":"IF(F15644=\"\",0,IF(isNccValid(F15644),0,1))","v":0}]
[null,null,null,null,null,null,null,null,null,null,null,null,null,null,null,"",0,0,0,{"$f":"IF(F15649=\"\",0,IF(isNccValid(F15649),0,1))","v":0}]
[null,null,null,null,null,null,null,null,null,null,null,null,null,null,null,"",0,0,0,{"$f":"IF(F15661=\"\",0,IF(isNccValid(F15661),0,1))","v":0}]
[null,null,null,null,null,null,null,null,null,null,null,null,null,null,null,"",0,0,0,{"$f":"IF(F15671=\"\",0,IF(isNccValid(F15671),0,1))","v":0}]
[null,null,null,null,null,null,null,null,null,null,null,null,null,null,null,"",0,0,0,{"$f":"IF(F15688=\"\",0,IF(isNccValid(F15688),0,1))","v":0}]
[null,null,null,null,null,null,null,null,null,null,null,null,null,null,null,"",0,0,0,{"$f":"IF(F15698=\"\",0,IF(isNccValid(F15698),0,1))","v":0}]
[null,null,null,null,null,null,null,null,null,null,null,null,null,null,null,"",0,0,0,{"$f":"IF(F15705=\"\",0,IF(isNccValid(F15705),0,1))","v":0}]
[null,null,null,null,null,null,null,null,null,null,null,null,null,null,null,"",0,0,0,{"$f":"IF(F15722=\"\",0,IF(isNccValid(F15722),0,1))","v":0}]
[null,null,null,null,null,null,null,null,null,null,null,null,null,null,null,"",0,0,0,{"$f":"IF(F15728=\"\",0,IF(isNccValid(F15728),0,1))","v":0}]
[null,null,null,null,null,null,null,null,null,null,null,null,null,null,null,"",0,0,0,{"$f":"IF(F15739=\"\",0,IF(isNccValid(F15739),0,1))","v":0}]
[null,null,null,null,null,null,null,null,null,null,null,null,null,null,null,"",{"$f":"IF(AND(B15756=\"\",R15756=1),1,IF(AND(D15756=\"\",R15756=1),1,IF(AND(E15756=\"\",R15756=1),1,IF(AND(F15756=\"\",R15756=1),1,IF(AND(M15756=\"\",R15756=1),1,IF(AND(O15756=\"\",R15756=1),1,0))))))","v":0},{"$f":"IF(C15756=\"\",0,IF(COUNTA(B15756:O15756)>0,1,0))","v":0},{"$f":"IFERROR(IF(LEN(F15756)=8,0,IF(LEN(F15756)=0,0,1)),1)","v":0},{"$f":"IF(F15756=\"\",0,IF(isNccValid(F15756),0,1))","v":0}]
[null,null,null,null,null,null,null,null,null,null,null,null,null,null,null,{"$f":"IF(B15766=\"\",\"\",M15766*O15766)","v":""},0,0,0,{"$f":"IF(F15766=\"\",0,IF(isNccValid(F15766),0,1))","v":0}]
[null,null,null,null,null,null,null,null,null,null,null,null,null,null,null,"",0,0,0,{"$f":"IF(F15772=\"\",0,IF(isNccValid(F15772),0,1))","v":0}]
[null,null,null,null,null,null,null,null,null,null,null,null,null,null,null,"",0,0,0,{"$f":"IF(F15788=\"\",0,IF(isNccValid(F15788),0,1))","v":0}]
[null,null,null,null,null,null,null,null,null,null,null,null,null,null,null,"",0,0,0,{"$f":"IF(F15800=\"\",0,IF(isNccValid(F15800),0,1))","v":0}]
[null,null,null,null,null,null,null,null,null,null,null,null,null,null,null,"",0,0,0,{"$f":"IF(F15806=\"\",0,IF(isNccValid(F15806),0,1))","v":0}]
[null,null,null,null,null,null,null,null,null,null,null,null,null,null,null,"",0,0,0,{"$f":"IF(F15816=\"\",0,IF(isNccValid(F15816),0,1))","v":0}]
[null,null,null,null,null,null,null,null,null,null,null,null,null,null,null,"",0,0,0,{"$f":"IF(F15829=\"\",0,IF(isNccValid(F15829),0,1))","v":0}]
[null,null,null,null,null,null,null,null,null,null,null,null,null,null,null,"",0,0,0,{"$f":"IF(F15840=\"\",0,IF(isNccValid(F15840),0,1))","v":0}]
[null,null,null,null,null,null,null,null,null,null,null,null,null,null,null,"",0,0,0,{"$f":"IF(F15850=\"\",0,IF(isNccValid(F15850),0,1))","v":0}]
[null,null,null,null,null,null,null,null,null,null,null,null,null,null,null,"",0,0,0,{"$f":"IF(F15867=\"\",0,IF(isNccValid(F15867),0,1))","v":0}]
[null,null,null,null,null,null,null,null,null,null,null,null,null,null,null,"",0,0,0,{"$f":"IF(F15878=\"\",0,IF(isNccValid(F15878),0,1))","v":0}]
[null,null,null,null,null,null,null,null,null,null,null,null,null,null,null,"",{"$f":"IF(AND(B15884=\"\",R15884=1),1,IF(AND(D15884=\"\",R15884=1),1,IF(AND(E15884=\"\",R15884=1),1,IF(AND(F15884=\"\",R15884=1),1,IF(AND(M15884=\"\",R15884=1),1,IF(AND(O15884=\"\",R15884=1),1,0))))))","v":0},{"$f":"IF(C15884=\"\",0,IF(COUNTA(B15884:O15884)>0,1,0))","v":0},{"$f":"IFERROR(IF(LEN(F15884)=8,0,IF(LEN(F15884)=0,0,1)),1)","v":0},{"$f":"IF(F15884=\"\",0,IF(isNccValid(F15884),0,1))","v":0}]
[null,null,null,null,null,null,null,null,null,null,null,null,null,null,null,"",0,0,0,{"$f":"IF(F15901=\"\",0,IF(isNccValid(F15901),0,1))","v":0}]
[null,null,null,null,null,null,null,null,null,null,null,null,null,null,null,"",0,0,0,{"$f":"IF(F15911=\"\",0,IF(isNccValid(F15911),0,1))","v":0}]
[null,null,null,null,null,null,null,null,null,null,null,null,null,null,null,"",0,0,0,{"$f":"IF(F15919=\"\",0,IF(isNccValid(F15919),0,1))","v":0}]
[null,null,null,null,null,null,null,null,null,null,null,null,null,null,null,"",0,0,0,{"$f":"IF(F15935=\"\",0,IF(isNccValid(F15935),0,1))","v":0}]
[null,null,null,null,null,null,null,null,null,null,null,null,null,null,null,"",0,0,0,{"$f":"IF(F15945=\"\",0,IF(isNccValid(F15945),0,1))","v":0}]
[null,null,null,null,null,null,null,null,null,null,null,null,null,null,null,"",0,0,0,{"$f":"IF(F15951=\"\",0,IF(isNccValid(F15951),0,1))","v":0}]
[null,null,null,null,null,null,null,null,null,null,null,null,null,null,null,"",0,0,0,{"$f":"IF(F15972=\"\",0,IF(isNccValid(F15972),0,1))","v":0}]
[null,null,null,null,null,null,null,null,null,null,null,null,null,null,null,"",0,0,0,{"$f":"IF(F15979=\"\",0,IF(isNccValid(F15979),0,1))","v":0}]
[null,null,null,null,null,null,null,null,null,null,null,null,null,null,null,"",0,0,0,{"$f":"IF(F15985=\"\",0,IF(isNccValid(F15985),0,1))","v":0}]
[null,null,null,null,null,null,null,null,null,null,null,null,null,null,null,"",0,0,0,{"$f":"IF(F16006=\"\",0,IF(isNccValid(F16006),0,1))","v":0}]
[null,null,null,null,null,null,null,null,null,null,null,null,null,null,null,"",0,0,0,{"$f":"IF(F16009=\"\",0,IF(isNccValid(F16009),0,1))","v":0}]
[null,null,null,null,null,null,null,null,null,null,null,null,null,null,null,"",0,0,0,{"$f":"IF(F16019=\"\",0,IF(isNccValid(F16019),0,1))","v":0}]
[null,null,null,null,null,null,null,null,null,null,null,null,null,null,null,"",0,0,0,{"$f":"IF(F16040=\"\",0,IF(isNccValid(F16040),0,1))","v":0}]
[null,null,null,null,null,null,null,null,null,null,null,null,null,null,null,"",0,0,0,{"$f":"IF(F16046=\"\",0,IF(isNccValid(F16046),0,1))","v":0}]
[null,null,null,null,null,null,null,null,null,null,null,null,null,null,null,"",0,0,0,{"$f":"IF(F16062=\"\",0,IF(isNccValid(F16062),0,1))","v":0}]
[null,null,null,null,null,null,null,null,null,null,null,null,null,null,null,"",0,0,0,{"$f":"IF(F16074=\"\",0,IF(isNccValid(F16074),0,1))","v":0}]
[null,null,null,null,null,null,null,null,null,null,null,null,null,null,null,"",0,0,0,{"$f":"IF(F16080=\"\",0,IF(isNccValid(F16080),0,1))","v":0}]
[null,null,null,null,null,null,null,null,null,null,null,null,null,null,null,"",0,0,0,{"$f":"IF(F16090=\"\",0,IF(isNccValid(F16090),0,1))","v":0}]
[null,null,null,null,null,null,null,null,null,null,null,null,null,null,null,"",0,0,0,{"$f":"IF(F16099=\"\",0,IF(isNccValid(F16099),0,1))","v":0}]
[null,null,null,null,null,null,null,null,null,null,null,null,null,null,null,"",0,0,0,{"$f":"IF(F16114=\"\",0,IF(isNccValid(F16114),0,1))","v":0}]
[null,null,null,null,null,null,null,null,null,null,null,null,null,null,null,"",0,0,0,{"$f":"IF(F16124=\"\",0,IF(isNccValid(F16124),0,1))","v":0}]
[null,null,null,null,null,null,null,null,null,null,null,null,null,null,null,"",0,0,0,{"$f":"IF(F16141=\"\",0,IF(isNccValid(F16141),0,1))","v":0}]
[null,null,null,null,null,null,null,null,null,null,null,null,null,null,null,"",0,0,0,{"$f":"IF(F16152=\"\",0,IF(isNccValid(F16152),0,1))","v":0}]
[null,null,null,null,null,null,null,null,null,null,null,null,null,null,null,"",0,0,0,{"$f":"IF(F16158=\"\",0,IF(isNccValid(F16158),0,1))","v":0}]
[null,null,null,null,null,null,null,null,null,null,null,null,null,null,null,"",0,0,0,{"$f":"IF(F16175=\"\",0,IF(isNccValid(F16175),0,1))","v":0}]
[null,null,null,null,null,null,null,null,null,null,null,null,null,null,null,"",0,0,0,{"$f":"IF(F16185=\"\",0,IF(isNccValid(F16185),0,1))","v":0}]
[null,null,null,null,null,null,null,null,null,null,null,null,null,null,null,"",0,0,0,{"$f":"IF(F16189=\"\",0,IF(isNccValid(F16189),0,1))","v":0}]
[null,null,null,null,null,null,null,null,null,null,null,null,null,null,null,"",0,0,0,{"$f":"IF(F16202=\"\",0,IF(isNccValid(F16202),0,1))","v":0}]
[null,null,null,null,null,null,null,null,null,null,null,null,null,null,null,"",0,0,0,{"$f":"IF(F16219=\"\",0,IF(isNccValid(F16219),0,1))","v":0}]
[null,null,null,null,null,null,null,null,null,null,null,null,null,null,null,"",0,0,0,{"$f":"IF(F16225=\"\",0,IF(isNccValid(F16225),0,1))","v":0}]
[null,null,null,null,null,null,null,null,null,null,null,null,null,null,null,"",0,0,0,{"$f":"IF(F16242=\"\",0,IF(isNccValid(F16242),0,1))","v":0}]
[null,null,null,null,null,null,null,null,null,null,null,null,null,null,null,"",0,0,0,{"$f":"IF(F16253=\"\",0,IF(isNccValid(F16253),0,1))","v":0}]
[null,null,null,null,null,null,null,null,null,null,null,null,null,null,null,"",0,0,0,{"$f":"IF(F16259=\"\",0,IF(isNccValid(F16259),0,1))","v":0}]
[null,null,null,null,null,null,null,null,null,null,null,null,null,null,null,"",0,0,0,{"$f":"IF(F16269=\"\",0,IF(isNccValid(F16269),0,1))","v":0}]
[null,null,null,null,null,null,null,null,null,null,null,null,null,null,null,"",0,0,0,{"$f":"IF(F16279=\"\",0,IF(isNccValid(F16279),0,1))","v":0}]
[null,null,null,null,null,null,null,null,null,null,null,null,null,null,null,"",0,0,0,{"$f":"IF(F16297=\"\",0,IF(isNccValid(F16297),0,1))","v":0}]
[null,null,null,null,null,null,null,null,null,null,null,null,null,null,null,"",0,0,0,{"$f":"IF(F16303=\"\",0,IF(isNccValid(F16303),0,1))","v":0}]
[null,null,null,null,null,null,null,null,null,null,null,null,null,null,null,"",0,0,0,{"$f":"IF(F16320=\"\",0,IF(isNccValid(F16320),0,1))","v":0}]
[null,null,null,null,null,null,null,null,null,null,null,null,null,null,null,"",{"$f":"IF(AND(B16332=\"\",R16332=1),1,IF(AND(D16332=\"\",R16332=1),1,IF(AND(E16332=\"\",R16332=1),1,IF(AND(F16332=\"\",R16332=1),1,IF(AND(M16332=\"\",R16332=1),1,IF(AND(O16332=\"\",R16332=1),1,0))))))","v":0},{"$f":"IF(C16332=\"\",0,IF(COUNTA(B16332:O16332)>0,1,0))","v":0},{"$f":"IFERROR(IF(LEN(F16332)=8,0,IF(LEN(F16332)=0,0,1)),1)","v":0},{"$f":"IF(F16332=\"\",0,IF(isNccValid(F16332),0,1))","v":0}]
[null,null,null,null,null,null,null,null,null,null,null,null,null,null,null,"",0,0,0,{"$f":"IF(F16337=\"\",0,IF(isNccValid(F16337),0,1))","v":0}]
[null,null,null,null,null,null,null,null,null,null,null,null,null,null,null,"",0,0,0,{"$f":"IF(F16347=\"\",0,IF(isNccValid(F16347),0,1))","v":0}]
[null,null,null,null,null,null,null,null,null,null,null,null,null,null,null,"",0,0,0,{"$f":"IF(F16364=\"\",0,IF(isNccValid(F16364),0,1))","v":0}]
[null,null,null,null,null,null,null,null,null,null,null,null,null,null,null,"",0,0,0,{"$f":"IF(F16369=\"\",0,IF(isNccValid(F16369),0,1))","v":0}]
[null,null,null,null,null,null,null,null,null,null,null,null,null,null,null,"",0,0,0,{"$f":"IF(F16381=\"\",0,IF(isNccValid(F16381),0,1))","v":0}]
[null,null,null,null,null,null,null,null,null,null,null,null,null,null,null,"",0,0,0,{"$f":"IF(F16398=\"\",0,IF(isNccValid(F16398),0,1))","v":0}]
[null,null,null,null,null,null,null,null,null,null,null,null,null,null,null,"",0,0,0,{"$f":"IF(F16404=\"\",0,IF(isNccValid(F16404),0,1))","v":0}]
[null,null,null,null,null,null,null,null,null,null,null,null,null,null,null,"",0,0,0,{"$f":"IF(F16422=\"\",0,IF(isNccValid(F16422),0,1))","v":0}]
[null,null,null,null,null,null,null,null,null,null,null,null,null,null,null,"",0,0,0,{"$f":"IF(F16432=\"\",0,IF(isNccValid(F16432),0,1))","v":0}]
[null,null,null,null,null,null,null,null,null,null,null,null,null,null,null,"",0,0,0,{"$f":"IF(F16442=\"\",0,IF(isNccValid(F16442),0,1))","v":0}]
[null,null,null,null,null,null,null,null,null,null,null,null,null,null,null,"",0,0,0,{"$f":"IF(F16448=\"\",0,IF(isNccValid(F16448),0,1))","v":0}]
[null,null,null,null,null,null,null,null,null,null,null,null,null,null,null,"",0,0,0,{"$f":"IF(F16459=\"\",0,IF(isNccValid(F16459),0,1))","v":0}]
[null,null,null,null,null,null,null,null,null,null,null,null,null,null,null,"",0,0,0,{"$f":"IF(F16476=\"\",0,IF(isNccValid(F16476),0,1))","v":0}]
[null,null,null,null,null,null,null,null,null,null,null,null,null,null,null,"",0,0,0,{"$f":"IF(F16482=\"\",0,IF(isNccValid(F16482),0,1))","v":0}]
[null,null,null,null,null,null,null,null,null,null,null,null,null,null,null,"",0,0,0,{"$f":"IF(F16499=\"\",0,IF(isNccValid(F16499),0,1))","v":0}]
[null,null,null,null,null,null,null,null,null,null,null,null,null,null,null,"",0,0,0,{"$f":"IF(F16512=\"\",0,IF(isNccValid(F16512),0,1))","v":0}]
[null,null,null,null,null,null,null,null,null,null,null,null,null,null,null,"",0,0,0,{"$f":"IF(F16516=\"\",0,IF(isNccValid(F16516),0,1))","v":0}]
[null,null,null,null,null,null,null,null,null,null,null,null,null,null,null,"",0,0,0,{"$f":"IF(F16526=\"\",0,IF(isNccValid(F16526),0,1))","v":0}]
[null,null,null,null,null,null,null,null,null,null,null,null,null,null,null,"",0,0,0,{"$f":"IF(F16543=\"\",0,IF(isNccValid(F16543),0,1))","v":0}]
[null,null,null,null,null,null,null,null,null,null,null,null,null,null,null,"",0,0,0,{"$f":"IF(F16549=\"\",0,IF(isNccValid(F16549),0,1))","v":0}]
[null,null,null,null,null,null,null,null,null,null,null,null,null,null,null,"",0,0,0,{"$f":"IF(F16560=\"\",0,IF(isNccValid(F16560),0,1))","v":0}]
[null,null,null,null,null,null,null,null,null,null,null,null,null,null,null,"",0,0,0,{"$f":"IF(F16577=\"\",0,IF(isNccValid(F16577),0,1))","v":0}]
[null,null,null,null,null,null,null,null,null,null,null,null,null,null,null,"",0,0,0,{"$f":"IF(F16587=\"\",0,IF(isNccValid(F16587),0,1))","v":0}]
[null,null,null,null,null,null,null,null,null,null,null,null,null,null,null,"",0,0,0,{"$f":"IF(F16602=\"\",0,IF(isNccValid(F16602),0,1))","v":0}]
[null,null,null,null,null,null,null,null,null,null,null,null,null,null,null,"",0,0,0,{"$f":"IF(F16611=\"\",0,IF(isNccValid(F16611),0,1))","v":0}]
[null,null,null,null,null,null,null,null,null,null,null,null,null,null,null,"",0,0,0,{"$f":"IF(F16621=\"\",0,IF(isNccValid(F16621),0,1))","v":0}]
[null,null,null,null,null,null,null,null,null,null,null,null,null,null,null,"",0,0,0,{"$f":"IF(F16627=\"\",0,IF(isNccValid(F16627),0,1))","v":0}]
[null,null,null,null,null,null,null,null,null,null,null,null,null,null,null,"",0,0,0,{"$f":"IF(F16639=\"\",0,IF(isNccValid(F16639),0,1))","v":0}]
[null,null,null,null,null,null,null,null,null,null,null,null,null,null,null,"",0,0,0,{"$f":"IF(F16655=\"\",0,IF(isNccValid(F16655),0,1))","v":0}]
[null,null,null,null,null,null,null,null,null,null,null,null,null,null,null,"",0,0,0,{"$f":"IF(F16661=\"\",0,IF(isNccValid(F16661),0,1))","v":0}]
[null,null,null,null,null,null,null,null,null,null,null,null,null,null,null,"",0,0,0,{"$f":"IF(F16671=\"\",0,IF(isNccValid(F16671),0,1))","v":0}]
[null,null,null,null,null,null,null,null,null,null,null,null,null,null,null,"",0,0,0,{"$f":"IF(F16692=\"\",0,IF(isNccValid(F16692),0,1))","v":0}]
[null,null,null,null,null,null,null,null,null,null,null,null,null,null,null,"",0,0,0,{"$f":"IF(F16695=\"\",0,IF(isNccValid(F16695),0,1))","v":0}]
[null,null,null,null,null,null,null,null,null,null,null,null,null,null,null,"",0,0,0,{"$f":"IF(F16705=\"\",0,IF(isNccValid(F16705),0,1))","v":0}]
[null,null,null,null,null,null,null,null,null,null,null,null,null,null,null,"",0,0,0,{"$f":"IF(F16722=\"\",0,IF(isNccValid(F16722),0,1))","v":0}]
[null,null,null,null,null,null,null,null,null,null,null,null,null,null,null,"",0,0,0,{"$f":"IF(F16729=\"\",0,IF(isNccValid(F16729),0,1))","v":0}]
[null,null,null,null,null,null,null,null,null,null,null,null,null,null,null,"",0,0,0,{"$f":"IF(F16739=\"\",0,IF(isNccValid(F16739),0,1))","v":0}]
[null,null,null,null,null,null,null,null,null,null,null,null,null,null,null,"",0,0,0,{"$f":"IF(F16756=\"\",0,IF(isNccValid(F16756),0,1))","v":0}]
[null,null,null,null,null,null,null,null,null,null,null,null,null,null,null,"",0,0,0,{"$f":"IF(F16766=\"\",0,IF(isNccValid(F16766),0,1))","v":0}]
[null,null,null,null,null,null,null,null,null,null,null,null,null,null,null,"",0,0,0,{"$f":"IF(F16782=\"\",0,IF(isNccValid(F16782),0,1))","v":0}]
[null,null,null,null,null,null,null,null,null,null,null,null,null,null,null,{"$f":"IF(B16790=\"\",\"\",M16790*O16790)","v":""},0,0,0,{"$f":"IF(F16790=\"\",0,IF(isNccValid(F16790),0,1))","v":0}]
[null,null,null,null,null,null,null,null,null,null,null,null,null,null,null,"",0,0,0,{"$f":"IF(F16800=\"\",0,IF(isNccValid(F16800),0,1))","v":0}]
[null,null,null,null,null,null,null,null,null,null,null,null,null,null,null,"",0,0,0,{"$f":"IF(F16806=\"\",0,IF(isNccValid(F16806),0,1))","v":0}]
[null,null,null,null,null,null,null,null,null,null,null,null,null,null,null,"",0,0,0,{"$f":"IF(F16823=\"\",0,IF(isNccValid(F16823),0,1))","v":0}]
[null,null,null,null,null,null,null,null,null,null,null,null,null,null,null,"",0,0,0,{"$f":"IF(F16834=\"\",0,IF(isNccValid(F16834),0,1))","v":0}]
[null,null,null,null,null,null,null,null,null,null,null,null,null,null,null,"",0,0,0,{"$f":"IF(F16840=\"\",0,IF(isNccValid(F16840),0,1))","v":0}]
[null,null,null,null,null,null,null,null,null,null,null,null,null,null,null,"",0,0,0,{"$f":"IF(F16861=\"\",0,IF(isNccValid(F16861),0,1))","v":0}]
[null,null,null,null,null,null,null,null,null,null,null,null,null,null,null,"",0,0,0,{"$f":"IF(F16872=\"\",0,IF(isNccValid(F16872),0,1))","v":0}]
[null,null,null,null,null,null,null,null,null,null,null,null,null,null,null,"",0,0,0,{"$f":"IF(F16874=\"\",0,IF(isNccValid(F16874),0,1))","v":0}]
[null,null,null,null,null,null,null,null,null,null,null,null,null,null,null,"",0,0,0,{"$f":"IF(F16895=\"\",0,IF(isNccValid(F16895),0,1))","v":0}]
[null,null,null,null,null,null,null,null,null,null,null,null,null,null,null,"",0,0,0,{"$f":"IF(F16901=\"\",0,IF(isNccValid(F16901),0,1))","v":0}]
[null,null,null,null,null,null,null,null,null,null,null,null,null,null,null,"",0,0,0,{"$f":"IF(F16913=\"\",0,IF(isNccValid(F16913),0,1))","v":0}]
[null,null,null,null,null,null,null,null,null,null,null,null,null,null,null,"",0,0,0,{"$f":"IF(F16929=\"\",0,IF(isNccValid(F16929),0,1))","v":0}]
[null,null,null,null,null,null,null,null,null,null,null,null,null,null,null,"",0,0,0,{"$f":"IF(F16935=\"\",0,IF(isNccValid(F16935),0,1))","v":0}]
[null,null,null,null,null,null,null,null,null,null,null,null,null,null,null,"",0,0,0,{"$f":"IF(F16945=\"\",0,IF(isNccValid(F16945),0,1))","v":0}]
[null,null,null,null,null,null,null,null,null,null,null,null,null,null,null,"",0,0,0,{"$f":"IF(F16962=\"\",0,IF(isNccValid(F16962),0,1))","v":0}]
[null,null,null,null,null,null,null,null,null,null,null,null,null,null,null,"",0,0,0,{"$f":"IF(F16973=\"\",0,IF(isNccValid(F16973),0,1))","v":0}]
[null,null,null,null,null,null,null,null,null,null,null,null,null,null,null,"",0,0,0,{"$f":"IF(F16979=\"\",0,IF(isNccValid(F16979),0,1))","v":0}]
[null,null,null,null,null,null,null,null,null,null,null,null,null,null,null,"",0,0,0,{"$f":"IF(F16996=\"\",0,IF(isNccValid(F16996),0,1))","v":0}]
[null,null,null,null,null,null,null,null,null,null,null,null,null,null,null,"",0,0,0,{"$f":"IF(F17003=\"\",0,IF(isNccValid(F17003),0,1))","v":0}]
[null,null,null,null,null,null,null,null,null,null,null,null,null,null,null,"",0,0,0,{"$f":"IF(F17013=\"\",0,IF(isNccValid(F17013),0,1))","v":0}]
[null,null,null,null,null,null,null,null,null,null,null,null,null,null,null,"",0,0,0,{"$f":"IF(F17030=\"\",0,IF(isNccValid(F17030),0,1))","v":0}]
[null,null,null,null,null,null,null,null,null,null,null,null,null,null,null,"",0,0,0,{"$f":"IF(F17040=\"\",0,IF(isNccValid(F17040),0,1))","v":0}]
[null,null,null,null,null,null,null,null,null,null,null,null,null,null,null,"",0,0,0,{"$f":"IF(F17052=\"\",0,IF(isNccValid(F17052),0,1))","v":0}]
[null,null,null,null,null,null,null,null,null,null,null,null,null,null,null,"",0,0,0,{"$f":"IF(F17057=\"\",0,IF(isNccValid(F17057),0,1))","v":0}]
[null,null,null,null,null,null,null,null,null,null,null,null,null,null,null,"",0,0,0,{"$f":"IF(F17074=\"\",0,IF(isNccValid(F17074),0,1))","v":0}]
[null,null,null,null,null,null,null,null,null,null,null,null,null,null,null,"",0,0,0,{"$f":"IF(F17080=\"\",0,IF(isNccValid(F17080),0,1))","v":0}]
[null,null,null,null,null,null,null,null,null,null,null,null,null,null,null,"",0,0,0,{"$f":"IF(F17093=\"\",0,IF(isNccValid(F17093),0,1))","v":0}]
[null,null,null,null,null,null,null,null,null,null,null,null,null,null,null,"",0,0,0,{"$f":"IF(F17108=\"\",0,IF(isNccValid(F17108),0,1))","v":0}]
[null,null,null,null,null,null,null,null,null,null,null,null,null,null,null,"",0,0,0,{"$f":"IF(F17114=\"\",0,IF(isNccValid(F17114),0,1))","v":0}]
[null,null,null,null,null,null,null,null,null,null,null,null,null,null,null,"",0,0,0,{"$f":"IF(F17124=\"\",0,IF(isNccValid(F17124),0,1))","v":0}]
[null,null,null,null,null,null,null,null,null,null,null,null,null,null,null,"",0,0,0,{"$f":"IF(F17142=\"\",0,IF(isNccValid(F17142),0,1))","v":0}]
[null,null,null,null,null,null,null,null,null,null,null,null,null,null,null,"",0,0,0,{"$f":"IF(F17152=\"\",0,IF(isNccValid(F17152),0,1))","v":0}]
[null,null,null,null,null,null,null,null,null,null,null,null,null,null,null,"",0,0,0,{"$f":"IF(F17158=\"\",0,IF(isNccValid(F17158),0,1))","v":0}]
[null,null,null,null,null,null,null,null,null,null,null,null,null,null,null,"",0,0,0,{"$f":"IF(F17175=\"\",0,IF(isNccValid(F17175),0,1))","v":0}]
[null,null,null,null,null,null,null,null,null,null,null,null,null,null,null,"",0,0,0,{"$f":"IF(F17183=\"\",0,IF(isNccValid(F17183),0,1))","v":0}]
[null,null,null,null,null,null,null,null,null,null,null,null,null,null,null,"",0,0,0,{"$f":"IF(F17192=\"\",0,IF(isNccValid(F17192),0,1))","v":0}]
[null,null,null,null,null,null,null,null,null,null,null,null,null,null,null,"",0,0,0,{"$f":"IF(F17202=\"\",0,IF(isNccValid(F17202),0,1))","v":0}]
[null,null,null,null,null,null,null,null,null,null,null,null,null,null,null,"",0,0,0,{"$f":"IF(F17219=\"\",0,IF(isNccValid(F17219),0,1))","v":0}]
[null,null,null,null,null,null,null,null,null,null,null,null,null,null,null,"",0,0,0,{"$f":"IF(F17232=\"\",0,IF(isNccValid(F17232),0,1))","v":0}]
[null,null,null,null,null,null,null,null,null,null,null,null,null,null,null,"",0,0,0,{"$f":"IF(F17236=\"\",0,IF(isNccValid(F17236),0,1))","v":0}]
[null,null,null,null,null,null,null,null,null,null,null,null,null,null,null,"",0,0,0,{"$f":"IF(F17253=\"\",0,IF(isNccValid(F17253),0,1))","v":0}]
[null,null,null,null,null,null,null,null,null,null,null,null,null,null,null,"",0,0,0,{"$f":"IF(F17259=\"\",0,IF(isNccValid(F17259),0,1))","v":0}]
[null,null,null,null,null,null,null,null,null,null,null,null,null,null,null,"",0,0,0,{"$f":"IF(F17273=\"\",0,IF(isNccValid(F17273),0,1))","v":0}]
[null,null,null,null,null,null,null,null,null,null,null,null,null,null,null,"",0,0,0,{"$f":"IF(F17287=\"\",0,IF(isNccValid(F17287),0,1))","v":0}]
[null,null,null,null,null,null,null,null,null,null,null,null,null,null,null,"",0,0,0,{"$f":"IF(F17297=\"\",0,IF(isNccValid(F17297),0,1))","v":0}]
[null,null,null,null,null,null,null,null,null,null,null,null,null,null,null,"",0,0,0,{"$f":"IF(F17303=\"\",0,IF(isNccValid(F17303),0,1))","v":0}]
[null,null,null,null,null,null,null,null,null,null,null,null,null,null,null,"",0,0,0,{"$f":"IF(F17322=\"\",0,IF(isNccValid(F17322),0,1))","v":0}]
[null,null,null,null,null,null,null,null,null,null,null,null,null,null,null,"",0,0,0,{"$f":"IF(F17331=\"\",0,IF(isNccValid(F17331),0,1))","v":0}]
[null,null,null,null,null,null,null,null,null,null,null,null,null,null,null,"",0,0,0,{"$f":"IF(F17337=\"\",0,IF(isNccValid(F17337),0,1))","v":0}]
[null,null,null,null,null,null,null,null,null,null,null,null,null,null,null,"",0,0,0,{"$f":"IF(F17347=\"\",0,IF(isNccValid(F17347),0,1))","v":0}]
[null,null,null,null,null,null,{"$f":"IF(OR(B17363=Referentiel!#REF!,B17363=Referentiel!#REF!),\"Choisir un pays\",\"\")","v":{"$error":"#REF!"}},null,null,null,null,null,null,null,null,"",0,0,0,{"$f":"IF(F17363=\"\",0,IF(isNccValid(F17363),0,1))","v":0}]
[null,null,null,null,null,null,null,null,null,null,null,null,null,null,null,"",0,0,0,{"$f":"IF(F17371=\"\",0,IF(isNccValid(F17371),0,1))","v":0}]
[null,null,null,null,null,null,null,null,null,null,null,null,null,null,null,"",0,0,0,{"$f":"IF(F17381=\"\",0,IF(isNccValid(F17381),0,1))","v":0}]
[null,null,null,null,null,null,null,null,null,null,null,null,null,null,null,"",0,0,0,{"$f":"IF(F17398=\"\",0,IF(isNccValid(F17398),0,1))","v":0}]
[null,null,null,null,null,null,null,null,null,null,null,null,null,null,null,"",0,0,0,{"$f":"IF(F17412=\"\",0,IF(isNccValid(F17412),0,1))","v":0}]
[null,null,null,null,null,null,null,null,null,null,null,null,null,null,null,"",0,0,0,{"$f":"IF(F17415=\"\",0,IF(isNccValid(F17415),0,1))","v":0}]
[null,null,null,null,null,null,null,null,null,null,null,null,null,null,null,"",0,0,0,{"$f":"IF(F17432=\"\",0,IF(isNccValid(F17432),0,1))","v":0}]
[null,null,null,null,null,null,null,null,null,null,null,null,null,null,null,"",0,0,0,{"$f":"IF(F17442=\"\",0,IF(isNccValid(F17442),0,1))","v":0}]
[null,null,null,null,null,null,null,null,null,null,null,null,null,null,null,"",0,0,0,{"$f":"IF(F17453=\"\",0,IF(isNccValid(F17453),0,1))","v":0}]
[null,null,null,null,null,null,null,null,null,null,null,null,null,null,null,"",0,0,0,{"$f":"IF(F17466=\"\",0,IF(isNccValid(F17466),0,1))","v":0}]
[null,null,null,null,null,null,null,null,null,null,null,null,null,null,null,"",0,0,0,{"$f":"IF(F17476=\"\",0,IF(isNccValid(F17476),0,1))","v":0}]
[null,null,null,null,null,null,null,null,null,null,null,null,null,null,null,"",0,0,0,{"$f":"IF(F17482=\"\",0,IF(isNccValid(F17482),0,1))","v":0}]
[null,null,null,null,null,null,null,null,null,null,null,null,null,null,null,"",0,0,0,{"$f":"IF(F17502=\"\",0,IF(isNccValid(F17502),0,1))","v":0}]
[null,null,null,null,null,null,null,null,null,null,null,null,null,null,null,"",0,0,0,{"$f":"IF(F17510=\"\",0,IF(isNccValid(F17510),0,1))","v":0}]
[null,null,null,null,null,null,null,null,null,null,null,null,null,null,null,"",0,0,0,{"$f":"IF(F17516=\"\",0,IF(isNccValid(F17516),0,1))","v":0}]
[null,null,null,null,null,null,null,null,null,null,null,null,null,null,null,"",0,0,0,{"$f":"IF(F17526=\"\",0,IF(isNccValid(F17526),0,1))","v":0}]
[null,null,null,null,null,null,null,null,null,null,null,null,null,null,null,"",0,0,0,{"$f":"IF(F17543=\"\",0,IF(isNccValid(F17543),0,1))","v":0}]
[null,null,null,null,null,null,null,null,null,null,null,null,null,null,null,"",0,0,0,{"$f":"IF(F17550=\"\",0,IF(isNccValid(F17550),0,1))","v":0}]
[null,null,null,null,null,null,null,null,null,null,null,null,null,null,null,"",0,0,0,{"$f":"IF(F17560=\"\",0,IF(isNccValid(F17560),0,1))","v":0}]
[null,null,null,null,null,null,null,null,null,null,null,null,null,null,null,"",0,0,0,{"$f":"IF(F17577=\"\",0,IF(isNccValid(F17577),0,1))","v":0}]
[null,null,null,null,null,null,null,null,null,null,null,null,null,null,null,"",0,0,0,{"$f":"IF(F17584=\"\",0,IF(isNccValid(F17584),0,1))","v":0}]
[null,null,null,null,null,null,null,null,null,null,null,null,null,null,null,"",0,0,0,{"$f":"IF(F17594=\"\",0,IF(isNccValid(F17594),0,1))","v":0}]
[null,null,null,null,null,null,null,null,null,null,null,null,null,null,null,"",0,0,0,{"$f":"IF(F17611=\"\",0,IF(isNccValid(F17611),0,1))","v":0}]
[null,null,null,null,null,null,null,null,null,null,null,null,null,null,null,"",0,0,0,{"$f":"IF(F17621=\"\",0,IF(isNccValid(F17621),0,1))","v":0}]
[null,null,null,null,null,null,null,null,null,null,null,null,null,null,null,"",0,0,0,{"$f":"IF(F17633=\"\",0,IF(isNccValid(F17633),0,1))","v":0}]
[null,null,null,null,null,null,null,null,null,null,null,null,null,null,null,"",0,0,0,{"$f":"IF(F17645=\"\",0,IF(isNccValid(F17645),0,1))","v":0}]
[null,null,null,null,null,null,null,null,null,null,null,null,null,null,null,"",0,0,0,{"$f":"IF(F17655=\"\",0,IF(isNccValid(F17655),0,1))","v":0}]
[null,null,null,null,null,null,null,null,null,null,null,null,null,null,null,"",0,0,0,{"$f":"IF(F17661=\"\",0,IF(isNccValid(F17661),0,1))","v":0}]
[null,null,null,null,null,null,null,null,null,null,null,null,null,null,null,"",0,0,0,{"$f":"IF(F17674=\"\",0,IF(isNccValid(F17674),0,1))","v":0}]
[null,null,null,null,null,null,null,null,null,null,null,null,null,null,null,"",0,0,0,{"$f":"IF(F17689=\"\",0,IF(isNccValid(F17689),0,1))","v":0}]
[null,null,null,null,null,null,null,null,null,null,null,null,null,null,null,"",0,0,0,{"$f":"IF(F17695=\"\",0,IF(isNccValid(F17695),0,1))","v":0}]
[null,null,null,null,null,null,null,null,null,null,null,null,null,null,null,"",0,0,0,{"$f":"IF(F17716=\"\",0,IF(isNccValid(F17716),0,1))","v":0}]
[null,null,null,null,null,null,null,null,null,null,null,null,null,null,null,"",0,0,0,{"$f":"IF(F17723=\"\",0,IF(isNccValid(F17723),0,1))","v":0}]
[null,null,null,null,null,null,null,null,null,null,null,null,null,null,null,"",0,0,0,{"$f":"IF(F17729=\"\",0,IF(isNccValid(F17729),0,1))","v":0}]
[null,null,null,null,null,null,null,null,null,null,null,null,null,null,null,{"$f":"IF(B17750=\"\",\"\",M17750*O17750)","v":""},0,0,0,{"$f":"IF(F17750=\"\",0,IF(isNccValid(F17750),0,1))","v":0}]
[null,null,null,null,null,null,null,null,null,null,null,null,null,null,null,"",0,0,0,{"$f":"IF(F17756=\"\",0,IF(isNccValid(F17756),0,1))","v":0}]
[null,null,null,null,null,null,null,null,null,null,null,null,null,null,null,"",0,0,0,{"$f":"IF(F17764=\"\",0,IF(isNccValid(F17764),0,1))","v":0}]
[null,null,null,null,null,null,null,null,null,null,null,null,null,null,null,"",0,0,0,{"$f":"IF(F17784=\"\",0,IF(isNccValid(F17784),0,1))","v":0}]
[null,null,null,null,null,null,null,null,null,null,null,null,null,null,null,"",0,0,0,{"$f":"IF(F17790=\"\",0,IF(isNccValid(F17790),0,1))","v":0}]
[null,null,null,null,null,null,null,null,null,null,null,null,null,null,null,"",0,0,0,{"$f":"IF(F17800=\"\",0,IF(isNccValid(F17800),0,1))","v":0}]
[null,null,null,null,null,null,null,null,null,null,null,null,null,null,null,"",0,0,0,{"$f":"IF(F17813=\"\",0,IF(isNccValid(F17813),0,1))","v":0}]
[null,null,null,null,null,null,null,null,null,null,null,null,null,null,null,"",0,0,0,{"$f":"IF(F17828=\"\",0,IF(isNccValid(F17828),0,1))","v":0}]
[null,null,null,null,null,null,null,null,null,null,null,null,null,null,null,"",{"$f":"IF(AND(B17834=\"\",R17834=1),1,IF(AND(D17834=\"\",R17834=1),1,IF(AND(E17834=\"\",R17834=1),1,IF(AND(F17834=\"\",R17834=1),1,IF(AND(M17834=\"\",R17834=1),1,IF(AND(O17834=\"\",R17834=1),1,0))))))","v":0},{"$f":"IF(C17834=\"\",0,IF(COUNTA(B17834:O17834)>0,1,0))","v":0},{"$f":"IFERROR(IF(LEN(F17834)=8,0,IF(LEN(F17834)=0,0,1)),1)","v":0},{"$f":"IF(F17834=\"\",0,IF(isNccValid(F17834),0,1))","v":0}]
[null,null,null,null,null,null,null,null,null,null,null,null,null,null,null,"",0,0,0,{"$f":"IF(F17851=\"\",0,IF(isNccValid(F17851),0,1))","v":0}]
[null,null,null,null,null,null,null,null,null,null,null,null,null,null,null,"",0,0,0,{"$f":"IF(F17854=\"\",0,IF(isNccValid(F17854),0,1))","v":0}]
[null,null,null,null,null,null,null,null,null,null,null,null,null,null,null,"",0,0,0,{"$f":"IF(F17868=\"\",0,IF(isNccValid(F17868),0,1))","v":0}]
[null,null,null,null,null,null,null,null,null,null,null,null,null,null,null,"",0,0,0,{"$f":"IF(F17885=\"\",0,IF(isNccValid(F17885),0,1))","v":0}]
[null,null,null,null,null,null,null,null,null,null,null,null,null,null,null,"",0,0,0,{"$f":"IF(F17895=\"\",0,IF(isNccValid(F17895),0,1))","v":0}]
[null,null,null,null,null,null,null,null,null,null,null,null,null,null,null,"",0,0,0,{"$f":"IF(F17903=\"\",0,IF(isNccValid(F17903),0,1))","v":0}]
[null,null,null,null,null,null,null,null,null,null,null,null,null,null,null,"",0,0,0,{"$f":"IF(F17912=\"\",0,IF(isNccValid(F17912),0,1))","v":0}]
[null,null,null,null,null,null,null,null,null,null,null,null,null,null,null,"",0,0,0,{"$f":"IF(F17929=\"\",0,IF(isNccValid(F17929),0,1))","v":0}]
[null,null,null,null,null,null,null,null,null,null,null,null,null,null,null,"",0,0,0,{"$f":"IF(F17935=\"\",0,IF(isNccValid(F17935),0,1))","v":0}]
[null,null,null,null,null,null,null,null,null,null,null,null,null,null,null,"",0,0,0,{"$f":"IF(F17944=\"\",0,IF(isNccValid(F17944),0,1))","v":0}]
[null,null,null,null,null,null,null,null,null,null,null,null,null,null,null,"",0,0,0,{"$f":"IF(F17963=\"\",0,IF(isNccValid(F17963),0,1))","v":0}]
[null,null,null,null,null,null,null,null,null,null,null,null,null,null,null,"",0,0,0,{"$f":"IF(F17973=\"\",0,IF(isNccValid(F17973),0,1))","v":0}]
[null,null,null,null,null,null,null,null,null,null,null,null,null,null,null,"",0,0,0,{"$f":"IF(F17979=\"\",0,IF(isNccValid(F17979),0,1))","v":0}]
[null,null,null,null,null,null,null,null,null,null,null,null,null,null,null,"",0,0,0,{"$f":"IF(F17993=\"\",0,IF(isNccValid(F17993),0,1))","v":0}]
[null,null,null,null,null,null,null,null,null,null,null,null,null,null,null,"",0,0,0,{"$f":"IF(F18007=\"\",0,IF(isNccValid(F18007),0,1))","v":0}]
[null,null,null,null,null,null,null,null,null,null,null,null,null,null,null,"",0,0,0,{"$f":"IF(F18013=\"\",0,IF(isNccValid(F18013),0,1))","v":0}]
[null,null,null,null,null,null,null,null,null,null,null,null,null,null,null,"",0,0,0,{"$f":"IF(F18030=\"\",0,IF(isNccValid(F18030),0,1))","v":0}]
[null,null,null,null,null,null,null,null,null,null,null,null,null,null,null,"",0,0,0,{"$f":"IF(F18034=\"\",0,IF(isNccValid(F18034),0,1))","v":0}]
[null,null,null,null,null,null,null,null,null,null,null,null,null,null,null,"",0,0,0,{"$f":"IF(F18047=\"\",0,IF(isNccValid(F18047),0,1))","v":0}]
[null,null,null,null,null,null,null,null,null,null,null,null,null,null,null,"",0,0,0,{"$f":"IF(F18057=\"\",0,IF(isNccValid(F18057),0,1))","v":0}]
[null,null,null,null,null,null,null,null,null,null,null,null,null,null,null,"",0,0,0,{"$f":"IF(F18074=\"\",0,IF(isNccValid(F18074),0,1))","v":0}]
[null,null,null,null,null,null,null,null,null,null,null,null,null,null,null,"",0,0,0,{"$f":"IF(F18083=\"\",0,IF(isNccValid(F18083),0,1))","v":0}]
[null,null,null,null,null,null,null,null,null,null,null,null,null,null,null,"",0,0,0,{"$f":"IF(F18091=\"\",0,IF(isNccValid(F18091),0,1))","v":0}]
[null,null,null,null,null,null,null,null,null,null,null,null,null,null,null,"",0,0,0,{"$f":"IF(F18108=\"\",0,IF(isNccValid(F18108),0,1))","v":0}]
[null,null,null,null,null,null,null,null,null,null,null,null,null,null,null,"",0,0,0,{"$f":"IF(F18114=\"\",0,IF(isNccValid(F18114),0,1))","v":0}]
[null,null,null,null,null,null,null,null,null,null,null,null,null,null,null,"",0,0,0,{"$f":"IF(F18124=\"\",0,IF(isNccValid(F18124),0,1))","v":0}]
[null,null,null,null,null,null,null,null,null,null,null,null,null,null,null,"",0,0,0,{"$f":"IF(F18142=\"\",0,IF(isNccValid(F18142),0,1))","v":0}]
[null,null,null,null,null,null,null,null,null,null,null,null,null,null,null,"",0,0,0,{"$f":"IF(F18152=\"\",0,IF(isNccValid(F18152),0,1))","v":0}]
[null,null,null,null,null,null,null,null,null,null,null,null,null,null,null,"",0,0,0,{"$f":"IF(F18158=\"\",0,IF(isNccValid(F18158),0,1))","v":0}]
[null,null,null,null,null,null,null,null,null,null,null,null,null,null,null,"",0,0,0,{"$f":"IF(F18173=\"\",0,IF(isNccValid(F18173),0,1))","v":0}]
[null,null,null,null,null,null,null,null,null,null,null,null,null,null,null,"",0,0,0,{"$f":"IF(F18186=\"\",0,IF(isNccValid(F18186),0,1))","v":0}]
[null,null,null,null,null,null,null,null,null,null,null,null,null,null,null,"",0,0,0,{"$f":"IF(F18192=\"\",0,IF(isNccValid(F18192),0,1))","v":0}]
[null,null,null,null,null,null,null,null,null,null,null,null,null,null,null,"",0,0,0,{"$f":"IF(F18202=\"\",0,IF(isNccValid(F18202),0,1))","v":0}]
[null,null,null,null,null,null,null,null,null,null,null,null,null,null,null,"",0,0,0,{"$f":"IF(F18214=\"\",0,IF(isNccValid(F18214),0,1))","v":0}]
[null,null,null,null,null,null,null,null,null,null,null,null,null,null,null,"",0,0,0,{"$f":"IF(F18226=\"\",0,IF(isNccValid(F18226),0,1))","v":0}]
[null,null,null,null,null,null,null,null,null,null,null,null,null,null,null,"",0,0,0,{"$f":"IF(F18236=\"\",0,IF(isNccValid(F18236),0,1))","v":0}]
[null,null,null,null,null,null,null,null,null,null,null,null,null,null,null,"",0,0,0,{"$f":"IF(F18253=\"\",0,IF(isNccValid(F18253),0,1))","v":0}]
[null,null,null,null,null,null,null,null,null,null,null,null,null,null,null,"",0,0,0,{"$f":"IF(F18263=\"\",0,IF(isNccValid(F18263),0,1))","v":0}]
[null,null,null,null,null,null,null,null,null,null,null,null,null,null,null,"",0,0,0,{"$f":"IF(F18270=\"\",0,IF(isNccValid(F18270),0,1))","v":0}]
[null,null,null,null,null,null,null,null,null,null,null,null,null,null,null,"",0,0,0,{"$f":"IF(F18287=\"\",0,IF(isNccValid(F18287),0,1))","v":0}]
[null,null,null,null,null,null,null,null,null,null,null,null,null,null,null,"",0,0,0,{"$f":"IF(F18297=\"\",0,IF(isNccValid(F18297),0,1))","v":0}]
[null,null,null,null,null,null,null,null,null,null,null,null,null,null,null,"",0,0,0,{"$f":"IF(F18304=\"\",0,IF(isNccValid(F18304),0,1))","v":0}]
[null,null,null,null,null,null,null,null,null,null,null,null,null,null,null,"",0,0,0,{"$f":"IF(F18321=\"\",0,IF(isNccValid(F18321),0,1))","v":0}]
[null,null,null,null,null,null,null,null,null,null,null,null,null,null,null,"",0,0,0,{"$f":"IF(F18331=\"\",0,IF(isNccValid(F18331),0,1))","v":0}]
[null,null,null,null,null,null,null,null,null,null,null,null,null,null,null,"",0,0,0,{"$f":"IF(F18337=\"\",0,IF(isNccValid(F18337),0,1))","v":0}]
[null,null,null,null,null,null,null,null,null,null,null,null,null,null,null,"",0,0,0,{"$f":"IF(F18353=\"\",0,IF(isNccValid(F18353),0,1))","v":0}]
[null,null,null,null,null,null,null,null,null,null,null,null,null,null,null,"",0,0,0,{"$f":"IF(F18365=\"\",0,IF(isNccValid(F18365),0,1))","v":0}]
[null,null,null,null,null,null,null,null,null,null,null,null,null,null,null,"",0,0,0,{"$f":"IF(F18371=\"\",0,IF(isNccValid(F18371),0,1))","v":0}]
[null,null,null,null,null,null,null,null,null,null,null,null,null,null,null,"",0,0,0,{"$f":"IF(F18381=\"\",0,IF(isNccValid(F18381),0,1))","v":0}]
[null,null,null,null,null,null,null,null,null,null,null,null,null,null,null,"",0,0,0,{"$f":"IF(F18394=\"\",0,IF(isNccValid(F18394),0,1))","v":0}]
[null,null,null,null,null,null,null,null,null,null,null,null,null,null,null,"",0,0,0,{"$f":"IF(F18405=\"\",0,IF(isNccValid(F18405),0,1))","v":0}]
[null,null,null,null,null,null,null,null,null,null,null,null,null,null,null,"",0,0,0,{"$f":"IF(F18415=\"\",0,IF(isNccValid(F18415),0,1))","v":0}]
[null,null,null,null,null,null,null,null,null,null,null,null,null,null,null,"",0,0,0,{"$f":"IF(F18432=\"\",0,IF(isNccValid(F18432),0,1))","v":0}]
[null,null,null,null,null,null,null,null,null,null,null,null,null,null,null,"",0,0,0,{"$f":"IF(F18447=\"\",0,IF(isNccValid(F18447),0,1))","v":0}]
[null,null,null,null,null,null,null,null,null,null,null,null,null,null,null,"",0,0,0,{"$f":"IF(F18449=\"\",0,IF(isNccValid(F18449),0,1))","v":0}]
[null,null,null,null,null,null,null,null,null,null,null,null,null,null,null,"",0,0,0,{"$f":"IF(F18466=\"\",0,IF(isNccValid(F18466),0,1))","v":0}]
[null,null,null,null,null,null,null,null,null,null,null,null,null,null,null,"",0,0,0,{"$f":"IF(F18476=\"\",0,IF(isNccValid(F18476),0,1))","v":0}]
[null,null,null,null,null,null,null,null,null,null,null,null,null,null,null,"",0,0,0,{"$f":"IF(F18484=\"\",0,IF(isNccValid(F18484),0,1))","v":0}]
[null,null,null,null,null,null,null,null,null,null,null,null,null,null,null,"",0,0,0,{"$f":"IF(F18500=\"\",0,IF(isNccValid(F18500),0,1))","v":0}]
[null,null,null,null,null,null,null,null,null,null,null,null,null,null,null,"",0,0,0,{"$f":"IF(F18510=\"\",0,IF(isNccValid(F18510),0,1))","v":0}]
[null,null,null,null,null,null,null,null,null,null,null,null,null,null,null,"",0,0,0,{"$f":"IF(F18516=\"\",0,IF(isNccValid(F18516),0,1))","v":0}]
[null,null,null,null,null,null,null,null,null,null,null,null,null,null,null,"",0,0,0,{"$f":"IF(F18537=\"\",0,IF(isNccValid(F18537),0,1))","v":0}]
[null,null,null,null,null,null,null,null,null,null,null,null,null,null,null,"",0,0,0,{"$f":"IF(F18544=\"\",0,IF(isNccValid(F18544),0,1))","v":0}]
[null,null,null,null,null,null,null,null,null,null,null,null,null,null,null,"",0,0,0,{"$f":"IF(F18550=\"\",0,IF(isNccValid(F18550),0,1))","v":0}]
[null,null,null,null,null,null,null,null,null,null,null,null,null,null,null,"",0,0,0,{"$f":"IF(F18571=\"\",0,IF(isNccValid(F18571),0,1))","v":0}]
[null,null,null,null,null,null,null,null,null,null,null,null,null,null,null,"",0,0,0,{"$f":"IF(F18574=\"\",0,IF(isNccValid(F18574),0,1))","v":0}]
[null,null,null,null,null,null,null,null,null,null,null,null,null,null,null,"",0,0,0,{"$f":"IF(F18588=\"\",0,IF(isNccValid(F18588),0,1))","v":0}]
[null,null,null,null,null,null,null,null,null,null,null,null,null,null,null,"",0,0,0,{"$f":"IF(F18605=\"\",0,IF(isNccValid(F18605),0,1))","v":0}]
[null,null,null,null,null,null,null,null,null,null,null,null,null,null,null,"",0,0,0,{"$f":"IF(F18611=\"\",0,IF(isNccValid(F18611),0,1))","v":0}]
[null,null,null,null,null,null,null,null,null,null,null,null,null,null,null,"",0,0,0,{"$f":"IF(F18627=\"\",0,IF(isNccValid(F18627),0,1))","v":0}]
[null,null,null,null,null,null,null,null,null,null,null,null,null,null,null,"",0,0,0,{"$f":"IF(F18639=\"\",0,IF(isNccValid(F18639),0,1))","v":0}]
[null,null,null,null,null,null,null,null,null,null,null,null,null,null,null,"",0,0,0,{"$f":"IF(F18645=\"\",0,IF(isNccValid(F18645),0,1))","v":0}]
[null,null,null,null,null,null,null,null,null,null,null,null,null,null,null,"",0,0,0,{"$f":"IF(F18655=\"\",0,IF(isNccValid(F18655),0,1))","v":0}]
[null,null,null,null,null,null,null,null,null,null,null,null,null,null,null,"",0,0,0,{"$f":"IF(F18664=\"\",0,IF(isNccValid(F18664),0,1))","v":0}]
[null,null,null,null,null,null,null,null,null,null,null,null,null,null,null,"",0,0,0,{"$f":"IF(F18683=\"\",0,IF(isNccValid(F18683),0,1))","v":0}]
[null,null,null,null,null,null,null,null,null,null,null,null,null,null,null,"",0,0,0,{"$f":"IF(F18689=\"\",0,IF(isNccValid(F18689),0,1))","v":0}]
[null,null,null,null,null,null,null,null,null,null,null,null,null,null,null,"",0,0,0,{"$f":"IF(F18706=\"\",0,IF(isNccValid(F18706),0,1))","v":0}]
[null,null,null,null,null,null,null,null,null,null,null,null,null,null,null,"",0,0,0,{"$f":"IF(F18717=\"\",0,IF(isNccValid(F18717),0,1))","v":0}]
[null,null,null,null,null,null,null,null,null,null,null,null,null,null,null,"",0,0,0,{"$f":"IF(F18723=\"\",0,IF(isNccValid(F18723),0,1))","v":0}]
[null,null,null,null,null,null,null,null,null,null,null,null,null,null,null,"",0,0,0,{"$f":"IF(F18740=\"\",0,IF(isNccValid(F18740),0,1))","v":0}]
[null,null,null,null,null,null,null,null,null,null,null,null,null,null,null,"",0,0,0,{"$f":"IF(F18750=\"\",0,IF(isNccValid(F18750),0,1))","v":0}]
[null,null,null,null,null,null,null,null,null,null,null,null,null,null,null,"",0,0,0,{"$f":"IF(F18754=\"\",0,IF(isNccValid(F18754),0,1))","v":0}]
[null,null,null,null,null,null,null,null,null,null,null,null,null,null,null,"",0,0,0,{"$f":"IF(F18767=\"\",0,IF(isNccValid(F18767),0,1))","v":0}]
[null,null,null,null,null,null,null,null,null,null,null,null,null,null,null,"",0,0,0,{"$f":"IF(F18784=\"\",0,IF(isNccValid(F18784),0,1))","v":0}]
[null,null,null,null,null,null,null,null,null,null,null,null,null,null,null,"",0,0,0,{"$f":"IF(F18790=\"\",0,IF(isNccValid(F18790),0,1))","v":0}]
[null,null,null,null,null,null,null,null,null,null,null,null,null,null,null,"",0,0,0,{"$f":"IF(F18807=\"\",0,IF(isNccValid(F18807),0,1))","v":0}]
[null,null,null,null,null,null,null,null,null,null,null,null,null,null,null,"",0,0,0,{"$f":"IF(F18818=\"\",0,IF(isNccValid(F18818),0,1))","v":0}]
[null,null,null,null,null,null,null,null,null,null,null,null,null,null,null,"",0,0,0,{"$f":"IF(F18828=\"\",0,IF(isNccValid(F18828),0,1))","v":0}]
[null,null,null,null,null,null,null,null,null,null,null,null,null,null,null,"",0,0,0,{"$f":"IF(F18834=\"\",0,IF(isNccValid(F18834),0,1))","v":0}]
[null,null,null,null,null,null,null,null,null,null,null,null,null,null,null,"",0,0,0,{"$f":"IF(F18844=\"\",0,IF(isNccValid(F18844),0,1))","v":0}]
[null,null,null,null,null,null,null,null,null,null,null,null,null,null,null,"",0,0,0,{"$f":"IF(F18862=\"\",0,IF(isNccValid(F18862),0,1))","v":0}]
[null,null,null,null,null,null,null,null,null,null,null,null,null,null,null,"",0,0,0,{"$f":"IF(F18868=\"\",0,IF(isNccValid(F18868),0,1))","v":0}]
[null,null,null,null,null,null,null,null,null,null,null,null,null,null,null,"",0,0,0,{"$f":"IF(F18885=\"\",0,IF(isNccValid(F18885),0,1))","v":0}]
[null,null,null,null,null,null,null,null,null,null,null,null,null,null,null,"",0,0,0,{"$f":"IF(F18896=\"\",0,IF(isNccValid(F18896),0,1))","v":0}]
[null,null,null,null,null,null,null,null,null,null,null,null,null,null,null,{"$f":"IF(B18902=\"\",\"\",M18902*O18902)","v":""},0,0,0,{"$f":"IF(F18902=\"\",0,IF(isNccValid(F18902),0,1))","v":0}]
[null,null,null,null,null,null,null,null,null,null,null,null,null,null,null,"",0,0,0,{"$f":"IF(F18912=\"\",0,IF(isNccValid(F18912),0,1))","v":0}]
[null,null,null,null,null,null,null,null,null,null,null,null,null,null,null,"",0,0,0,{"$f":"IF(F18926=\"\",0,IF(isNccValid(F18926),0,1))","v":0}]
[null,null,null,null,null,null,null,null,null,null,null,null,null,null,null,"",0,0,0,{"$f":"IF(F18936=\"\",0,IF(isNccValid(F18936),0,1))","v":0}]
[null,null,null,null,null,null,null,null,null,null,null,null,null,null,null,"",0,0,0,{"$f":"IF(F18946=\"\",0,IF(isNccValid(F18946),0,1))","v":0}]
[null,null,null,null,null,null,null,null,null,null,null,null,null,null,null,"",0,0,0,{"$f":"IF(F18963=\"\",0,IF(isNccValid(F18963),0,1))","v":0}]
[null,null,null,null,null,null,null,null,null,null,null,null,null,null,null,"",0,0,0,{"$f":"IF(F18967=\"\",0,IF(isNccValid(F18967),0,1))","v":0}]
[null,null,null,null,null,null,null,null,null,null,null,null,null,null,null,"",0,0,0,{"$f":"IF(F18980=\"\",0,IF(isNccValid(F18980),0,1))","v":0}]
[null,null,null,null,null,null,null,null,null,null,null,null,null,null,null,"",0,0,0,{"$f":"IF(F18997=\"\",0,IF(isNccValid(F18997),0,1))","v":0}]
[null,null,null,null,null,null,null,null,null,null,null,null,null,null,null,"",0,0,0,{"$f":"IF(F19007=\"\",0,IF(isNccValid(F19007),0,1))","v":0}]
[null,null,null,null,null,null,null,null,null,null,null,null,null,null,null,"",0,0,0,{"$f":"IF(F19016=\"\",0,IF(isNccValid(F19016),0,1))","v":0}]
[null,null,null,null,null,null,null,null,null,null,null,null,null,null,null,"",0,0,0,{"$f":"IF(F19031=\"\",0,IF(isNccValid(F19031),0,1))","v":0}]
[null,null,null,null,null,null,null,null,null,null,null,null,null,null,null,"",0,0,0,{"$f":"IF(F19041=\"\",0,IF(isNccValid(F19041),0,1))","v":0}]
[null,null,null,null,null,null,null,null,null,null,null,null,null,null,null,"",0,0,0,{"$f":"IF(F19047=\"\",0,IF(isNccValid(F19047),0,1))","v":0}]
[null,null,null,null,null,null,null,null,null,null,null,null,null,null,null,"",0,0,0,{"$f":"IF(F19057=\"\",0,IF(isNccValid(F19057),0,1))","v":0}]
[null,null,null,null,null,null,null,null,null,null,null,null,null,null,null,"",0,0,0,{"$f":"IF(F19075=\"\",0,IF(isNccValid(F19075),0,1))","v":0}]
[null,null,null,null,null,null,null,null,null,null,null,null,null,null,null,"",0,0,0,{"$f":"IF(F19081=\"\",0,IF(isNccValid(F19081),0,1))","v":0}]
[null,null,null,null,null,null,null,null,null,null,null,null,null,null,null,"",0,0,0,{"$f":"IF(F19091=\"\",0,IF(isNccValid(F19091),0,1))","v":0}]
[null,null,null,null,null,null,null,null,null,null,null,null,null,null,null,"",0,0,0,{"$f":"IF(F19106=\"\",0,IF(isNccValid(F19106),0,1))","v":0}]
[null,null,null,null,null,null,null,null,null,null,null,null,null,null,null,"",0,0,0,{"$f":"IF(F19115=\"\",0,IF(isNccValid(F19115),0,1))","v":0}]
[null,null,null,null,null,null,null,null,null,null,null,null,null,null,null,"",0,0,0,{"$f":"IF(F19125=\"\",0,IF(isNccValid(F19125),0,1))","v":0}]
[null,null,null,null,null,null,null,null,null,null,null,null,null,null,null,"",0,0,0,{"$f":"IF(F19142=\"\",0,IF(isNccValid(F19142),0,1))","v":0}]
[null,null,null,null,null,null,null,null,null,null,null,null,null,null,null,"",0,0,0,{"$f":"IF(F19147=\"\",0,IF(isNccValid(F19147),0,1))","v":0}]
[null,null,null,null,null,null,null,null,null,null,null,null,null,null,null,"",0,0,0,{"$f":"IF(F19159=\"\",0,IF(isNccValid(F19159),0,1))","v":0}]
[null,null,null,null,null,null,null,null,null,null,null,null,null,null,null,"",0,0,0,{"$f":"IF(F19176=\"\",0,IF(isNccValid(F19176),0,1))","v":0}]
[null,null,null,null,null,null,null,null,null,null,null,null,null,null,null,"",0,0,0,{"$f":"IF(F19186=\"\",0,IF(isNccValid(F19186),0,1))","v":0}]
[null,null,null,null,null,null,null,null,null,null,null,null,null,null,null,"",0,0,0,{"$f":"IF(F19196=\"\",0,IF(isNccValid(F19196),0,1))","v":0}]
[null,null,null,null,null,null,null,null,null,null,null,null,null,null,null,"",0,0,0,{"$f":"IF(F19203=\"\",0,IF(isNccValid(F19203),0,1))","v":0}]
[null,null,null,null,null,null,null,null,null,null,null,null,null,null,null,"",0,0,0,{"$f":"IF(F19220=\"\",0,IF(isNccValid(F19220),0,1))","v":0}]
[null,null,null,null,null,null,null,null,null,null,null,null,null,null,null,"",0,0,0,{"$f":"IF(F19226=\"\",0,IF(isNccValid(F19226),0,1))","v":0}]
[null,null,null,null,null,null,null,null,null,null,null,null,null,null,null,"",0,0,0,{"$f":"IF(F19237=\"\",0,IF(isNccValid(F19237),0,1))","v":0}]
[null,null,null,null,null,null,null,null,null,null,null,null,null,null,null,"",0,0,0,{"$f":"IF(F19254=\"\",0,IF(isNccValid(F19254),0,1))","v":0}]
[null,null,null,null,null,null,null,null,null,null,null,null,null,null,null,"",0,0,0,{"$f":"IF(F19260=\"\",0,IF(isNccValid(F19260),0,1))","v":0}]
[null,null,null,null,null,null,null,null,null,null,null,null,null,null,null,"",0,0,0,{"$f":"IF(F19270=\"\",0,IF(isNccValid(F19270),0,1))","v":0}]
[null,null,null,null,null,null,null,null,null,null,null,null,null,null,null,{"$f":"IF(B19286=\"\",\"\",M19286*O19286)","v":""},0,0,0,{"$f":"IF(F19286=\"\",0,IF(isNccValid(F19286),0,1))","v":0}]
[null,null,null,null,null,null,null,null,null,null,null,null,null,null,null,"",0,0,0,{"$f":"IF(F19298=\"\",0,IF(isNccValid(F19298),0,1))","v":0}]
[null,null,null,null,null,null,null,null,null,null,null,null,null,null,null,"",0,0,0,{"$f":"IF(F19304=\"\",0,IF(isNccValid(F19304),0,1))","v":0}]
[null,null,null,null,null,null,null,null,null,null,null,null,null,null,null,"",0,0,0,{"$f":"IF(F19321=\"\",0,IF(isNccValid(F19321),0,1))","v":0}]
[null,null,null,null,null,null,null,null,null,null,null,null,null,null,null,"",0,0,0,{"$f":"IF(F19327=\"\",0,IF(isNccValid(F19327),0,1))","v":0}]
[null,null,null,null,null,null,null,null,null,null,null,null,null,null,null,"",0,0,0,{"$f":"IF(F19338=\"\",0,IF(isNccValid(F19338),0,1))","v":0}]
[null,null,null,null,null,null,null,null,null,null,null,null,null,null,null,"",0,0,0,{"$f":"IF(F19355=\"\",0,IF(isNccValid(F19355),0,1))","v":0}]
[null,null,null,null,null,null,null,null,null,null,null,null,null,null,null,"",0,0,0,{"$f":"IF(F19365=\"\",0,IF(isNccValid(F19365),0,1))","v":0}]
[null,null,null,null,null,null,null,null,null,null,null,null,null,null,null,"",0,0,0,{"$f":"IF(F19376=\"\",0,IF(isNccValid(F19376),0,1))","v":0}]
[null,null,null,null,null,null,null,null,null,null,null,null,null,null,null,"",0,0,0,{"$f":"IF(F19393=\"\",0,IF(isNccValid(F19393),0,1))","v":0}]
[null,null,null,null,null,null,null,null,null,null,null,null,null,null,null,"",0,0,0,{"$f":"IF(F19399=\"\",0,IF(isNccValid(F19399),0,1))","v":0}]
[null,null,null,null,null,null,null,null,null,null,null,null,null,null,null,"",0,0,0,{"$f":"IF(F19405=\"\",0,IF(isNccValid(F19405),0,1))","v":0}]
[null,null,null,null,null,null,null,null,null,null,null,null,null,null,null,"",0,0,0,{"$f":"IF(F19417=\"\",0,IF(isNccValid(F19417),0,1))","v":0}]
[null,null,null,null,null,null,null,null,null,null,null,null,null,null,null,"",0,0,0,{"$f":"IF(F19433=\"\",0,IF(isNccValid(F19433),0,1))","v":0}]
[null,null,null,null,null,null,null,null,null,null,null,null,null,null,null,"",0,0,0,{"$f":"IF(F19443=\"\",0,IF(isNccValid(F19443),0,1))","v":0}]
[null,null,null,null,null,null,null,null,null,null,null,null,null,null,null,"",0,0,0,{"$f":"IF(F19460=\"\",0,IF(isNccValid(F19460),0,1))","v":0}]
[null,null,null,null,null,null,null,null,null,null,null,null,null,null,null,"",0,0,0,{"$f":"IF(F19466=\"\",0,IF(isNccValid(F19466),0,1))","v":0}]
[null,null,null,null,null,null,null,null,null,null,null,null,null,null,null,"",0,0,0,{"$f":"IF(F19477=\"\",0,IF(isNccValid(F19477),0,1))","v":0}]
[null,null,null,null,null,null,null,null,null,null,null,null,null,null,null,"",0,0,0,{"$f":"IF(F19494=\"\",0,IF(isNccValid(F19494),0,1))","v":0}]
[null,null,null,null,null,null,null,null,null,null,null,null,null,null,null,"",0,0,0,{"$f":"IF(F19500=\"\",0,IF(isNccValid(F19500),0,1))","v":0}]
[null,null,null,null,null,null,null,null,null,null,null,null,null,null,null,"",0,0,0,{"$f":"IF(F19507=\"\",0,IF(isNccValid(F19507),0,1))","v":0}]
[null,null,null,null,null,null,null,null,null,null,null,null,null,null,null,"",0,0,0,{"$f":"IF(F19528=\"\",0,IF(isNccValid(F19528),0,1))","v":0}]
[null,null,null,null,null,null,null,null,null,null,null,null,null,null,null,"",0,0,0,{"$f":"IF(F19538=\"\",0,IF(isNccValid(F19538),0,1))","v":0}]
[null,null,null,null,null,null,null,null,null,null,null,null,null,null,null,"",0,0,0,{"$f":"IF(F19544=\"\",0,IF(isNccValid(F19544),0,1))","v":0}]
[null,null,null,null,null,null,null,null,null,null,null,null,null,null,null,"",0,0,0,{"$f":"IF(F19556=\"\",0,IF(isNccValid(F19556),0,1))","v":0}]
[null,null,null,null,null,null,null,null,null,null,null,null,null,null,null,"",0,0,0,{"$f":"IF(F19572=\"\",0,IF(isNccValid(F19572),0,1))","v":0}]
[null,null,null,null,null,null,null,null,null,null,null,null,null,null,null,"",0,0,0,{"$f":"IF(F19578=\"\",0,IF(isNccValid(F19578),0,1))","v":0}]
[null,null,null,null,null,null,null,null,null,null,null,null,null,null,null,"",0,0,0,{"$f":"IF(F19588=\"\",0,IF(isNccValid(F19588),0,1))","v":0}]
[null,null,null,null,null,null,null,null,null,null,null,null,null,null,null,"",0,0,0,{"$f":"IF(F19597=\"\",0,IF(isNccValid(F19597),0,1))","v":0}]
[null,null,null,null,null,null,null,null,null,null,null,null,null,null,null,"",0,0,0,{"$f":"IF(F19612=\"\",0,IF(isNccValid(F19612),0,1))","v":0}]
[null,null,null,null,null,null,null,null,null,null,null,null,null,null,null,"",0,0,0,{"$f":"IF(F19622=\"\",0,IF(isNccValid(F19622),0,1))","v":0}]
[null,null,null,null,null,null,null,null,null,null,null,null,null,null,null,"",0,0,0,{"$f":"IF(F19639=\"\",0,IF(isNccValid(F19639),0,1))","v":0}]
[null,null,null,null,null,null,null,null,null,null,null,null,null,null,null,"",0,0,0,{"$f":"IF(F19646=\"\",0,IF(isNccValid(F19646),0,1))","v":0}]
[null,null,null,null,null,null,null,null,null,null,null,null,null,null,null,"",0,0,0,{"$f":"IF(F19656=\"\",0,IF(isNccValid(F19656),0,1))","v":0}]
[null,null,null,null,null,null,null,null,null,null,null,null,null,null,null,"",0,0,0,{"$f":"IF(F19673=\"\",0,IF(isNccValid(F19673),0,1))","v":0}]
[null,null,null,null,null,null,null,null,null,null,null,null,null,null,null,"",0,0,0,{"$f":"IF(F19683=\"\",0,IF(isNccValid(F19683),0,1))","v":0}]
[null,null,null,null,null,null,null,null,null,null,null,null,null,null,null,"",0,0,0,{"$f":"IF(F19687=\"\",0,IF(isNccValid(F19687),0,1))","v":0}]
[null,null,null,null,null,null,null,null,null,null,null,null,null,null,null,"",0,0,0,{"$f":"IF(F19707=\"\",0,IF(isNccValid(F19707),0,1))","v":0}]
[null,null,null,null,null,null,null,null,null,null,null,null,null,null,null,"",0,0,0,{"$f":"IF(F19717=\"\",0,IF(isNccValid(F19717),0,1))","v":0}]
[null,null,null,null,null,null,null,null,null,null,null,null,null,null,null,"",0,0,0,{"$f":"IF(F19723=\"\",0,IF(isNccValid(F19723),0,1))","v":0}]
[null,null,null,null,null,null,null,null,null,null,null,null,null,null,null,"",0,0,0,{"$f":"IF(F19736=\"\",0,IF(isNccValid(F19736),0,1))","v":0}]
[null,null,null,null,null,null,null,null,null,null,null,null,null,null,null,"",0,0,0,{"$f":"IF(F19751=\"\",0,IF(isNccValid(F19751),0,1))","v":0}]
[null,null,null,null,null,null,null,null,null,null,null,null,null,null,null,"",0,0,0,{"$f":"IF(F19757=\"\",0,IF(isNccValid(F19757),0,1))","v":0}]
[null,null,null,null,null,null,null,null,null,null,null,null,null,null,null,"",0,0,0,{"$f":"IF(F19767=\"\",0,IF(isNccValid(F19767),0,1))","v":0}]
[null,null,null,null,null,null,null,null,null,null,null,null,null,null,null,"",0,0,0,{"$f":"IF(F19777=\"\",0,IF(isNccValid(F19777),0,1))","v":0}]
[null,null,null,null,null,null,null,null,null,null,null,null,null,null,null,"",0,0,0,{"$f":"IF(F19791=\"\",0,IF(isNccValid(F19791),0,1))","v":0}]
[null,null,null,null,null,null,null,null,null,null,null,null,null,null,null,"",0,0,0,{"$f":"IF(F19801=\"\",0,IF(isNccValid(F19801),0,1))","v":0}]
[null,null,null,null,null,null,null,null,null,null,null,null,null,null,null,"",{"$f":"IF(AND(B19818=\"\",R19818=1),1,IF(AND(D19818=\"\",R19818=1),1,IF(AND(E19818=\"\",R19818=1),1,IF(AND(F19818=\"\",R19818=1),1,IF(AND(M19818=\"\",R19818=1),1,IF(AND(O19818=\"\",R19818=1),1,0))))))","v":0},{"$f":"IF(C19818=\"\",0,IF(COUNTA(B19818:O19818)>0,1,0))","v":0},{"$f":"IFERROR(IF(LEN(F19818)=8,0,IF(LEN(F19818)=0,0,1)),1)","v":0},{"$f":"IF(F19818=\"\",0,IF(isNccValid(F19818),0,1))","v":0}]
[null,null,null,null,null,null,null,null,null,null,null,null,null,null,null,"",0,0,0,{"$f":"IF(F19830=\"\",0,IF(isNccValid(F19830),0,1))","v":0}]
[null,null,null,null,null,null,null,null,null,null,null,null,null,null,null,"",0,0,0,{"$f":"IF(F19835=\"\",0,IF(isNccValid(F19835),0,1))","v":0}]
[null,null,null,null,null,null,null,null,null,null,null,null,null,null,null,"",0,0,0,{"$f":"IF(F19852=\"\",0,IF(isNccValid(F19852),0,1))","v":0}]
[null,null,null,null,null,null,null,null,null,null,null,null,null,null,null,{"$f":"IF(B19862=\"\",\"\",M19862*O19862)","v":""},0,0,0,{"$f":"IF(F19862=\"\",0,IF(isNccValid(F19862),0,1))","v":0}]
[null,null,null,null,null,null,null,null,null,null,null,null,null,null,null,"",0,0,0,{"$f":"IF(F19867=\"\",0,IF(isNccValid(F19867),0,1))","v":0}]
[null,null,null,null,null,null,null,null,null,null,null,null,null,null,null,"",0,0,0,{"$f":"IF(F19886=\"\",0,IF(isNccValid(F19886),0,1))","v":0}]
[null,null,null,null,null,null,null,null,null,null,null,null,null,null,null,"",0,0,0,{"$f":"IF(F19896=\"\",0,IF(isNccValid(F19896),0,1))","v":0}]
[null,null,null,null,null,null,null,null,null,null,null,null,null,null,null,"",0,0,0,{"$f":"IF(F19902=\"\",0,IF(isNccValid(F19902),0,1))","v":0}]
[null,null,null,null,null,null,null,null,null,null,null,null,null,null,null,"",0,0,0,{"$f":"IF(F19920=\"\",0,IF(isNccValid(F19920),0,1))","v":0}]
[null,null,null,null,null,null,null,null,null,null,null,null,null,null,null,"",0,0,0,{"$f":"IF(F19930=\"\",0,IF(isNccValid(F19930),0,1))","v":0}]
[null,null,null,null,null,null,null,null,null,null,null,null,null,null,null,"",0,0,0,{"$f":"IF(F19936=\"\",0,IF(isNccValid(F19936),0,1))","v":0}]
[null,null,null,null,null,null,null,null,null,null,null,null,null,null,null,"",{"$f":"IF(AND(B19946=\"\",R19946=1),1,IF(AND(D19946=\"\",R19946=1),1,IF(AND(E19946=\"\",R19946=1),1,IF(AND(F19946=\"\",R19946=1),1,IF(AND(M19946=\"\",R19946=1),1,IF(AND(O19946=\"\",R19946=1),1,0))))))","v":0},{"$f":"IF(C19946=\"\",0,IF(COUNTA(B19946:O19946)>0,1,0))","v":0},{"$f":"IFERROR(IF(LEN(F19946)=8,0,IF(LEN(F19946)=0,0,1)),1)","v":0},{"$f":"IF(F19946=\"\",0,IF(isNccValid(F19946),0,1))","v":0}]
[null,null,null,null,null,null,null,null,null,null,null,null,null,null,null,"",0,0,0,{"$f":"IF(F19957=\"\",0,IF(isNccValid(F19957),0,1))","v":0}]
[null,null,null,null,null,null,null,null,null,null,null,null,null,null,null,"",0,0,0,{"$f":"IF(F19970=\"\",0,IF(isNccValid(F19970),0,1))","v":0}]
[null,null,null,null,null,null,null,null,null,null,null,null,null,null,null,"",0,0,0,{"$f":"IF(F19980=\"\",0,IF(isNccValid(F19980),0,1))","v":0}]
[null,null,null,null,null,null,null,null,null,null,null,null,null,null,null,"",0,0,0,{"$f":"IF(F19997=\"\",0,IF(isNccValid(F19997),0,1))","v":0}]
[null,null,null,null,null,null,null,null,null,null,null,null,null,null,null,"",{"$f":"IF(AND(B20010=\"\",R20010=1),1,IF(AND(D20010=\"\",R20010=1),1,IF(AND(E20010=\"\",R20010=1),1,IF(AND(F20010=\"\",R20010=1),1,IF(AND(M20010=\"\",R20010=1),1,IF(AND(O20010=\"\",R20010=1),1,0))))))","v":0},{"$f":"IF(C20010=\"\",0,IF(COUNTA(B20010:O20010)>0,1,0))","v":0},{"$f":"IFERROR(IF(LEN(F20010)=8,0,IF(LEN(F20010)=0,0,1)),1)","v":0},{"$f":"IF(F20010=\"\",0,IF(isNccValid(F20010),0,1))","v":0}]
[null,null,null,null,null,null,null,null,null,null,null,null,null,null,null,"",0,0,0,{"$f":"IF(F20014=\"\",0,IF(isNccValid(F20014),0,1))","v":0}]
[null,null,null,null,null,null,null,null,null,null,null,null,null,null,null,"",0,0,0,{"$f":"IF(F20031=\"\",0,IF(isNccValid(F20031),0,1))","v":0}]
[null,null,null,null,null,null,null,null,null,null,null,null,null,null,null,"",0,0,0,{"$f":"IF(F20041=\"\",0,IF(isNccValid(F20041),0,1))","v":0}]
[null,null,null,null,null,null,null,null,null,null,null,null,null,null,null,"",0,0,0,{"$f":"IF(F20047=\"\",0,IF(isNccValid(F20047),0,1))","v":0}]
[null,null,null,null,null,null,null,null,null,null,null,null,null,null,null,"",0,0,0,{"$f":"IF(F20058=\"\",0,IF(isNccValid(F20058),0,1))","v":0}]
[null,null,null,null,null,null,null,null,null,null,null,null,null,null,null,"",0,0,0,{"$f":"IF(F20075=\"\",0,IF(isNccValid(F20075),0,1))","v":0}]
[null,null,null,null,null,null,null,null,null,null,null,null,null,null,null,"",0,0,0,{"$f":"IF(F20081=\"\",0,IF(isNccValid(F20081),0,1))","v":0}]
[null,null,null,null,null,null,null,null,null,null,null,null,null,null,null,"",0,0,0,{"$f":"IF(F20100=\"\",0,IF(isNccValid(F20100),0,1))","v":0}]
[null,null,null,null,null,null,null,null,null,null,null,null,null,null,null,"",0,0,0,{"$f":"IF(F20109=\"\",0,IF(isNccValid(F20109),0,1))","v":0}]
[null,null,null,null,null,null,null,null,null,null,null,null,null,null,null,"",0,0,0,{"$f":"IF(F20115=\"\",0,IF(isNccValid(F20115),0,1))","v":0}]
[null,null,null,null,null,null,null,null,null,null,null,null,null,null,null,"",0,0,0,{"$f":"IF(F20125=\"\",0,IF(isNccValid(F20125),0,1))","v":0}]
[null,null,null,null,null,null,null,null,null,null,null,null,null,null,null,"",0,0,0,{"$f":"IF(F20137=\"\",0,IF(isNccValid(F20137),0,1))","v":0}]
[null,null,null,null,null,null,null,null,null,null,null,null,null,null,null,"",0,0,0,{"$f":"IF(F20153=\"\",0,IF(isNccValid(F20153),0,1))","v":0}]
[null,null,null,null,null,null,null,null,null,null,null,null,null,null,null,"",0,0,0,{"$f":"IF(F20159=\"\",0,IF(isNccValid(F20159),0,1))","v":0}]
[null,null,null,null,null,null,null,null,null,null,null,null,null,null,null,"",0,0,0,{"$f":"IF(F20176=\"\",0,IF(isNccValid(F20176),0,1))","v":0}]
[null,null,null,null,null,null,null,null,null,null,null,null,null,null,null,"",0,0,0,{"$f":"IF(F20190=\"\",0,IF(isNccValid(F20190),0,1))","v":0}]
[null,null,null,null,null,null,null,null,null,null,null,null,null,null,null,"",0,0,0,{"$f":"IF(F20193=\"\",0,IF(isNccValid(F20193),0,1))","v":0}]
[null,null,null,null,null,null,null,null,null,null,null,null,null,null,null,"",0,0,0,{"$f":"IF(F20214=\"\",0,IF(isNccValid(F20214),0,1))","v":0}]
[null,null,null,null,null,null,null,null,null,null,null,null,null,null,null,"",0,0,0,{"$f":"IF(F20220=\"\",0,IF(isNccValid(F20220),0,1))","v":0}]
[null,null,null,null,null,null,null,null,null,null,null,null,null,null,null,"",0,0,0,{"$f":"IF(F20227=\"\",0,IF(isNccValid(F20227),0,1))","v":0}]
[null,null,null,null,null,null,null,null,null,null,null,null,null,null,null,"",0,0,0,{"$f":"IF(F20248=\"\",0,IF(isNccValid(F20248),0,1))","v":0}]
[null,null,null,null,null,null,null,null,null,null,null,null,null,null,null,"",0,0,0,{"$f":"IF(F20254=\"\",0,IF(isNccValid(F20254),0,1))","v":0}]
[null,null,null,null,null,null,null,null,null,null,null,null,null,null,null,"",0,0,0,{"$f":"IF(F20260=\"\",0,IF(isNccValid(F20260),0,1))","v":0}]
[null,null,null,null,null,null,null,null,null,null,null,null,null,null,null,"",0,0,0,{"$f":"IF(F20280=\"\",0,IF(isNccValid(F20280),0,1))","v":0}]
[null,null,null,null,null,null,null,null,null,null,null,null,null,null,null,"",0,0,0,{"$f":"IF(F20288=\"\",0,IF(isNccValid(F20288),0,1))","v":0}]
[null,null,null,null,null,null,null,null,null,null,null,null,null,null,null,"",0,0,0,{"$f":"IF(F20298=\"\",0,IF(isNccValid(F20298),0,1))","v":0}]
[null,null,null,null,null,null,null,null,null,null,null,null,null,null,null,"",0,0,0,{"$f":"IF(F20315=\"\",0,IF(isNccValid(F20315),0,1))","v":0}]
[null,null,null,null,null,null,null,null,null,null,null,null,null,null,null,"",0,0,0,{"$f":"IF(F20317=\"\",0,IF(isNccValid(F20317),0,1))","v":0}]
[null,null,null,null,null,null,null,null,null,null,null,null,null,null,null,"",0,0,0,{"$f":"IF(F20332=\"\",0,IF(isNccValid(F20332),0,1))","v":0}]
[null,null,null,null,null,null,null,null,null,null,null,null,null,null,null,"",0,0,0,{"$f":"IF(F20349=\"\",0,IF(isNccValid(F20349),0,1))","v":0}]
[null,null,null,null,null,null,null,null,null,null,null,null,null,null,null,"",0,0,0,{"$f":"IF(F20355=\"\",0,IF(isNccValid(F20355),0,1))","v":0}]
[null,null,null,null,null,null,null,null,null,null,null,null,null,null,null,"",0,0,0,{"$f":"IF(F20370=\"\",0,IF(isNccValid(F20370),0,1))","v":0}]
[null,null,null,null,null,null,null,null,null,null,null,null,null,null,null,"",0,0,0,{"$f":"IF(F20383=\"\",0,IF(isNccValid(F20383),0,1))","v":0}]
[null,null,null,null,null,null,null,null,null,null,null,null,null,null,null,"",0,0,0,{"$f":"IF(F20393=\"\",0,IF(isNccValid(F20393),0,1))","v":0}]
[null,null,null,null,null,null,null,null,null,null,null,null,null,null,null,"",0,0,0,{"$f":"IF(F20399=\"\",0,IF(isNccValid(F20399),0,1))","v":0}]
[null,null,null,null,null,null,null,null,null,null,null,null,null,null,null,"",0,0,0,{"$f":"IF(F20407=\"\",0,IF(isNccValid(F20407),0,1))","v":0}]
[null,null,null,null,null,null,null,null,null,null,null,null,null,null,null,"",0,0,0,{"$f":"IF(F20427=\"\",0,IF(isNccValid(F20427),0,1))","v":0}]
[null,null,null,null,null,null,null,null,null,null,null,null,null,null,null,"",0,0,0,{"$f":"IF(F20433=\"\",0,IF(isNccValid(F20433),0,1))","v":0}]
[null,null,null,null,null,null,null,null,null,null,null,null,null,null,null,"",0,0,0,{"$f":"IF(F20443=\"\",0,IF(isNccValid(F20443),0,1))","v":0}]
[null,null,null,null,null,null,null,null,null,null,null,null,null,null,null,"",0,0,0,{"$f":"IF(F20460=\"\",0,IF(isNccValid(F20460),0,1))","v":0}]
[null,null,null,null,null,null,null,null,null,null,null,null,null,null,null,"",0,0,0,{"$f":"IF(F20467=\"\",0,IF(isNccValid(F20467),0,1))","v":0}]
[null,null,null,null,null,null,null,null,null,null,null,null,null,null,null,"",0,0,0,{"$f":"IF(F20477=\"\",0,IF(isNccValid(F20477),0,1))","v":0}]
[null,null,null,null,null,null,null,null,null,null,null,null,null,null,null,"",0,0,0,{"$f":"IF(F20494=\"\",0,IF(isNccValid(F20494),0,1))","v":0}]
[null,null,null,null,null,null,null,null,null,null,null,null,null,null,null,"",0,0,0,{"$f":"IF(F20497=\"\",0,IF(isNccValid(F20497),0,1))","v":0}]
[null,null,null,null,null,null,null,null,null,null,null,null,null,null,null,"",0,0,0,{"$f":"IF(F20511=\"\",0,IF(isNccValid(F20511),0,1))","v":0}]
[null,null,null,null,null,null,null,null,null,null,null,null,null,null,null,"",0,0,0,{"$f":"IF(F20528=\"\",0,IF(isNccValid(F20528),0,1))","v":0}]
[null,null,null,null,null,null,null,null,null,null,null,null,null,null,null,"",0,0,0,{"$f":"IF(F20538=\"\",0,IF(isNccValid(F20538),0,1))","v":0}]
[null,null,null,null,null,null,null,null,null,null,null,null,null,null,null,"",0,0,0,{"$f":"IF(F20550=\"\",0,IF(isNccValid(F20550),0,1))","v":0}]
[null,null,null,null,null,null,null,null,null,null,null,null,null,null,null,"",0,0,0,{"$f":"IF(F20562=\"\",0,IF(isNccValid(F20562),0,1))","v":0}]
[null,null,null,null,null,null,null,null,null,null,null,null,null,null,null,"",0,0,0,{"$f":"IF(F20572=\"\",0,IF(isNccValid(F20572),0,1))","v":0}]
[null,null,null,null,null,null,null,null,null,null,null,null,null,null,null,"",0,0,0,{"$f":"IF(F20578=\"\",0,IF(isNccValid(F20578),0,1))","v":0}]
[null,null,null,null,null,null,null,null,null,null,null,null,null,null,null,"",0,0,0,{"$f":"IF(F20591=\"\",0,IF(isNccValid(F20591),0,1))","v":0}]
[null,null,null,null,null,null,null,null,null,null,null,null,null,null,null,"",0,0,0,{"$f":"IF(F20606=\"\",0,IF(isNccValid(F20606),0,1))","v":0}]
[null,null,null,null,null,null,null,null,null,null,null,null,null,null,null,"",0,0,0,{"$f":"IF(F20612=\"\",0,IF(isNccValid(F20612),0,1))","v":0}]
[null,null,null,null,null,null,null,null,null,null,null,null,null,null,null,"",0,0,0,{"$f":"IF(F20622=\"\",0,IF(isNccValid(F20622),0,1))","v":0}]
[null,null,null,null,null,null,null,null,null,null,null,null,null,null,null,"",0,0,0,{"$f":"IF(F20640=\"\",0,IF(isNccValid(F20640),0,1))","v":0}]
[null,null,null,null,null,null,null,null,null,null,null,null,null,null,null,"",0,0,0,{"$f":"IF(F20646=\"\",0,IF(isNccValid(F20646),0,1))","v":0}]
[null,null,null,null,null,null,null,null,null,null,null,null,null,null,null,"",0,0,0,{"$f":"IF(F20656=\"\",0,IF(isNccValid(F20656),0,1))","v":0}]
[null,null,null,null,null,null,null,null,null,null,null,null,null,null,null,"",0,0,0,{"$f":"IF(F20673=\"\",0,IF(isNccValid(F20673),0,1))","v":0}]
[null,null,null,null,null,null,null,null,null,null,null,null,null,null,null,"",0,0,0,{"$f":"IF(F20681=\"\",0,IF(isNccValid(F20681),0,1))","v":0}]
[null,null,null,null,null,null,null,null,null,null,null,null,null,null,null,"",0,0,0,{"$f":"IF(F20690=\"\",0,IF(isNccValid(F20690),0,1))","v":0}]
[null,null,null,null,null,null,null,null,null,null,null,null,null,null,null,"",0,0,0,{"$f":"IF(F20707=\"\",0,IF(isNccValid(F20707),0,1))","v":0}]
[null,null,null,null,null,null,null,null,null,null,null,null,null,null,null,"",0,0,0,{"$f":"IF(F20717=\"\",0,IF(isNccValid(F20717),0,1))","v":0}]
[null,null,null,null,null,null,null,null,null,null,null,null,null,null,null,"",0,0,0,{"$f":"IF(F20730=\"\",0,IF(isNccValid(F20730),0,1))","v":0}]
[null,null,null,null,null,null,null,null,null,null,null,null,null,null,null,"",0,0,0,{"$f":"IF(F20741=\"\",0,IF(isNccValid(F20741),0,1))","v":0}]
[null,null,null,null,null,null,null,null,null,null,null,null,null,null,null,"",0,0,0,{"$f":"IF(F20751=\"\",0,IF(isNccValid(F20751),0,1))","v":0}]
[null,null,null,null,null,null,null,null,null,null,null,null,null,null,null,"",0,0,0,{"$f":"IF(F20757=\"\",0,IF(isNccValid(F20757),0,1))","v":0}]
[null,null,null,null,null,null,null,null,null,null,null,null,null,null,null,"",0,0,0,{"$f":"IF(F20771=\"\",0,IF(isNccValid(F20771),0,1))","v":0}]
[null,null,null,null,null,null,null,null,null,null,null,null,null,null,null,"",0,0,0,{"$f":"IF(F20785=\"\",0,IF(isNccValid(F20785),0,1))","v":0}]
[null,null,null,null,null,null,null,null,null,null,null,null,null,null,null,"",0,0,0,{"$f":"IF(F20791=\"\",0,IF(isNccValid(F20791),0,1))","v":0}]
[null,null,null,null,null,null,null,null,null,null,null,null,null,null,null,"",0,0,0,{"$f":"IF(F20801=\"\",0,IF(isNccValid(F20801),0,1))","v":0}]
[null,null,null,null,null,null,null,null,null,null,null,null,null,null,null,"",0,0,0,{"$f":"IF(F20820=\"\",0,IF(isNccValid(F20820),0,1))","v":0}]
[null,null,null,null,null,null,null,null,null,null,null,null,null,null,null,"",0,0,0,{"$f":"IF(F20829=\"\",0,IF(isNccValid(F20829),0,1))","v":0}]
[null,null,null,null,null,null,null,null,null,null,null,null,null,null,null,"",0,0,0,{"$f":"IF(F20835=\"\",0,IF(isNccValid(F20835),0,1))","v":0}]
[null,null,null,null,null,null,null,null,null,null,null,null,null,null,null,"",0,0,0,{"$f":"IF(F20852=\"\",0,IF(isNccValid(F20852),0,1))","v":0}]
[null,null,null,null,null,null,null,null,null,null,null,null,null,null,null,"",0,0,0,{"$f":"IF(F20861=\"\",0,IF(isNccValid(F20861),0,1))","v":0}]
[null,null,null,null,null,null,null,null,null,null,null,null,null,null,null,"",0,0,0,{"$f":"IF(F20869=\"\",0,IF(isNccValid(F20869),0,1))","v":0}]
[null,null,null,null,null,null,null,null,null,null,null,null,null,null,null,{"$f":"IF(B20886=\"\",\"\",M20886*O20886)","v":""},0,0,0,{"$f":"IF(F20886=\"\",0,IF(isNccValid(F20886),0,1))","v":0}]
[null,null,null,null,null,null,null,null,null,null,null,null,null,null,null,"",0,0,0,{"$f":"IF(F20896=\"\",0,IF(isNccValid(F20896),0,1))","v":0}]
[null,null,null,null,null,null,null,null,null,null,null,null,null,null,null,"",0,0,0,{"$f":"IF(F20910=\"\",0,IF(isNccValid(F20910),0,1))","v":0}]
[null,null,null,null,null,null,null,null,null,null,null,null,null,null,null,"",0,0,0,{"$f":"IF(F20913=\"\",0,IF(isNccValid(F20913),0,1))","v":0}]
[null,null,null,null,null,null,null,null,null,null,null,null,null,null,null,"",0,0,0,{"$f":"IF(F20930=\"\",0,IF(isNccValid(F20930),0,1))","v":0}]
[null,null,null,null,null,null,null,null,null,null,null,null,null,null,null,"",0,0,0,{"$f":"IF(F20936=\"\",0,IF(isNccValid(F20936),0,1))","v":0}]
[null,null,null,null,null,null,null,null,null,null,null,null,null,null,null,"",0,0,0,{"$f":"IF(F20951=\"\",0,IF(isNccValid(F20951),0,1))","v":0}]
[null,null,null,null,null,null,null,null,null,null,null,null,null,null,null,"",0,0,0,{"$f":"IF(F20964=\"\",0,IF(isNccValid(F20964),0,1))","v":0}]
[null,null,null,null,null,null,null,null,null,null,null,null,null,null,null,"",{"$f":"IF(AND(B20970=\"\",R20970=1),1,IF(AND(D20970=\"\",R20970=1),1,IF(AND(E20970=\"\",R20970=1),1,IF(AND(F20970=\"\",R20970=1),1,IF(AND(M20970=\"\",R20970=1),1,IF(AND(O20970=\"\",R20970=1),1,0))))))","v":0},{"$f":"IF(C20970=\"\",0,IF(COUNTA(B20970:O20970)>0,1,0))","v":0},{"$f":"IFERROR(IF(LEN(F20970)=8,0,IF(LEN(F20970)=0,0,1)),1)","v":0},{"$f":"IF(F20970=\"\",0,IF(isNccValid(F20970),0,1))","v":0}]
[null,null,null,null,null,null,null,null,null,null,null,null,null,null,null,"",0,0,0,{"$f":"IF(F20980=\"\",0,IF(isNccValid(F20980),0,1))","v":0}]
[null,null,null,null,null,null,null,null,null,null,null,null,null,null,null,"",0,0,0,{"$f":"IF(F21000=\"\",0,IF(isNccValid(F21000),0,1))","v":0}]
[null,null,null,null,null,null,null,null,null,null,null,null,null,null,null,"",0,0,0,{"$f":"IF(F21008=\"\",0,IF(isNccValid(F21008),0,1))","v":0}]
[null,null,null,null,null,null,null,null,null,null,null,null,null,null,null,{"$f":"IF(B21014=\"\",\"\",M21014*O21014)","v":""},0,0,0,{"$f":"IF(F21014=\"\",0,IF(isNccValid(F21014),0,1))","v":0}]
[null,null,null,null,null,null,null,null,null,null,null,null,null,null,null,"",0,0,0,{"$f":"IF(F21031=\"\",0,IF(isNccValid(F21031),0,1))","v":0}]
[null,null,null,null,null,null,null,null,null,null,null,null,null,null,null,"",0,0,0,{"$f":"IF(F21041=\"\",0,IF(isNccValid(F21041),0,1))","v":0}]
[null,null,null,null,null,null,null,null,null,null,null,null,null,null,null,"",0,0,0,{"$f":"IF(F21048=\"\",0,IF(isNccValid(F21048),0,1))","v":0}]
[null,null,null,null,null,null,null,null,null,null,null,null,null,null,null,"",0,0,0,{"$f":"IF(F21069=\"\",0,IF(isNccValid(F21069),0,1))","v":0}]
[null,null,null,null,null,null,null,null,null,null,null,null,null,null,null,"",0,0,0,{"$f":"IF(F21075=\"\",0,IF(isNccValid(F21075),0,1))","v":0}]
[null,null,null,null,null,null,null,null,null,null,null,null,null,null,null,"",0,0,0,{"$f":"IF(F21090=\"\",0,IF(isNccValid(F21090),0,1))","v":0}]
[null,null,null,null,null,null,null,null,null,null,null,null,null,null,null,"",0,0,0,{"$f":"IF(F21103=\"\",0,IF(isNccValid(F21103),0,1))","v":0}]
[null,null,null,null,null,null,null,null,null,null,null,null,null,null,null,"",0,0,0,{"$f":"IF(F21109=\"\",0,IF(isNccValid(F21109),0,1))","v":0}]
[null,null,null,null,null,null,null,null,null,null,null,null,null,null,null,"",0,0,0,{"$f":"IF(F21115=\"\",0,IF(isNccValid(F21115),0,1))","v":0}]
[null,null,null,null,null,null,null,null,null,null,null,null,null,null,null,"",0,0,0,{"$f":"IF(F21131=\"\",0,IF(isNccValid(F21131),0,1))","v":0}]
[null,null,null,null,null,null,{"$f":"IF(OR(B21143=Referentiel!#REF!,B21143=Referentiel!#REF!),\"Choisir un pays\",\"\")","v":{"$error":"#REF!"}},null,null,null,null,null,null,null,null,"",0,0,0,{"$f":"IF(F21143=\"\",0,IF(isNccValid(F21143),0,1))","v":0}]
[null,null,null,null,null,null,{"$f":"IF(OR(B21153=Referentiel!#REF!,B21153=Referentiel!#REF!),\"Choisir un pays\",\"\")","v":{"$error":"#REF!"}},null,null,null,null,null,null,null,null,"",0,0,0,{"$f":"IF(F21153=\"\",0,IF(isNccValid(F21153),0,1))","v":0}]
[null,null,null,null,null,null,null,null,null,null,null,null,null,null,null,"",0,0,0,{"$f":"IF(F21170=\"\",0,IF(isNccValid(F21170),0,1))","v":0}]
[null,null,null,null,null,null,null,null,null,null,null,null,null,null,null,"",0,0,0,{"$f":"IF(F21180=\"\",0,IF(isNccValid(F21180),0,1))","v":0}]
[null,null,null,null,null,null,null,null,null,null,null,null,null,null,null,"",0,0,0,{"$f":"IF(F21187=\"\",0,IF(isNccValid(F21187),0,1))","v":0}]
[null,null,null,null,null,null,null,null,null,null,null,null,null,null,null,"",0,0,0,{"$f":"IF(F21204=\"\",0,IF(isNccValid(F21204),0,1))","v":0}]
[null,null,null,null,null,null,null,null,null,null,null,null,null,null,null,"",0,0,0,{"$f":"IF(F21214=\"\",0,IF(isNccValid(F21214),0,1))","v":0}]
[null,null,null,null,null,null,null,null,null,null,null,null,null,null,null,"",0,0,0,{"$f":"IF(F21221=\"\",0,IF(isNccValid(F21221),0,1))","v":0}]
[null,null,null,null,null,null,null,null,null,null,null,null,null,null,null,"",0,0,0,{"$f":"IF(F21238=\"\",0,IF(isNccValid(F21238),0,1))","v":0}]
[null,null,null,null,null,null,null,null,null,null,null,null,null,null,null,"",0,0,0,{"$f":"IF(F21248=\"\",0,IF(isNccValid(F21248),0,1))","v":0}]
[null,null,null,null,null,null,null,null,null,null,null,null,null,null,null,"",0,0,0,{"$f":"IF(F21254=\"\",0,IF(isNccValid(F21254),0,1))","v":0}]
[null,null,null,null,null,null,null,null,null,null,null,null,null,null,null,{"$f":"IF(B21270=\"\",\"\",M21270*O21270)","v":""},0,0,0,{"$f":"IF(F21270=\"\",0,IF(isNccValid(F21270),0,1))","v":0}]
[null,null,null,null,null,null,null,null,null,null,null,null,null,null,null,"",0,0,0,{"$f":"IF(F21282=\"\",0,IF(isNccValid(F21282),0,1))","v":0}]
[null,null,null,null,null,null,null,null,null,null,null,null,null,null,null,"",0,0,0,{"$f":"IF(F21288=\"\",0,IF(isNccValid(F21288),0,1))","v":0}]
[null,null,null,null,null,null,null,null,null,null,null,null,null,null,null,"",0,0,0,{"$f":"IF(F21298=\"\",0,IF(isNccValid(F21298),0,1))","v":0}]
[null,null,null,null,null,null,null,null,null,null,null,null,null,null,null,"",0,0,0,{"$f":"IF(F21311=\"\",0,IF(isNccValid(F21311),0,1))","v":0}]
[null,null,null,null,null,null,null,null,null,null,null,null,null,null,null,"",0,0,0,{"$f":"IF(F21322=\"\",0,IF(isNccValid(F21322),0,1))","v":0}]
[null,null,null,null,null,null,null,null,null,null,null,null,null,null,null,"",0,0,0,{"$f":"IF(F21332=\"\",0,IF(isNccValid(F21332),0,1))","v":0}]
[null,null,null,null,null,null,null,null,null,null,null,null,null,null,null,"",0,0,0,{"$f":"IF(F21349=\"\",0,IF(isNccValid(F21349),0,1))","v":0}]
[null,null,null,null,null,null,null,null,null,null,null,null,null,null,null,"",0,0,0,{"$f":"IF(F21360=\"\",0,IF(isNccValid(F21360),0,1))","v":0}]
[null,null,null,null,null,null,null,null,null,null,null,null,null,null,null,"",0,0,0,{"$f":"IF(F21366=\"\",0,IF(isNccValid(F21366),0,1))","v":0}]
[null,null,null,null,null,null,null,null,null,null,null,null,null,null,null,"",0,0,0,{"$f":"IF(F21383=\"\",0,IF(isNccValid(F21383),0,1))","v":0}]
[null,null,null,null,null,null,null,null,null,null,null,null,null,null,null,"",0,0,0,{"$f":"IF(F21393=\"\",0,IF(isNccValid(F21393),0,1))","v":0}]
[null,null,null,null,null,null,null,null,null,null,null,null,null,null,null,"",0,0,0,{"$f":"IF(F21401=\"\",0,IF(isNccValid(F21401),0,1))","v":0}]
[null,null,null,null,null,null,null,null,null,null,null,null,null,null,null,"",0,0,0,{"$f":"IF(F21417=\"\",0,IF(isNccValid(F21417),0,1))","v":0}]
[null,null,null,null,null,null,null,null,null,null,null,null,null,null,null,"",0,0,0,{"$f":"IF(F21427=\"\",0,IF(isNccValid(F21427),0,1))","v":0}]
[null,null,null,null,null,null,null,null,null,null,null,null,null,null,null,"",0,0,0,{"$f":"IF(F21433=\"\",0,IF(isNccValid(F21433),0,1))","v":0}]
[null,null,null,null,null,null,null,null,null,null,null,null,null,null,null,"",0,0,0,{"$f":"IF(F21442=\"\",0,IF(isNccValid(F21442),0,1))","v":0}]
[null,null,null,null,null,null,null,null,null,null,null,null,null,null,null,"",0,0,0,{"$f":"IF(F21461=\"\",0,IF(isNccValid(F21461),0,1))","v":0}]
[null,null,null,null,null,null,null,null,null,null,null,null,null,null,null,"",0,0,0,{"$f":"IF(F21467=\"\",0,IF(isNccValid(F21467),0,1))","v":0}]
[null,null,null,null,null,null,null,null,null,null,null,null,null,null,null,"",0,0,0,{"$f":"IF(F21477=\"\",0,IF(isNccValid(F21477),0,1))","v":0}]
[null,null,null,null,null,null,null,null,null,null,null,null,null,null,null,"",0,0,0,{"$f":"IF(F21491=\"\",0,IF(isNccValid(F21491),0,1))","v":0}]
[null,null,null,null,null,null,null,null,null,null,null,null,null,null,null,"",0,0,0,{"$f":"IF(F21501=\"\",0,IF(isNccValid(F21501),0,1))","v":0}]
[null,null,null,null,null,null,null,null,null,null,null,null,null,null,null,"",0,0,0,{"$f":"IF(F21511=\"\",0,IF(isNccValid(F21511),0,1))","v":0}]
[null,null,null,null,null,null,null,null,null,null,null,null,null,null,null,"",0,0,0,{"$f":"IF(F21528=\"\",0,IF(isNccValid(F21528),0,1))","v":0}]
[null,null,null,null,null,null,null,null,null,null,null,null,null,null,null,"",0,0,0,{"$f":"IF(F21532=\"\",0,IF(isNccValid(F21532),0,1))","v":0}]
[null,null,null,null,null,null,null,null,null,null,null,null,null,null,null,"",0,0,0,{"$f":"IF(F21545=\"\",0,IF(isNccValid(F21545),0,1))","v":0}]
[null,null,null,null,null,null,null,null,null,null,null,null,null,null,null,"",0,0,0,{"$f":"IF(F21562=\"\",0,IF(isNccValid(F21562),0,1))","v":0}]
[null,null,null,null,null,null,null,null,null,null,null,null,null,null,null,"",0,0,0,{"$f":"IF(F21572=\"\",0,IF(isNccValid(F21572),0,1))","v":0}]
[null,null,null,null,null,null,null,null,null,null,null,null,null,null,null,"",0,0,0,{"$f":"IF(F21581=\"\",0,IF(isNccValid(F21581),0,1))","v":0}]
[null,null,null,null,null,null,null,null,null,null,null,null,null,null,null,"",0,0,0,{"$f":"IF(F21589=\"\",0,IF(isNccValid(F21589),0,1))","v":0}]
[null,null,null,null,null,null,null,null,null,null,null,null,null,null,null,"",0,0,0,{"$f":"IF(F21606=\"\",0,IF(isNccValid(F21606),0,1))","v":0}]
[null,null,null,null,null,null,null,null,null,null,null,null,null,null,null,"",0,0,0,{"$f":"IF(F21612=\"\",0,IF(isNccValid(F21612),0,1))","v":0}]
[null,null,null,null,null,null,null,null,null,null,null,null,null,null,null,"",0,0,0,{"$f":"IF(F21622=\"\",0,IF(isNccValid(F21622),0,1))","v":0}]
[null,null,null,null,null,null,null,null,null,null,null,null,null,null,null,"",0,0,0,{"$f":"IF(F21640=\"\",0,IF(isNccValid(F21640),0,1))","v":0}]
[null,null,null,null,null,null,null,null,null,null,null,null,null,null,null,"",0,0,0,{"$f":"IF(F21646=\"\",0,IF(isNccValid(F21646),0,1))","v":0}]
[null,null,null,null,null,null,null,null,null,null,null,null,null,null,null,"",0,0,0,{"$f":"IF(F21656=\"\",0,IF(isNccValid(F21656),0,1))","v":0}]
[null,null,null,null,null,null,null,null,null,null,null,null,null,null,null,"",0,0,0,{"$f":"IF(F21671=\"\",0,IF(isNccValid(F21671),0,1))","v":0}]
[null,null,null,null,null,null,null,null,null,null,null,null,null,null,null,"",0,0,0,{"$f":"IF(F21684=\"\",0,IF(isNccValid(F21684),0,1))","v":0}]
[null,null,null,null,null,null,null,null,null,null,null,null,null,null,null,"",0,0,0,{"$f":"IF(F21690=\"\",0,IF(isNccValid(F21690),0,1))","v":0}]
[null,null,null,null,null,null,null,null,null,null,null,null,null,null,null,"",0,0,0,{"$f":"IF(F21707=\"\",0,IF(isNccValid(F21707),0,1))","v":0}]
[null,null,null,null,null,null,null,null,null,null,null,null,null,null,null,"",0,0,0,{"$f":"IF(F21712=\"\",0,IF(isNccValid(F21712),0,1))","v":0}]
[null,null,null,null,null,null,null,null,null,null,null,null,null,null,null,"",0,0,0,{"$f":"IF(F21724=\"\",0,IF(isNccValid(F21724),0,1))","v":0}]
[null,null,null,null,null,null,null,null,null,null,null,null,null,null,null,"",0,0,0,{"$f":"IF(F21741=\"\",0,IF(isNccValid(F21741),0,1))","v":0}]
[null,null,null,null,null,null,null,null,null,null,null,null,null,null,null,"",0,0,0,{"$f":"IF(F21751=\"\",0,IF(isNccValid(F21751),0,1))","v":0}]
[null,null,null,null,null,null,null,null,null,null,null,null,null,null,null,"",0,0,0,{"$f":"IF(F21761=\"\",0,IF(isNccValid(F21761),0,1))","v":0}]
[null,null,null,null,null,null,null,null,null,null,null,null,null,null,null,"",0,0,0,{"$f":"IF(F21768=\"\",0,IF(isNccValid(F21768),0,1))","v":0}]
[null,null,null,null,null,null,null,null,null,null,null,null,null,null,null,"",0,0,0,{"$f":"IF(F21785=\"\",0,IF(isNccValid(F21785),0,1))","v":0}]
[null,null,null,null,null,null,null,null,null,null,null,null,null,null,null,"",0,0,0,{"$f":"IF(F21791=\"\",0,IF(isNccValid(F21791),0,1))","v":0}]
[null,null,null,null,null,null,null,null,null,null,null,null,null,null,null,"",0,0,0,{"$f":"IF(F21802=\"\",0,IF(isNccValid(F21802),0,1))","v":0}]
[null,null,null,null,null,null,null,null,null,null,null,null,null,null,null,"",0,0,0,{"$f":"IF(F21819=\"\",0,IF(isNccValid(F21819),0,1))","v":0}]
[null,null,null,null,null,null,null,null,null,null,null,null,null,null,null,"",0,0,0,{"$f":"IF(F21829=\"\",0,IF(isNccValid(F21829),0,1))","v":0}]
[null,null,null,null,null,null,null,null,null,null,null,null,null,null,null,"",0,0,0,{"$f":"IF(F21835=\"\",0,IF(isNccValid(F21835),0,1))","v":0}]
[null,null,null,null,null,null,null,null,null,null,null,null,null,null,null,"",0,0,0,{"$f":"IF(F21851=\"\",0,IF(isNccValid(F21851),0,1))","v":0}]
[null,null,null,null,null,null,null,null,null,null,null,null,null,null,null,"",0,0,0,{"$f":"IF(F21863=\"\",0,IF(isNccValid(F21863),0,1))","v":0}]
[null,null,null,null,null,null,null,null,null,null,null,null,null,null,null,"",0,0,0,{"$f":"IF(F21869=\"\",0,IF(isNccValid(F21869),0,1))","v":0}]
[null,null,null,null,null,null,null,null,null,null,null,null,null,null,null,"",0,0,0,{"$f":"IF(F21886=\"\",0,IF(isNccValid(F21886),0,1))","v":0}]
[null,null,null,null,null,null,null,null,null,null,null,null,null,null,null,"",0,0,0,{"$f":"IF(F21892=\"\",0,IF(isNccValid(F21892),0,1))","v":0}]
[null,null,null,null,null,null,null,null,null,null,null,null,null,null,null,"",0,0,0,{"$f":"IF(F21903=\"\",0,IF(isNccValid(F21903),0,1))","v":0}]
[null,null,null,null,null,null,null,null,null,null,null,null,null,null,null,"",0,0,0,{"$f":"IF(F21924=\"\",0,IF(isNccValid(F21924),0,1))","v":0}]
[null,null,null,null,null,null,null,null,null,null,null,null,null,null,null,"",0,0,0,{"$f":"IF(F21930=\"\",0,IF(isNccValid(F21930),0,1))","v":0}]
[null,null,null,null,null,null,null,null,null,null,null,null,null,null,null,"",0,0,0,{"$f":"IF(F21941=\"\",0,IF(isNccValid(F21941),0,1))","v":0}]
[null,null,null,null,null,null,null,null,null,null,null,null,null,null,null,"",0,0,0,{"$f":"IF(F21958=\"\",0,IF(isNccValid(F21958),0,1))","v":0}]
[null,null,null,null,null,null,null,null,null,null,null,null,null,null,null,"",0,0,0,{"$f":"IF(F21964=\"\",0,IF(isNccValid(F21964),0,1))","v":0}]
[null,null,null,null,null,null,null,null,null,null,null,null,null,null,null,"",0,0,0,{"$f":"IF(F21970=\"\",0,IF(isNccValid(F21970),0,1))","v":0}]
[null,null,null,null,null,null,null,null,null,null,null,null,null,null,null,"",0,0,0,{"$f":"IF(F21982=\"\",0,IF(isNccValid(F21982),0,1))","v":0}]
[null,null,null,null,null,null,null,null,null,null,null,null,null,null,null,"",0,0,0,{"$f":"IF(F21998=\"\",0,IF(isNccValid(F21998),0,1))","v":0}]
[null,null,null,null,null,null,null,null,null,null,null,null,null,null,null,"",0,0,0,{"$f":"IF(F22008=\"\",0,IF(isNccValid(F22008),0,1))","v":0}]
[null,null,null,null,null,null,null,null,null,null,null,null,null,null,null,"",0,0,0,{"$f":"IF(F22025=\"\",0,IF(isNccValid(F22025),0,1))","v":0}]
[null,null,null,null,null,null,null,null,null,null,null,null,null,null,null,"",0,0,0,{"$f":"IF(F22031=\"\",0,IF(isNccValid(F22031),0,1))","v":0}]
[null,null,null,null,null,null,null,null,null,null,null,null,null,null,null,"",0,0,0,{"$f":"IF(F22042=\"\",0,IF(isNccValid(F22042),0,1))","v":0}]
[null,null,null,null,null,null,null,null,null,null,null,null,null,null,null,"",0,0,0,{"$f":"IF(F22059=\"\",0,IF(isNccValid(F22059),0,1))","v":0}]
[null,null,null,null,null,null,null,null,null,null,null,null,null,null,null,"",0,0,0,{"$f":"IF(F22069=\"\",0,IF(isNccValid(F22069),0,1))","v":0}]
[null,null,null,null,null,null,null,null,null,null,null,null,null,null,null,"",0,0,0,{"$f":"IF(F22072=\"\",0,IF(isNccValid(F22072),0,1))","v":0}]
[null,null,null,null,null,null,null,null,null,null,null,null,null,null,null,"",0,0,0,{"$f":"IF(F22093=\"\",0,IF(isNccValid(F22093),0,1))","v":0}]
[null,null,null,null,null,null,null,null,null,null,null,null,null,null,null,"",0,0,0,{"$f":"IF(F22103=\"\",0,IF(isNccValid(F22103),0,1))","v":0}]
[null,null,null,null,null,null,null,null,null,null,null,null,null,null,null,"",0,0,0,{"$f":"IF(F22109=\"\",0,IF(isNccValid(F22109),0,1))","v":0}]
[null,null,null,null,null,null,null,null,null,null,null,null,null,null,null,"",0,0,0,{"$f":"IF(F22121=\"\",0,IF(isNccValid(F22121),0,1))","v":0}]
[null,null,null,null,null,null,null,null,null,null,null,null,null,null,null,"",0,0,0,{"$f":"IF(F22137=\"\",0,IF(isNccValid(F22137),0,1))","v":0}]
[null,null,null,null,null,null,null,null,null,null,null,null,null,null,null,"",0,0,0,{"$f":"IF(F22143=\"\",0,IF(isNccValid(F22143),0,1))","v":0}]
[null,null,null,null,null,null,null,null,null,null,null,null,null,null,null,"",0,0,0,{"$f":"IF(F22153=\"\",0,IF(isNccValid(F22153),0,1))","v":0}]
[null,null,null,null,null,null,null,null,null,null,null,null,null,null,null,"",0,0,0,{"$f":"IF(F22162=\"\",0,IF(isNccValid(F22162),0,1))","v":0}]
[null,null,null,null,null,null,null,null,null,null,null,null,null,null,null,"",0,0,0,{"$f":"IF(F22177=\"\",0,IF(isNccValid(F22177),0,1))","v":0}]
[null,null,null,null,null,null,null,null,null,null,null,null,null,null,null,"",0,0,0,{"$f":"IF(F22187=\"\",0,IF(isNccValid(F22187),0,1))","v":0}]
[null,null,null,null,null,null,null,null,null,null,null,null,null,null,null,"",0,0,0,{"$f":"IF(F22204=\"\",0,IF(isNccValid(F22204),0,1))","v":0}]
[null,null,null,null,null,null,null,null,null,null,null,null,null,null,null,"",0,0,0,{"$f":"IF(F22215=\"\",0,IF(isNccValid(F22215),0,1))","v":0}]
[null,null,null,null,null,null,null,null,null,null,null,null,null,null,null,"",0,0,0,{"$f":"IF(F22221=\"\",0,IF(isNccValid(F22221),0,1))","v":0}]
[null,null,null,null,null,null,null,null,null,null,null,null,null,null,null,"",0,0,0,{"$f":"IF(F22238=\"\",0,IF(isNccValid(F22238),0,1))","v":0}]
[null,null,null,null,null,null,null,null,null,null,null,null,null,null,null,"",0,0,0,{"$f":"IF(F22248=\"\",0,IF(isNccValid(F22248),0,1))","v":0}]
[null,null,null,null,null,null,null,null,null,null,null,null,null,null,null,"",0,0,0,{"$f":"IF(F22252=\"\",0,IF(isNccValid(F22252),0,1))","v":0}]
[null,null,null,null,null,null,null,null,null,null,null,null,null,null,null,"",0,0,0,{"$f":"IF(F22272=\"\",0,IF(isNccValid(F22272),0,1))","v":0}]
[null,null,null,null,null,null,null,null,null,null,null,null,null,null,null,"",0,0,0,{"$f":"IF(F22282=\"\",0,IF(isNccValid(F22282),0,1))","v":0}]
[null,null,null,null,null,null,null,null,null,null,null,null,null,null,null,"",0,0,0,{"$f":"IF(F22288=\"\",0,IF(isNccValid(F22288),0,1))","v":0}]
[null,null,null,null,null,null,null,null,null,null,null,null,null,null,null,"",0,0,0,{"$f":"IF(F22305=\"\",0,IF(isNccValid(F22305),0,1))","v":0}]
[null,null,null,null,null,null,null,null,null,null,null,null,null,null,null,"",0,0,0,{"$f":"IF(F22316=\"\",0,IF(isNccValid(F22316),0,1))","v":0}]
[null,null,null,null,null,null,null,null,null,null,null,null,null,null,null,"",0,0,0,{"$f":"IF(F22322=\"\",0,IF(isNccValid(F22322),0,1))","v":0}]
[null,null,null,null,null,null,null,null,null,null,null,null,null,null,null,"",0,0,0,{"$f":"IF(F22332=\"\",0,IF(isNccValid(F22332),0,1))","v":0}]
[null,null,null,null,null,null,null,null,null,null,null,null,null,null,null,"",0,0,0,{"$f":"IF(F22342=\"\",0,IF(isNccValid(F22342),0,1))","v":0}]
[null,null,null,null,null,null,null,null,null,null,null,null,null,null,null,"",0,0,0,{"$f":"IF(F22356=\"\",0,IF(isNccValid(F22356),0,1))","v":0}]
[null,null,null,null,null,null,null,null,null,null,null,null,null,null,null,"",0,0,0,{"$f":"IF(F22366=\"\",0,IF(isNccValid(F22366),0,1))","v":0}]
[null,null,null,null,null,null,null,null,null,null,null,null,null,null,null,"",0,0,0,{"$f":"IF(F22383=\"\",0,IF(isNccValid(F22383),0,1))","v":0}]
[null,null,null,null,null,null,null,null,null,null,null,null,null,null,null,"",0,0,0,{"$f":"IF(F22395=\"\",0,IF(isNccValid(F22395),0,1))","v":0}]
[null,null,null,null,null,null,null,null,null,null,null,null,null,null,null,"",0,0,0,{"$f":"IF(F22400=\"\",0,IF(isNccValid(F22400),0,1))","v":0}]
[null,null,null,null,null,null,null,null,null,null,null,null,null,null,null,"",0,0,0,{"$f":"IF(F22417=\"\",0,IF(isNccValid(F22417),0,1))","v":0}]
[null,null,null,null,null,null,null,null,null,null,null,null,null,null,null,"",0,0,0,{"$f":"IF(F22427=\"\",0,IF(isNccValid(F22427),0,1))","v":0}]
[null,null,null,null,null,null,null,null,null,null,null,null,null,null,null,"",0,0,0,{"$f":"IF(F22432=\"\",0,IF(isNccValid(F22432),0,1))","v":0}]
[null,null,null,null,null,null,null,null,null,null,null,null,null,null,null,"",0,0,0,{"$f":"IF(F22444=\"\",0,IF(isNccValid(F22444),0,1))","v":0}]
[null,null,null,null,null,null,null,null,null,null,null,null,null,null,null,"",0,0,0,{"$f":"IF(F22461=\"\",0,IF(isNccValid(F22461),0,1))","v":0}]
[null,null,null,null,null,null,null,null,null,null,null,null,null,null,null,"",0,0,0,{"$f":"IF(F22467=\"\",0,IF(isNccValid(F22467),0,1))","v":0}]
[null,null,null,null,null,null,null,null,null,null,null,null,null,null,null,"",0,0,0,{"$f":"IF(F22485=\"\",0,IF(isNccValid(F22485),0,1))","v":0}]
[null,null,null,null,null,null,null,null,null,null,null,null,null,null,null,"",0,0,0,{"$f":"IF(F22495=\"\",0,IF(isNccValid(F22495),0,1))","v":0}]
[null,null,null,null,null,null,null,null,null,null,null,null,null,null,null,"",0,0,0,{"$f":"IF(F22501=\"\",0,IF(isNccValid(F22501),0,1))","v":0}]
[null,null,null,null,null,null,null,null,null,null,null,null,null,null,null,"",0,0,0,{"$f":"IF(F22511=\"\",0,IF(isNccValid(F22511),0,1))","v":0}]
[null,null,null,null,null,null,null,null,null,null,null,null,null,null,null,"",0,0,0,{"$f":"IF(F22522=\"\",0,IF(isNccValid(F22522),0,1))","v":0}]
[null,null,null,null,null,null,null,null,null,null,null,null,null,null,null,"",0,0,0,{"$f":"IF(F22539=\"\",0,IF(isNccValid(F22539),0,1))","v":0}]
[null,null,null,null,null,null,null,null,null,null,null,null,null,null,null,"",0,0,0,{"$f":"IF(F22545=\"\",0,IF(isNccValid(F22545),0,1))","v":0}]
[null,null,null,null,null,null,null,null,null,null,null,null,null,null,null,"",{"$f":"IF(AND(B22562=\"\",R22562=1),1,IF(AND(D22562=\"\",R22562=1),1,IF(AND(E22562=\"\",R22562=1),1,IF(AND(F22562=\"\",R22562=1),1,IF(AND(M22562=\"\",R22562=1),1,IF(AND(O22562=\"\",R22562=1),1,0))))))","v":0},{"$f":"IF(C22562=\"\",0,IF(COUNTA(B22562:O22562)>0,1,0))","v":0},{"$f":"IFERROR(IF(LEN(F22562)=8,0,IF(LEN(F22562)=0,0,1)),1)","v":0},{"$f":"IF(F22562=\"\",0,IF(isNccValid(F22562),0,1))","v":0}]
[null,null,null,null,null,null,null,null,null,null,null,null,null,null,null,"",0,0,0,{"$f":"IF(F22575=\"\",0,IF(isNccValid(F22575),0,1))","v":0}]
[null,null,null,null,null,null,null,null,null,null,null,null,null,null,null,"",0,0,0,{"$f":"IF(F22579=\"\",0,IF(isNccValid(F22579),0,1))","v":0}]
[null,null,null,null,null,null,null,null,null,null,null,null,null,null,null,"",0,0,0,{"$f":"IF(F22596=\"\",0,IF(isNccValid(F22596),0,1))","v":0}]
[null,null,null,null,null,null,null,null,null,null,null,null,null,null,null,"",0,0,0,{"$f":"IF(F22606=\"\",0,IF(isNccValid(F22606),0,1))","v":0}]
[null,null,null,null,null,null,null,null,null,null,null,null,null,null,null,"",0,0,0,{"$f":"IF(F22612=\"\",0,IF(isNccValid(F22612),0,1))","v":0}]
[null,null,null,null,null,null,null,null,null,null,null,null,null,null,null,"",0,0,0,{"$f":"IF(F22623=\"\",0,IF(isNccValid(F22623),0,1))","v":0}]
[null,null,null,null,null,null,null,null,null,null,null,null,null,null,null,"",0,0,0,{"$f":"IF(F22640=\"\",0,IF(isNccValid(F22640),0,1))","v":0}]
[null,null,null,null,null,null,null,null,null,null,null,null,null,null,null,"",0,0,0,{"$f":"IF(F22646=\"\",0,IF(isNccValid(F22646),0,1))","v":0}]
[null,null,null,null,null,null,null,null,null,null,null,null,null,null,null,"",0,0,0,{"$f":"IF(F22665=\"\",0,IF(isNccValid(F22665),0,1))","v":0}]
[null,null,null,null,null,null,null,null,null,null,null,null,null,null,null,"",0,0,0,{"$f":"IF(F22674=\"\",0,IF(isNccValid(F22674),0,1))","v":0}]
[null,null,null,null,null,null,null,null,null,null,null,null,null,null,null,"",0,0,0,{"$f":"IF(F22684=\"\",0,IF(isNccValid(F22684),0,1))","v":0}]
[null,null,null,null,null,null,null,null,null,null,null,null,null,null,null,"",{"$f":"IF(AND(B22690=\"\",R22690=1),1,IF(AND(D22690=\"\",R22690=1),1,IF(AND(E22690=\"\",R22690=1),1,IF(AND(F22690=\"\",R22690=1),1,IF(AND(M22690=\"\",R22690=1),1,IF(AND(O22690=\"\",R22690=1),1,0))))))","v":0},{"$f":"IF(C22690=\"\",0,IF(COUNTA(B22690:O22690)>0,1,0))","v":0},{"$f":"IFERROR(IF(LEN(F22690)=8,0,IF(LEN(F22690)=0,0,1)),1)","v":0},{"$f":"IF(F22690=\"\",0,IF(isNccValid(F22690),0,1))","v":0}]
[null,null,null,null,null,null,null,null,null,null,null,null,null,null,null,"",0,0,0,{"$f":"IF(F22702=\"\",0,IF(isNccValid(F22702),0,1))","v":0}]
[null,null,null,null,null,null,null,null,null,null,null,null,null,null,null,"",0,0,0,{"$f":"IF(F22718=\"\",0,IF(isNccValid(F22718),0,1))","v":0}]
[null,null,null,null,null,null,null,null,null,null,null,null,null,null,null,"",0,0,0,{"$f":"IF(F22724=\"\",0,IF(isNccValid(F22724),0,1))","v":0}]
[null,null,null,null,null,null,null,null,null,null,null,null,null,null,null,"",0,0,0,{"$f":"IF(F22741=\"\",0,IF(isNccValid(F22741),0,1))","v":0}]
[null,null,null,null,null,null,null,null,null,null,null,null,null,null,null,"",0,0,0,{"$f":"IF(F22755=\"\",0,IF(isNccValid(F22755),0,1))","v":0}]
[null,null,null,null,null,null,null,null,null,null,null,null,null,null,null,"",0,0,0,{"$f":"IF(F22758=\"\",0,IF(isNccValid(F22758),0,1))","v":0}]
[null,null,null,null,null,null,null,null,null,null,null,null,null,null,null,"",0,0,0,{"$f":"IF(F22779=\"\",0,IF(isNccValid(F22779),0,1))","v":0}]
[null,null,null,null,null,null,null,null,null,null,null,null,null,null,null,"",0,0,0,{"$f":"IF(F22785=\"\",0,IF(isNccValid(F22785),0,1))","v":0}]
[null,null,null,null,null,null,null,null,null,null,null,null,null,null,null,"",0,0,0,{"$f":"IF(F22792=\"\",0,IF(isNccValid(F22792),0,1))","v":0}]
[null,null,null,null,null,null,null,null,null,null,null,null,null,null,null,"",0,0,0,{"$f":"IF(F22813=\"\",0,IF(isNccValid(F22813),0,1))","v":0}]
[null,null,null,null,null,null,null,null,null,null,null,null,null,null,null,"",0,0,0,{"$f":"IF(F22819=\"\",0,IF(isNccValid(F22819),0,1))","v":0}]
[null,null,null,null,null,null,null,null,null,null,null,null,null,null,null,"",0,0,0,{"$f":"IF(F22829=\"\",0,IF(isNccValid(F22829),0,1))","v":0}]
[null,null,null,null,null,null,null,null,null,null,null,null,null,null,null,"",0,0,0,{"$f":"IF(F22845=\"\",0,IF(isNccValid(F22845),0,1))","v":0}]
[null,null,null,null,null,null,null,null,null,null,null,null,null,null,null,"",0,0,0,{"$f":"IF(F22853=\"\",0,IF(isNccValid(F22853),0,1))","v":0}]
[null,null,null,null,null,null,null,null,null,null,null,null,null,null,null,"",0,0,0,{"$f":"IF(F22863=\"\",0,IF(isNccValid(F22863),0,1))","v":0}]
[null,null,null,null,null,null,null,null,null,null,null,null,null,null,null,"",0,0,0,{"$f":"IF(F22880=\"\",0,IF(isNccValid(F22880),0,1))","v":0}]
[null,null,null,null,null,null,null,null,null,null,null,null,null,null,null,"",{"$f":"IF(AND(B22882=\"\",R22882=1),1,IF(AND(D22882=\"\",R22882=1),1,IF(AND(E22882=\"\",R22882=1),1,IF(AND(F22882=\"\",R22882=1),1,IF(AND(M22882=\"\",R22882=1),1,IF(AND(O22882=\"\",R22882=1),1,0))))))","v":0},{"$f":"IF(C22882=\"\",0,IF(COUNTA(B22882:O22882)>0,1,0))","v":0},{"$f":"IFERROR(IF(LEN(F22882)=8,0,IF(LEN(F22882)=0,0,1)),1)","v":0},{"$f":"IF(F22882=\"\",0,IF(isNccValid(F22882),0,1))","v":0}]
[null,null,null,null,null,null,null,null,null,null,null,null,null,null,null,"",0,0,0,{"$f":"IF(F22897=\"\",0,IF(isNccValid(F22897),0,1))","v":0}]
[null,null,null,null,null,null,null,null,null,null,null,null,null,null,null,"",0,0,0,{"$f":"IF(F22914=\"\",0,IF(isNccValid(F22914),0,1))","v":0}]
[null,null,null,null,null,null,null,null,null,null,null,null,null,null,null,"",0,0,0,{"$f":"IF(F22924=\"\",0,IF(isNccValid(F22924),0,1))","v":0}]
[null,null,null,null,null,null,null,null,null,null,null,null,null,null,null,"",0,0,0,{"$f":"IF(F22935=\"\",0,IF(isNccValid(F22935),0,1))","v":0}]
[null,null,null,null,null,null,null,null,null,null,null,null,null,null,null,"",0,0,0,{"$f":"IF(F22948=\"\",0,IF(isNccValid(F22948),0,1))","v":0}]
[null,null,null,null,null,null,null,null,null,null,null,null,null,null,null,"",0,0,0,{"$f":"IF(F22958=\"\",0,IF(isNccValid(F22958),0,1))","v":0}]
[null,null,null,null,null,null,null,null,null,null,null,null,null,null,null,"",0,0,0,{"$f":"IF(F22964=\"\",0,IF(isNccValid(F22964),0,1))","v":0}]
[null,null,null,null,null,null,null,null,null,null,null,null,null,null,null,"",0,0,0,{"$f":"IF(F22972=\"\",0,IF(isNccValid(F22972),0,1))","v":0}]
[null,null,null,null,null,null,null,null,null,null,null,null,null,null,null,"",0,0,0,{"$f":"IF(F22992=\"\",0,IF(isNccValid(F22992),0,1))","v":0}]
[null,null,null,null,null,null,null,null,null,null,null,null,null,null,null,{"$f":"IF(B22998=\"\",\"\",M22998*O22998)","v":""},0,0,0,{"$f":"IF(F22998=\"\",0,IF(isNccValid(F22998),0,1))","v":0}]
[null,null,null,null,null,null,null,null,null,null,null,null,null,null,null,"",0,0,0,{"$f":"IF(F23008=\"\",0,IF(isNccValid(F23008),0,1))","v":0}]
[null,null,null,null,null,null,null,null,null,null,null,null,null,null,null,"",0,0,0,{"$f":"IF(F23025=\"\",0,IF(isNccValid(F23025),0,1))","v":0}]
[null,null,null,null,null,null,null,null,null,null,null,null,null,null,null,"",0,0,0,{"$f":"IF(F23032=\"\",0,IF(isNccValid(F23032),0,1))","v":0}]
[null,null,null,null,null,null,null,null,null,null,null,null,null,null,null,"",0,0,0,{"$f":"IF(F23042=\"\",0,IF(isNccValid(F23042),0,1))","v":0}]
[null,null,null,null,null,null,null,null,null,null,null,null,null,null,null,"",0,0,0,{"$f":"IF(F23059=\"\",0,IF(isNccValid(F23059),0,1))","v":0}]
[null,null,null,null,null,null,null,null,null,null,null,null,null,null,null,"",0,0,0,{"$f":"IF(F23066=\"\",0,IF(isNccValid(F23066),0,1))","v":0}]
[null,null,null,null,null,null,null,null,null,null,null,null,null,null,null,"",0,0,0,{"$f":"IF(F23076=\"\",0,IF(isNccValid(F23076),0,1))","v":0}]
[null,null,null,null,null,null,null,null,null,null,null,null,null,null,null,"",0,0,0,{"$f":"IF(F23093=\"\",0,IF(isNccValid(F23093),0,1))","v":0}]
[null,null,null,null,null,null,null,null,null,null,null,null,null,null,null,"",0,0,0,{"$f":"IF(F23103=\"\",0,IF(isNccValid(F23103),0,1))","v":0}]
[null,null,null,null,null,null,null,null,null,null,null,null,null,null,null,"",0,0,0,{"$f":"IF(F23115=\"\",0,IF(isNccValid(F23115),0,1))","v":0}]
[null,null,null,null,null,null,null,null,null,null,null,null,null,null,null,"",0,0,0,{"$f":"IF(F23127=\"\",0,IF(isNccValid(F23127),0,1))","v":0}]
[null,null,null,null,null,null,null,null,null,null,null,null,null,null,null,"",0,0,0,{"$f":"IF(F23137=\"\",0,IF(isNccValid(F23137),0,1))","v":0}]
[null,null,null,null,null,null,null,null,null,null,null,null,null,null,null,"",0,0,0,{"$f":"IF(F23143=\"\",0,IF(isNccValid(F23143),0,1))","v":0}]
[null,null,null,null,null,null,null,null,null,null,null,null,null,null,null,"",0,0,0,{"$f":"IF(F23156=\"\",0,IF(isNccValid(F23156),0,1))","v":0}]
[null,null,null,null,null,null,null,null,null,null,null,null,null,null,null,"",0,0,0,{"$f":"IF(F23171=\"\",0,IF(isNccValid(F23171),0,1))","v":0}]
[null,null,null,null,null,null,null,null,null,null,null,null,null,null,null,"",0,0,0,{"$f":"IF(F23177=\"\",0,IF(isNccValid(F23177),0,1))","v":0}]
[null,null,null,null,null,null,null,null,null,null,null,null,null,null,null,"",0,0,0,{"$f":"IF(F23187=\"\",0,IF(isNccValid(F23187),0,1))","v":0}]
[null,null,null,null,null,null,null,null,null,null,null,null,null,null,null,"",0,0,0,{"$f":"IF(F23205=\"\",0,IF(isNccValid(F23205),0,1))","v":0}]
[null,null,null,null,null,null,null,null,null,null,null,null,null,null,null,"",0,0,0,{"$f":"IF(F23215=\"\",0,IF(isNccValid(F23215),0,1))","v":0}]
[null,null,null,null,null,null,null,null,null,null,null,null,null,null,null,"",0,0,0,{"$f":"IF(F23221=\"\",0,IF(isNccValid(F23221),0,1))","v":0}]
[null,null,null,null,null,null,null,null,null,null,null,null,null,null,null,"",0,0,0,{"$f":"IF(F23238=\"\",0,IF(isNccValid(F23238),0,1))","v":0}]
[null,null,null,null,null,null,null,null,null,null,null,null,null,null,null,"",0,0,0,{"$f":"IF(F23246=\"\",0,IF(isNccValid(F23246),0,1))","v":0}]
[null,null,null,null,null,null,null,null,null,null,null,null,null,null,null,"",0,0,0,{"$f":"IF(F23255=\"\",0,IF(isNccValid(F23255),0,1))","v":0}]
[null,null,null,null,null,null,null,null,null,null,null,null,null,null,null,"",0,0,0,{"$f":"IF(F23272=\"\",0,IF(isNccValid(F23272),0,1))","v":0}]
[null,null,null,null,null,null,null,null,null,null,null,null,null,null,null,"",0,0,0,{"$f":"IF(F23282=\"\",0,IF(isNccValid(F23282),0,1))","v":0}]
[null,null,null,null,null,null,null,null,null,null,null,null,null,null,null,"",0,0,0,{"$f":"IF(F23295=\"\",0,IF(isNccValid(F23295),0,1))","v":0}]
[null,null,null,null,null,null,null,null,null,null,null,null,null,null,null,"",0,0,0,{"$f":"IF(F23299=\"\",0,IF(isNccValid(F23299),0,1))","v":0}]
[null,null,null,null,null,null,null,null,null,null,null,null,null,null,null,"",0,0,0,{"$f":"IF(F23316=\"\",0,IF(isNccValid(F23316),0,1))","v":0}]
[null,null,null,null,null,null,null,null,null,null,null,null,null,null,null,"",0,0,0,{"$f":"IF(F23322=\"\",0,IF(isNccValid(F23322),0,1))","v":0}]
[null,null,null,null,null,null,null,null,null,null,null,null,null,null,null,"",0,0,0,{"$f":"IF(F23336=\"\",0,IF(isNccValid(F23336),0,1))","v":0}]
[null,null,null,null,null,null,null,null,null,null,null,null,null,null,null,"",0,0,0,{"$f":"IF(F23350=\"\",0,IF(isNccValid(F23350),0,1))","v":0}]
[null,null,null,null,null,null,null,null,null,null,null,null,null,null,null,"",0,0,0,{"$f":"IF(F23356=\"\",0,IF(isNccValid(F23356),0,1))","v":0}]
[null,null,null,null,null,null,null,null,null,null,null,null,null,null,null,"",0,0,0,{"$f":"IF(F23366=\"\",0,IF(isNccValid(F23366),0,1))","v":0}]
[null,null,null,null,null,null,null,null,null,null,null,null,null,null,null,"",0,0,0,{"$f":"IF(F23385=\"\",0,IF(isNccValid(F23385),0,1))","v":0}]
[null,null,null,null,null,null,null,null,null,null,null,null,null,null,null,"",{"$f":"IF(AND(B23394=\"\",R23394=1),1,IF(AND(D23394=\"\",R23394=1),1,IF(AND(E23394=\"\",R23394=1),1,IF(AND(F23394=\"\",R23394=1),1,IF(AND(M23394=\"\",R23394=1),1,IF(AND(O23394=\"\",R23394=1),1,0))))))","v":0},{"$f":"IF(C23394=\"\",0,IF(COUNTA(B23394:O23394)>0,1,0))","v":0},{"$f":"IFERROR(IF(LEN(F23394)=8,0,IF(LEN(F23394)=0,0,1)),1)","v":0},{"$f":"IF(F23394=\"\",0,IF(isNccValid(F23394),0,1))","v":0}]
[null,null,null,null,null,null,null,null,null,null,null,null,null,null,null,"",0,0,0,{"$f":"IF(F23400=\"\",0,IF(isNccValid(F23400),0,1))","v":0}]
[null,null,null,null,null,null,null,null,null,null,null,null,null,null,null,"",0,0,0,{"$f":"IF(F23417=\"\",0,IF(isNccValid(F23417),0,1))","v":0}]
[null,null,null,null,null,null,null,null,null,null,null,null,null,null,null,"",0,0,0,{"$f":"IF(F23426=\"\",0,IF(isNccValid(F23426),0,1))","v":0}]
[null,null,null,null,null,null,null,null,null,null,null,null,null,null,null,"",0,0,0,{"$f":"IF(F23434=\"\",0,IF(isNccValid(F23434),0,1))","v":0}]
[null,null,null,null,null,null,null,null,null,null,null,null,null,null,null,"",0,0,0,{"$f":"IF(F23444=\"\",0,IF(isNccValid(F23444),0,1))","v":0}]
[null,null,null,null,null,null,null,null,null,null,null,null,null,null,null,"",0,0,0,{"$f":"IF(F23461=\"\",0,IF(isNccValid(F23461),0,1))","v":0}]
[null,null,null,null,null,null,null,null,null,null,null,null,null,null,null,"",0,0,0,{"$f":"IF(F23475=\"\",0,IF(isNccValid(F23475),0,1))","v":0}]
[null,null,null,null,null,null,null,null,null,null,null,null,null,null,null,"",0,0,0,{"$f":"IF(F23478=\"\",0,IF(isNccValid(F23478),0,1))","v":0}]
[null,null,null,null,null,null,null,null,null,null,null,null,null,null,null,"",0,0,0,{"$f":"IF(F23495=\"\",0,IF(isNccValid(F23495),0,1))","v":0}]
[null,null,null,null,null,null,null,null,null,null,null,null,null,null,null,"",0,0,0,{"$f":"IF(F23501=\"\",0,IF(isNccValid(F23501),0,1))","v":0}]
[null,null,null,null,null,null,null,null,null,null,null,null,null,null,null,"",0,0,0,{"$f":"IF(F23516=\"\",0,IF(isNccValid(F23516),0,1))","v":0}]
[null,null,null,null,null,null,null,null,null,null,null,null,null,null,null,"",0,0,0,{"$f":"IF(F23529=\"\",0,IF(isNccValid(F23529),0,1))","v":0}]
[null,null,null,null,null,null,null,null,null,null,null,null,null,null,null,"",0,0,0,{"$f":"IF(F23539=\"\",0,IF(isNccValid(F23539),0,1))","v":0}]
[null,null,null,null,null,null,null,null,null,null,null,null,null,null,null,"",0,0,0,{"$f":"IF(F23545=\"\",0,IF(isNccValid(F23545),0,1))","v":0}]
[null,null,null,null,null,null,null,null,null,null,null,null,null,null,null,"",0,0,0,{"$f":"IF(F23565=\"\",0,IF(isNccValid(F23565),0,1))","v":0}]
[null,null,null,null,null,null,null,null,null,null,null,null,null,null,null,"",0,0,0,{"$f":"IF(F23573=\"\",0,IF(isNccValid(F23573),0,1))","v":0}]
[null,null,null,null,null,null,null,null,null,null,null,null,null,null,null,"",0,0,0,{"$f":"IF(F23579=\"\",0,IF(isNccValid(F23579),0,1))","v":0}]
[null,null,null,null,null,null,null,null,null,null,null,null,null,null,null,"",0,0,0,{"$f":"IF(F23596=\"\",0,IF(isNccValid(F23596),0,1))","v":0}]
[null,null,null,null,null,null,null,null,null,null,null,null,null,null,null,"",0,0,0,{"$f":"IF(F23606=\"\",0,IF(isNccValid(F23606),0,1))","v":0}]
[null,null,null,null,null,null,null,null,null,null,null,null,null,null,null,"",0,0,0,{"$f":"IF(F23613=\"\",0,IF(isNccValid(F23613),0,1))","v":0}]
[null,null,null,null,null,null,null,null,null,null,null,null,null,null,null,"",0,0,0,{"$f":"IF(F23634=\"\",0,IF(isNccValid(F23634),0,1))","v":0}]
[null,null,null,null,null,null,null,null,null,null,null,null,null,null,null,"",0,0,0,{"$f":"IF(F23640=\"\",0,IF(isNccValid(F23640),0,1))","v":0}]
[null,null,null,null,null,null,null,null,null,null,null,null,null,null,null,"",0,0,0,{"$f":"IF(F23655=\"\",0,IF(isNccValid(F23655),0,1))","v":0}]
[null,null,null,null,null,null,null,null,null,null,null,null,null,null,null,"",0,0,0,{"$f":"IF(F23668=\"\",0,IF(isNccValid(F23668),0,1))","v":0}]
[null,null,null,null,null,null,null,null,null,null,null,null,null,null,null,"",0,0,0,{"$f":"IF(F23674=\"\",0,IF(isNccValid(F23674),0,1))","v":0}]
[null,null,null,null,null,null,null,null,null,null,null,null,null,null,null,"",0,0,0,{"$f":"IF(F23684=\"\",0,IF(isNccValid(F23684),0,1))","v":0}]
[null,null,null,null,null,null,null,null,null,null,null,null,null,null,null,"",0,0,0,{"$f":"IF(F23696=\"\",0,IF(isNccValid(F23696),0,1))","v":0}]
[null,null,null,null,null,null,null,null,null,null,null,null,null,null,null,"",0,0,0,{"$f":"IF(F23708=\"\",0,IF(isNccValid(F23708),0,1))","v":0}]
[null,null,null,null,null,null,null,null,null,null,null,null,null,null,null,"",0,0,0,{"$f":"IF(F23718=\"\",0,IF(isNccValid(F23718),0,1))","v":0}]
[null,null,null,null,null,null,null,null,null,null,null,null,null,null,null,"",0,0,0,{"$f":"IF(F23735=\"\",0,IF(isNccValid(F23735),0,1))","v":0}]
[null,null,null,null,null,null,null,null,null,null,null,null,null,null,null,"",0,0,0,{"$f":"IF(F23745=\"\",0,IF(isNccValid(F23745),0,1))","v":0}]
[null,null,null,null,null,null,null,null,null,null,null,null,null,null,null,"",0,0,0,{"$f":"IF(F23752=\"\",0,IF(isNccValid(F23752),0,1))","v":0}]
[null,null,null,null,null,null,null,null,null,null,null,null,null,null,null,"",0,0,0,{"$f":"IF(F23769=\"\",0,IF(isNccValid(F23769),0,1))","v":0}]
[null,null,null,null,null,null,null,null,null,null,null,null,null,null,null,"",0,0,0,{"$f":"IF(F23779=\"\",0,IF(isNccValid(F23779),0,1))","v":0}]
[null,null,null,null,null,null,null,null,null,null,null,null,null,null,null,"",0,0,0,{"$f":"IF(F23786=\"\",0,IF(isNccValid(F23786),0,1))","v":0}]
[null,null,null,null,null,null,null,null,null,null,null,null,null,null,null,"",0,0,0,{"$f":"IF(F23803=\"\",0,IF(isNccValid(F23803),0,1))","v":0}]
[null,null,null,null,null,null,null,null,null,null,null,null,null,null,null,"",0,0,0,{"$f":"IF(F23813=\"\",0,IF(isNccValid(F23813),0,1))","v":0}]
[null,null,null,null,null,null,null,null,null,null,null,null,null,null,null,"",0,0,0,{"$f":"IF(F23819=\"\",0,IF(isNccValid(F23819),0,1))","v":0}]
[null,null,null,null,null,null,null,null,null,null,null,null,null,null,null,"",0,0,0,{"$f":"IF(F23827=\"\",0,IF(isNccValid(F23827),0,1))","v":0}]
[null,null,null,null,null,null,null,null,null,null,null,null,null,null,null,"",0,0,0,{"$f":"IF(F23847=\"\",0,IF(isNccValid(F23847),0,1))","v":0}]
[null,null,null,null,null,null,null,null,null,null,null,null,null,null,null,"",0,0,0,{"$f":"IF(F23853=\"\",0,IF(isNccValid(F23853),0,1))","v":0}]
[null,null,null,null,null,null,null,null,null,null,null,null,null,null,null,"",0,0,0,{"$f":"IF(F23863=\"\",0,IF(isNccValid(F23863),0,1))","v":0}]
[null,null,null,null,null,null,null,null,null,null,null,null,null,null,null,"",0,0,0,{"$f":"IF(F23876=\"\",0,IF(isNccValid(F23876),0,1))","v":0}]
[null,null,null,null,null,null,null,null,null,null,null,null,null,null,null,"",0,0,0,{"$f":"IF(F23887=\"\",0,IF(isNccValid(F23887),0,1))","v":0}]
[null,null,null,null,null,null,null,null,null,null,null,null,null,null,null,"",0,0,0,{"$f":"IF(F23897=\"\",0,IF(isNccValid(F23897),0,1))","v":0}]
[null,null,null,null,null,null,null,null,null,null,null,null,null,null,null,"",0,0,0,{"$f":"IF(F23914=\"\",0,IF(isNccValid(F23914),0,1))","v":0}]
[null,null,null,null,null,null,null,null,null,null,null,null,null,null,null,"",0,0,0,{"$f":"IF(F23917=\"\",0,IF(isNccValid(F23917),0,1))","v":0}]
[null,null,null,null,null,null,null,null,null,null,null,null,null,null,null,"",0,0,0,{"$f":"IF(F23931=\"\",0,IF(isNccValid(F23931),0,1))","v":0}]
[null,null,null,null,null,null,null,null,null,null,null,null,null,null,null,"",0,0,0,{"$f":"IF(F23948=\"\",0,IF(isNccValid(F23948),0,1))","v":0}]
[null,null,null,null,null,null,null,null,null,null,null,null,null,null,null,{"$f":"IF(B23958=\"\",\"\",M23958*O23958)","v":""},0,0,0,{"$f":"IF(F23958=\"\",0,IF(isNccValid(F23958),0,1))","v":0}]
[null,null,null,null,null,null,null,null,null,null,null,null,null,null,null,"",0,0,0,{"$f":"IF(F23966=\"\",0,IF(isNccValid(F23966),0,1))","v":0}]
[null,null,null,null,null,null,null,null,null,null,null,null,null,null,null,"",0,0,0,{"$f":"IF(F23982=\"\",0,IF(isNccValid(F23982),0,1))","v":0}]
[null,null,null,null,null,null,null,null,null,null,null,null,null,null,null,"",0,0,0,{"$f":"IF(F23992=\"\",0,IF(isNccValid(F23992),0,1))","v":0}]
[null,null,null,null,null,null,null,null,null,null,null,null,null,null,null,"",0,0,0,{"$f":"IF(F23998=\"\",0,IF(isNccValid(F23998),0,1))","v":0}]
[null,null,null,null,null,null,null,null,null,null,null,null,null,null,null,"",0,0,0,{"$f":"IF(F24007=\"\",0,IF(isNccValid(F24007),0,1))","v":0}]
[null,null,null,null,null,null,null,null,null,null,null,null,null,null,null,"",0,0,0,{"$f":"IF(F24026=\"\",0,IF(isNccValid(F24026),0,1))","v":0}]
[null,null,null,null,null,null,null,null,null,null,null,null,null,null,null,"",0,0,0,{"$f":"IF(F24032=\"\",0,IF(isNccValid(F24032),0,1))","v":0}]
[null,null,null,null,null,null,null,null,null,null,null,null,null,null,null,"",0,0,0,{"$f":"IF(F24042=\"\",0,IF(isNccValid(F24042),0,1))","v":0}]
[null,null,null,null,null,null,null,null,null,null,null,null,null,null,null,"",0,0,0,{"$f":"IF(F24056=\"\",0,IF(isNccValid(F24056),0,1))","v":0}]
[null,null,null,null,null,null,null,null,null,null,null,null,null,null,null,"",0,0,0,{"$f":"IF(F24070=\"\",0,IF(isNccValid(F24070),0,1))","v":0}]
[null,null,null,null,null,null,null,null,null,null,null,null,null,null,null,"",0,0,0,{"$f":"IF(F24076=\"\",0,IF(isNccValid(F24076),0,1))","v":0}]
[null,null,null,null,null,null,null,null,null,null,null,null,null,null,null,"",0,0,0,{"$f":"IF(F24093=\"\",0,IF(isNccValid(F24093),0,1))","v":0}]
[null,null,null,null,null,null,null,null,null,null,null,null,null,null,null,"",0,0,0,{"$f":"IF(F24097=\"\",0,IF(isNccValid(F24097),0,1))","v":0}]
[null,null,null,null,null,null,null,null,null,null,null,null,null,null,null,"",0,0,0,{"$f":"IF(F24110=\"\",0,IF(isNccValid(F24110),0,1))","v":0}]
[null,null,null,null,null,null,null,null,null,null,null,null,null,null,null,"",0,0,0,{"$f":"IF(F24127=\"\",0,IF(isNccValid(F24127),0,1))","v":0}]
[null,null,null,null,null,null,null,null,null,null,null,null,null,null,null,"",0,0,0,{"$f":"IF(F24137=\"\",0,IF(isNccValid(F24137),0,1))","v":0}]
[null,null,null,null,null,null,null,null,null,null,null,null,null,null,null,"",0,0,0,{"$f":"IF(F24146=\"\",0,IF(isNccValid(F24146),0,1))","v":0}]
[null,null,null,null,null,null,null,null,null,null,null,null,null,null,null,"",0,0,0,{"$f":"IF(F24154=\"\",0,IF(isNccValid(F24154),0,1))","v":0}]
[null,null,null,null,null,null,null,null,null,null,null,null,null,null,null,"",0,0,0,{"$f":"IF(F24171=\"\",0,IF(isNccValid(F24171),0,1))","v":0}]
[null,null,null,null,null,null,null,null,null,null,null,null,null,null,null,"",0,0,0,{"$f":"IF(F24177=\"\",0,IF(isNccValid(F24177),0,1))","v":0}]
[null,null,null,null,null,null,null,null,null,null,null,null,null,null,null,"",0,0,0,{"$f":"IF(F24187=\"\",0,IF(isNccValid(F24187),0,1))","v":0}]
[null,null,null,null,null,null,null,null,null,null,null,null,null,null,null,"",0,0,0,{"$f":"IF(F24205=\"\",0,IF(isNccValid(F24205),0,1))","v":0}]
[null,null,null,null,null,null,null,null,null,null,null,null,null,null,null,"",0,0,0,{"$f":"IF(F24215=\"\",0,IF(isNccValid(F24215),0,1))","v":0}]
[null,null,null,null,null,null,null,null,null,null,null,null,null,null,null,"",0,0,0,{"$f":"IF(F24221=\"\",0,IF(isNccValid(F24221),0,1))","v":0}]
[null,null,null,null,null,null,null,null,null,null,null,null,null,null,null,"",0,0,0,{"$f":"IF(F24236=\"\",0,IF(isNccValid(F24236),0,1))","v":0}]
[null,null,null,null,null,null,null,null,null,null,null,null,null,null,null,"",0,0,0,{"$f":"IF(F24249=\"\",0,IF(isNccValid(F24249),0,1))","v":0}]
[null,null,null,null,null,null,null,null,null,null,null,null,null,null,null,"",0,0,0,{"$f":"IF(F24255=\"\",0,IF(isNccValid(F24255),0,1))","v":0}]
[null,null,null,null,null,null,null,null,null,null,null,null,null,null,null,"",0,0,0,{"$f":"IF(F24272=\"\",0,IF(isNccValid(F24272),0,1))","v":0}]
[null,null,null,null,null,null,null,null,null,null,null,null,null,null,null,"",0,0,0,{"$f":"IF(F24277=\"\",0,IF(isNccValid(F24277),0,1))","v":0}]
[null,null,null,null,null,null,null,null,null,null,null,null,null,null,null,"",0,0,0,{"$f":"IF(F24289=\"\",0,IF(isNccValid(F24289),0,1))","v":0}]
[null,null,null,null,null,null,null,null,null,null,null,null,null,null,null,"",0,0,0,{"$f":"IF(F24299=\"\",0,IF(isNccValid(F24299),0,1))","v":0}]
[null,null,null,null,null,null,null,null,null,null,null,null,null,null,null,"",0,0,0,{"$f":"IF(F24316=\"\",0,IF(isNccValid(F24316),0,1))","v":0}]
[null,null,null,null,null,null,null,null,null,null,null,null,null,null,null,"",0,0,0,{"$f":"IF(F24326=\"\",0,IF(isNccValid(F24326),0,1))","v":0}]
[null,null,null,null,null,null,null,null,null,null,null,null,null,null,null,"",0,0,0,{"$f":"IF(F24333=\"\",0,IF(isNccValid(F24333),0,1))","v":0}]
[null,null,null,null,null,null,null,null,null,null,null,null,null,null,null,"",0,0,0,{"$f":"IF(F24350=\"\",0,IF(isNccValid(F24350),0,1))","v":0}]
[null,null,null,null,null,null,null,null,null,null,null,null,null,null,null,"",0,0,0,{"$f":"IF(F24356=\"\",0,IF(isNccValid(F24356),0,1))","v":0}]
[null,null,null,null,null,null,null,null,null,null,null,null,null,null,null,"",0,0,0,{"$f":"IF(F24367=\"\",0,IF(isNccValid(F24367),0,1))","v":0}]
[null,null,null,null,null,null,null,null,null,null,null,null,null,null,null,"",0,0,0,{"$f":"IF(F24384=\"\",0,IF(isNccValid(F24384),0,1))","v":0}]
[null,null,null,null,null,null,null,null,null,null,null,null,null,null,null,"",0,0,0,{"$f":"IF(F24394=\"\",0,IF(isNccValid(F24394),0,1))","v":0}]
[null,null,null,null,null,null,null,null,null,null,null,null,null,null,null,"",0,0,0,{"$f":"IF(F24400=\"\",0,IF(isNccValid(F24400),0,1))","v":0}]
[null,null,null,null,null,null,null,null,null,null,null,null,null,null,null,"",0,0,0,{"$f":"IF(F24416=\"\",0,IF(isNccValid(F24416),0,1))","v":0}]
[null,null,null,null,null,null,null,null,null,null,null,null,null,null,null,"",0,0,0,{"$f":"IF(F24428=\"\",0,IF(isNccValid(F24428),0,1))","v":0}]
[null,null,null,null,null,null,null,null,null,null,null,null,null,null,null,"",0,0,0,{"$f":"IF(F24434=\"\",0,IF(isNccValid(F24434),0,1))","v":0}]
[null,null,null,null,null,null,null,null,null,null,null,null,null,null,null,"",0,0,0,{"$f":"IF(F24455=\"\",0,IF(isNccValid(F24455),0,1))","v":0}]
[null,null,null,null,null,null,null,null,null,null,null,null,null,null,null,"",0,0,0,{"$f":"IF(F24457=\"\",0,IF(isNccValid(F24457),0,1))","v":0}]
[null,null,null,null,null,null,null,null,null,null,null,null,null,null,null,"",0,0,0,{"$f":"IF(F24468=\"\",0,IF(isNccValid(F24468),0,1))","v":0}]
[null,null,null,null,null,null,null,null,null,null,null,null,null,null,null,"",0,0,0,{"$f":"IF(F24489=\"\",0,IF(isNccValid(F24489),0,1))","v":0}]
[null,null,null,null,null,null,null,null,null,null,null,null,null,null,null,"",0,0,0,{"$f":"IF(F24498=\"\",0,IF(isNccValid(F24498),0,1))","v":0}]
[null,null,null,null,null,null,null,null,null,null,null,null,null,null,null,"",0,0,0,{"$f":"IF(F24502=\"\",0,IF(isNccValid(F24502),0,1))","v":0}]
[null,null,null,null,null,null,null,null,null,null,null,null,null,null,null,"",0,0,0,{"$f":"IF(F24503=\"\",0,IF(isNccValid(F24503),0,1))","v":0}]
[null,null,null,null,null,null,null,null,null,null,null,null,null,null,null,"",0,0,0,{"$f":"IF(F24504=\"\",0,IF(isNccValid(F24504),0,1))","v":0}]
[null,null,null,null,null,null,null,null,null,null,null,null,null,null,null,"",0,0,0,{"$f":"IF(F24505=\"\",0,IF(isNccValid(F24505),0,1))","v":0}]
[null,null,null,null,null,null,null,null,null,null,null,null,null,null,null,"",0,0,0,{"$f":"IF(F24506=\"\",0,IF(isNccValid(F24506),0,1))","v":0}]
[null,null,null,null,null,null,null,null,null,null,null,null,null,null,null,"",0,0,0,{"$f":"IF(F24507=\"\",0,IF(isNccValid(F24507),0,1))","v":0}]
[null,null,null,null,null,null,null,null,null,null,null,null,null,null,null,"",0,0,0,{"$f":"IF(F24508=\"\",0,IF(isNccValid(F24508),0,1))","v":0}]
[null,null,null,null,null,null,null,null,null,null,null,null,null,null,null,"",0,0,0,{"$f":"IF(F24509=\"\",0,IF(isNccValid(F24509),0,1))","v":0}]
[null,null,null,null,null,null,null,null,null,null,null,null,null,null,null,"",0,0,0,{"$f":"IF(F24510=\"\",0,IF(isNccValid(F24510),0,1))","v":0}]
[null,null,null,null,null,null,null,null,null,null,null,null,null,null,null,"",0,0,0,{"$f":"IF(F24511=\"\",0,IF(isNccValid(F24511),0,1))","v":0}]
[null,null,null,null,null,null,null,null,null,null,null,null,null,null,null,"",0,0,0,{"$f":"IF(F24512=\"\",0,IF(isNccValid(F24512),0,1))","v":0}]
[null,null,null,null,null,null,null,null,null,null,null,null,null,null,null,"",0,0,0,{"$f":"IF(F24513=\"\",0,IF(isNccValid(F24513),0,1))","v":0}]
[null,null,null,null,null,null,null,null,null,null,null,null,null,null,null,"",0,0,0,{"$f":"IF(F24514=\"\",0,IF(isNccValid(F24514),0,1))","v":0}]
[null,null,null,null,null,null,null,null,null,null,null,null,null,null,null,"",0,0,0,{"$f":"IF(F24515=\"\",0,IF(isNccValid(F24515),0,1))","v":0}]
[null,null,null,null,null,null,null,null,null,null,null,null,null,null,null,"",0,0,0,{"$f":"IF(F24516=\"\",0,IF(isNccValid(F24516),0,1))","v":0}]
[null,null,null,null,null,null,null,null,null,null,null,null,null,null,null,"",0,0,0,{"$f":"IF(F24517=\"\",0,IF(isNccValid(F24517),0,1))","v":0}]
[null,null,null,null,null,null,null,null,null,null,null,null,null,null,null,"",0,0,0,{"$f":"IF(F24518=\"\",0,IF(isNccValid(F24518),0,1))","v":0}]
[null,null,null,null,null,null,null,null,null,null,null,null,null,null,null,"",0,0,0,{"$f":"IF(F24519=\"\",0,IF(isNccValid(F24519),0,1))","v":0}]
[null,null,null,null,null,null,null,null,null,null,null,null,null,null,null,"",0,0,0,{"$f":"IF(F24520=\"\",0,IF(isNccValid(F24520),0,1))","v":0}]
[null,null,null,null,null,null,null,null,null,null,null,null,null,null,null,"",0,0,0,{"$f":"IF(F24521=\"\",0,IF(isNccValid(F24521),0,1))","v":0}]
[null,null,null,null,null,null,null,null,null,null,null,null,null,null,null,"",0,0,0,{"$f":"IF(F24522=\"\",0,IF(isNccValid(F24522),0,1))","v":0}]
[null,null,null,null,null,null,null,null,null,null,null,null,null,null,null,"",0,0,0,{"$f":"IF(F24523=\"\",0,IF(isNccValid(F24523),0,1))","v":0}]
[null,null,null,null,null,null,null,null,null,null,null,null,null,null,null,"",0,0,0,{"$f":"IF(F24524=\"\",0,IF(isNccValid(F24524),0,1))","v":0}]
[null,null,null,null,null,null,null,null,null,null,null,null,null,null,null,"",0,0,0,{"$f":"IF(F24525=\"\",0,IF(isNccValid(F24525),0,1))","v":0}]
[null,null,null,null,null,null,null,null,null,null,null,null,null,null,null,"",0,0,0,{"$f":"IF(F24526=\"\",0,IF(isNccValid(F24526),0,1))","v":0}]
[null,null,null,null,null,null,null,null,null,null,null,null,null,null,null,"",0,0,0,{"$f":"IF(F24527=\"\",0,IF(isNccValid(F24527),0,1))","v":0}]
[null,null,null,null,null,null,null,null,null,null,null,null,null,null,null,"",0,0,0,{"$f":"IF(F24528=\"\",0,IF(isNccValid(F24528),0,1))","v":0}]
[null,null,null,null,null,null,null,null,null,null,null,null,null,null,null,"",0,0,0,{"$f":"IF(F24529=\"\",0,IF(isNccValid(F24529),0,1))","v":0}]
[null,null,null,null,null,null,null,null,null,null,null,null,null,null,null,"",0,0,0,{"$f":"IF(F24530=\"\",0,IF(isNccValid(F24530),0,1))","v":0}]
[null,null,null,null,null,null,null,null,null,null,null,null,null,null,null,"",0,0,0,{"$f":"IF(F24531=\"\",0,IF(isNccValid(F24531),0,1))","v":0}]
[null,null,null,null,null,null,null,null,null,null,null,null,null,null,null,"",0,0,0,{"$f":"IF(F24532=\"\",0,IF(isNccValid(F24532),0,1))","v":0}]
[null,null,null,null,null,null,null,null,null,null,null,null,null,null,null,"",0,0,0,{"$f":"IF(F24533=\"\",0,IF(isNccValid(F24533),0,1))","v":0}]
[null,null,null,null,null,null,null,null,null,null,null,null,null,null,null,{"$f":"IF(B24534=\"\",\"\",M24534*O24534)","v":""},0,0,0,{"$f":"IF(F24534=\"\",0,IF(isNccValid(F24534),0,1))","v":0}]
[null,null,null,null,null,null,null,null,null,null,null,null,null,null,null,"",0,0,0,{"$f":"IF(F24535=\"\",0,IF(isNccValid(F24535),0,1))","v":0}]
[null,null,null,null,null,null,null,null,null,null,null,null,null,null,null,"",0,0,0,{"$f":"IF(F24536=\"\",0,IF(isNccValid(F24536),0,1))","v":0}]
[null,null,null,null,null,null,null,null,null,null,null,null,null,null,null,"",0,0,0,{"$f":"IF(F24537=\"\",0,IF(isNccValid(F24537),0,1))","v":0}]
[null,null,null,null,null,null,null,null,null,null,null,null,null,null,null,"",0,0,0,{"$f":"IF(F24538=\"\",0,IF(isNccValid(F24538),0,1))","v":0}]
[null,null,null,null,null,null,null,null,null,null,null,null,null,null,null,"",0,0,0,{"$f":"IF(F24539=\"\",0,IF(isNccValid(F24539),0,1))","v":0}]
[null,null,null,null,null,null,null,null,null,null,null,null,null,null,null,"",0,0,0,{"$f":"IF(F24540=\"\",0,IF(isNccValid(F24540),0,1))","v":0}]
[null,null,null,null,null,null,null,null,null,null,null,null,null,null,null,"",0,0,0,{"$f":"IF(F24541=\"\",0,IF(isNccValid(F24541),0,1))","v":0}]
[null,null,null,null,null,null,null,null,null,null,null,null,null,null,null,"",0,0,0,{"$f":"IF(F24542=\"\",0,IF(isNccValid(F24542),0,1))","v":0}]
[null,null,null,null,null,null,null,null,null,null,null,null,null,null,null,"",0,0,0,{"$f":"IF(F24543=\"\",0,IF(isNccValid(F24543),0,1))","v":0}]
[null,null,null,null,null,null,null,null,null,null,null,null,null,null,null,"",0,0,0,{"$f":"IF(F24544=\"\",0,IF(isNccValid(F24544),0,1))","v":0}]
[null,null,null,null,null,null,null,null,null,null,null,null,null,null,null,"",0,0,0,{"$f":"IF(F24545=\"\",0,IF(isNccValid(F24545),0,1))","v":0}]
[null,null,null,null,null,null,null,null,null,null,null,null,null,null,null,"",{"$f":"IF(AND(B24546=\"\",R24546=1),1,IF(AND(D24546=\"\",R24546=1),1,IF(AND(E24546=\"\",R24546=1),1,IF(AND(F24546=\"\",R24546=1),1,IF(AND(M24546=\"\",R24546=1),1,IF(AND(O24546=\"\",R24546=1),1,0))))))","v":0},{"$f":"IF(C24546=\"\",0,IF(COUNTA(B24546:O24546)>0,1,0))","v":0},{"$f":"IFERROR(IF(LEN(F24546)=8,0,IF(LEN(F24546)=0,0,1)),1)","v":0},{"$f":"IF(F24546=\"\",0,IF(isNccValid(F24546),0,1))","v":0}]
[null,null,null,null,null,null,null,null,null,null,null,null,null,null,null,"",0,0,0,{"$f":"IF(F24547=\"\",0,IF(isNccValid(F24547),0,1))","v":0}]
[null,null,null,null,null,null,null,null,null,null,null,null,null,null,null,"",0,0,0,{"$f":"IF(F24548=\"\",0,IF(isNccValid(F24548),0,1))","v":0}]
[null,null,null,null,null,null,null,null,null,null,null,null,null,null,null,"",0,0,0,{"$f":"IF(F24549=\"\",0,IF(isNccValid(F24549),0,1))","v":0}]
[null,null,null,null,null,null,null,null,null,null,null,null,null,null,null,"",0,0,0,{"$f":"IF(F24550=\"\",0,IF(isNccValid(F24550),0,1))","v":0}]
[null,null,null,null,null,null,null,null,null,null,null,null,null,null,null,"",0,0,0,{"$f":"IF(F24551=\"\",0,IF(isNccValid(F24551),0,1))","v":0}]
[null,null,null,null,null,null,null,null,null,null,null,null,null,null,null,"",0,0,0,{"$f":"IF(F24552=\"\",0,IF(isNccValid(F24552),0,1))","v":0}]
[null,null,null,null,null,null,null,null,null,null,null,null,null,null,null,"",0,0,0,{"$f":"IF(F24553=\"\",0,IF(isNccValid(F24553),0,1))","v":0}]
[null,null,null,null,null,null,null,null,null,null,null,null,null,null,null,"",0,0,0,{"$f":"IF(F24554=\"\",0,IF(isNccValid(F24554),0,1))","v":0}]
[null,null,null,null,null,null,null,null,null,null,null,null,null,null,null,"",0,0,0,{"$f":"IF(F24555=\"\",0,IF(isNccValid(F24555),0,1))","v":0}]
[null,null,null,null,null,null,null,null,null,null,null,null,null,null,null,"",0,0,0,{"$f":"IF(F24556=\"\",0,IF(isNccValid(F24556),0,1))","v":0}]
[null,null,null,null,null,null,null,null,null,null,null,null,null,null,null,"",0,0,0,{"$f":"IF(F24557=\"\",0,IF(isNccValid(F24557),0,1))","v":0}]
[null,null,null,null,null,null,null,null,null,null,null,null,null,null,null,"",0,0,0,{"$f":"IF(F24558=\"\",0,IF(isNccValid(F24558),0,1))","v":0}]
[null,null,null,null,null,null,null,null,null,null,null,null,null,null,null,"",0,0,0,{"$f":"IF(F24559=\"\",0,IF(isNccValid(F24559),0,1))","v":0}]
[null,null,null,null,null,null,null,null,null,null,null,null,null,null,null,"",0,0,0,{"$f":"IF(F24560=\"\",0,IF(isNccValid(F24560),0,1))","v":0}]
[null,null,null,null,null,null,null,null,null,null,null,null,null,null,null,"",0,0,0,{"$f":"IF(F24561=\"\",0,IF(isNccValid(F24561),0,1))","v":0}]
[null,null,null,null,null,null,null,null,null,null,null,null,null,null,null,"",0,0,0,{"$f":"IF(F24562=\"\",0,IF(isNccValid(F24562),0,1))","v":0}]
[null,null,null,null,null,null,null,null,null,null,null,null,null,null,null,"",0,0,0,{"$f":"IF(F24563=\"\",0,IF(isNccValid(F24563),0,1))","v":0}]
[null,null,null,null,null,null,null,null,null,null,null,null,null,null,null,"",0,0,0,{"$f":"IF(F24564=\"\",0,IF(isNccValid(F24564),0,1))","v":0}]
[null,null,null,null,null,null,null,null,null,null,null,null,null,null,null,"",0,0,0,{"$f":"IF(F24565=\"\",0,IF(isNccValid(F24565),0,1))","v":0}]
[null,null,null,null,null,null,null,null,null,null,null,null,null,null,null,"",0,0,0,{"$f":"IF(F24566=\"\",0,IF(isNccValid(F24566),0,1))","v":0}]
[null,null,null,null,null,null,null,null,null,null,null,null,null,null,null,"",0,0,0,{"$f":"IF(F24567=\"\",0,IF(isNccValid(F24567),0,1))","v":0}]
[null,null,null,null,null,null,null,null,null,null,null,null,null,null,null,"",0,0,0,{"$f":"IF(F24568=\"\",0,IF(isNccValid(F24568),0,1))","v":0}]
[null,null,null,null,null,null,null,null,null,null,null,null,null,null,null,"",0,0,0,{"$f":"IF(F24569=\"\",0,IF(isNccValid(F24569),0,1))","v":0}]
[null,null,null,null,null,null,null,null,null,null,null,null,null,null,null,"",0,0,0,{"$f":"IF(F24570=\"\",0,IF(isNccValid(F24570),0,1))","v":0}]
[null,null,null,null,null,null,null,null,null,null,null,null,null,null,null,"",0,0,0,{"$f":"IF(F24571=\"\",0,IF(isNccValid(F24571),0,1))","v":0}]
[null,null,null,null,null,null,null,null,null,null,null,null,null,null,null,"",0,0,0,{"$f":"IF(F24572=\"\",0,IF(isNccValid(F24572),0,1))","v":0}]
[null,null,null,null,null,null,null,null,null,null,null,null,null,null,null,"",0,0,0,{"$f":"IF(F24573=\"\",0,IF(isNccValid(F24573),0,1))","v":0}]
[null,null,null,null,null,null,null,null,null,null,null,null,null,null,null,"",0,0,0,{"$f":"IF(F24574=\"\",0,IF(isNccValid(F24574),0,1))","v":0}]
[null,null,null,null,null,null,null,null,null,null,null,null,null,null,null,"",0,0,0,{"$f":"IF(F24575=\"\",0,IF(isNccValid(F24575),0,1))","v":0}]
[null,null,null,null,null,null,null,null,null,null,null,null,null,null,null,"",0,0,0,{"$f":"IF(F24576=\"\",0,IF(isNccValid(F24576),0,1))","v":0}]
[null,null,null,null,null,null,null,null,null,null,null,null,null,null,null,"",0,0,0,{"$f":"IF(F24577=\"\",0,IF(isNccValid(F24577),0,1))","v":0}]
[null,null,null,null,null,null,null,null,null,null,null,null,null,null,null,"",0,0,0,{"$f":"IF(F24578=\"\",0,IF(isNccValid(F24578),0,1))","v":0}]
[null,null,null,null,null,null,null,null,null,null,null,null,null,null,null,"",0,0,0,{"$f":"IF(F24579=\"\",0,IF(isNccValid(F24579),0,1))","v":0}]
[null,null,null,null,null,null,null,null,null,null,null,null,null,null,null,"",0,0,0,{"$f":"IF(F24580=\"\",0,IF(isNccValid(F24580),0,1))","v":0}]
[null,null,null,null,null,null,null,null,null,null,null,null,null,null,null,"",0,0,0,{"$f":"IF(F24581=\"\",0,IF(isNccValid(F24581),0,1))","v":0}]
[null,null,null,null,null,null,null,null,null,null,null,null,null,null,null,"",0,0,0,{"$f":"IF(F24582=\"\",0,IF(isNccValid(F24582),0,1))","v":0}]
[null,null,null,null,null,null,null,null,null,null,null,null,null,null,null,"",0,0,0,{"$f":"IF(F24583=\"\",0,IF(isNccValid(F24583),0,1))","v":0}]
[null,null,null,null,null,null,null,null,null,null,null,null,null,null,null,"",0,0,0,{"$f":"IF(F24584=\"\",0,IF(isNccValid(F24584),0,1))","v":0}]
[null,null,null,null,null,null,null,null,null,null,null,null,null,null,null,"",0,0,0,{"$f":"IF(F24585=\"\",0,IF(isNccValid(F24585),0,1))","v":0}]
[null,null,null,null,null,null,null,null,null,null,null,null,null,null,null,"",0,0,0,{"$f":"IF(F24586=\"\",0,IF(isNccValid(F24586),0,1))","v":0}]
[null,null,null,null,null,null,null,null,null,null,null,null,null,null,null,"",0,0,0,{"$f":"IF(F24587=\"\",0,IF(isNccValid(F24587),0,1))","v":0}]
[null,null,null,null,null,null,null,null,null,null,null,null,null,null,null,"",0,0,0,{"$f":"IF(F24588=\"\",0,IF(isNccValid(F24588),0,1))","v":0}]
[null,null,null,null,null,null,null,null,null,null,null,null,null,null,null,"",0,0,0,{"$f":"IF(F24589=\"\",0,IF(isNccValid(F24589),0,1))","v":0}]
[null,null,null,null,null,null,null,null,null,null,null,null,null,null,null,"",0,0,0,{"$f":"IF(F24590=\"\",0,IF(isNccValid(F24590),0,1))","v":0}]
[null,null,null,null,null,null,null,null,null,null,null,null,null,null,null,"",0,0,0,{"$f":"IF(F24591=\"\",0,IF(isNccValid(F24591),0,1))","v":0}]
[null,null,null,null,null,null,null,null,null,null,null,null,null,null,null,"",0,0,0,{"$f":"IF(F24592=\"\",0,IF(isNccValid(F24592),0,1))","v":0}]
[null,null,null,null,null,null,null,null,null,null,null,null,null,null,null,"",0,0,0,{"$f":"IF(F24593=\"\",0,IF(isNccValid(F24593),0,1))","v":0}]
[null,null,null,null,null,null,null,null,null,null,null,null,null,null,null,"",0,0,0,{"$f":"IF(F24594=\"\",0,IF(isNccValid(F24594),0,1))","v":0}]
[null,null,null,null,null,null,null,null,null,null,null,null,null,null,null,"",0,0,0,{"$f":"IF(F24595=\"\",0,IF(isNccValid(F24595),0,1))","v":0}]
[null,null,null,null,null,null,null,null,null,null,null,null,null,null,null,"",0,0,0,{"$f":"IF(F24596=\"\",0,IF(isNccValid(F24596),0,1))","v":0}]
[null,null,null,null,null,null,null,null,null,null,null,null,null,null,null,"",0,0,0,{"$f":"IF(F24597=\"\",0,IF(isNccValid(F24597),0,1))","v":0}]
[null,null,null,null,null,null,null,null,null,null,null,null,null,null,null,{"$f":"IF(B24598=\"\",\"\",M24598*O24598)","v":""},0,0,0,{"$f":"IF(F24598=\"\",0,IF(isNccValid(F24598),0,1))","v":0}]
[null,null,null,null,null,null,null,null,null,null,null,null,null,null,null,"",0,0,0,{"$f":"IF(F24599=\"\",0,IF(isNccValid(F24599),0,1))","v":0}]
[null,null,null,null,null,null,null,null,null,null,null,null,null,null,null,"",0,0,0,{"$f":"IF(F24600=\"\",0,IF(isNccValid(F24600),0,1))","v":0}]
[null,null,null,null,null,null,null,null,null,null,null,null,null,null,null,"",0,0,0,{"$f":"IF(F24601=\"\",0,IF(isNccValid(F24601),0,1))","v":0}]
[null,null,null,null,null,null,null,null,null,null,null,null,null,null,null,"",0,0,0,{"$f":"IF(F24602=\"\",0,IF(isNccValid(F24602),0,1))","v":0}]
[null,null,null,null,null,null,null,null,null,null,null,null,null,null,null,"",0,0,0,{"$f":"IF(F24603=\"\",0,IF(isNccValid(F24603),0,1))","v":0}]
[null,null,null,null,null,null,null,null,null,null,null,null,null,null,null,"",0,0,0,{"$f":"IF(F24604=\"\",0,IF(isNccValid(F24604),0,1))","v":0}]
[null,null,null,null,null,null,null,null,null,null,null,null,null,null,null,"",0,0,0,{"$f":"IF(F24605=\"\",0,IF(isNccValid(F24605),0,1))","v":0}]
[null,null,null,null,null,null,null,null,null,null,null,null,null,null,null,"",0,0,0,{"$f":"IF(F24606=\"\",0,IF(isNccValid(F24606),0,1))","v":0}]
[null,null,null,null,null,null,null,null,null,null,null,null,null,null,null,"",0,0,0,{"$f":"IF(F24607=\"\",0,IF(isNccValid(F24607),0,1))","v":0}]
[null,null,null,null,null,null,null,null,null,null,null,null,null,null,null,"",0,0,0,{"$f":"IF(F24608=\"\",0,IF(isNccValid(F24608),0,1))","v":0}]
[null,null,null,null,null,null,null,null,null,null,null,null,null,null,null,"",0,0,0,{"$f":"IF(F24609=\"\",0,IF(isNccValid(F24609),0,1))","v":0}]
[null,null,null,null,null,null,null,null,null,null,null,null,null,null,null,"",{"$f":"IF(AND(B24610=\"\",R24610=1),1,IF(AND(D24610=\"\",R24610=1),1,IF(AND(E24610=\"\",R24610=1),1,IF(AND(F24610=\"\",R24610=1),1,IF(AND(M24610=\"\",R24610=1),1,IF(AND(O24610=\"\",R24610=1),1,0))))))","v":0},{"$f":"IF(C24610=\"\",0,IF(COUNTA(B24610:O24610)>0,1,0))","v":0},{"$f":"IFERROR(IF(LEN(F24610)=8,0,IF(LEN(F24610)=0,0,1)),1)","v":0},{"$f":"IF(F24610=\"\",0,IF(isNccValid(F24610),0,1))","v":0}]
[null,null,null,null,null,null,null,null,null,null,null,null,null,null,null,"",0,0,0,{"$f":"IF(F24611=\"\",0,IF(isNccValid(F24611),0,1))","v":0}]
[null,null,null,null,null,null,null,null,null,null,null,null,null,null,null,"",0,0,0,{"$f":"IF(F24612=\"\",0,IF(isNccValid(F24612),0,1))","v":0}]
[null,null,null,null,null,null,null,null,null,null,null,null,null,null,null,"",0,0,0,{"$f":"IF(F24613=\"\",0,IF(isNccValid(F24613),0,1))","v":0}]
[null,null,null,null,null,null,null,null,null,null,null,null,null,null,null,"",0,0,0,{"$f":"IF(F24614=\"\",0,IF(isNccValid(F24614),0,1))","v":0}]
[null,null,null,null,null,null,null,null,null,null,null,null,null,null,null,"",0,0,0,{"$f":"IF(F24615=\"\",0,IF(isNccValid(F24615),0,1))","v":0}]
[null,null,null,null,null,null,null,null,null,null,null,null,null,null,null,"",0,0,0,{"$f":"IF(F24616=\"\",0,IF(isNccValid(F24616),0,1))","v":0}]
[null,null,null,null,null,null,null,null,null,null,null,null,null,null,null,"",0,0,0,{"$f":"IF(F24617=\"\",0,IF(isNccValid(F24617),0,1))","v":0}]
[null,null,null,null,null,null,null,null,null,null,null,null,null,null,null,"",0,0,0,{"$f":"IF(F24618=\"\",0,IF(isNccValid(F24618),0,1))","v":0}]
[null,null,null,null,null,null,null,null,null,null,null,null,null,null,null,"",0,0,0,{"$f":"IF(F24619=\"\",0,IF(isNccValid(F24619),0,1))","v":0}]
[null,null,null,null,null,null,null,null,null,null,null,null,null,null,null,"",0,0,0,{"$f":"IF(F24620=\"\",0,IF(isNccValid(F24620),0,1))","v":0}]
[null,null,null,null,null,null,null,null,null,null,null,null,null,null,null,"",0,0,0,{"$f":"IF(F24621=\"\",0,IF(isNccValid(F24621),0,1))","v":0}]
[null,null,null,null,null,null,null,null,null,null,null,null,null,null,null,"",0,0,0,{"$f":"IF(F24622=\"\",0,IF(isNccValid(F24622),0,1))","v":0}]
[null,null,null,null,null,null,null,null,null,null,null,null,null,null,null,"",0,0,0,{"$f":"IF(F24623=\"\",0,IF(isNccValid(F24623),0,1))","v":0}]
[null,null,null,null,null,null,null,null,null,null,null,null,null,null,null,"",0,0,0,{"$f":"IF(F24624=\"\",0,IF(isNccValid(F24624),0,1))","v":0}]
[null,null,null,null,null,null,null,null,null,null,null,null,null,null,null,"",0,0,0,{"$f":"IF(F24625=\"\",0,IF(isNccValid(F24625),0,1))","v":0}]
[null,null,null,null,null,null,null,null,null,null,null,null,null,null,null,"",0,0,0,{"$f":"IF(F24626=\"\",0,IF(isNccValid(F24626),0,1))","v":0}]
[null,null,null,null,null,null,null,null,null,null,null,null,null,null,null,"",0,0,0,{"$f":"IF(F24627=\"\",0,IF(isNccValid(F24627),0,1))","v":0}]
[null,null,null,null,null,null,null,null,null,null,null,null,null,null,null,"",0,0,0,{"$f":"IF(F24628=\"\",0,IF(isNccValid(F24628),0,1))","v":0}]
[null,null,null,null,null,null,null,null,null,null,null,null,null,null,null,"",0,0,0,{"$f":"IF(F24629=\"\",0,IF(isNccValid(F24629),0,1))","v":0}]
[null,null,null,null,null,null,null,null,null,null,null,null,null,null,null,"",0,0,0,{"$f":"IF(F24630=\"\",0,IF(isNccValid(F24630),0,1))","v":0}]
[null,null,null,null,null,null,null,null,null,null,null,null,null,null,null,"",0,0,0,{"$f":"IF(F24631=\"\",0,IF(isNccValid(F24631),0,1))","v":0}]
[null,null,null,null,null,null,null,null,null,null,null,null,null,null,null,"",0,0,0,{"$f":"IF(F24632=\"\",0,IF(isNccValid(F24632),0,1))","v":0}]
[null,null,null,null,null,null,null,null,null,null,null,null,null,null,null,"",0,0,0,{"$f":"IF(F24633=\"\",0,IF(isNccValid(F24633),0,1))","v":0}]
[null,null,null,null,null,null,null,null,null,null,null,null,null,null,null,"",0,0,0,{"$f":"IF(F24634=\"\",0,IF(isNccValid(F24634),0,1))","v":0}]
[null,null,null,null,null,null,null,null,null,null,null,null,null,null,null,"",0,0,0,{"$f":"IF(F24635=\"\",0,IF(isNccValid(F24635),0,1))","v":0}]
[null,null,null,null,null,null,null,null,null,null,null,null,null,null,null,"",0,0,0,{"$f":"IF(F24636=\"\",0,IF(isNccValid(F24636),0,1))","v":0}]
[null,null,null,null,null,null,null,null,null,null,null,null,null,null,null,"",0,0,0,{"$f":"IF(F24637=\"\",0,IF(isNccValid(F24637),0,1))","v":0}]
[null,null,null,null,null,null,null,null,null,null,null,null,null,null,null,"",0,0,0,{"$f":"IF(F24638=\"\",0,IF(isNccValid(F24638),0,1))","v":0}]
[null,null,null,null,null,null,null,null,null,null,null,null,null,null,null,"",0,0,0,{"$f":"IF(F24639=\"\",0,IF(isNccValid(F24639),0,1))","v":0}]
[null,null,null,null,null,null,null,null,null,null,null,null,null,null,null,"",0,0,0,{"$f":"IF(F24640=\"\",0,IF(isNccValid(F24640),0,1))","v":0}]
[null,null,null,null,null,null,null,null,null,null,null,null,null,null,null,"",0,0,0,{"$f":"IF(F24641=\"\",0,IF(isNccValid(F24641),0,1))","v":0}]
[null,null,null,null,null,null,null,null,null,null,null,null,null,null,null,"",0,0,0,{"$f":"IF(F24642=\"\",0,IF(isNccValid(F24642),0,1))","v":0}]
[null,null,null,null,null,null,null,null,null,null,null,null,null,null,null,"",0,0,0,{"$f":"IF(F24643=\"\",0,IF(isNccValid(F24643),0,1))","v":0}]
[null,null,null,null,null,null,null,null,null,null,null,null,null,null,null,"",0,0,0,{"$f":"IF(F24644=\"\",0,IF(isNccValid(F24644),0,1))","v":0}]
[null,null,null,null,null,null,null,null,null,null,null,null,null,null,null,"",0,0,0,{"$f":"IF(F24645=\"\",0,IF(isNccValid(F24645),0,1))","v":0}]
[null,null,null,null,null,null,null,null,null,null,null,null,null,null,null,"",0,0,0,{"$f":"IF(F24646=\"\",0,IF(isNccValid(F24646),0,1))","v":0}]
[null,null,null,null,null,null,null,null,null,null,null,null,null,null,null,"",0,0,0,{"$f":"IF(F24647=\"\",0,IF(isNccValid(F24647),0,1))","v":0}]
[null,null,null,null,null,null,null,null,null,null,null,null,null,null,null,"",0,0,0,{"$f":"IF(F24648=\"\",0,IF(isNccValid(F24648),0,1))","v":0}]
[null,null,null,null,null,null,null,null,null,null,null,null,null,null,null,"",0,0,0,{"$f":"IF(F24649=\"\",0,IF(isNccValid(F24649),0,1))","v":0}]
[null,null,null,null,null,null,null,null,null,null,null,null,null,null,null,"",0,0,0,{"$f":"IF(F24650=\"\",0,IF(isNccValid(F24650),0,1))","v":0}]
[null,null,null,null,null,null,null,null,null,null,null,null,null,null,null,"",0,0,0,{"$f":"IF(F24651=\"\",0,IF(isNccValid(F24651),0,1))","v":0}]
[null,null,null,null,null,null,null,null,null,null,null,null,null,null,null,"",0,0,0,{"$f":"IF(F24652=\"\",0,IF(isNccValid(F24652),0,1))","v":0}]
[null,null,null,null,null,null,null,null,null,null,null,null,null,null,null,"",0,0,0,{"$f":"IF(F24653=\"\",0,IF(isNccValid(F24653),0,1))","v":0}]
[null,null,null,null,null,null,null,null,null,null,null,null,null,null,null,"",0,0,0,{"$f":"IF(F24654=\"\",0,IF(isNccValid(F24654),0,1))","v":0}]
[null,null,null,null,null,null,null,null,null,null,null,null,null,null,null,"",0,0,0,{"$f":"IF(F24655=\"\",0,IF(isNccValid(F24655),0,1))","v":0}]
[null,null,null,null,null,null,null,null,null,null,null,null,null,null,null,"",0,0,0,{"$f":"IF(F24656=\"\",0,IF(isNccValid(F24656),0,1))","v":0}]
[null,null,null,null,null,null,null,null,null,null,null,null,null,null,null,"",0,0,0,{"$f":"IF(F24657=\"\",0,IF(isNccValid(F24657),0,1))","v":0}]
[null,null,null,null,null,null,null,null,null,null,null,null,null,null,null,"",0,0,0,{"$f":"IF(F24658=\"\",0,IF(isNccValid(F24658),0,1))","v":0}]
[null,null,null,null,null,null,null,null,null,null,null,null,null,null,null,"",0,0,0,{"$f":"IF(F24659=\"\",0,IF(isNccValid(F24659),0,1))","v":0}]
[null,null,null,null,null,null,null,null,null,null,null,null,null,null,null,"",0,0,0,{"$f":"IF(F24660=\"\",0,IF(isNccValid(F24660),0,1))","v":0}]
[null,null,null,null,null,null,null,null,null,null,null,null,null,null,null,"",0,0,0,{"$f":"IF(F24661=\"\",0,IF(isNccValid(F24661),0,1))","v":0}]
[null,null,null,null,null,null,null,null,null,null,null,null,null,null,null,{"$f":"IF(B24662=\"\",\"\",M24662*O24662)","v":""},0,0,0,{"$f":"IF(F24662=\"\",0,IF(isNccValid(F24662),0,1))","v":0}]
[null,null,null,null,null,null,null,null,null,null,null,null,null,null,null,"",0,0,0,{"$f":"IF(F24663=\"\",0,IF(isNccValid(F24663),0,1))","v":0}]
[null,null,null,null,null,null,null,null,null,null,null,null,null,null,null,"",0,0,0,{"$f":"IF(F24664=\"\",0,IF(isNccValid(F24664),0,1))","v":0}]
[null,null,null,null,null,null,null,null,null,null,null,null,null,null,null,"",0,0,0,{"$f":"IF(F24665=\"\",0,IF(isNccValid(F24665),0,1))","v":0}]
[null,null,null,null,null,null,null,null,null,null,null,null,null,null,null,"",0,0,0,{"$f":"IF(F24666=\"\",0,IF(isNccValid(F24666),0,1))","v":0}]
[null,null,null,null,null,null,null,null,null,null,null,null,null,null,null,"",0,0,0,{"$f":"IF(F24667=\"\",0,IF(isNccValid(F24667),0,1))","v":0}]
[null,null,null,null,null,null,null,null,null,null,null,null,null,null,null,"",0,0,0,{"$f":"IF(F24668=\"\",0,IF(isNccValid(F24668),0,1))","v":0}]
[null,null,null,null,null,null,null,null,null,null,null,null,null,null,null,"",0,0,0,{"$f":"IF(F24669=\"\",0,IF(isNccValid(F24669),0,1))","v":0}]
[null,null,null,null,null,null,null,null,null,null,null,null,null,null,null,"",0,0,0,{"$f":"IF(F24670=\"\",0,IF(isNccValid(F24670),0,1))","v":0}]
[null,null,null,null,null,null,null,null,null,null,null,null,null,null,null,"",0,0,0,{"$f":"IF(F24671=\"\",0,IF(isNccValid(F24671),0,1))","v":0}]
[null,null,null,null,null,null,null,null,null,null,null,null,null,null,null,"",0,0,0,{"$f":"IF(F24672=\"\",0,IF(isNccValid(F24672),0,1))","v":0}]
[null,null,null,null,null,null,null,null,null,null,null,null,null,null,null,"",0,0,0,{"$f":"IF(F24673=\"\",0,IF(isNccValid(F24673),0,1))","v":0}]
[null,null,null,null,null,null,null,null,null,null,null,null,null,null,null,"",{"$f":"IF(AND(B24674=\"\",R24674=1),1,IF(AND(D24674=\"\",R24674=1),1,IF(AND(E24674=\"\",R24674=1),1,IF(AND(F24674=\"\",R24674=1),1,IF(AND(M24674=\"\",R24674=1),1,IF(AND(O24674=\"\",R24674=1),1,0))))))","v":0},{"$f":"IF(C24674=\"\",0,IF(COUNTA(B24674:O24674)>0,1,0))","v":0},{"$f":"IFERROR(IF(LEN(F24674)=8,0,IF(LEN(F24674)=0,0,1)),1)","v":0},{"$f":"IF(F24674=\"\",0,IF(isNccValid(F24674),0,1))","v":0}]
[null,null,null,null,null,null,null,null,null,null,null,null,null,null,null,"",0,0,0,{"$f":"IF(F24675=\"\",0,IF(isNccValid(F24675),0,1))","v":0}]
[null,null,null,null,null,null,null,null,null,null,null,null,null,null,null,"",0,0,0,{"$f":"IF(F24676=\"\",0,IF(isNccValid(F24676),0,1))","v":0}]
[null,null,null,null,null,null,null,null,null,null,null,null,null,null,null,"",0,0,0,{"$f":"IF(F24677=\"\",0,IF(isNccValid(F24677),0,1))","v":0}]
[null,null,null,null,null,null,null,null,null,null,null,null,null,null,null,"",0,0,0,{"$f":"IF(F24678=\"\",0,IF(isNccValid(F24678),0,1))","v":0}]
[null,null,null,null,null,null,null,null,null,null,null,null,null,null,null,"",0,0,0,{"$f":"IF(F24679=\"\",0,IF(isNccValid(F24679),0,1))","v":0}]
[null,null,null,null,null,null,null,null,null,null,null,null,null,null,null,"",0,0,0,{"$f":"IF(F24680=\"\",0,IF(isNccValid(F24680),0,1))","v":0}]
[null,null,null,null,null,null,null,null,null,null,null,null,null,null,null,"",0,0,0,{"$f":"IF(F24681=\"\",0,IF(isNccValid(F24681),0,1))","v":0}]
[null,null,null,null,null,null,null,null,null,null,null,null,null,null,null,"",0,0,0,{"$f":"IF(F24682=\"\",0,IF(isNccValid(F24682),0,1))","v":0}]
[null,null,null,null,null,null,null,null,null,null,null,null,null,null,null,"",0,0,0,{"$f":"IF(F24683=\"\",0,IF(isNccValid(F24683),0,1))","v":0}]
[null,null,null,null,null,null,null,null,null,null,null,null,null,null,null,"",0,0,0,{"$f":"IF(F24684=\"\",0,IF(isNccValid(F24684),0,1))","v":0}]
[null,null,null,null,null,null,null,null,null,null,null,null,null,null,null,"",0,0,0,{"$f":"IF(F24685=\"\",0,IF(isNccValid(F24685),0,1))","v":0}]
[null,null,null,null,null,null,null,null,null,null,null,null,null,null,null,"",0,0,0,{"$f":"IF(F24686=\"\",0,IF(isNccValid(F24686),0,1))","v":0}]
[null,null,null,null,null,null,null,null,null,null,null,null,null,null,null,"",0,0,0,{"$f":"IF(F24687=\"\",0,IF(isNccValid(F24687),0,1))","v":0}]
[null,null,null,null,null,null,null,null,null,null,null,null,null,null,null,"",0,0,0,{"$f":"IF(F24688=\"\",0,IF(isNccValid(F24688),0,1))","v":0}]
[null,null,null,null,null,null,null,null,null,null,null,null,null,null,null,"",0,0,0,{"$f":"IF(F24689=\"\",0,IF(isNccValid(F24689),0,1))","v":0}]
[null,null,null,null,null,null,null,null,null,null,null,null,null,null,null,"",0,0,0,{"$f":"IF(F24690=\"\",0,IF(isNccValid(F24690),0,1))","v":0}]
[null,null,null,null,null,null,null,null,null,null,null,null,null,null,null,"",0,0,0,{"$f":"IF(F24691=\"\",0,IF(isNccValid(F24691),0,1))","v":0}]
[null,null,null,null,null,null,null,null,null,null,null,null,null,null,null,"",0,0,0,{"$f":"IF(F24692=\"\",0,IF(isNccValid(F24692),0,1))","v":0}]
[null,null,null,null,null,null,null,null,null,null,null,null,null,null,null,"",0,0,0,{"$f":"IF(F24693=\"\",0,IF(isNccValid(F24693),0,1))","v":0}]
[null,null,null,null,null,null,null,null,null,null,null,null,null,null,null,"",0,0,0,{"$f":"IF(F24694=\"\",0,IF(isNccValid(F24694),0,1))","v":0}]
[null,null,null,null,null,null,null,null,null,null,null,null,null,null,null,"",0,0,0,{"$f":"IF(F24695=\"\",0,IF(isNccValid(F24695),0,1))","v":0}]
[null,null,null,null,null,null,null,null,null,null,null,null,null,null,null,"",0,0,0,{"$f":"IF(F24696=\"\",0,IF(isNccValid(F24696),0,1))","v":0}]
[null,null,null,null,null,null,null,null,null,null,null,null,null,null,null,"",0,0,0,{"$f":"IF(F24697=\"\",0,IF(isNccValid(F24697),0,1))","v":0}]
[null,null,null,null,null,null,null,null,null,null,null,null,null,null,null,"",0,0,0,{"$f":"IF(F24698=\"\",0,IF(isNccValid(F24698),0,1))","v":0}]
[null,null,null,null,null,null,null,null,null,null,null,null,null,null,null,"",0,0,0,{"$f":"IF(F24699=\"\",0,IF(isNccValid(F24699),0,1))","v":0}]
[null,null,null,null,null,null,null,null,null,null,null,null,null,null,null,"",0,0,0,{"$f":"IF(F24700=\"\",0,IF(isNccValid(F24700),0,1))","v":0}]
[null,null,null,null,null,null,null,null,null,null,null,null,null,null,null,"",0,0,0,{"$f":"IF(F24701=\"\",0,IF(isNccValid(F24701),0,1))","v":0}]
[null,null,null,null,null,null,null,null,null,null,null,null,null,null,null,"",0,0,0,{"$f":"IF(F24702=\"\",0,IF(isNccValid(F24702),0,1))","v":0}]
[null,null,null,null,null,null,null,null,null,null,null,null,null,null,null,"",0,0,0,{"$f":"IF(F24703=\"\",0,IF(isNccValid(F24703),0,1))","v":0}]
[null,null,null,null,null,null,null,null,null,null,null,null,null,null,null,"",0,0,0,{"$f":"IF(F24704=\"\",0,IF(isNccValid(F24704),0,1))","v":0}]
[null,null,null,null,null,null,null,null,null,null,null,null,null,null,null,"",0,0,0,{"$f":"IF(F24705=\"\",0,IF(isNccValid(F24705),0,1))","v":0}]
[null,null,null,null,null,null,null,null,null,null,null,null,null,null,null,"",0,0,0,{"$f":"IF(F24706=\"\",0,IF(isNccValid(F24706),0,1))","v":0}]
[null,null,null,null,null,null,null,null,null,null,null,null,null,null,null,"",0,0,0,{"$f":"IF(F24707=\"\",0,IF(isNccValid(F24707),0,1))","v":0}]
[null,null,null,null,null,null,null,null,null,null,null,null,null,null,null,"",0,0,0,{"$f":"IF(F24708=\"\",0,IF(isNccValid(F24708),0,1))","v":0}]
[null,null,null,null,null,null,null,null,null,null,null,null,null,null,null,"",0,0,0,{"$f":"IF(F24709=\"\",0,IF(isNccValid(F24709),0,1))","v":0}]
[null,null,null,null,null,null,null,null,null,null,null,null,null,null,null,"",0,0,0,{"$f":"IF(F24710=\"\",0,IF(isNccValid(F24710),0,1))","v":0}]
[null,null,null,null,null,null,null,null,null,null,null,null,null,null,null,"",0,0,0,{"$f":"IF(F24711=\"\",0,IF(isNccValid(F24711),0,1))","v":0}]
[null,null,null,null,null,null,null,null,null,null,null,null,null,null,null,"",0,0,0,{"$f":"IF(F24712=\"\",0,IF(isNccValid(F24712),0,1))","v":0}]
[null,null,null,null,null,null,null,null,null,null,null,null,null,null,null,"",0,0,0,{"$f":"IF(F24713=\"\",0,IF(isNccValid(F24713),0,1))","v":0}]
[null,null,null,null,null,null,null,null,null,null,null,null,null,null,null,"",0,0,0,{"$f":"IF(F24714=\"\",0,IF(isNccValid(F24714),0,1))","v":0}]
[null,null,null,null,null,null,null,null,null,null,null,null,null,null,null,"",0,0,0,{"$f":"IF(F24715=\"\",0,IF(isNccValid(F24715),0,1))","v":0}]
[null,null,null,null,null,null,null,null,null,null,null,null,null,null,null,"",0,0,0,{"$f":"IF(F24716=\"\",0,IF(isNccValid(F24716),0,1))","v":0}]
[null,null,null,null,null,null,null,null,null,null,null,null,null,null,null,"",0,0,0,{"$f":"IF(F24717=\"\",0,IF(isNccValid(F24717),0,1))","v":0}]
[null,null,null,null,null,null,null,null,null,null,null,null,null,null,null,"",0,0,0,{"$f":"IF(F24718=\"\",0,IF(isNccValid(F24718),0,1))","v":0}]
[null,null,null,null,null,null,null,null,null,null,null,null,null,null,null,"",0,0,0,{"$f":"IF(F24719=\"\",0,IF(isNccValid(F24719),0,1))","v":0}]
[null,null,null,null,null,null,null,null,null,null,null,null,null,null,null,"",0,0,0,{"$f":"IF(F24720=\"\",0,IF(isNccValid(F24720),0,1))","v":0}]
[null,null,null,null,null,null,null,null,null,null,null,null,null,null,null,"",0,0,0,{"$f":"IF(F24721=\"\",0,IF(isNccValid(F24721),0,1))","v":0}]
[null,null,null,null,null,null,null,null,null,null,null,null,null,null,null,"",0,0,0,{"$f":"IF(F24722=\"\",0,IF(isNccValid(F24722),0,1))","v":0}]
[null,null,null,null,null,null,null,null,null,null,null,null,null,null,null,"",0,0,0,{"$f":"IF(F24723=\"\",0,IF(isNccValid(F24723),0,1))","v":0}]
[null,null,null,null,null,null,null,null,null,null,null,null,null,null,null,"",0,0,0,{"$f":"IF(F24724=\"\",0,IF(isNccValid(F24724),0,1))","v":0}]
[null,null,null,null,null,null,null,null,null,null,null,null,null,null,null,"",0,0,0,{"$f":"IF(F24725=\"\",0,IF(isNccValid(F24725),0,1))","v":0}]
[null,null,null,null,null,null,null,null,null,null,null,null,null,null,null,{"$f":"IF(B24726=\"\",\"\",M24726*O24726)","v":""},0,0,0,{"$f":"IF(F24726=\"\",0,IF(isNccValid(F24726),0,1))","v":0}]
[null,null,null,null,null,null,null,null,null,null,null,null,null,null,null,"",0,0,0,{"$f":"IF(F24727=\"\",0,IF(isNccValid(F24727),0,1))","v":0}]
[null,null,null,null,null,null,null,null,null,null,null,null,null,null,null,"",0,0,0,{"$f":"IF(F24728=\"\",0,IF(isNccValid(F24728),0,1))","v":0}]
[null,null,null,null,null,null,null,null,null,null,null,null,null,null,null,"",0,0,0,{"$f":"IF(F24729=\"\",0,IF(isNccValid(F24729),0,1))","v":0}]
[null,null,null,null,null,null,null,null,null,null,null,null,null,null,null,"",0,0,0,{"$f":"IF(F24730=\"\",0,IF(isNccValid(F24730),0,1))","v":0}]
[null,null,null,null,null,null,null,null,null,null,null,null,null,null,null,"",0,0,0,{"$f":"IF(F24731=\"\",0,IF(isNccValid(F24731),0,1))","v":0}]
[null,null,null,null,null,null,null,null,null,null,null,null,null,null,null,"",0,0,0,{"$f":"IF(F24732=\"\",0,IF(isNccValid(F24732),0,1))","v":0}]
[null,null,null,null,null,null,null,null,null,null,null,null,null,null,null,"",0,0,0,{"$f":"IF(F24733=\"\",0,IF(isNccValid(F24733),0,1))","v":0}]
[null,null,null,null,null,null,null,null,null,null,null,null,null,null,null,"",0,0,0,{"$f":"IF(F24734=\"\",0,IF(isNccValid(F24734),0,1))","v":0}]
[null,null,null,null,null,null,null,null,null,null,null,null,null,null,null,"",0,0,0,{"$f":"IF(F24735=\"\",0,IF(isNccValid(F24735),0,1))","v":0}]
[null,null,null,null,null,null,null,null,null,null,null,null,null,null,null,"",0,0,0,{"$f":"IF(F24736=\"\",0,IF(isNccValid(F24736),0,1))","v":0}]
[null,null,null,null,null,null,null,null,null,null,null,null,null,null,null,"",0,0,0,{"$f":"IF(F24737=\"\",0,IF(isNccValid(F24737),0,1))","v":0}]
[null,null,null,null,null,null,null,null,null,null,null,null,null,null,null,"",{"$f":"IF(AND(B24738=\"\",R24738=1),1,IF(AND(D24738=\"\",R24738=1),1,IF(AND(E24738=\"\",R24738=1),1,IF(AND(F24738=\"\",R24738=1),1,IF(AND(M24738=\"\",R24738=1),1,IF(AND(O24738=\"\",R24738=1),1,0))))))","v":0},{"$f":"IF(C24738=\"\",0,IF(COUNTA(B24738:O24738)>0,1,0))","v":0},{"$f":"IFERROR(IF(LEN(F24738)=8,0,IF(LEN(F24738)=0,0,1)),1)","v":0},{"$f":"IF(F24738=\"\",0,IF(isNccValid(F24738),0,1))","v":0}]
[null,null,null,null,null,null,null,null,null,null,null,null,null,null,null,"",0,0,0,{"$f":"IF(F24739=\"\",0,IF(isNccValid(F24739),0,1))","v":0}]
[null,null,null,null,null,null,null,null,null,null,null,null,null,null,null,"",0,0,0,{"$f":"IF(F24740=\"\",0,IF(isNccValid(F24740),0,1))","v":0}]
[null,null,null,null,null,null,null,null,null,null,null,null,null,null,null,"",0,0,0,{"$f":"IF(F24741=\"\",0,IF(isNccValid(F24741),0,1))","v":0}]
[null,null,null,null,null,null,null,null,null,null,null,null,null,null,null,"",0,0,0,{"$f":"IF(F24742=\"\",0,IF(isNccValid(F24742),0,1))","v":0}]
[null,null,null,null,null,null,null,null,null,null,null,null,null,null,null,"",0,0,0,{"$f":"IF(F24743=\"\",0,IF(isNccValid(F24743),0,1))","v":0}]
[null,null,null,null,null,null,null,null,null,null,null,null,null,null,null,"",0,0,0,{"$f":"IF(F24744=\"\",0,IF(isNccValid(F24744),0,1))","v":0}]
[null,null,null,null,null,null,null,null,null,null,null,null,null,null,null,"",0,0,0,{"$f":"IF(F24745=\"\",0,IF(isNccValid(F24745),0,1))","v":0}]
[null,null,null,null,null,null,null,null,null,null,null,null,null,null,null,"",0,0,0,{"$f":"IF(F24746=\"\",0,IF(isNccValid(F24746),0,1))","v":0}]
[null,null,null,null,null,null,null,null,null,null,null,null,null,null,null,"",0,0,0,{"$f":"IF(F24747=\"\",0,IF(isNccValid(F24747),0,1))","v":0}]
[null,null,null,null,null,null,null,null,null,null,null,null,null,null,null,"",0,0,0,{"$f":"IF(F24748=\"\",0,IF(isNccValid(F24748),0,1))","v":0}]
[null,null,null,null,null,null,null,null,null,null,null,null,null,null,null,"",0,0,0,{"$f":"IF(F24749=\"\",0,IF(isNccValid(F24749),0,1))","v":0}]
[null,null,null,null,null,null,null,null,null,null,null,null,null,null,null,"",0,0,0,{"$f":"IF(F24750=\"\",0,IF(isNccValid(F24750),0,1))","v":0}]
[null,null,null,null,null,null,null,null,null,null,null,null,null,null,null,"",0,0,0,{"$f":"IF(F24751=\"\",0,IF(isNccValid(F24751),0,1))","v":0}]
[null,null,null,null,null,null,null,null,null,null,null,null,null,null,null,"",0,0,0,{"$f":"IF(F24752=\"\",0,IF(isNccValid(F24752),0,1))","v":0}]
[null,null,null,null,null,null,null,null,null,null,null,null,null,null,null,"",0,0,0,{"$f":"IF(F24753=\"\",0,IF(isNccValid(F24753),0,1))","v":0}]
[null,null,null,null,null,null,null,null,null,null,null,null,null,null,null,"",0,0,0,{"$f":"IF(F24754=\"\",0,IF(isNccValid(F24754),0,1))","v":0}]
[null,null,null,null,null,null,null,null,null,null,null,null,null,null,null,"",0,0,0,{"$f":"IF(F24755=\"\",0,IF(isNccValid(F24755),0,1))","v":0}]
[null,null,null,null,null,null,null,null,null,null,null,null,null,null,null,"",0,0,0,{"$f":"IF(F24756=\"\",0,IF(isNccValid(F24756),0,1))","v":0}]
[null,null,null,null,null,null,null,null,null,null,null,null,null,null,null,"",0,0,0,{"$f":"IF(F24757=\"\",0,IF(isNccValid(F24757),0,1))","v":0}]
[null,null,null,null,null,null,null,null,null,null,null,null,null,null,null,"",0,0,0,{"$f":"IF(F24758=\"\",0,IF(isNccValid(F24758),0,1))","v":0}]
[null,null,null,null,null,null,null,null,null,null,null,null,null,null,null,"",0,0,0,{"$f":"IF(F24759=\"\",0,IF(isNccValid(F24759),0,1))","v":0}]
[null,null,null,null,null,null,null,null,null,null,null,null,null,null,null,"",0,0,0,{"$f":"IF(F24760=\"\",0,IF(isNccValid(F24760),0,1))","v":0}]
[null,null,null,null,null,null,null,null,null,null,null,null,null,null,null,"",0,0,0,{"$f":"IF(F24761=\"\",0,IF(isNccValid(F24761),0,1))","v":0}]
[null,null,null,null,null,null,null,null,null,null,null,null,null,null,null,"",0,0,0,{"$f":"IF(F24762=\"\",0,IF(isNccValid(F24762),0,1))","v":0}]
[null,null,null,null,null,null,null,null,null,null,null,null,null,null,null,"",0,0,0,{"$f":"IF(F24763=\"\",0,IF(isNccValid(F24763),0,1))","v":0}]
[null,null,null,null,null,null,null,null,null,null,null,null,null,null,null,"",0,0,0,{"$f":"IF(F24764=\"\",0,IF(isNccValid(F24764),0,1))","v":0}]
[null,null,null,null,null,null,null,null,null,null,null,null,null,null,null,"",0,0,0,{"$f":"IF(F24765=\"\",0,IF(isNccValid(F24765),0,1))","v":0}]
[null,null,null,null,null,null,null,null,null,null,null,null,null,null,null,"",0,0,0,{"$f":"IF(F24766=\"\",0,IF(isNccValid(F24766),0,1))","v":0}]
[null,null,null,null,null,null,null,null,null,null,null,null,null,null,null,"",0,0,0,{"$f":"IF(F24767=\"\",0,IF(isNccValid(F24767),0,1))","v":0}]
[null,null,null,null,null,null,null,null,null,null,null,null,null,null,null,"",0,0,0,{"$f":"IF(F24768=\"\",0,IF(isNccValid(F24768),0,1))","v":0}]
[null,null,null,null,null,null,null,null,null,null,null,null,null,null,null,"",0,0,0,{"$f":"IF(F24769=\"\",0,IF(isNccValid(F24769),0,1))","v":0}]
[null,null,null,null,null,null,null,null,null,null,null,null,null,null,null,"",0,0,0,{"$f":"IF(F24770=\"\",0,IF(isNccValid(F24770),0,1))","v":0}]
[null,null,null,null,null,null,null,null,null,null,null,null,null,null,null,"",0,0,0,{"$f":"IF(F24771=\"\",0,IF(isNccValid(F24771),0,1))","v":0}]
[null,null,null,null,null,null,null,null,null,null,null,null,null,null,null,"",0,0,0,{"$f":"IF(F24772=\"\",0,IF(isNccValid(F24772),0,1))","v":0}]
[null,null,null,null,null,null,null,null,null,null,null,null,null,null,null,"",0,0,0,{"$f":"IF(F24773=\"\",0,IF(isNccValid(F24773),0,1))","v":0}]
[null,null,null,null,null,null,null,null,null,null,null,null,null,null,null,"",0,0,0,{"$f":"IF(F24774=\"\",0,IF(isNccValid(F24774),0,1))","v":0}]
[null,null,null,null,null,null,null,null,null,null,null,null,null,null,null,"",0,0,0,{"$f":"IF(F24775=\"\",0,IF(isNccValid(F24775),0,1))","v":0}]
[null,null,null,null,null,null,null,null,null,null,null,null,null,null,null,"",0,0,0,{"$f":"IF(F24776=\"\",0,IF(isNccValid(F24776),0,1))","v":0}]
[null,null,null,null,null,null,null,null,null,null,null,null,null,null,null,"",0,0,0,{"$f":"IF(F24777=\"\",0,IF(isNccValid(F24777),0,1))","v":0}]
[null,null,null,null,null,null,null,null,null,null,null,null,null,null,null,"",0,0,0,{"$f":"IF(F24778=\"\",0,IF(isNccValid(F24778),0,1))","v":0}]
[null,null,null,null,null,null,null,null,null,null,null,null,null,null,null,"",0,0,0,{"$f":"IF(F24779=\"\",0,IF(isNccValid(F24779),0,1))","v":0}]
[null,null,null,null,null,null,null,null,null,null,null,null,null,null,null,"",0,0,0,{"$f":"IF(F24780=\"\",0,IF(isNccValid(F24780),0,1))","v":0}]
[null,null,null,null,null,null,null,null,null,null,null,null,null,null,null,"",0,0,0,{"$f":"IF(F24781=\"\",0,IF(isNccValid(F24781),0,1))","v":0}]
[null,null,null,null,null,null,null,null,null,null,null,null,null,null,null,"",0,0,0,{"$f":"IF(F24782=\"\",0,IF(isNccValid(F24782),0,1))","v":0}]
[null,null,null,null,null,null,null,null,null,null,null,null,null,null,null,"",0,0,0,{"$f":"IF(F24783=\"\",0,IF(isNccValid(F24783),0,1))","v":0}]
[null,null,null,null,null,null,null,null,null,null,null,null,null,null,null,"",0,0,0,{"$f":"IF(F24784=\"\",0,IF(isNccValid(F24784),0,1))","v":0}]
[null,null,null,null,null,null,null,null,null,null,null,null,null,null,null,"",0,0,0,{"$f":"IF(F24785=\"\",0,IF(isNccValid(F24785),0,1))","v":0}]
[null,null,null,null,null,null,null,null,null,null,null,null,null,null,null,"",0,0,0,{"$f":"IF(F24786=\"\",0,IF(isNccValid(F24786),0,1))","v":0}]
[null,null,null,null,null,null,null,null,null,null,null,null,null,null,null,"",0,0,0,{"$f":"IF(F24787=\"\",0,IF(isNccValid(F24787),0,1))","v":0}]
[null,null,null,null,null,null,null,null,null,null,null,null,null,null,null,"",0,0,0,{"$f":"IF(F24788=\"\",0,IF(isNccValid(F24788),0,1))","v":0}]
[null,null,null,null,null,null,null,null,null,null,null,null,null,null,null,"",0,0,0,{"$f":"IF(F24789=\"\",0,IF(isNccValid(F24789),0,1))","v":0}]
[null,null,null,null,null,null,null,null,null,null,null,null,null,null,null,{"$f":"IF(B24790=\"\",\"\",M24790*O24790)","v":""},0,0,0,{"$f":"IF(F24790=\"\",0,IF(isNccValid(F24790),0,1))","v":0}]
[null,null,null,null,null,null,null,null,null,null,null,null,null,null,null,"",0,0,0,{"$f":"IF(F24791=\"\",0,IF(isNccValid(F24791),0,1))","v":0}]
[null,null,null,null,null,null,null,null,null,null,null,null,null,null,null,"",0,0,0,{"$f":"IF(F24792=\"\",0,IF(isNccValid(F24792),0,1))","v":0}]
[null,null,null,null,null,null,null,null,null,null,null,null,null,null,null,"",0,0,0,{"$f":"IF(F24793=\"\",0,IF(isNccValid(F24793),0,1))","v":0}]
[null,null,null,null,null,null,null,null,null,null,null,null,null,null,null,"",0,0,0,{"$f":"IF(F24794=\"\",0,IF(isNccValid(F24794),0,1))","v":0}]
[null,null,null,null,null,null,null,null,null,null,null,null,null,null,null,"",0,0,0,{"$f":"IF(F24795=\"\",0,IF(isNccValid(F24795),0,1))","v":0}]
[null,null,null,null,null,null,null,null,null,null,null,null,null,null,null,"",0,0,0,{"$f":"IF(F24796=\"\",0,IF(isNccValid(F24796),0,1))","v":0}]
[null,null,null,null,null,null,null,null,null,null,null,null,null,null,null,"",0,0,0,{"$f":"IF(F24797=\"\",0,IF(isNccValid(F24797),0,1))","v":0}]
[null,null,null,null,null,null,null,null,null,null,null,null,null,null,null,"",0,0,0,{"$f":"IF(F24798=\"\",0,IF(isNccValid(F24798),0,1))","v":0}]
[null,null,null,null,null,null,null,null,null,null,null,null,null,null,null,"",0,0,0,{"$f":"IF(F24799=\"\",0,IF(isNccValid(F24799),0,1))","v":0}]
[null,null,null,null,null,null,null,null,null,null,null,null,null,null,null,"",0,0,0,{"$f":"IF(F24800=\"\",0,IF(isNccValid(F24800),0,1))","v":0}]
[null,null,null,null,null,null,null,null,null,null,null,null,null,null,null,"",0,0,0,{"$f":"IF(F24801=\"\",0,IF(isNccValid(F24801),0,1))","v":0}]
[null,null,null,null,null,null,null,null,null,null,null,null,null,null,null,"",{"$f":"IF(AND(B24802=\"\",R24802=1),1,IF(AND(D24802=\"\",R24802=1),1,IF(AND(E24802=\"\",R24802=1),1,IF(AND(F24802=\"\",R24802=1),1,IF(AND(M24802=\"\",R24802=1),1,IF(AND(O24802=\"\",R24802=1),1,0))))))","v":0},{"$f":"IF(C24802=\"\",0,IF(COUNTA(B24802:O24802)>0,1,0))","v":0},{"$f":"IFERROR(IF(LEN(F24802)=8,0,IF(LEN(F24802)=0,0,1)),1)","v":0},{"$f":"IF(F24802=\"\",0,IF(isNccValid(F24802),0,1))","v":0}]
[null,null,null,null,null,null,null,null,null,null,null,null,null,null,null,"",0,0,0,{"$f":"IF(F24803=\"\",0,IF(isNccValid(F24803),0,1))","v":0}]
[null,null,null,null,null,null,null,null,null,null,null,null,null,null,null,"",0,0,0,{"$f":"IF(F24804=\"\",0,IF(isNccValid(F24804),0,1))","v":0}]
[null,null,null,null,null,null,null,null,null,null,null,null,null,null,null,"",0,0,0,{"$f":"IF(F24805=\"\",0,IF(isNccValid(F24805),0,1))","v":0}]
[null,null,null,null,null,null,null,null,null,null,null,null,null,null,null,"",0,0,0,{"$f":"IF(F24806=\"\",0,IF(isNccValid(F24806),0,1))","v":0}]
[null,null,null,null,null,null,null,null,null,null,null,null,null,null,null,"",0,0,0,{"$f":"IF(F24807=\"\",0,IF(isNccValid(F24807),0,1))","v":0}]
[null,null,null,null,null,null,null,null,null,null,null,null,null,null,null,"",0,0,0,{"$f":"IF(F24808=\"\",0,IF(isNccValid(F24808),0,1))","v":0}]
[null,null,null,null,null,null,null,null,null,null,null,null,null,null,null,"",0,0,0,{"$f":"IF(F24809=\"\",0,IF(isNccValid(F24809),0,1))","v":0}]
[null,null,null,null,null,null,null,null,null,null,null,null,null,null,null,"",0,0,0,{"$f":"IF(F24810=\"\",0,IF(isNccValid(F24810),0,1))","v":0}]
[null,null,null,null,null,null,null,null,null,null,null,null,null,null,null,"",0,0,0,{"$f":"IF(F24811=\"\",0,IF(isNccValid(F24811),0,1))","v":0}]
[null,null,null,null,null,null,null,null,null,null,null,null,null,null,null,"",0,0,0,{"$f":"IF(F24812=\"\",0,IF(isNccValid(F24812),0,1))","v":0}]
[null,null,null,null,null,null,null,null,null,null,null,null,null,null,null,"",0,0,0,{"$f":"IF(F24813=\"\",0,IF(isNccValid(F24813),0,1))","v":0}]
[null,null,null,null,null,null,null,null,null,null,null,null,null,null,null,"",0,0,0,{"$f":"IF(F24814=\"\",0,IF(isNccValid(F24814),0,1))","v":0}]
[null,null,null,null,null,null,null,null,null,null,null,null,null,null,null,"",0,0,0,{"$f":"IF(F24815=\"\",0,IF(isNccValid(F24815),0,1))","v":0}]
[null,null,null,null,null,null,null,null,null,null,null,null,null,null,null,"",0,0,0,{"$f":"IF(F24816=\"\",0,IF(isNccValid(F24816),0,1))","v":0}]
[null,null,null,null,null,null,null,null,null,null,null,null,null,null,null,"",0,0,0,{"$f":"IF(F24817=\"\",0,IF(isNccValid(F24817),0,1))","v":0}]
[null,null,null,null,null,null,null,null,null,null,null,null,null,null,null,"",0,0,0,{"$f":"IF(F24818=\"\",0,IF(isNccValid(F24818),0,1))","v":0}]
[null,null,null,null,null,null,null,null,null,null,null,null,null,null,null,"",0,0,0,{"$f":"IF(F24819=\"\",0,IF(isNccValid(F24819),0,1))","v":0}]
[null,null,null,null,null,null,null,null,null,null,null,null,null,null,null,"",0,0,0,{"$f":"IF(F24820=\"\",0,IF(isNccValid(F24820),0,1))","v":0}]
[null,null,null,null,null,null,null,null,null,null,null,null,null,null,null,"",0,0,0,{"$f":"IF(F24821=\"\",0,IF(isNccValid(F24821),0,1))","v":0}]
[null,null,null,null,null,null,null,null,null,null,null,null,null,null,null,"",0,0,0,{"$f":"IF(F24822=\"\",0,IF(isNccValid(F24822),0,1))","v":0}]
[null,null,null,null,null,null,null,null,null,null,null,null,null,null,null,"",0,0,0,{"$f":"IF(F24823=\"\",0,IF(isNccValid(F24823),0,1))","v":0}]
[null,null,null,null,null,null,null,null,null,null,null,null,null,null,null,"",0,0,0,{"$f":"IF(F24824=\"\",0,IF(isNccValid(F24824),0,1))","v":0}]
[null,null,null,null,null,null,null,null,null,null,null,null,null,null,null,"",0,0,0,{"$f":"IF(F24825=\"\",0,IF(isNccValid(F24825),0,1))","v":0}]
[null,null,null,null,null,null,null,null,null,null,null,null,null,null,null,"",0,0,0,{"$f":"IF(F24826=\"\",0,IF(isNccValid(F24826),0,1))","v":0}]
[null,null,null,null,null,null,null,null,null,null,null,null,null,null,null,"",0,0,0,{"$f":"IF(F24827=\"\",0,IF(isNccValid(F24827),0,1))","v":0}]
[null,null,null,null,null,null,null,null,null,null,null,null,null,null,null,"",0,0,0,{"$f":"IF(F24828=\"\",0,IF(isNccValid(F24828),0,1))","v":0}]
[null,null,null,null,null,null,null,null,null,null,null,null,null,null,null,"",0,0,0,{"$f":"IF(F24829=\"\",0,IF(isNccValid(F24829),0,1))","v":0}]
[null,null,null,null,null,null,null,null,null,null,null,null,null,null,null,"",0,0,0,{"$f":"IF(F24830=\"\",0,IF(isNccValid(F24830),0,1))","v":0}]
[null,null,null,null,null,null,null,null,null,null,null,null,null,null,null,"",0,0,0,{"$f":"IF(F24831=\"\",0,IF(isNccValid(F24831),0,1))","v":0}]
[null,null,null,null,null,null,null,null,null,null,null,null,null,null,null,"",0,0,0,{"$f":"IF(F24832=\"\",0,IF(isNccValid(F24832),0,1))","v":0}]
[null,null,null,null,null,null,null,null,null,null,null,null,null,null,null,"",0,0,0,{"$f":"IF(F24833=\"\",0,IF(isNccValid(F24833),0,1))","v":0}]
[null,null,null,null,null,null,null,null,null,null,null,null,null,null,null,"",0,0,0,{"$f":"IF(F24834=\"\",0,IF(isNccValid(F24834),0,1))","v":0}]
[null,null,null,null,null,null,null,null,null,null,null,null,null,null,null,"",0,0,0,{"$f":"IF(F24835=\"\",0,IF(isNccValid(F24835),0,1))","v":0}]
[null,null,null,null,null,null,null,null,null,null,null,null,null,null,null,"",0,0,0,{"$f":"IF(F24836=\"\",0,IF(isNccValid(F24836),0,1))","v":0}]
[null,null,null,null,null,null,null,null,null,null,null,null,null,null,null,"",0,0,0,{"$f":"IF(F24837=\"\",0,IF(isNccValid(F24837),0,1))","v":0}]
[null,null,null,null,null,null,null,null,null,null,null,null,null,null,null,"",0,0,0,{"$f":"IF(F24838=\"\",0,IF(isNccValid(F24838),0,1))","v":0}]
[null,null,null,null,null,null,null,null,null,null,null,null,null,null,null,"",0,0,0,{"$f":"IF(F24839=\"\",0,IF(isNccValid(F24839),0,1))","v":0}]
[null,null,null,null,null,null,null,null,null,null,null,null,null,null,null,"",0,0,0,{"$f":"IF(F24840=\"\",0,IF(isNccValid(F24840),0,1))","v":0}]
[null,null,null,null,null,null,null,null,null,null,null,null,null,null,null,"",0,0,0,{"$f":"IF(F24841=\"\",0,IF(isNccValid(F24841),0,1))","v":0}]
[null,null,null,null,null,null,null,null,null,null,null,null,null,null,null,"",0,0,0,{"$f":"IF(F24842=\"\",0,IF(isNccValid(F24842),0,1))","v":0}]
[null,null,null,null,null,null,null,null,null,null,null,null,null,null,null,"",0,0,0,{"$f":"IF(F24843=\"\",0,IF(isNccValid(F24843),0,1))","v":0}]
[null,null,null,null,null,null,null,null,null,null,null,null,null,null,null,"",0,0,0,{"$f":"IF(F24844=\"\",0,IF(isNccValid(F24844),0,1))","v":0}]
[null,null,null,null,null,null,null,null,null,null,null,null,null,null,null,"",0,0,0,{"$f":"IF(F24845=\"\",0,IF(isNccValid(F24845),0,1))","v":0}]
[null,null,null,null,null,null,null,null,null,null,null,null,null,null,null,"",0,0,0,{"$f":"IF(F24846=\"\",0,IF(isNccValid(F24846),0,1))","v":0}]
[null,null,null,null,null,null,null,null,null,null,null,null,null,null,null,"",0,0,0,{"$f":"IF(F24847=\"\",0,IF(isNccValid(F24847),0,1))","v":0}]
[null,null,null,null,null,null,null,null,null,null,null,null,null,null,null,"",0,0,0,{"$f":"IF(F24848=\"\",0,IF(isNccValid(F24848),0,1))","v":0}]
[null,null,null,null,null,null,null,null,null,null,null,null,null,null,null,"",0,0,0,{"$f":"IF(F24849=\"\",0,IF(isNccValid(F24849),0,1))","v":0}]
[null,null,null,null,null,null,null,null,null,null,null,null,null,null,null,"",0,0,0,{"$f":"IF(F24850=\"\",0,IF(isNccValid(F24850),0,1))","v":0}]
[null,null,null,null,null,null,null,null,null,null,null,null,null,null,null,"",0,0,0,{"$f":"IF(F24851=\"\",0,IF(isNccValid(F24851),0,1))","v":0}]
[null,null,null,null,null,null,null,null,null,null,null,null,null,null,null,"",0,0,0,{"$f":"IF(F24852=\"\",0,IF(isNccValid(F24852),0,1))","v":0}]
[null,null,null,null,null,null,null,null,null,null,null,null,null,null,null,"",0,0,0,{"$f":"IF(F24853=\"\",0,IF(isNccValid(F24853),0,1))","v":0}]
[null,null,null,null,null,null,null,null,null,null,null,null,null,null,null,{"$f":"IF(B24854=\"\",\"\",M24854*O24854)","v":""},0,0,0,{"$f":"IF(F24854=\"\",0,IF(isNccValid(F24854),0,1))","v":0}]
[null,null,null,null,null,null,null,null,null,null,null,null,null,null,null,"",0,0,0,{"$f":"IF(F24855=\"\",0,IF(isNccValid(F24855),0,1))","v":0}]
[null,null,null,null,null,null,null,null,null,null,null,null,null,null,null,"",0,0,0,{"$f":"IF(F24856=\"\",0,IF(isNccValid(F24856),0,1))","v":0}]
[null,null,null,null,null,null,null,null,null,null,null,null,null,null,null,"",0,0,0,{"$f":"IF(F24857=\"\",0,IF(isNccValid(F24857),0,1))","v":0}]
[null,null,null,null,null,null,null,null,null,null,null,null,null,null,null,"",0,0,0,{"$f":"IF(F24858=\"\",0,IF(isNccValid(F24858),0,1))","v":0}]
[null,null,null,null,null,null,null,null,null,null,null,null,null,null,null,"",0,0,0,{"$f":"IF(F24859=\"\",0,IF(isNccValid(F24859),0,1))","v":0}]
[null,null,null,null,null,null,null,null,null,null,null,null,null,null,null,"",0,0,0,{"$f":"IF(F24860=\"\",0,IF(isNccValid(F24860),0,1))","v":0}]
[null,null,null,null,null,null,null,null,null,null,null,null,null,null,null,"",0,0,0,{"$f":"IF(F24861=\"\",0,IF(isNccValid(F24861),0,1))","v":0}]
[null,null,null,null,null,null,null,null,null,null,null,null,null,null,null,"",0,0,0,{"$f":"IF(F24862=\"\",0,IF(isNccValid(F24862),0,1))","v":0}]
[null,null,null,null,null,null,null,null,null,null,null,null,null,null,null,"",0,0,0,{"$f":"IF(F24863=\"\",0,IF(isNccValid(F24863),0,1))","v":0}]
[null,null,null,null,null,null,null,null,null,null,null,null,null,null,null,"",0,0,0,{"$f":"IF(F24864=\"\",0,IF(isNccValid(F24864),0,1))","v":0}]
[null,null,null,null,null,null,null,null,null,null,null,null,null,null,null,"",0,0,0,{"$f":"IF(F24865=\"\",0,IF(isNccValid(F24865),0,1))","v":0}]
[null,null,null,null,null,null,null,null,null,null,null,null,null,null,null,"",{"$f":"IF(AND(B24866=\"\",R24866=1),1,IF(AND(D24866=\"\",R24866=1),1,IF(AND(E24866=\"\",R24866=1),1,IF(AND(F24866=\"\",R24866=1),1,IF(AND(M24866=\"\",R24866=1),1,IF(AND(O24866=\"\",R24866=1),1,0))))))","v":0},{"$f":"IF(C24866=\"\",0,IF(COUNTA(B24866:O24866)>0,1,0))","v":0},{"$f":"IFERROR(IF(LEN(F24866)=8,0,IF(LEN(F24866)=0,0,1)),1)","v":0},{"$f":"IF(F24866=\"\",0,IF(isNccValid(F24866),0,1))","v":0}]
[null,null,null,null,null,null,null,null,null,null,null,null,null,null,null,"",0,0,0,{"$f":"IF(F24867=\"\",0,IF(isNccValid(F24867),0,1))","v":0}]
[null,null,null,null,null,null,null,null,null,null,null,null,null,null,null,"",0,0,0,{"$f":"IF(F24868=\"\",0,IF(isNccValid(F24868),0,1))","v":0}]
[null,null,null,null,null,null,null,null,null,null,null,null,null,null,null,"",0,0,0,{"$f":"IF(F24869=\"\",0,IF(isNccValid(F24869),0,1))","v":0}]
[null,null,null,null,null,null,null,null,null,null,null,null,null,null,null,"",0,0,0,{"$f":"IF(F24870=\"\",0,IF(isNccValid(F24870),0,1))","v":0}]
[null,null,null,null,null,null,null,null,null,null,null,null,null,null,null,"",0,0,0,{"$f":"IF(F24871=\"\",0,IF(isNccValid(F24871),0,1))","v":0}]
[null,null,null,null,null,null,null,null,null,null,null,null,null,null,null,"",0,0,0,{"$f":"IF(F24872=\"\",0,IF(isNccValid(F24872),0,1))","v":0}]
[null,null,null,null,null,null,null,null,null,null,null,null,null,null,null,"",0,0,0,{"$f":"IF(F24873=\"\",0,IF(isNccValid(F24873),0,1))","v":0}]
[null,null,null,null,null,null,null,null,null,null,null,null,null,null,null,"",0,0,0,{"$f":"IF(F24874=\"\",0,IF(isNccValid(F24874),0,1))","v":0}]
[null,null,null,null,null,null,null,null,null,null,null,null,null,null,null,"",0,0,0,{"$f":"IF(F24875=\"\",0,IF(isNccValid(F24875),0,1))","v":0}]
[null,null,null,null,null,null,null,null,null,null,null,null,null,null,null,"",0,0,0,{"$f":"IF(F24876=\"\",0,IF(isNccValid(F24876),0,1))","v":0}]
[null,null,null,null,null,null,null,null,null,null,null,null,null,null,null,"",0,0,0,{"$f":"IF(F24877=\"\",0,IF(isNccValid(F24877),0,1))","v":0}]
[null,null,null,null,null,null,null,null,null,null,null,null,null,null,null,"",0,0,0,{"$f":"IF(F24878=\"\",0,IF(isNccValid(F24878),0,1))","v":0}]
[null,null,null,null,null,null,null,null,null,null,null,null,null,null,null,"",0,0,0,{"$f":"IF(F24879=\"\",0,IF(isNccValid(F24879),0,1))","v":0}]
[null,null,null,null,null,null,null,null,null,null,null,null,null,null,null,"",0,0,0,{"$f":"IF(F24880=\"\",0,IF(isNccValid(F24880),0,1))","v":0}]
[null,null,null,null,null,null,null,null,null,null,null,null,null,null,null,"",0,0,0,{"$f":"IF(F24881=\"\",0,IF(isNccValid(F24881),0,1))","v":0}]
[null,null,null,null,null,null,null,null,null,null,null,null,null,null,null,"",0,0,0,{"$f":"IF(F24882=\"\",0,IF(isNccValid(F24882),0,1))","v":0}]
[null,null,null,null,null,null,null,null,null,null,null,null,null,null,null,"",0,0,0,{"$f":"IF(F24883=\"\",0,IF(isNccValid(F24883),0,1))","v":0}]
[null,null,null,null,null,null,null,null,null,null,null,null,null,null,null,"",0,0,0,{"$f":"IF(F24884=\"\",0,IF(isNccValid(F24884),0,1))","v":0}]
[null,null,null,null,null,null,null,null,null,null,null,null,null,null,null,"",0,0,0,{"$f":"IF(F24885=\"\",0,IF(isNccValid(F24885),0,1))","v":0}]
[null,null,null,null,null,null,null,null,null,null,null,null,null,null,null,"",0,0,0,{"$f":"IF(F24886=\"\",0,IF(isNccValid(F24886),0,1))","v":0}]
[null,null,null,null,null,null,null,null,null,null,null,null,null,null,null,"",0,0,0,{"$f":"IF(F24887=\"\",0,IF(isNccValid(F24887),0,1))","v":0}]
[null,null,null,null,null,null,null,null,null,null,null,null,null,null,null,"",0,0,0,{"$f":"IF(F24888=\"\",0,IF(isNccValid(F24888),0,1))","v":0}]
[null,null,null,null,null,null,null,null,null,null,null,null,null,null,null,"",0,0,0,{"$f":"IF(F24889=\"\",0,IF(isNccValid(F24889),0,1))","v":0}]
[null,null,null,null,null,null,null,null,null,null,null,null,null,null,null,"",0,0,0,{"$f":"IF(F24890=\"\",0,IF(isNccValid(F24890),0,1))","v":0}]
[null,null,null,null,null,null,null,null,null,null,null,null,null,null,null,"",0,0,0,{"$f":"IF(F24891=\"\",0,IF(isNccValid(F24891),0,1))","v":0}]
[null,null,null,null,null,null,null,null,null,null,null,null,null,null,null,"",0,0,0,{"$f":"IF(F24892=\"\",0,IF(isNccValid(F24892),0,1))","v":0}]
[null,null,null,null,null,null,null,null,null,null,null,null,null,null,null,"",0,0,0,{"$f":"IF(F24893=\"\",0,IF(isNccValid(F24893),0,1))","v":0}]
[null,null,null,null,null,null,null,null,null,null,null,null,null,null,null,"",0,0,0,{"$f":"IF(F24894=\"\",0,IF(isNccValid(F24894),0,1))","v":0}]
[null,null,null,null,null,null,null,null,null,null,null,null,null,null,null,"",0,0,0,{"$f":"IF(F24895=\"\",0,IF(isNccValid(F24895),0,1))","v":0}]
[null,null,null,null,null,null,null,null,null,null,null,null,null,null,null,"",0,0,0,{"$f":"IF(F24896=\"\",0,IF(isNccValid(F24896),0,1))","v":0}]
[null,null,null,null,null,null,null,null,null,null,null,null,null,null,null,"",0,0,0,{"$f":"IF(F24897=\"\",0,IF(isNccValid(F24897),0,1))","v":0}]
[null,null,null,null,null,null,null,null,null,null,null,null,null,null,null,"",0,0,0,{"$f":"IF(F24898=\"\",0,IF(isNccValid(F24898),0,1))","v":0}]
[null,null,null,null,null,null,null,null,null,null,null,null,null,null,null,"",0,0,0,{"$f":"IF(F24899=\"\",0,IF(isNccValid(F24899),0,1))","v":0}]
[null,null,null,null,null,null,null,null,null,null,null,null,null,null,null,"",0,0,0,{"$f":"IF(F24900=\"\",0,IF(isNccValid(F24900),0,1))","v":0}]
[null,null,null,null,null,null,null,null,null,null,null,null,null,null,null,"",0,0,0,{"$f":"IF(F24901=\"\",0,IF(isNccValid(F24901),0,1))","v":0}]
[null,null,null,null,null,null,null,null,null,null,null,null,null,null,null,"",0,0,0,{"$f":"IF(F24902=\"\",0,IF(isNccValid(F24902),0,1))","v":0}]
[null,null,null,null,null,null,null,null,null,null,null,null,null,null,null,"",0,0,0,{"$f":"IF(F24903=\"\",0,IF(isNccValid(F24903),0,1))","v":0}]
[null,null,null,null,null,null,null,null,null,null,null,null,null,null,null,"",0,0,0,{"$f":"IF(F24904=\"\",0,IF(isNccValid(F24904),0,1))","v":0}]
[null,null,null,null,null,null,null,null,null,null,null,null,null,null,null,"",0,0,0,{"$f":"IF(F24905=\"\",0,IF(isNccValid(F24905),0,1))","v":0}]
[null,null,null,null,null,null,null,null,null,null,null,null,null,null,null,"",0,0,0,{"$f":"IF(F24906=\"\",0,IF(isNccValid(F24906),0,1))","v":0}]
[null,null,null,null,null,null,null,null,null,null,null,null,null,null,null,"",0,0,0,{"$f":"IF(F24907=\"\",0,IF(isNccValid(F24907),0,1))","v":0}]
[null,null,null,null,null,null,null,null,null,null,null,null,null,null,null,"",0,0,0,{"$f":"IF(F24908=\"\",0,IF(isNccValid(F24908),0,1))","v":0}]
[null,null,null,null,null,null,null,null,null,null,null,null,null,null,null,"",0,0,0,{"$f":"IF(F24909=\"\",0,IF(isNccValid(F24909),0,1))","v":0}]
[null,null,null,null,null,null,null,null,null,null,null,null,null,null,null,"",0,0,0,{"$f":"IF(F24910=\"\",0,IF(isNccValid(F24910),0,1))","v":0}]
[null,null,null,null,null,null,null,null,null,null,null,null,null,null,null,"",0,0,0,{"$f":"IF(F24911=\"\",0,IF(isNccValid(F24911),0,1))","v":0}]
[null,null,null,null,null,null,null,null,null,null,null,null,null,null,null,"",0,0,0,{"$f":"IF(F24912=\"\",0,IF(isNccValid(F24912),0,1))","v":0}]
[null,null,null,null,null,null,null,null,null,null,null,null,null,null,null,"",0,0,0,{"$f":"IF(F24913=\"\",0,IF(isNccValid(F24913),0,1))","v":0}]
[null,null,null,null,null,null,null,null,null,null,null,null,null,null,null,"",0,0,0,{"$f":"IF(F24914=\"\",0,IF(isNccValid(F24914),0,1))","v":0}]
[null,null,null,null,null,null,null,null,null,null,null,null,null,null,null,"",0,0,0,{"$f":"IF(F24915=\"\",0,IF(isNccValid(F24915),0,1))","v":0}]
[null,null,null,null,null,null,null,null,null,null,null,null,null,null,null,"",0,0,0,{"$f":"IF(F24916=\"\",0,IF(isNccValid(F24916),0,1))","v":0}]
[null,null,null,null,null,null,null,null,null,null,null,null,null,null,null,"",0,0,0,{"$f":"IF(F24917=\"\",0,IF(isNccValid(F24917),0,1))","v":0}]
[null,null,null,null,null,null,null,null,null,null,null,null,null,null,null,{"$f":"IF(B24918=\"\",\"\",M24918*O24918)","v":""},0,0,0,{"$f":"IF(F24918=\"\",0,IF(isNccValid(F24918),0,1))","v":0}]
[null,null,null,null,null,null,null,null,null,null,null,null,null,null,null,"",0,0,0,{"$f":"IF(F24919=\"\",0,IF(isNccValid(F24919),0,1))","v":0}]
[null,null,null,null,null,null,null,null,null,null,null,null,null,null,null,"",0,0,0,{"$f":"IF(F24920=\"\",0,IF(isNccValid(F24920),0,1))","v":0}]
[null,null,null,null,null,null,null,null,null,null,null,null,null,null,null,"",0,0,0,{"$f":"IF(F24921=\"\",0,IF(isNccValid(F24921),0,1))","v":0}]
[null,null,null,null,null,null,null,null,null,null,null,null,null,null,null,"",0,0,0,{"$f":"IF(F24922=\"\",0,IF(isNccValid(F24922),0,1))","v":0}]
[null,null,null,null,null,null,null,null,null,null,null,null,null,null,null,"",0,0,0,{"$f":"IF(F24923=\"\",0,IF(isNccValid(F24923),0,1))","v":0}]
[null,null,null,null,null,null,null,null,null,null,null,null,null,null,null,"",0,0,0,{"$f":"IF(F24924=\"\",0,IF(isNccValid(F24924),0,1))","v":0}]
[null,null,null,null,null,null,null,null,null,null,null,null,null,null,null,"",0,0,0,{"$f":"IF(F24925=\"\",0,IF(isNccValid(F24925),0,1))","v":0}]
[null,null,null,null,null,null,null,null,null,null,null,null,null,null,null,"",0,0,0,{"$f":"IF(F24926=\"\",0,IF(isNccValid(F24926),0,1))","v":0}]
[null,null,null,null,null,null,null,null,null,null,null,null,null,null,null,"",0,0,0,{"$f":"IF(F24927=\"\",0,IF(isNccValid(F24927),0,1))","v":0}]
[null,null,null,null,null,null,null,null,null,null,null,null,null,null,null,"",0,0,0,{"$f":"IF(F24928=\"\",0,IF(isNccValid(F24928),0,1))","v":0}]
[null,null,null,null,null,null,null,null,null,null,null,null,null,null,null,"",0,0,0,{"$f":"IF(F24929=\"\",0,IF(isNccValid(F24929),0,1))","v":0}]
[null,null,null,null,null,null,null,null,null,null,null,null,null,null,null,"",{"$f":"IF(AND(B24930=\"\",R24930=1),1,IF(AND(D24930=\"\",R24930=1),1,IF(AND(E24930=\"\",R24930=1),1,IF(AND(F24930=\"\",R24930=1),1,IF(AND(M24930=\"\",R24930=1),1,IF(AND(O24930=\"\",R24930=1),1,0))))))","v":0},{"$f":"IF(C24930=\"\",0,IF(COUNTA(B24930:O24930)>0,1,0))","v":0},{"$f":"IFERROR(IF(LEN(F24930)=8,0,IF(LEN(F24930)=0,0,1)),1)","v":0},{"$f":"IF(F24930=\"\",0,IF(isNccValid(F24930),0,1))","v":0}]
[null,null,null,null,null,null,null,null,null,null,null,null,null,null,null,"",0,0,0,{"$f":"IF(F24931=\"\",0,IF(isNccValid(F24931),0,1))","v":0}]
[null,null,null,null,null,null,null,null,null,null,null,null,null,null,null,"",0,0,0,{"$f":"IF(F24932=\"\",0,IF(isNccValid(F24932),0,1))","v":0}]
[null,null,null,null,null,null,null,null,null,null,null,null,null,null,null,"",0,0,0,{"$f":"IF(F24933=\"\",0,IF(isNccValid(F24933),0,1))","v":0}]
[null,null,null,null,null,null,null,null,null,null,null,null,null,null,null,"",0,0,0,{"$f":"IF(F24934=\"\",0,IF(isNccValid(F24934),0,1))","v":0}]
[null,null,null,null,null,null,null,null,null,null,null,null,null,null,null,"",0,0,0,{"$f":"IF(F24935=\"\",0,IF(isNccValid(F24935),0,1))","v":0}]
[null,null,null,null,null,null,null,null,null,null,null,null,null,null,null,"",0,0,0,{"$f":"IF(F24936=\"\",0,IF(isNccValid(F24936),0,1))","v":0}]
[null,null,null,null,null,null,null,null,null,null,null,null,null,null,null,"",0,0,0,{"$f":"IF(F24937=\"\",0,IF(isNccValid(F24937),0,1))","v":0}]
[null,null,null,null,null,null,null,null,null,null,null,null,null,null,null,"",0,0,0,{"$f":"IF(F24938=\"\",0,IF(isNccValid(F24938),0,1))","v":0}]
[null,null,null,null,null,null,null,null,null,null,null,null,null,null,null,"",0,0,0,{"$f":"IF(F24939=\"\",0,IF(isNccValid(F24939),0,1))","v":0}]
[null,null,null,null,null,null,null,null,null,null,null,null,null,null,null,"",0,0,0,{"$f":"IF(F24940=\"\",0,IF(isNccValid(F24940),0,1))","v":0}]
[null,null,null,null,null,null,null,null,null,null,null,null,null,null,null,"",0,0,0,{"$f":"IF(F24941=\"\",0,IF(isNccValid(F24941),0,1))","v":0}]
[null,null,null,null,null,null,null,null,null,null,null,null,null,null,null,"",0,0,0,{"$f":"IF(F24942=\"\",0,IF(isNccValid(F24942),0,1))","v":0}]
[null,null,null,null,null,null,null,null,null,null,null,null,null,null,null,"",0,0,0,{"$f":"IF(F24943=\"\",0,IF(isNccValid(F24943),0,1))","v":0}]
[null,null,null,null,null,null,null,null,null,null,null,null,null,null,null,"",0,0,0,{"$f":"IF(F24944=\"\",0,IF(isNccValid(F24944),0,1))","v":0}]
[null,null,null,null,null,null,null,null,null,null,null,null,null,null,null,"",0,0,0,{"$f":"IF(F24945=\"\",0,IF(isNccValid(F24945),0,1))","v":0}]
[null,null,null,null,null,null,null,null,null,null,null,null,null,null,null,"",0,0,0,{"$f":"IF(F24946=\"\",0,IF(isNccValid(F24946),0,1))","v":0}]
[null,null,null,null,null,null,null,null,null,null,null,null,null,null,null,"",0,0,0,{"$f":"IF(F24947=\"\",0,IF(isNccValid(F24947),0,1))","v":0}]
[null,null,null,null,null,null,null,null,null,null,null,null,null,null,null,"",0,0,0,{"$f":"IF(F24948=\"\",0,IF(isNccValid(F24948),0,1))","v":0}]
[null,null,null,null,null,null,null,null,null,null,null,null,null,null,null,"",0,0,0,{"$f":"IF(F24949=\"\",0,IF(isNccValid(F24949),0,1))","v":0}]
[null,null,null,null,null,null,null,null,null,null,null,null,null,null,null,"",0,0,0,{"$f":"IF(F24950=\"\",0,IF(isNccValid(F24950),0,1))","v":0}]
[null,null,null,null,null,null,null,null,null,null,null,null,null,null,null,"",0,0,0,{"$f":"IF(F24951=\"\",0,IF(isNccValid(F24951),0,1))","v":0}]
[null,null,null,null,null,null,null,null,null,null,null,null,null,null,null,"",0,0,0,{"$f":"IF(F24952=\"\",0,IF(isNccValid(F24952),0,1))","v":0}]
[null,null,null,null,null,null,null,null,null,null,null,null,null,null,null,"",0,0,0,{"$f":"IF(F24953=\"\",0,IF(isNccValid(F24953),0,1))","v":0}]
[null,null,null,null,null,null,null,null,null,null,null,null,null,null,null,"",0,0,0,{"$f":"IF(F24954=\"\",0,IF(isNccValid(F24954),0,1))","v":0}]
[null,null,null,null,null,null,null,null,null,null,null,null,null,null,null,"",0,0,0,{"$f":"IF(F24955=\"\",0,IF(isNccValid(F24955),0,1))","v":0}]
[null,null,null,null,null,null,null,null,null,null,null,null,null,null,null,"",0,0,0,{"$f":"IF(F24956=\"\",0,IF(isNccValid(F24956),0,1))","v":0}]
[null,null,null,null,null,null,null,null,null,null,null,null,null,null,null,"",0,0,0,{"$f":"IF(F24957=\"\",0,IF(isNccValid(F24957),0,1))","v":0}]
[null,null,null,null,null,null,null,null,null,null,null,null,null,null,null,"",0,0,0,{"$f":"IF(F24958=\"\",0,IF(isNccValid(F24958),0,1))","v":0}]
[null,null,null,null,null,null,null,null,null,null,null,null,null,null,null,"",0,0,0,{"$f":"IF(F24959=\"\",0,IF(isNccValid(F24959),0,1))","v":0}]
[null,null,null,null,null,null,null,null,null,null,null,null,null,null,null,"",0,0,0,{"$f":"IF(F24960=\"\",0,IF(isNccValid(F24960),0,1))","v":0}]
[null,null,null,null,null,null,null,null,null,null,null,null,null,null,null,"",0,0,0,{"$f":"IF(F24961=\"\",0,IF(isNccValid(F24961),0,1))","v":0}]
[null,null,null,null,null,null,null,null,null,null,null,null,null,null,null,"",0,0,0,{"$f":"IF(F24962=\"\",0,IF(isNccValid(F24962),0,1))","v":0}]
[null,null,null,null,null,null,null,null,null,null,null,null,null,null,null,"",0,0,0,{"$f":"IF(F24963=\"\",0,IF(isNccValid(F24963),0,1))","v":0}]
[null,null,null,null,null,null,null,null,null,null,null,null,null,null,null,"",0,0,0,{"$f":"IF(F24964=\"\",0,IF(isNccValid(F24964),0,1))","v":0}]
[null,null,null,null,null,null,null,null,null,null,null,null,null,null,null,"",0,0,0,{"$f":"IF(F24965=\"\",0,IF(isNccValid(F24965),0,1))","v":0}]
[null,null,null,null,null,null,null,null,null,null,null,null,null,null,null,"",0,0,0,{"$f":"IF(F24966=\"\",0,IF(isNccValid(F24966),0,1))","v":0}]
[null,null,null,null,null,null,null,null,null,null,null,null,null,null,null,"",0,0,0,{"$f":"IF(F24967=\"\",0,IF(isNccValid(F24967),0,1))","v":0}]
[null,null,null,null,null,null,null,null,null,null,null,null,null,null,null,"",0,0,0,{"$f":"IF(F24968=\"\",0,IF(isNccValid(F24968),0,1))","v":0}]
[null,null,null,null,null,null,null,null,null,null,null,null,null,null,null,"",0,0,0,{"$f":"IF(F24969=\"\",0,IF(isNccValid(F24969),0,1))","v":0}]
[null,null,null,null,null,null,null,null,null,null,null,null,null,null,null,"",0,0,0,{"$f":"IF(F24970=\"\",0,IF(isNccValid(F24970),0,1))","v":0}]
[null,null,null,null,null,null,null,null,null,null,null,null,null,null,null,"",0,0,0,{"$f":"IF(F24971=\"\",0,IF(isNccValid(F24971),0,1))","v":0}]
[null,null,null,null,null,null,null,null,null,null,null,null,null,null,null,"",0,0,0,{"$f":"IF(F24972=\"\",0,IF(isNccValid(F24972),0,1))","v":0}]
[null,null,null,null,null,null,null,null,null,null,null,null,null,null,null,"",0,0,0,{"$f":"IF(F24973=\"\",0,IF(isNccValid(F24973),0,1))","v":0}]
[null,null,null,null,null,null,null,null,null,null,null,null,null,null,null,"",0,0,0,{"$f":"IF(F24974=\"\",0,IF(isNccValid(F24974),0,1))","v":0}]
[null,null,null,null,null,null,null,null,null,null,null,null,null,null,null,"",0,0,0,{"$f":"IF(F24975=\"\",0,IF(isNccValid(F24975),0,1))","v":0}]
[null,null,null,null,null,null,null,null,null,null,null,null,null,null,null,"",0,0,0,{"$f":"IF(F24976=\"\",0,IF(isNccValid(F24976),0,1))","v":0}]
[null,null,null,null,null,null,null,null,null,null,null,null,null,null,null,"",0,0,0,{"$f":"IF(F24977=\"\",0,IF(isNccValid(F24977),0,1))","v":0}]
[null,null,null,null,null,null,null,null,null,null,null,null,null,null,null,"",0,0,0,{"$f":"IF(F24978=\"\",0,IF(isNccValid(F24978),0,1))","v":0}]
[null,null,null,null,null,null,null,null,null,null,null,null,null,null,null,"",0,0,0,{"$f":"IF(F24979=\"\",0,IF(isNccValid(F24979),0,1))","v":0}]
[null,null,null,null,null,null,null,null,null,null,null,null,null,null,null,"",0,0,0,{"$f":"IF(F24980=\"\",0,IF(isNccValid(F24980),0,1))","v":0}]
[null,null,null,null,null,null,null,null,null,null,null,null,null,null,null,"",0,0,0,{"$f":"IF(F24981=\"\",0,IF(isNccValid(F24981),0,1))","v":0}]
[null,null,null,null,null,null,null,null,null,null,null,null,null,null,null,{"$f":"IF(B24982=\"\",\"\",M24982*O24982)","v":""},0,0,0,{"$f":"IF(F24982=\"\",0,IF(isNccValid(F24982),0,1))","v":0}]
[null,null,null,null,null,null,null,null,null,null,null,null,null,null,null,"",0,0,0,{"$f":"IF(F24983=\"\",0,IF(isNccValid(F24983),0,1))","v":0}]
[null,null,null,null,null,null,null,null,null,null,null,null,null,null,null,"",0,0,0,{"$f":"IF(F24984=\"\",0,IF(isNccValid(F24984),0,1))","v":0}]
[null,null,null,null,null,null,null,null,null,null,null,null,null,null,null,"",0,0,0,{"$f":"IF(F24985=\"\",0,IF(isNccValid(F24985),0,1))","v":0}]
[null,null,null,null,null,null,null,null,null,null,null,null,null,null,null,"",0,0,0,{"$f":"IF(F24986=\"\",0,IF(isNccValid(F24986),0,1))","v":0}]
[null,null,null,null,null,null,null,null,null,null,null,null,null,null,null,"",0,0,0,{"$f":"IF(F24987=\"\",0,IF(isNccValid(F24987),0,1))","v":0}]
[null,null,null,null,null,null,null,null,null,null,null,null,null,null,null,"",0,0,0,{"$f":"IF(F24988=\"\",0,IF(isNccValid(F24988),0,1))","v":0}]
[null,null,null,null,null,null,null,null,null,null,null,null,null,null,null,"",0,0,0,{"$f":"IF(F24989=\"\",0,IF(isNccValid(F24989),0,1))","v":0}]
[null,null,null,null,null,null,null,null,null,null,null,null,null,null,null,"",0,0,0,{"$f":"IF(F24990=\"\",0,IF(isNccValid(F24990),0,1))","v":0}]
[null,null,null,null,null,null,null,null,null,null,null,null,null,null,null,"",0,0,0,{"$f":"IF(F24991=\"\",0,IF(isNccValid(F24991),0,1))","v":0}]
[null,null,null,null,null,null,null,null,null,null,null,null,null,null,null,"",0,0,0,{"$f":"IF(F24992=\"\",0,IF(isNccValid(F24992),0,1))","v":0}]
[null,null,null,null,null,null,null,null,null,null,null,null,null,null,null,"",0,0,0,{"$f":"IF(F24993=\"\",0,IF(isNccValid(F24993),0,1))","v":0}]
[null,null,null,null,null,null,null,null,null,null,null,null,null,null,null,"",{"$f":"IF(AND(B24994=\"\",R24994=1),1,IF(AND(D24994=\"\",R24994=1),1,IF(AND(E24994=\"\",R24994=1),1,IF(AND(F24994=\"\",R24994=1),1,IF(AND(M24994=\"\",R24994=1),1,IF(AND(O24994=\"\",R24994=1),1,0))))))","v":0},{"$f":"IF(C24994=\"\",0,IF(COUNTA(B24994:O24994)>0,1,0))","v":0},{"$f":"IFERROR(IF(LEN(F24994)=8,0,IF(LEN(F24994)=0,0,1)),1)","v":0},{"$f":"IF(F24994=\"\",0,IF(isNccValid(F24994),0,1))","v":0}]
[null,null,null,null,null,null,null,null,null,null,null,null,null,null,null,"",0,0,0,{"$f":"IF(F24995=\"\",0,IF(isNccValid(F24995),0,1))","v":0}]
[null,null,null,null,null,null,null,null,null,null,null,null,null,null,null,"",0,0,0,{"$f":"IF(F24996=\"\",0,IF(isNccValid(F24996),0,1))","v":0}]
[null,null,null,null,null,null,null,null,null,null,null,null,null,null,null,"",0,0,0,{"$f":"IF(F24997=\"\",0,IF(isNccValid(F24997),0,1))","v":0}]
[null,null,null,null,null,null,null,null,null,null,null,null,null,null,null,"",0,0,0,{"$f":"IF(F24998=\"\",0,IF(isNccValid(F24998),0,1))","v":0}]
[null,null,null,null,null,null,null,null,null,null,null,null,null,null,null,"",0,0,0,{"$f":"IF(F24999=\"\",0,IF(isNccValid(F24999),0,1))","v":0}]
[null,null,null,null,null,null,null,null,null,null,null,null,null,null,null,"",0,0,0,{"$f":"IF(F25000=\"\",0,IF(isNccValid(F25000),0,1))","v":0}]
[null,null,"(1) : Disntinguer les lignes d'opérations douanières de celles des prestations de transitaires.\n(2) : Pour les importations et les achats étrangers, indiquer le pays d’origine.\n(3) : Indiquer la nature exacte et précise de chaque bien et prestation de service de façon individualisée.\n       Sont à proscrire, les mentions d'ordre général telles que marchandises diverses, matériels de bureau, consommables…\n(4) : Valeur en douane pour les importations",null,null,null,null,null,null,null,null,null,null,null,"TOTAL",{"$f":"SUM(P20:P25000)","v":86240}]

{"sheet":"TradXML","index":2,"n_rows":25001,"n_cols":17,"rows_kept":25001,"cut":false,"hidden":true,"merged":[]}
[1,{"$f":"\"<?xml version=\"\"1.0\"\" encoding=\"\"UTF-8\"\"?><EDI><informations><type>\"&type&\"</type><ncc>\"&NCC&\"</ncc><codeTaxe>\"&codeTaxe&\"</codeTaxe><mois>\"&mois&\"</mois><exercice>\"&exercice&\"</exercice></informations><tableaux><tableau><donnees>\"","v":"<?xml version=\"1.0\" encoding=\"UTF-8\"?><EDI><informations><type>TVA</type><ncc>1528920S</ncc><codeTaxe>TVA</codeTaxe><mois>6</mois><exercice>2024</exercice></informations><tableaux><tableau><donnees>"},"type_operation_odr","specification","date_facture","raison_sociale_fournisseur","ncc_fournisseur","pays_fournisseur","ref_facture","nature_bien_odr","date_reglement","montant_ht","montant_val_douane","montant_tva","type_redevable","prorata_deduction","montant_taxe_deductible"]
[{"$f":"IF(B2=\"\",\"\",MAX(A1:A$1)+1)","v":""},{"$f":"IF(OR(ISBLANK(DETAIL_TVA_S!B20),ISBLANK(DETAIL_TVA_S!D20),ISBLANK(DETAIL_TVA_S!K20)),\"\",\"<ligne>\"&C2&D2&E2&F2&G2&H2&I2&J2&K2&L2&M2&N2&O2&P2&Q2&\"</ligne>\")","v":""},{"$f":"\"<champ><code>\"&type_operation_odr&\"</code><valeur>\"&DETAIL_TVA_S!B20&\"</valeur></champ>\"","v":"<champ><code>type_operation_odr</code><valeur>Achats_locaux</valeur></champ>"},{"$f":"\"<champ><code>\"&specification&\"</code><valeur>\"&DETAIL_TVA_S!C20&\"</valeur></champ>\"","v":"<champ><code>specification</code><valeur>Achats de services locaux</valeur></champ>"},{"$f":"\"<champ><code>\"&date_facture&\"</code><valeur>\"&IF(DETAIL_TVA_S!P20<>\"\",IFERROR(IFERROR(TEXT(DETAIL_TVA_S!D20,\"jj/mm/aaaa\"),TEXT(DETAIL_TVA_S!D20,\"dd/mm/yyyy\")),DATE(YEAR(TODAY()),MONTH(TODAY())-1,1)),\"\")&\"</valeur></champ>\"","v":"<champ><code>date_facture</code><valeur>01/06/2024</valeur></champ>"},{"$f":"\"<champ><code>\"&raison_sociale_fournisseur&\"</code><valeur>\"&DETAIL_TVA_S!E20&\"</valeur></champ>\"","v":"<champ><code>raison_sociale_fournisseur</code><valeur>SOFID </valeur></champ>"},{"$f":"\"<champ><code>\"&ncc_fournisseur&\"</code><valeur>\"&DETAIL_TVA_S!F20&\"</valeur></champ>\"","v":"<champ><code>ncc_fournisseur</code><valeur>0427684Y</valeur></champ>"},{"$f":"\"<champ><code>\"&pays_fournisseur&\"</code><valeur>\"&DETAIL_TVA_S!G20&\"</valeur></champ>\"","v":"<champ><code>pays_fournisseur</code><valeur></valeur></champ>"},{"$f":"\"<champ><code>\"&ref_facture&\"</code><valeur>\"&DETAIL_TVA_S!H20&\"</valeur></champ>\"","v":"<champ><code>ref_facture</code><valeur></valeur></champ>"},{"$f":"\"<champ><code>\"&nature_bien_odr&\"</code><valeur>\"&DETAIL_TVA_S!I20&\"</valeur></champ>\"","v":"<champ><code>nature_bien_odr</code><valeur></valeur></champ>"},{"$f":"\"<champ><code>\"&date_reglement&\"</code><valeur>\"&IF(DETAIL_TVA_S!P20<>\"\",IF(DETAIL_TVA_S!J20=\"\",\"\",IFERROR(IFERROR(TEXT(DETAIL_TVA_S!J20,\"jj/mm/aaaa\"),TEXT(DETAIL_TVA_S!J20,\"dd/mm/yyyy\")),DATE(YEAR(TODAY()),MONTH(TODAY())-1,1))),\"\")&\"</valeur></champ>\"","v":"<champ><code>date_reglement</code><valeur></valeur></champ>"},{"$f":"\"<champ><code>\"&montant_ht&\"</code><valeur>\"&DETAIL_TVA_S!K20&\"</valeur></champ>\"","v":"<champ><code>montant_ht</code><valeur></valeur></champ>"},{"$f":"\"<champ><code>\"&montant_val_douane&\"</code><valeur>\"&DETAIL_TVA_S!L20&\"</valeur></champ>\"","v":"<champ><code>montant_val_douane</code><valeur>0</valeur></champ>"},{"$f":"\"<champ><code>\"&montant_tva&\"</code><valeur>\"&DETAIL_TVA_S!M20&\"</valeur></champ>\"","v":"<champ><code>montant_tva</code><valeur></valeur></champ>"},{"$f":"\"<champ><code>\"&type_redevable&\"</code><valeur>\"&DETAIL_TVA_S!N20&\"</valeur></champ>\"","v":"<champ><code>type_redevable</code><valeur>REDEVABLE TOTAL</valeur></champ>"},{"$f":"\"<champ><code>\"&prorata_deduction&\"</code><valeur>\"&DETAIL_TVA_S!O20&\"</valeur></champ>\"","v":"<champ><code>prorata_deduction</code><valeur>1</valeur></champ>"},{"$f":"\"<champ><code>\"&montant_taxe_deductible&\"</code><valeur>\"&DETAIL_TVA_S!P20&\"</valeur></champ>\"","v":"<champ><code>montant_taxe_deductible</code><valeur>0</valeur></champ>"}]
[]
[]
[]
[]
[]
[]
[]
[]
[]
[]
[]
[]
[]
[]
[]
[]
[]
[]
[]
[]
[]
[]
[]
[]
[]
[]
[]
[]
[]
[]
[]
[]
[]
[]
[]
[]
[]
[]
[]
[]
[]
[]
[]
[]
[]
[]
[]
[]
[]
[]
[]
[]
[]
[]
[]
[]
[]
[]
[]
[]
[]
[]
[]
[]
[]
[]
[]
[]
[]
[]
[]
[]
[]
[]
[]
[]
[]
[]
[]
[]
[]
[]
[]
[]
[]
[]
[]
[]
[]
[]
[]
[]
[]
[]
[]
[]
[]
[]
[]
[]
[]
[]
[]
[]
[]
[]
[]
[]
[]
[]
[]
[]
[]
[]
[]
[]
[]
[]
[]
[]
[]
[]
[]
[]
[]
[]
[]
[]
[]
[]
[]
[]
[]
[]
[]
[]
[]
[]
[]
[]
[]
[]
[]
[]
[]
[]
[]
[]
[]
[]
[]
[]
[]
[]
[]
[]
[]
[]
[]
[]
[]
[]
[]
[]
[]
[]
[]
[]
[]
[]
[]
[]
[]
[]
[]
[]
[]
[]
[]
[]
[]
[]
[]
[]
[]
[]
[]
[]
[]
[]
[]
[]
[]
[]
[]
[]
[]
[]
[]
[]
[]
[]
[]
[]
[]
[]
[]
[]
[]
[]
[]
[]
[]
[]
[]
[]
[]
[]
[]
[]
[]
[]
[]
[]
[]
[]
[]
[]
[]
[]
[]
[]
[]
[]
[]
[]
[]
[]
[]
[]
[]
[]
[]
[]
[]
[]
[]
[]
[]
[]
[]
[]
[]
[]
[]
[]
[]
[]
[]
[]
[]
[]
[]
[]
[]
[]
[]
[]
[]
[]
[]
[]
[]
[]
[]
[]
[]
[]
[]
[]
[]
[]
[]
[]
[]
[]
[]
[]
[]
[]
[]
[]
[]
[]
[]
[]
[]
[]
[]
[]
[]
[]
[]
[]
[]
[]
[]
[]
[]
[]
[]
[]
[]
[]
[]
[]
[]
[]
[]
[]
[]
[]
[]
[]
[]
[]
[]
[]
[]
[]
[]
[]
[]
[]
[]
[]
[]
[]
[]
[]
[]
[]
[]
[]
[]
[]
[]
[]
[]
[]
[]
[]
[]
[]
[]
[]
[]
[]
[]
[]
[]
[]
[]
[]
[]
[]
[]
[]
[]
[]
[]
[]
[]
[]
[]
[]
[]
[]
[]
[]
[]
[]
[]
[]
[]
[]
[]
[]
[]
[]
[]
[]
[]
[]
[]
[]
[]
[]
[]
[]
[]
[]
[]
[]
[]
[]
[]
[]
[]
[]
[]
[]
[]
[]
[]
[]
[]
[]
[]
[]
[]
[]
[]
[]
[]
[]
[]
[]
[]
[]
[]
[]
[]
[]
[]
[]
[]
[]
[]
[]
[]
[]
[]
[]
[]
[]
[]
[]
[]
[]
[]
[]
[]
[]
[]
[]
[]
[]
[]
[]
[]
[]
[]
[]
[]
[]
[]
[]
[]
[]
[]
[]
[]
[]
[]
[]
[]
[]
[]
[]
[]
[]
[]
[]
[]
[]
[]
[]
[]
[]
[]
[]
[]
[]
[]
[]
[]
[]
[]
[]
[]
[]
[]
[]
[]
[]
[]
[]
[]
[]
[]
[]
[]
[]
[]
[]
[]
[]
[]
[]
[]
[]
[]
[]
[]
[]
[]
[]
[]
[]
[]
[]
[]
[]
[]
[]
[]
[]
[]
[]
[]
[]
[]
[]
[]
[]
[]
[]
[]
[]
[]
[]
[]
[]
[]
[]
[]
[]
[]
[]
[]
[]
[]
[]
[]
[]
[]
[]
[]
[]
[]
[]
[]
[]
[]
[]
[]
[]
[]
[]
[]
[]
[]
[]
[]
[]
[]
[]
[]
[]
[]
[]
[]
[]
[]
[]
[]
[]
[]
[]
[]
[]
[]
[]
[]
[]
[]
[]
[]
[]
[]
[]
[]
[]
[]
[]
[]
[]
[]
[]
[]
[]
[]
[]
[]
[]
[]
[]
[]
[]
[]
[]
[]
[]
[]
[]
[]
[]
[]
[]
[]
[]
[]
[]
[]
[]
[]
[]
[]
[]
[]
[]
[]
[]
[]
[]
[]
[]
[]
[]
[]
[]
[]
[]
[]
[]
[]
[]
[]
[]
[]
[]
[]
[]
[]
[]
[]
[]
[]
[]
[]
[]
[]
[]
[]
[]
[]
[]
[]
[]
[]
[]
[]
[]
[]
[]
[]
[]
[]
[]
[]
[]
[]
[]
[]
[]
[]
[]
[]
[]
[]
[]
[]
[]
[]
[]
[]
[]
[]
[]
[]
[]
[]
[]
[]
[]
[]
[]
[]
[]
[]
[]
[]
[]
[]
[]
[]
[]
[]
[]
[]
[]
[]
[]
[]
[]
[]
[]
[]
[]
[]
[]
[]
[]
[]
[]
[]
[]
[]
[]
[]
[]
[]
[]
[]
[]
[]
[]
[]
[]
[]
[]
[]
[]
[]
[]
[]
[]
[]
[]
[]
[]
[]
[]
[]
[]
[]
[]
[]
[]
[]
[]
[]
[]
[]
[]
[]
[]
[]
[]
[]
[]
[]
[]
[]
[]
[]
[]
[]
[]
[]
[]
[]
[]
[]
[]
[]
[]
[]
[]
[]
[]
[]
[]
[]
[]
[]
[]
[]
[]
[]
[]
[]
[]
[]
[]
[]
[]
[]
[]
[]
[]
[]
[]
[]
[]
[]
[]
[]
[]
[]
[]
[]
[]
[]
[]
[]
[]
[]
[]
[]
[]
[]
[]
[]
[]
[]
[]
[]
[]
[]
[]
[]
[]
[]
[]
[]
[]
[]
[]
[]
[]
[]
[]
[]
[]
[]
[]
[]
[]
[]
[]
[]
[]
[]
[]
[]
[]
[]
[]
[]
[]
[]
[]
[]
[]
[]
[]
[]
[]
[]
[]
[]
[]
[]
[]
[]
[]
[]
[]
[]
[]
[]
[]
[]
[]
[]
[]
[]
[]
[]
[]
[]
[]
[]
[]
[]
[]
[]
[]
[]
[]
[]
[]
[]
[]
[]
[]
[]
[]
[]
[]
[]
[]
[]
[]
[]
[]
[]
[]
[]
[]
[]
[]
[]
[]
[]
[]
[]
[]
[]
[]
[]
[]
[]
[]
[]
[]
[]
[]
[]
[]
[]
[]
[]
[]
[]
[]
[]
[]
[]
[]
[]
[]
[]
[]
[]
[]
[]
[]
[]
[]
[]
[]
[]
[]
[]
[]
[]
[]
[]
[]
[]
[]
[]
[]
[]
[]
[]
[]
[]
[]
[]
[]
[]
[]
[]
[]
[]
[]
[]
[]
[]
[]
[]
[]
[]
[]
[]
[]
[]
[]
[]
[]
[]
[]
[]
[]
[]
[]
[]
[]
[]
[]
[]
[]
[]
[]
[]
[]
[]
[]
[]
[]
[]
[]
[]
[]
[]
[]
[]
[]
[]
[]
[]
[]
[]
[]
[]
[]
[]
[]
[]
[]
[]
[]
[]
[]
[]
[]
[]
[]
[]
[]
[]
[]
[]
[]
[]
[]
[]
[]
[]
[]
[]
[]
[]
[]
[]
[]
[]
[]
[]
[]
[]
[]
[]
[]
[]
[]
[]
[]
[]
[]
[]
[]
[]
[]
[]
[]
[]
[]
[]
[]
[]
[]
[]
[]
[]
[]
[]
[]
[]
[]
[]
[]
[]
[]
[]
[]
[]
[]
[]
[]
[]
[]
[]
[]
[]
[]
[]
[]
[]
[]
[]
[]
[]
[]
[]
[]
[]
[]
[]
[]
[]
[]
[]
[]
[]
[]
[]
[]
[]
[]
[]
[]
[]
[]
[]
[]
[]
[]
[]
[]
[]
[]
[]
[]
[]
[]
[]
[]
[]
[]
[]
[]
[]
[]
[]
[]
[]
[]
[]
[]
[]
[]
[]
[]
[]
[]
[]
[]
[]
[]
[]
[]
[]
[]
[]
[]
[]
[]
[]
[]
[]
[]
[]
[]
[]
[]
[]
[]
[]
[]
[]
[]
[]
[]
[]
[]
[]
[]
[]
[]
[]
[]
[]
[]
[]
[]
[]
[]
[]
[]
[]
[]
[]
[]
[]
[]
[]
[]
[]
[]
[]
[]
[]
[]
[]
[]
[]
[]
[]
[]
[]
[]
[]
[]
[]
[]
[]
[]
[]
[]
[]
[]
[]
[]
[]
[]
[]
[]
[]
[]
[]
[]
[]
[]
[]
[]
[]
[]
[]
[]
[]
[]
[]
[]
[]
[]
[]
[]
[]
[]
[]
[]
[]
[]
[]
[]
[]
[]
[]
[]
[]
[]
[]
[]
[]
[]
[]
[]
[]
[]
[]
[]
[]
[]
[]
[]
[]
[]
[]
[]
[]
[]
[]
[]
[]
[]
[]
[]
[]
[]
[]
[]
[]
[]
[]
[]
[]
[]
[]
[]
[]
[]
[]
[]
[]
[]
[]
[]
[]
[]
[]
[]
[]
[]
[]
[]
[]
[]
[]
[]
[]
[]
[]
[]
[]
[]
[]
[]
[]
[]
[]
[]
[]
[]
[]
[]
[]
[]
[]
[]
[]
[]
[]
[]
[]
[]
[]
[]
[]
[]
[]
[]
[]
[]
[]
[]
[]
[]
[]
[]
[]
[]
[]
[]
[]
[]
[]
[]
[]
[]
[]
[]
[]
[]
[]
[]
[]
[]
[]
[]
[]
[]
[]
[]
[]
[]
[]
[]
[]
[]
[]
[]
[]
[]
[]
[]
[]
[]
[]
[]
[]
[]
[]
[]
[]
[]
[]
[]
[]
[]
[]
[]
[]
[]
[]
[]
[]
[]
[]
[]
[]
[]
[]
[]
[]
[]
[]
[]
[]
[]
[]
[]
[]
[]
[]
[]
[]
[]
[]
[]
[]
[]
[]
[]
[]
[]
[]
[]
[]
[]
[]
[]
[]
[]
[]
[]
[]
[]
[]
[]
[]
[]
[]
[]
[]
[]
[]
[]
[]
[]
[]
[]
[]
[]
[]
[]
[]
[]
[]
[]
[]
[]
[]
[]
[]
[]
[]
[]
[]
[]
[]
[]
[]
[]
[]
[]
[]
[]
[]
[]
[]
[]
[]
[]
[]
[]
[]
[]
[]
[]
[]
[]
[]
[]
[]
[]
[]
[]
[]
[]
[]
[]
[]
[]
[]
[]
[]
[]
[]
[]
[]
[]
[]
[]
[]
[]
[]
[]
[]
[]
[]
[]
[]
[]
[]
[]
[]
[]
[]
[]
[]
[]
[]
[]
[]
[]
[]
[]
[]
[]
[]
[]
[]
[]
[]
[]
[]
[]
[]
[]
[]
[]
[]
[]
[]
[]
[]
[]
[]
[]
[]
[]
[]
[]
[]
[]
[]
[]
[]
[]
[]
[]
[]
[]
[]
[]
[]
[]
[]
[]
[]
[]
[]
[]
[]
[]
[]
[]
[]
[]
[]
[]
[]
[]
[]
[]
[]
[]
[]
[]
[]
[]
[]
[]
[]
[]
[]
[]
[]
[]
[]
[]
[]
[]
[]
[]
[]
[]
[]
[]
[]
[]
[]
[]
[]
[]
[]
[]
[]
[]
[]
[]
[]
[]
[]
[]
[]
[]
[]
[]
[]
[]
[]
[]
[]
[]
[]
[]
[]
[]
[]
[]
[]
[]
[]
[]
[]
[]
[]
[]
[]
[]
[]
[]
[]
[]
[]
[]
[]
[]
[]
[]
[]
[]
[]
[]
[]
[]
[]
[]
[]
[]
[]
[]
[]
[]
[]
[]
[]
[]
[]
[]
[]
[]
[]
[]
[]
[]
[]
[]
[]
[]
[]
[]
[]
[]
[]
[]
[]
[]
[]
[]
[]
[]
[]
[]
[]
[]
[]
[]
[]
[]
[]
[]
[]
[]
[]
[]
[]
[]
[]
[]
[]
[]
[]
[]
[]
[]
[]
[]
[]
[]
[]
[]
[]
[]
[]
[]
[]
[]
[]
[]
[]
[]
[]
[]
[]
[]
[]
[]
[]
[]
[]
[]
[]
[]
[]
[]
[]
[]
[]
[]
[]
[]
[]
[]
[]
[]
[]
[]
[]
[]
[]
[]
[]
[]
[]
[]
[]
[]
[]
[]
[]
[]
[]
[]
[]
[]
[]
[]
[]
[]
[]
[]
[]
[]
[]
[]
[]
[]
[]
[]
[]
[]
[]
[]
[]
[]
[]
[]
[]
[]
[]
[]
[]
[]
[]
[]
[]
[]
[]
[]
[]
[]
[]
[]
[]
[]
[]
[]
[]
[]
[]
[]
[]
[]
[]
[]
[]
[]
[]
[]
[]
[]
[]
[]
[]
[]
[]
[]
[]
[]
[]
[]
[]
[]
[]
[]
[]
[]
[]
[]
[]
[]
[]
[]
[]
[]
[]
[]
[]
[]
[]
[]
[]
[]
[]
[]
[]
[]
[]
[]
[]
[]
[]
[]
[]
[]
[]
[]
[]
[]
[]
[]
[]
[]
[]
[]
[]
[]
[]
[]
[]
[]
[]
[]
[]
[]
[]
[]
[]
[]
[]
[]
[]
[]
[]
[]
[]
[]
[]
[]
[]
[]
[]
[]
[]
[]
[]
[]
[]
[]
[]
[]
[]
[]
[]
[]
[]
[]
[]
[]
[]
[]
[]
[]
[]
[]
[]
[]
[]
[]
[]
[]
[]
[]
[]
[]
[]
[]
[]
[]
[]
[]
[]
[]
[]
[]
[]
[]
[]
[]
[]
[]
[]
[]
[]
[]
[]
[]
[]
[]
[]
[]
[]
[]
[]
[]
[]
[]
[]
[]
[]
[]
[]
[]
[]
[]
[]
[]
[]
[]
[]
[]
[]
[]
[]
[]
[]
[]
[]
[]
[]
[]
[]
[]
[]
[]
[]
[]
[]
[]
[]
[]
[]
[]
[]
[]
[]
[]
[]
[]
[]
[]
[]
[]
[]
[]
[]
[]
[]
[]
[]
[]
[]
[]
[]
[]
[]
[]
[]
[]
[]
[]
[]
[]
[]
[]
[]
[]
[]
[]
[]
[]
[]
[]
[]
[]
[]
[]
[]
[]
[]
[]
[]
[]
[]
[]
[]
[]
[]
[]
[]
[]
[]
[]
[]
[]
[]
[]
[]
[]
[]
[]
[]
[]
[]
[]
[]
[]
[]
[]
[]
[]
[]
[]
[]
[]
[]
[]
[]
[]
[]
[]
[]
[]
[]
[]
[]
[]
[]
[]
[]
[]
[]
[]
[]
[]
[]
[]
[]
[]
[]
[]
[]
[]
[]
[]
[]
[]
[]
[]
[]
[]
[]
[]
[]
[]
[]
[]
[]
[]
[]
[]
[]
[]
[]
[]
[]
[]
[]
[]
[]
[]
[]
[]
[]
[]
[]
[]
[]
[]
[]
[]
[]
[]
[]
[]
[]
[]
[]
[]
[]
[]
[]
[]
[]
[]
[]
[]
[]
[]
[]
[]
[]
[]
[]
[]
[]
[]
[]
[]
[]
[]
[]
[]
[]
[]
[]
[]
[]
[]
[]
[]
[]
[]
[]
[]
[]
[]
[]
[]
[]
[]
[]
[]
[]
[]
[]
[]
[]
[]
[]
[]
[]
[]
[]
[]
[]
[]
[]
[]
[]
[]
[]
[]
[]
[]
[]
[]
[]
[]
[]
[]
[]
[]
[]
[]
[]
[]
[]
[]
[]
[]
[]
[]
[]
[]
[]
[]
[]
[]
[]
[]
[]
[]
[]
[]
[]
[]
[]
[]
[]
[]
[]
[]
[]
[]
[]
[]
[]
[]
[]
[]
[]
[]
[]
[]
[]
[]
[]
[]
[]
[]
[]
[]
[]
[]
[]
[]
[]
[]
[]
[]
[]
[]
[]
[]
[]
[]
[]
[]
[]
[]
[]
[]
[]
[]
[]
[]
[]
[]
[]
[]
[]
[]
[]
[]
[]
[]
[]
[]
[]
[]
[]
[]
[]
[]
[]
[]
[]
[]
[]
[]
[]
[]
[]
[]
[]
[]
[]
[]
[]
[]
[]
[]
[]
[]
[]
[]
[]
[]
[]
[]
[]
[]
[]
[]
[]
[]
[]
[]
[]
[]
[]
[]
[]
[]
[]
[]
[]
[]
[]
[]
[]
[]
[]
[]
[]
[]
[]
[]
[]
[]
[]
[]
[]
[]
[]
[]
[]
[]
[]
[]
[]
[]
[]
[]
[]
[]
[]
[]
[]
[]
[]
[]
[]
[]
[]
[]
[]
[]
[]
[]
[]
[]
[]
[]
[]
[]
[]
[]
[]
[]
[]
[]
[]
[]
[]
[]
[]
[]
[]
[]
[]
[]
[]
[]
[]
[]
[]
[]
[]
[]
[]
[]
[]
[]
[]
[]
[]
[]
[]
[]
[]
[]
[]
[]
[]
[]
[]
[]
[]
[]
[]
[]
[]
[]
[]
[]
[]
[]
[]
[]
[]
[]
[]
[]
[]
[]
[]
[]
[]
[]
[]
[]
[]
[]
[]
[]
[]
[]
[]
[]
[]
[]
[]
[]
[]
[]
[]
[]
[]
[]
[]
[]
[]
[]
[]
[]
[]
[]
[]
[]
[]
[]
[]
[]
[]
[]
[]
[]
[]
[]
[]
[]
[]
[]
[]
[]
[]
[]
[]
[]
[]
[]
[]
[]
[]
[]
[]
[]
[]
[]
[]
[]
[]
[]
[]
[]
[]
[]
[]
[]
[]
[]
[]
[]
[]
[]
[]
[]
[]
[]
[]
[]
[]
[]
[]
[]
[]
[]
[]
[]
[]
[]
[]
[]
[]
[]
[]
[]
[]
[]
[]
[]
[]
[]
[]
[]
[]
[]
[]
[]
[]
[]
[]
[]
[]
[]
[]
[]
[]
[]
[]
[]
[]
[]
[]
[]
[]
[]
[]
[]
[]
[]
[]
[]
[]
[]
[]
[]
[]
[]
[]
[]
[]
[]
[]
[]
[]
[]
[]
[]
[]
[]
[]
[]
[]
[]
[]
[]
[]
[]
[]
[]
[]
[]
[]
[]
[]
[]
[]
[]
[]
[]
[]
[]
[]
[]
[]
[]
[]
[]
[]
[]
[]
[]
[]
[]
[]
[]
[]
[]
[]
[]
[]
[]
[]
[]
[]
[]
[]
[]
[]
[]
[]
[]
[]
[]
[]
[]
[]
[]
[]
[]
[]
[]
[]
[]
[]
[]
[]
[]
[]
[]
[]
[]
[]
[]
[]
[]
[]
[]
[]
[]
[]
[]
[]
[]
[]
[]
[]
[]
[]
[]
[]
[]
[]
[]
[]
[]
[]
[]
[]
[]
[]
[]
[]
[]
[]
[]
[]
[]
[]
[]
[]
[]
[]
[]
[]
[]
[]
[]
[]
[]
[]
[]
[]
[]
[]
[]
[]
[]
[]
[]
[]
[]
[]
[]
[]
[]
[]
[]
[]
[]
[]
[]
[]
[]
[]
[]
[]
[]
[]
[]
[]
[]
[]
[]
[]
[]
[]
[]
[]
[]
[]
[]
[]
[]
[]
[]
[]
[]
[]
[]
[]
[]
[]
[]
[]
[]
[]
[]
[]
[]
[]
[]
[]
[]
[]
[]
[]
[]
[]
[]
[]
[]
[]
[]
[]
[]
[]
[]
[]
[]
[]
[]
[]
[]
[]
[]
[]
[]
[]
[]
[]
[]
[]
[]
[]
[]
[]
[]
[]
[]
[]
[]
[]
[]
[]
[]
[]
[]
[]
[]
[]
[]
[]
[]
[]
[]
[]
[]
[]
[]
[]
[]
[]
[]
[]
[]
[]
[]
[]
[]
[]
[]
[]
[]
[]
[]
[]
[]
[]
[]
[]
[]
[]
[]
[]
[]
[]
[]
[]
[]
[]
[]
[]
[]
[]
[]
[]
[]
[]
[]
[]
[]
[]
[]
[]
[]
[]
[]
[]
[]
[]
[]
[]
[]
[]
[]
[]
[]
[]
[]
[]
[]
[]
[]
[]
[]
[]
[]
[]
[]
[]
[]
[]
[]
[]
[]
[]
[]
[]
[]
[]
[]
[]
[]
[]
[]
[]
[]
[]
[]
[]
[]
[]
[]
[]
[]
[]
[]
[]
[]
[]
[]
[]
[]
[]
[]
[]
[]
[]
[]
[]
[]
[]
[]
[]
[]
[]
[]
[]
[]
[]
[]
[]
[]
[]
[]
[]
[]
[]
[]
[]
[]
[]
[]
[]
[]
[]
[]
[]
[]
[]
[]
[]
[]
[]
[]
[]
[]
[]
[]
[]
[]
[]
[]
[]
[]
[]
[]
[]
[]
[]
[]
[]
[]
[]
[]
[]
[]
[]
[]
[]
[]
[]
[]
[]
[]
[]
[]
[]
[]
[]
[]
[]
[]
[]
[]
[]
[]
[]
[]
[]
[]
[]
[]
[]
[]
[]
[]
[]
[]
[]
[]
[]
[]
[]
[]
[]
[]
[]
[]
[]
[]
[]
[]
[]
[]
[]
[]
[]
[]
[]
[]
[]
[]
[]
[]
[]
[]
[]
[]
[]
[]
[]
[]
[]
[]
[]
[]
[]
[]
[]
[]
[]
[]
[]
[]
[]
[]
[]
[]
[]
[]
[]
[]
[]
[]
[]
[]
[]
[]
[]
[]
[]
[]
[]
[]
[]
[]
[]
[]
[]
[]
[]
[]
[]
[]
[]
[]
[]
[]
[]
[]
[]
[]
[]
[]
[]
[]
[]
[]
[]
[]
[]
[]
[]
[]
[]
[]
[]
[]
[]
[]
[]
[]
[]
[]
[]
[]
[]
[]
[]
[]
[]
[]
[]
[]
[]
[]
[]
[]
[]
[]
[]
[]
[]
[]
[]
[]
[]
[]
[]
[]
[]
[]
[]
[]
[]
[]
[]
[]
[]
[]
[]
[]
[]
[]
[]
[]
[]
[]
[]
[]
[]
[]
[]
[]
[]
[]
[]
[]
[]
[]
[]
[]
[]
[]
[]
[]
[]
[]
[]
[]
[]
[]
[]
[]
[]
[]
[]
[]
[]
[]
[]
[]
[]
[]
[]
[]
[]
[]
[]
[]
[]
[]
[]
[]
[]
[]
[]
[]
[]
[]
[]
[]
[]
[]
[]
[]
[]
[]
[]
[]
[]
[]
[]
[]
[]
[]
[]
[]
[]
[]
[]
[]
[]
[]
[]
[]
[]
[]
[]
[]
[]
[]
[]
[]
[]
[]
[]
[]
[]
[]
[]
[]
[]
[]
[]
[]
[]
[]
[]
[]
[]
[]
[]
[]
[]
[]
[]
[]
[]
[]
[]
[]
[]
[]
[]
[]
[]
[]
[]
[]
[]
[]
[]
[]
[]
[]
[]
[]
[]
[]
[]
[]
[]
[]
[]
[]
[]
[]
[]
[]
[]
[]
[]
[]
[]
[]
[]
[]
[]
[]
[]
[]
[]
[]
[]
[]
[]
[]
[]
[]
[]
[]
[]
[]
[]
[]
[]
[]
[]
[]
[]
[]
[]
[]
[]
[]
[]
[]
[]
[]
[]
[]
[]
[]
[]
[]
[]
[]
[]
[]
[]
[]
[]
[]
[]
[]
[]
[]
[]
[]
[]
[]
[]
[]
[]
[]
[]
[]
[]
[]
[]
[]
[]
[]
[]
[]
[]
[]
[]
[]
[]
[]
[]
[]
[]
[]
[]
[]
[]
[]
[]
[]
[]
[]
[]
[]
[]
[]
[]
[]
[]
[]
[]
[]
[]
[]
[]
[]
[]
[]
[]
[]
[]
[]
[]
[]
[]
[]
[]
[]
[]
[]
[]
[]
[]
[]
[]
[]
[]
[]
[]
[]
[]
[]
[]
[]
[]
[]
[]
[]
[]
[]
[]
[]
[]
[]
[]
[]
[]
[]
[]
[]
[]
[]
[]
[]
[]
[]
[]
[]
[]
[]
[]
[]
[]
[]
[]
[]
[]
[]
[]
[]
[]
[]
[]
[]
[]
[]
[]
[]
[]
[]
[]
[]
[]
[]
[]
[]
[]
[]
[]
[]
[]
[]
[]
[]
[]
[]
[]
[]
[]
[]
[]
[]
[]
[]
[]
[]
[]
[]
[]
[]
[]
[]
[]
[]
[]
[]
[]
[]
[]
[]
[]
[]
[]
[]
[]
[]
[]
[]
[]
[]
[]
[]
[]
[]
[]
[]
[]
[]
[]
[]
[]
[]
[]
[]
[]
[]
[]
[]
[]
[]
[]
[]
[]
[]
[]
[]
[]
[]
[]
[]
[]
[]
[]
[]
[]
[]
[]
[]
[]
[]
[]
[]
[]
[]
[]
[]
[]
[]
[]
[]
[]
[]
[]
[]
[]
[]
[]
[]
[]
[]
[]
[]
[]
[]
[]
[]
[]
[]
[]
[]
[]
[]
[]
[]
[]
[]
[]
[]
[]
[]
[]
[]
[]
[]
[]
[]
[]
[]
[]
[]
[]
[]
[]
[]
[]
[]
[]
[]
[]
[]
[]
[]
[]
[]
[]
[]
[]
[]
[]
[]
[]
[]
[]
[]
[]
[]
[]
[]
[]
[]
[]
[]
[]
[]
[]
[]
[]
[]
[]
[]
[]
[]
[]
[]
[]
[]
[]
[]
[]
[]
[]
[]
[]
[]
[]
[]
[]
[]
[]
[]
[]
[]
[]
[]
[]
[]
[]
[]
[]
[]
[]
[]
[]
[]
[]
[]
[]
[]
[]
[]
[]
[]
[]
[]
[]
[]
[]
[]
[]
[]
[]
[]
[]
[]
[]
[]
[]
[]
[]
[]
[]
[]
[]
[]
[]
[]
[]
[]
[]
[]
[]
[]
[]
[]
[]
[]
[]
[]
[]
[]
[]
[]
[]
[]
[]
[]
[]
[]
[]
[]
[]
[]
[]
[]
[]
[]
[]
[]
[]
[]
[]
[]
[]
[]
[]
[]
[]
[]
[]
[]
[]
[]
[]
[]
[]
[]
[]
[]
[]
[]
[]
[]
[]
[]
[]
[]
[]
[]
[]
[]
[]
[]
[]
[]
[]
[]
[]
[]
[]
[]
[]
[]
[]
[]
[]
[]
[]
[]
[]
[]
[]
[]
[]
[]
[]
[]
[]
[]
[]
[]
[]
[]
[]
[]
[]
[]
[]
[]
[]
[]
[]
[]
[]
[]
[]
[]
[]
[]
[]
[]
[]
[]
[]
[]
[]
[]
[]
[]
[]
[]
[]
[]
[]
[]
[]
[]
[]
[]
[]
[]
[]
[]
[]
[]
[]
[]
[]
[]
[]
[]
[]
[]
[]
[]
[]
[]
[]
[]
[]
[]
[]
[]
[]
[]
[]
[]
[]
[]
[]
[]
[]
[]
[]
[]
[]
[]
[]
[]
[]
[]
[]
[]
[]
[]
[]
[]
[]
[]
[]
[]
[]
[]
[]
[]
[]
[]
[]
[]
[]
[]
[]
[]
[]
[]
[]
[]
[]
[]
[]
[]
[]
[]
[]
[]
[]
[]
[]
[]
[]
[]
[]
[]
[]
[]
[]
[]
[]
[]
[]
[]
[]
[]
[]
[]
[]
[]
[]
[]
[]
[]
[]
[]
[]
[]
[]
[]
[]
[]
[]
[]
[]
[]
[]
[]
[]
[]
[]
[]
[]
[]
[]
[]
[]
[]
[]
[]
[]
[]
[]
[]
[]
[]
[]
[]
[]
[]
[]
[]
[]
[]
[]
[]
[]
[]
[]
[]
[]
[]
[]
[]
[]
[]
[]
[]
[]
[]
[]
[]
[]
[]
[]
[]
[]
[]
[]
[]
[]
[]
[]
[]
[]
[]
[]
[]
[]
[]
[]
[]
[]
[]
[]
[]
[]
[]
[]
[]
[]
[]
[]
[]
[]
[]
[]
[]
[]
[]
[]
[]
[]
[]
[]
[]
[]
[]
[]
[]
[]
[]
[]
[]
[]
[]
[]
[]
[]
[]
[]
[]
[]
[]
[]
[]
[]
[]
[]
[]
[]
[]
[]
[]
[]
[]
[]
[]
[]
[]
[]
[]
[]
[]
[]
[]
[]
[]
[]
[]
[]
[]
[]
[]
[]
[]
[]
[]
[]
[]
[]
[]
[]
[]
[]
[]
[]
[]
[]
[]
[]
[]
[]
[]
[]
[]
[]
[]
[]
[]
[]
[]
[]
[]
[]
[]
[]
[]
[]
[]
[]
[]
[]
[]
[]
[]
[]
[]
[]
[]
[]
[]
[]
[]
[]
[]
[]
[]
[]
[]
[]
[]
[]
[]
[]
[]
[]
[]
[]
[]
[]
[]
[]
[]
[]
[]
[]
[]
[]
[]
[]
[]
[]
[]
[]
[]
[]
[]
[]
[]
[]
[]
[]
[]
[]
[]
[]
[]
[]
[]
[]
[]
[]
[]
[]
[]
[]
[]
[]
[]
[]
[]
[]
[]
[]
[]
[]
[]
[]
[]
[]
[]
[]
[]
[]
[]
[]
[]
[]
[]
[]
[]
[]
[]
[]
[]
[]
[]
[]
[]
[]
[]
[]
[]
[]
[]
[]
[]
[]
[]
[]
[]
[]
[]
[]
[]
[]
[]
[]
[]
[]
[]
[]
[]
[]
[]
[]
[]
[]
[]
[]
[]
[]
[]
[]
[]
[]
[]
[]
[]
[]
[]
[]
[]
[]
[]
[]
[]
[]
[]
[]
[]
[]
[]
[]
[]
[]
[]
[]
[]
[]
[]
[]
[]
[]
[]
[]
[]
[]
[]
[]
[]
[]
[]
[]
[]
[]
[]
[]
[]
[]
[]
[]
[]
[]
[]
[]
[]
[]
[]
[]
[]
[]
[]
[]
[]
[]
[]
[]
[]
[]
[]
[]
[]
[]
[]
[]
[]
[]
[]
[]
[]
[]
[]
[]
[]
[]
[]
[]
[]
[]
[]
[]
[]
[]
[]
[]
[]
[]
[]
[]
[]
[]
[]
[]
[]
[]
[]
[]
[]
[]
[]
[]
[]
[]
[]
[]
[]
[]
[]
[]
[]
[]
[]
[]
[]
[]
[]
[]
[]
[]
[]
[]
[]
[]
[]
[]
[]
[]
[]
[]
[]
[]
[]
[]
[]
[]
[]
[]
[]
[]
[]
[]
[]
[]
[]
[]
[]
[]
[]
[]
[]
[]
[]
[]
[]
[]
[]
[]
[]
[]
[]
[]
[]
[]
[]
[]
[]
[]
[]
[]
[]
[]
[]
[]
[]
[]
[]
[]
[]
[]
[]
[]
[]
[]
[]
[]
[]
[]
[]
[]
[]
[]
[]
[]
[]
[]
[]
[]
[]
[]
[]
[]
[]
[]
[]
[]
[]
[]
[]
[]
[]
[]
[]
[]
[]
[]
[]
[]
[]
[]
[]
[]
[]
[]
[]
[]
[]
[]
[]
[]
[]
[]
[]
[]
[]
[]
[]
[]
[]
[]
[]
[]
[]
[]
[]
[]
[]
[]
[]
[]
[]
[]
[]
[]
[]
[]
[]
[]
[]
[]
[]
[]
[]
[]
[]
[]
[]
[]
[]
[]
[]
[]
[]
[]
[]
[]
[]
[]
[]
[]
[]
[]
[]
[]
[]
[]
[]
[]
[]
[]
[]
[]
[]
[]
[]
[]
[]
[]
[]
[]
[]
[]
[]
[]
[]
[]
[]
[]
[]
[]
[]
[]
[]
[]
[]
[]
[]
[]
[]
[]
[]
[]
[]
[]
[]
[]
[]
[]
[]
[]
[]
[]
[]
[]
[]
[]
[]
[]
[]
[]
[]
[]
[]
[]
[]
[]
[]
[]
[]
[]
[]
[]
[]
[]
[]
[]
[]
[]
[]
[]
[]
[]
[]
[]
[]
[]
[]
[]
[]
[]
[]
[]
[]
[]
[]
[]
[]
[]
[]
[]
[]
[]
[]
[]
[]
[]
[]
[]
[]
[]
[]
[]
[]
[]
[]
[]
[]
[]
[]
[]
[]
[]
[]
[]
[]
[]
[]
[]
[]
[]
[]
[]
[]
[]
[]
[]
[]
[]
[]
[]
[]
[]
[]
[]
[]
[]
[]
[]
[]
[]
[]
[]
[]
[]
[]
[]
[]
[]
[]
[]
[]
[]
[]
[]
[]
[]
[]
[]
[]
[]
[]
[]
[]
[]
[]
[]
[]
[]
[]
[]
[]
[]
[]
[]
[]
[]
[]
[]
[]
[]
[]
[]
[]
[]
[]
[]
[]
[]
[]
[]
[]
[]
[]
[]
[]
[]
[]
[]
[]
[]
[]
[]
[]
[]
[]
[]
[]
[]
[]
[]
[]
[]
[]
[]
[]
[]
[]
[]
[]
[]
[]
[]
[]
[]
[]
[]
[]
[]
[]
[]
[]
[]
[]
[]
[]
[]
[]
[]
[]
[]
[]
[]
[]
[]
[]
[]
[]
[]
[]
[]
[]
[]
[]
[]
[]
[]
[]
[]
[]
[]
[]
[]
[]
[]
[]
[]
[]
[]
[]
[]
[]
[]
[]
[]
[]
[]
[]
[]
[]
[]
[]
[]
[]
[]
[]
[]
[]
[]
[]
[]
[]
[]
[]
[]
[]
[]
[]
[]
[]
[]
[]
[]
[]
[]
[]
[]
[]
[]
[]
[]
[]
[]
[]
[]
[]
[]
[]
[]
[]
[]
[]
[]
[]
[]
[]
[]
[]
[]
[]
[]
[]
[]
[]
[]
[]
[]
[]
[]
[]
[]
[]
[]
[]
[]
[]
[]
[]
[]
[]
[]
[]
[]
[]
[]
[]
[]
[]
[]
[]
[]
[]
[]
[]
[]
[]
[]
[]
[]
[]
[]
[]
[]
[]
[]
[]
[]
[]
[]
[]
[]
[]
[]
[]
[]
[]
[]
[]
[]
[]
[]
[]
[]
[]
[]
[]
[]
[]
[]
[]
[]
[]
[]
[]
[]
[]
[]
[]
[]
[]
[]
[]
[]
[]
[]
[]
[]
[]
[]
[]
[]
[]
[]
[]
[]
[]
[]
[]
[]
[]
[]
[]
[]
[]
[]
[]
[]
[]
[]
[]
[]
[]
[]
[]
[]
[]
[]
[]
[]
[]
[]
[]
[]
[]
[]
[]
[]
[]
[]
[]
[]
[]
[]
[]
[]
[]
[]
[]
[]
[]
[]
[]
[]
[]
[]
[]
[]
[]
[]
[]
[]
[]
[]
[]
[]
[]
[]
[]
[]
[]
[]
[]
[]
[]
[]
[]
[]
[]
[]
[]
[]
[]
[]
[]
[]
[]
[]
[]
[]
[]
[]
[]
[]
[]
[]
[]
[]
[]
[]
[]
[]
[]
[]
[]
[]
[]
[]
[]
[]
[]
[]
[]
[]
[]
[]
[]
[]
[]
[]
[]
[]
[]
[]
[]
[]
[]
[]
[]
[]
[]
[]
[]
[]
[]
[]
[]
[]
[]
[]
[]
[]
[]
[]
[]
[]
[]
[]
[]
[]
[]
[]
[]
[]
[]
[]
[]
[]
[]
[]
[]
[]
[]
[]
[]
[]
[]
[]
[]
[]
[]
[]
[]
[]
[]
[]
[]
[]
[]
[]
[]
[]
[]
[]
[]
[]
[]
[]
[]
[]
[]
[]
[]
[]
[]
[]
[]
[]
[]
[]
[]
[]
[]
[]
[]
[]
[]
[]
[]
[]
[]
[]
[]
[]
[]
[]
[]
[]
[]
[]
[]
[]
[]
[]
[]
[]
[]
[]
[]
[]
[]
[]
[]
[]
[]
[]
[]
[]
[]
[]
[]
[]
[]
[]
[]
[]
[]
[]
[]
[]
[]
[]
[]
[]
[]
[]
[]
[]
[]
[]
[]
[]
[]
[]
[]
[]
[]
[]
[]
[]
[]
[]
[]
[]
[]
[]
[]
[]
[]
[]
[]
[]
[]
[]
[]
[]
[]
[]
[]
[]
[]
[]
[]
[]
[]
[]
[]
[]
[]
[]
[]
[]
[]
[]
[]
[]
[]
[]
[]
[]
[]
[]
[]
[]
[]
[]
[]
[]
[]
[]
[]
[]
[]
[]
[]
[]
[]
[]
[]
[]
[]
[]
[]
[]
[]
[]
[]
[]
[]
[]
[]
[]
[]
[]
[]
[]
[]
[]
[]
[]
[]
[]
[]
[]
[]
[]
[]
[]
[]
[]
[]
[]
[]
[]
[]
[]
[]
[]
[]
[]
[]
[]
[]
[]
[]
[]
[]
[]
[]
[]
[]
[]
[]
[]
[]
[]
[]
[]
[]
[]
[]
[]
[]
[]
[]
[]
[]
[]
[]
[]
[]
[]
[]
[]
[]
[]
[]
[]
[]
[]
[]
[]
[]
[]
[]
[]
[]
[]
[]
[]
[]
[]
[]
[]
[]
[]
[]
[]
[]
[]
[]
[]
[]
[]
[]
[]
[]
[]
[]
[]
[]
[]
[]
[]
[]
[]
[]
[]
[]
[]
[]
[]
[]
[]
[]
[]
[]
[]
[]
[]
[]
[]
[]
[]
[]
[]
[]
[]
[]
[]
[]
[]
[]
[]
[]
[]
[]
[]
[]
[]
[]
[]
[]
[]
[]
[]
[]
[]
[]
[]
[]
[]
[]
[]
[]
[]
[]
[]
[]
[]
[]
[]
[]
[]
[]
[]
[]
[]
[]
[]
[]
[]
[]
[]
[]
[]
[]
[]
[]
[]
[]
[]
[]
[]
[]
[]
[]
[]
[]
[]
[]
[]
[]
[]
[]
[]
[]
[]
[]
[]
[]
[]
[]
[]
[]
[]
[]
[]
[]
[]
[]
[]
[]
[]
[]
[]
[]
[]
[]
[]
[]
[]
[]
[]
[]
[]
[]
[]
[]
[]
[]
[]
[]
[]
[]
[]
[]
[]
[]
[]
[]
[]
[]
[]
[]
[]
[]
[]
[]
[]
[]
[]
[]
[]
[]
[]
[]
[]
[]
[]
[]
[]
[]
[]
[]
[]
[]
[]
[]
[]
[]
[]
[]
[]
[]
[]
[]
[]
[]
[]
[]
[]
[]
[]
[]
[]
[]
[]
[]
[]
[]
[]
[]
[]
[]
[]
[]
[]
[]
[]
[]
[]
[]
[]
[]
[]
[]
[]
[]
[]
[]
[]
[]
[]
[]
[]
[]
[]
[]
[]
[]
[]
[]
[]
[]
[]
[]
[]
[]
[]
[]
[]
[]
[]
[]
[]
[]
[]
[]
[]
[]
[]
[]
[]
[]
[]
[]
[]
[]
[]
[]
[]
[]
[]
[]
[]
[]
[]
[]
[]
[]
[]
[]
[]
[]
[]
[]
[]
[]
[]
[]
[]
[]
[]
[]
[]
[]
[]
[]
[]
[]
[]
[]
[]
[]
[]
[]
[]
[]
[]
[]
[]
[]
[]
[]
[]
[]
[]
[]
[]
[]
[]
[]
[]
[]
[]
[]
[]
[]
[]
[]
[]
[]
[]
[]
[]
[]
[]
[]
[]
[]
[]
[]
[]
[]
[]
[]
[]
[]
[]
[]
[]
[]
[]
[]
[]
[]
[]
[]
[]
[]
[]
[]
[]
[]
[]
[]
[]
[]
[]
[]
[]
[]
[]
[]
[]
[]
[]
[]
[]
[]
[]
[]
[]
[]
[]
[]
[]
[]
[]
[]
[]
[]
[]
[]
[]
[]
[]
[]
[]
[]
[]
[]
[]
[]
[]
[]
[]
[]
[]
[]
[]
[]
[]
[]
[]
[]
[]
[]
[]
[]
[]
[]
[]
[]
[]
[]
[]
[]
[]
[]
[]
[]
[]
[]
[]
[]
[]
[]
[]
[]
[]
[]
[]
[]
[]
[]
[]
[]
[]
[]
[]
[]
[]
[]
[]
[]
[]
[]
[]
[]
[]
[]
[]
[]
[]
[]
[]
[]
[]
[]
[]
[]
[]
[]
[]
[]
[]
[]
[]
[]
[]
[]
[]
[]
[]
[]
[]
[]
[]
[]
[]
[]
[]
[]
[]
[]
[]
[]
[]
[]
[]
[]
[]
[]
[]
[]
[]
[]
[]
[]
[]
[]
[]
[]
[]
[]
[]
[]
[]
[]
[]
[]
[]
[]
[]
[]
[]
[]
[]
[]
[]
[]
[]
[]
[]
[]
[]
[]
[]
[]
[]
[]
[]
[]
[]
[]
[]
[]
[]
[]
[]
[]
[]
[]
[]
[]
[]
[]
[]
[]
[]
[]
[]
[]
[]
[]
[]
[]
[]
[]
[]
[]
[]
[]
[]
[]
[]
[]
[]
[]
[]
[]
[]
[]
[]
[]
[]
[]
[]
[]
[]
[]
[]
[]
[]
[]
[]
[]
[]
[]
[]
[]
[]
[]
[]
[]
[]
[]
[]
[]
[]
[]
[]
[]
[]
[]
[]
[]
[]
[]
[]
[]
[]
[]
[]
[]
[]
[]
[]
[]
[]
[]
[]
[]
[]
[]
[]
[]
[]
[]
[]
[]
[]
[]
[]
[]
[]
[]
[]
[]
[]
[]
[]
[]
[]
[]
[]
[]
[]
[]
[]
[]
[]
[]
[]
[]
[]
[]
[]
[]
[]
[]
[]
[]
[]
[]
[]
[]
[]
[]
[]
[]
[]
[]
[]
[]
[]
[]
[]
[]
[]
[]
[]
[]
[]
[]
[]
[]
[]
[]
[]
[]
[]
[]
[]
[]
[]
[]
[]
[]
[]
[]
[]
[]
[]
[]
[]
[]
[]
[]
[]
[]
[]
[]
[]
[]
[]
[]
[]
[]
[]
[]
[]
[]
[]
[]
[]
[]
[]
[]
[]
[]
[]
[]
[]
[]
[]
[]
[]
[]
[]
[]
[]
[]
[]
[]
[]
[]
[]
[]
[]
[]
[]
[]
[]
[]
[]
[]
[]
[]
[]
[]
[]
[]
[]
[]
[]
[]
[]
[]
[]
[]
[]
[]
[]
[]
[]
[]
[]
[]
[]
[]
[]
[]
[]
[]
[]
[]
[]
[]
[]
[]
[]
[]
[]
[]
[]
[]
[]
[]
[]
[]
[]
[]
[]
[]
[]
[]
[]
[]
[]
[]
[]
[]
[]
[]
[]
[]
[]
[]
[]
[]
[]
[]
[]
[]
[]
[]
[]
[]
[]
[]
[]
[]
[]
[]
[]
[]
[]
[]
[]
[]
[]
[]
[]
[]
[]
[]
[]
[]
[]
[]
[]
[]
[]
[]
[]
[]
[]
[]
[]
[]
[]
[]
[]
[]
[]
[]
[]
[]
[]
[]
[]
[]
[]
[]
[]
[]
[]
[]
[]
[]
[]
[]
[]
[]
[]
[]
[]
[]
[]
[]
[]
[]
[]
[]
[]
[]
[]
[]
[]
[]
[]
[]
[]
[]
[]
[]
[]
[]
[]
[]
[]
[]
[]
[]
[]
[]
[]
[]
[]
[]
[]
[]
[]
[]
[]
[]
[]
[]
[]
[]
[]
[]
[]
[]
[]
[]
[]
[]
[]
[]
[]
[]
[]
[]
[]
[]
[]
[]
[]
[]
[]
[]
[]
[]
[]
[]
[]
[]
[]
[]
[]
[]
[]
[]
[]
[]
[]
[]
[]
[]
[]
[]
[]
[]
[]
[]
[]
[]
[]
[]
[]
[]
[]
[]
[]
[]
[]
[]
[]
[]
[]
[]
[]
[]
[]
[]
[]
[]
[]
[]
[]
[]
[]
[]
[]
[]
[]
[]
[]
[]
[]
[]
[]
[]
[]
[]
[]
[]
[]
[]
[]
[]
[]
[]
[]
[]
[]
[]
[]
[]
[]
[]
[]
[]
[]
[]
[]
[]
[]
[]
[]
[]
[]
[]
[]
[]
[]
[]
[]
[]
[]
[]
[]
[]
[]
[]
[]
[]
[]
[]
[]
[]
[]
[]
[]
[]
[]
[]
[]
[]
[]
[]
[]
[]
[]
[]
[]
[]
[]
[]
[]
[]
[]
[]
[]
[]
[]
[]
[]
[]
[]
[]
[]
[]
[]
[]
[]
[]
[]
[]
[]
[]
[]
[]
[]
[]
[]
[]
[]
[]
[]
[]
[]
[]
[]
[]
[]
[]
[]
[]
[]
[]
[]
[]
[]
[]
[]
[]
[]
[]
[]
[]
[]
[]
[]
[]
[]
[]
[]
[]
[]
[]
[]
[]
[]
[]
[]
[]
[]
[]
[]
[]
[]
[]
[]
[]
[]
[]
[]
[]
[]
[]
[]
[]
[]
[]
[]
[]
[]
[]
[]
[]
[]
[]
[]
[]
[]
[]
[]
[]
[]
[]
[]
[]
[]
[]
[]
[]
[]
[]
[]
[]
[]
[]
[]
[]
[]
[]
[]
[]
[]
[]
[]
[]
[]
[]
[]
[]
[]
[]
[]
[]
[]
[]
[]
[]
[]
[]
[]
[]
[]
[]
[]
[]
[]
[]
[]
[]
[]
[]
[]
[]
[]
[]
[]
[]
[]
[]
[]
[]
[]
[]
[]
[]
[]
[]
[]
[]
[]
[]
[]
[]
[]
[]
[]
[]
[]
[]
[]
[]
[]
[]
[]
[]
[]
[]
[]
[]
[]
[]
[]
[]
[]
[]
[]
[]
[]
[]
[]
[]
[]
[]
[]
[]
[]
[]
[]
[]
[]
[]
[]
[]
[]
[]
[]
[]
[]
[]
[]
[]
[]
[]
[]
[]
[]
[]
[]
[]
[]
[]
[]
[]
[]
[]
[]
[]
[]
[]
[]
[]
[]
[]
[]
[]
[]
[]
[]
[]
[]
[]
[]
[]
[]
[]
[]
[]
[]
[]
[]
[]
[]
[]
[]
[]
[]
[]
[]
[]
[]
[]
[]
[]
[]
[]
[]
[]
[]
[]
[]
[]
[]
[]
[]
[]
[]
[]
[]
[]
[]
[]
[]
[]
[]
[]
[]
[]
[]
[]
[]
[]
[]
[]
[]
[]
[]
[]
[]
[]
[]
[]
[]
[]
[]
[]
[]
[]
[]
[]
[]
[]
[]
[]
[]
[]
[]
[]
[]
[]
[]
[]
[]
[]
[]
[]
[]
[]
[]
[]
[]
[]
[]
[]
[]
[]
[]
[]
[]
[]
[]
[]
[]
[]
[]
[]
[]
[]
[]
[]
[]
[]
[]
[]
[]
[]
[]
[]
[]
[]
[]
[]
[]
[]
[]
[]
[]
[]
[]
[]
[]
[]
[]
[]
[]
[]
[]
[]
[]
[]
[]
[]
[]
[]
[]
[]
[]
[]
[]
[]
[]
[]
[]
[]
[]
[]
[]
[]
[]
[]
[]
[]
[]
[]
[]
[]
[]
[]
[]
[]
[]
[]
[]
[]
[]
[]
[]
[]
[]
[]
[]
[]
[]
[]
[]
[]
[]
[]
[]
[]
[]
[]
[]
[]
[]
[]
[]
[]
[]
[]
[]
[]
[]
[]
[]
[]
[]
[]
[]
[]
[]
[]
[]
[]
[]
[]
[]
[]
[]
[]
[]
[]
[]
[]
[]
[]
[]
[]
[]
[]
[]
[]
[]
[]
[]
[]
[]
[]
[]
[]
[]
[]
[]
[]
[]
[]
[]
[]
[]
[]
[]
[]
[]
[]
[]
[]
[]
[]
[]
[]
[]
[]
[]
[]
[]
[]
[]
[]
[]
[]
[]
[]
[]
[]
[]
[]
[]
[]
[]
[]
[]
[]
[]
[]
[]
[]
[]
[]
[]
[]
[]
[]
[]
[]
[]
[]
[]
[]
[]
[]
[]
[]
[]
[]
[]
[]
[]
[]
[]
[]
[]
[]
[]
[]
[]
[]
[]
[]
[]
[]
[]
[]
[]
[]
[]
[]
[]
[]
[]
[]
[]
[]
[]
[]
[]
[]
[]
[]
[]
[]
[]
[]
[]
[]
[]
[]
[]
[]
[]
[]
[]
[]
[]
[]
[]
[]
[]
[]
[]
[]
[]
[]
[]
[]
[]
[]
[]
[]
[]
[]
[]
[]
[]
[]
[]
[]
[]
[]
[]
[]
[]
[]
[]
[]
[]
[]
[]
[]
[]
[]
[]
[]
[]
[]
[]
[]
[]
[]
[]
[]
[]
[]
[]
[]
[]
[]
[]
[]
[]
[]
[]
[]
[]
[]
[]
[]
[]
[]
[]
[]
[]
[]
[]
[]
[]
[]
[]
[]
[]
[]
[]
[]
[]
[]
[]
[]
[]
[]
[]
[]
[]
[]
[]
[]
[]
[]
[]
[]
[]
[]
[]
[]
[]
[]
[]
[]
[]
[]
[]
[]
[]
[]
[]
[]
[]
[]
[]
[]
[]
[]
[]
[]
[]
[]
[]
[]
[]
[]
[]
[]
[]
[]
[]
[]
[]
[]
[]
[]
[]
[]
[]
[]
[]
[]
[]
[]
[]
[]
[]
[]
[]
[]
[]
[]
[]
[]
[]
[]
[]
[]
[]
[]
[]
[]
[]
[]
[]
[]
[]
[]
[]
[]
[]
[]
[]
[]
[]
[]
[]
[]
[]
[]
[]
[]
[]
[]
[]
[]
[]
[]
[]
[]
[]
[]
[]
[]
[]
[]
[]
[]
[]
[]
[]
[]
[]
[]
[]
[]
[]
[]
[]
[]
[]
[]
[]
[]
[]
[]
[]
[]
[]
[]
[]
[]
[]
[]
[]
[]
[]
[]
[]
[]
[]
[]
[]
[]
[]
[]
[]
[]
[]
[]
[]
[]
[]
[]
[]
[]
[]
[]
[]
[]
[]
[]
[]
[]
[]
[]
[]
[]
[]
[]
[]
[]
[]
[]
[]
[]
[]
[]
[]
[]
[]
[]
[]
[]
[]
[]
[]
[]
[]
[]
[]
[]
[]
[]
[]
[]
[]
[]
[]
[]
[]
[]
[]
[]
[]
[]
[]
[]
[]
[]
[]
[]
[]
[]
[]
[]
[]
[]
[]
[]
[]
[]
[]
[]
[]
[]
[]
[]
[]
[]
[]
[]
[]
[]
[]
[]
[]
[]
[]
[]
[]
[]
[]
[]
[]
[]
[]
[]
[]
[]
[]
[]
[]
[]
[]
[]
[]
[]
[]
[]
[]
[]
[]
[]
[]
[]
[]
[]
[]
[]
[]
[]
[]
[]
[]
[]
[]
[]
[]
[]
[]
[]
[]
[]
[]
[]
[]
[]
[]
[]
[]
[]
[]
[]
[]
[]
[]
[]
[]
[]
[]
[]
[]
[]
[]
[]
[]
[]
[]
[]
[]
[]
[]
[]
[]
[]
[]
[]
[]
[]
[]
[]
[]
[]
[]
[]
[]
[]
[]
[]
[]
[]
[]
[]
[]
[]
[]
[]
[]
[]
[]
[]
[]
[]
[]
[]
[]
[]
[]
[]
[]
[]
[]
[]
[]
[]
[]
[]
[]
[]
[]
[]
[]
[]
[]
[]
[]
[]
[]
[]
[]
[]
[]
[]
[]
[]
[]
[]
[]
[]
[]
[]
[]
[]
[]
[]
[]
[]
[]
[]
[]
[]
[]
[]
[]
[]
[]
[]
[]
[]
[]
[]
[]
[]
[]
[]
[]
[]
[]
[]
[]
[]
[]
[]
[]
[]
[]
[]
[]
[]
[]
[]
[]
[]
[]
[]
[]
[]
[]
[]
[]
[]
[]
[]
[]
[]
[]
[]
[]
[]
[]
[]
[]
[]
[]
[]
[]
[]
[]
[]
[]
[]
[]
[]
[]
[]
[]
[]
[]
[]
[]
[]
[]
[]
[]
[]
[]
[]
[]
[]
[]
[]
[]
[]
[]
[]
[]
[]
[]
[]
[]
[]
[]
[]
[]
[]
[]
[]
[]
[]
[]
[]
[]
[]
[]
[]
[]
[]
[]
[]
[]
[]
[]
[]
[]
[]
[]
[]
[]
[]
[]
[]
[]
[]
[]
[]
[]
[]
[]
[]
[]
[]
[]
[]
[]
[]
[]
[]
[]
[]
[]
[]
[]
[]
[]
[]
[]
[]
[]
[]
[]
[]
[]
[]
[]
[]
[]
[]
[]
[]
[]
[]
[]
[]
[]
[]
[]
[]
[]
[]
[]
[]
[]
[]
[]
[]
[]
[]
[]
[]
[]
[]
[]
[]
[]
[]
[]
[]
[]
[]
[]
[]
[]
[]
[]
[]
[]
[]
[]
[]
[]
[]
[]
[]
[]
[]
[]
[]
[]
[]
[]
[]
[]
[]
[]
[]
[]
[]
[]
[]
[]
[]
[]
[]
[]
[]
[]
[]
[]
[]
[]
[]
[]
[]
[]
[]
[]
[]
[]
[]
[]
[]
[]
[]
[]
[]
[]
[]
[]
[]
[]
[]
[]
[]
[]
[]
[]
[]
[]
[]
[]
[]
[]
[]
[]
[]
[]
[]
[]
[]
[]
[]
[]
[]
[]
[]
[]
[]
[]
[]
[]
[]
[]
[]
[]
[]
[]
[]
[]
[]
[]
[]
[]
[]
[]
[]
[]
[]
[]
[]
[]
[]
[]
[]
[]
[]
[]
[]
[]
[]
[]
[]
[]
[]
[]
[]
[]
[]
[]
[]
[]
[]
[]
[]
[]
[]
[]
[]
[]
[]
[]
[]
[]
[]
[]
[]
[]
[]
[]
[]
[]
[]
[]
[]
[]
[]
[]
[]
[]
[]
[]
[]
[]
[]
[]
[]
[]
[]
[]
[]
[]
[]
[]
[]
[]
[]
[]
[]
[]
[]
[]
[]
[]
[]
[]
[]
[]
[]
[]
[]
[]
[]
[]
[]
[]
[]
[]
[]
[]
[]
[]
[]
[]
[]
[]
[]
[]
[]
[]
[]
[]
[]
[]
[]
[]
[]
[]
[]
[]
[]
[]
[]
[]
[]
[]
[]
[]
[]
[]
[]
[]
[]
[]
[]
[]
[]
[]
[]
[]
[]
[]
[]
[]
[]
[]
[]
[]
[]
[]
[]
[]
[]
[]
[]
[]
[]
[]
[]
[]
[]
[]
[]
[]
[]
[]
[]
[]
[]
[]
[]
[]
[]
[]
[]
[]
[]
[]
[]
[]
[]
[]
[]
[]
[]
[]
[]
[]
[]
[]
[]
[]
[]
[]
[]
[]
[]
[]
[]
[]
[]
[]
[]
[]
[]
[]
[]
[]
[]
[]
[]
[]
[]
[]
[]
[]
[]
[]
[]
[]
[]
[]
[]
[]
[]
[]
[]
[]
[]
[]
[]
[]
[]
[]
[]
[]
[]
[]
[]
[]
[]
[]
[]
[]
[]
[]
[]
[]
[]
[]
[]
[]
[]
[]
[]
[]
[]
[]
[]
[]
[]
[]
[]
[]
[]
[]
[]
[]
[]
[]
[]
[]
[]
[]
[]
[]
[]
[]
[]
[]
[]
[]
[]
[]
[]
[]
[]
[]
[]
[]
[]
[]
[]
[]
[]
[]
[]
[]
[]
[]
[]
[]
[]
[]
[]
[]
[]
[]
[]
[]
[]
[]
[]
[]
[]
[]
[]
[]
[]
[]
[]
[]
[]
[]
[]
[]
[]
[]
[]
[]
[]
[]
[]
[]
[]
[]
[]
[]
[]
[]
[]
[]
[]
[]
[]
[]
[]
[]
[]
[]
[]
[]
[]
[]
[]
[]
[]
[]
[]
[]
[]
[]
[]
[]
[]
[]
[]
[]
[]
[]
[]
[]
[]
[]
[]
[]
[]
[]
[]
[]
[]
[]
[]
[]
[]
[]
[]
[]
[]
[]
[]
[]
[]
[]
[]
[]
[]
[]
[]
[]
[]
[]
[]
[]
[]
[]
[]
[]
[]
[]
[]
[]
[]
[]
[]
[]
[]
[]
[]
[]
[]
[]
[]
[]
[]
[]
[]
[]
[]
[]
[]
[]
[]
[]
[]
[]
[]
[]
[]
[]
[]
[]
[]
[]
[]
[]
[]
[]
[]
[]
[]
[]
[]
[]
[]
[]
[]
[]
[]
[]
[]
[]
[]
[]
[]
[]
[]
[]
[]
[]
[]
[]
[]
[]
[]
[]
[]
[]
[]
[]
[]
[]
[]
[]
[]
[]
[]
[]
[]
[]
[]
[]
[]
[]
[]
[]
[]
[]
[]
[]
[]
[]
[]
[]
[]
[]
[]
[]
[]
[]
[]
[]
[]
[]
[]
[]
[]
[]
[]
[]
[]
[]
[]
[]
[]
[]
[]
[]
[]
[]
[]
[]
[]
[]
[]
[]
[]
[]
[]
[]
[]
[]
[]
[]
[]
[]
[]
[]
[]
[]
[]
[]
[]
[]
[]
[]
[]
[]
[]
[]
[]
[]
[]
[]
[]
[]
[]
[]
[]
[]
[]
[]
[]
[]
[]
[]
[]
[]
[]
[]
[]
[]
[]
[]
[]
[]
[]
[]
[]
[]
[]
[]
[]
[]
[]
[]
[]
[]
[]
[]
[]
[]
[]
[]
[]
[]
[]
[]
[]
[]
[]
[]
[]
[]
[]
[]
[]
[]
[]
[]
[]
[]
[]
[]
[]
[]
[]
[]
[]
[]
[]
[]
[]
[]
[]
[]
[]
[]
[]
[]
[]
[]
[]
[]
[]
[]
[]
[]
[]
[]
[]
[]
[]
[]
[]
[]
[]
[]
[]
[]
[]
[]
[]
[]
[]
[]
[]
[]
[]
[]
[]
[]
[]
[]
[]
[]
[]
[]
[]
[]
[]
[]
[]
[]
[]
[]
[]
[]
[]
[]
[]
[]
[]
[]
[]
[]
[]
[]
[]
[]
[]
[]
[]
[]
[]
[]
[]
[]
[]
[]
[]
[]
[]
[]
[]
[]
[]
[]
[]
[]
[]
[]
[]
[]
[]
[]
[]
[]
[]
[]
[]
[]
[]
[]
[]
[]
[]
[]
[]
[]
[]
[]
[]
[]
[]
[]
[]
[]
[]
[]
[]
[]
[]
[]
[]
[]
[]
[]
[]
[]
[]
[]
[]
[]
[]
[]
[]
[]
[]
[]
[]
[]
[]
[]
[]
[]
[]
[]
[]
[]
[]
[]
[]
[]
[]
[]
[]
[]
[]
[]
[]
[]
[]
[]
[]
[]
[]
[]
[]
[]
[]
[]
[]
[]
[]
[]
[]
[]
[]
[]
[]
[]
[]
[]
[]
[]
[]
[]
[]
[]
[]
[]
[]
[]
[]
[]
[]
[]
[]
[]
[]
[]
[]
[]
[]
[]
[]
[]
[]
[]
[]
[]
[]
[]
[]
[]
[]
[]
[]
[]
[]
[]
[]
[]
[]
[]
[]
[]
[]
[]
[]
[]
[]
[]
[]
[]
[]
[]
[]
[]
[]
[]
[]
[]
[]
[]
[]
[]
[]
[]
[]
[]
[]
[]
[]
[]
[]
[]
[]
[]
[]
[]
[]
[]
[]
[]
[]
[]
[]
[]
[]
[]
[]
[]
[]
[]
[]
[]
[]
[]
[]
[]
[]
[]
[]
[]
[]
[]
[]
[]
[]
[]
[]
[]
[]
[]
[]
[]
[]
[]
[]
[]
[]
[]
[]
[]
[]
[]
[]
[]
[]
[]
[]
[]
[]
[]
[]
[]
[]
[]
[]
[]
[]
[]
[]
[]
[]
[]
[]
[]
[]
[]
[]
[]
[]
[]
[]
[]
[]
[]
[]
[]
[]
[]
[]
[]
[]
[]
[]
[]
[]
[]
[]
[]
[]
[]
[]
[]
[]
[]
[]
[]
[]
[]
[]
[]
[]
[]
[]
[]
[]
[]
[]
[]
[]
[]
[]
[]
[]
[]
[]
[]
[]
[]
[]
[]
[]
[]
[]
[]
[]
[]
[]
[]
[]
[]
[]
[]
[]
[]
[]
[]
[]
[]
[]
[]
[]
[]
[]
[]
[]
[]
[]
[]
[]
[]
[]
[]
[]
[]
[]
[]
[]
[]
[]
[]
[]
[]
[]
[]
[]
[]
[]
[]
[]
[]
[]
[]
[]
[]
[]
[]
[]
[]
[]
[]
[]
[]
[]
[]
[]
[]
[]
[]
[]
[]
[]
[]
[]
[]
[]
[]
[]
[]
[]
[]
[]
[]
[]
[]
[]
[]
[]
[]
[]
[]
[]
[]
[]
[]
[]
[]
[]
[]
[]
[]
[]
[]
[]
[]
[]
[]
[]
[]
[]
[]
[]
[]
[]
[]
[]
[]
[]
[]
[]
[]
[]
[]
[]
[]
[]
[]
[]
[]
[]
[]
[]
[]
[]
[]
[]
[]
[]
[]
[]
[]
[]
[]
[]
[]
[]
[]
[]
[]
[]
[]
[]
[]
[]
[]
[]
[]
[]
[]
[]
[]
[]
[]
[]
[]
[]
[]
[]
[]
[]
[]
[]
[]
[]
[]
[]
[]
[]
[]
[]
[]
[]
[]
[]
[]
[]
[]
[]
[]
[]
[]
[]
[]
[]
[]
[]
[]
[]
[]
[]
[]
[]
[]
[]
[]
[]
[]
[]
[]
[]
[]
[]
[]
[]
[]
[]
[]
[]
[]
[]
[]
[]
[]
[]
[]
[]
[]
[]
[]
[]
[]
[]
[]
[]
[]
[]
[]
[]
[]
[]
[]
[]
[]
[]
[]
[]
[]
[]
[]
[]
[]
[]
[]
[]
[]
[]
[]
[]
[]
[]
[]
[]
[]
[]
[]
[]
[]
[]
[]
[]
[]
[]
[]
[]
[]
[]
[]
[]
[]
[]
[]
[]
[]
[]
[]
[]
[]
[]
[]
[]
[]
[]
[]
[]
[]
[]
[]
[]
[]
[]
[]
[]
[]
[]
[]
[]
[]
[]
[]
[]
[]
[]
[]
[]
[]
[]
[]
[]
[]
[]
[]
[]
[]
[]
[]
[]
[]
[]
[]
[]
[]
[]
[]
[]
[]
[]
[]
[]
[]
[]
[]
[]
[]
[]
[]
[]
[]
[]
[]
[]
[]
[]
[]
[]
[]
[]
[]
[]
[]
[]
[]
[]
[]
[]
[]
[]
[]
[]
[]
[]
[]
[]
[]
[]
[]
[]
[]
[]
[]
[]
[]
[]
[]
[]
[]
[]
[]
[]
[]
[]
[]
[]
[]
[]
[]
[]
[]
[]
[]
[]
[]
[]
[]
[]
[]
[]
[]
[]
[]
[]
[]
[]
[]
[]
[]
[]
[]
[]
[]
[]
[]
[]
[]
[]
[]
[]
[]
[]
[]
[]
[]
[]
[]
[]
[]
[]
[]
[]
[]
[]
[]
[]
[]
[]
[]
[]
[]
[]
[]
[]
[]
[]
[]
[]
[]
[]
[]
[]
[]
[]
[]
[]
[]
[]
[]
[]
[]
[]
[]
[]
[]
[]
[]
[]
[]
[]
[]
[]
[]
[]
[]
[]
[]
[]
[]
[]
[]
[]
[]
[]
[]
[]
[]
[]
[]
[]
[]
[]
[]
[]
[]
[]
[]
[]
[]
[]
[]
[]
[]
[]
[]
[]
[]
[]
[]
[]
[]
[]
[]
[]
[]
[]
[]
[]
[]
[]
[]
[]
[]
[]
[]
[]
[]
[]
[]
[]
[]
[]
[]
[]
[]
[]
[]
[]
[]
[]
[]
[]
[]
[]
[]
[]
[]
[]
[]
[]
[]
[]
[]
[]
[]
[]
[]
[]
[]
[]
[]
[]
[]
[]
[]
[]
[]
[]
[]
[]
[]
[]
[]
[]
[]
[]
[]
[]
[]
[]
[]
[]
[]
[]
[]
[]
[]
[]
[]
[]
[]
[]
[]
[]
[]
[]
[]
[]
[]
[]
[]
[]
[]
[]
[]
[]
[]
[]
[]
[]
[]
[]
[]
[]
[]
[]
[]
[]
[]
[]
[]
[]
[]
[]
[]
[]
[]
[]
[]
[]
[]
[]
[]
[]
[]
[]
[]
[]
[]
[]
[]
[]
[]
[]
[]
[]
[]
[]
[]
[]
[]
[]
[]
[]
[]
[]
[]
[]
[]
[]
[]
[]
[]
[]
[]
[]
[]
[]
[]
[]
[]
[]
[]
[]
[]
[]
[]
[]
[]
[]
[]
[]
[]
[]
[]
[]
[]
[]
[]
[]
[]
[]
[]
[]
[]
[]
[]
[]
[]
[]
[]
[]
[]
[]
[]
[]
[]
[]
[]
[]
[]
[]
[]
[]
[]
[]
[]
[]
[]
[]
[]
[]
[]
[]
[]
[]
[]
[]
[]
[]
[]
[]
[]
[]
[]
[]
[]
[]
[]
[]
[]
[]
[]
[]
[]
[]
[]
[]
[]
[]
[]
[]
[]
[]
[]
[]
[]
[]
[]
[]
[]
[]
[]
[]
[]
[]
[]
[]
[]
[]
[]
[]
[]
[]
[]
[]
[]
[]
[]
[]
[]
[]
[]
[]
[]
[]
[]
[]
[]
[]
[]
[]
[]
[]
[]
[]
[]
[]
[]
[]
[]
[]
[]
[]
[]
[]
[]
[]
[]
[]
[]
[]
[]
[]
[]
[]
[]
[]
[]
[]
[]
[]
[]
[]
[]
[]
[]
[]
[]
[]
[]
[]
[]
[]
[]
[]
[]
[]
[]
[]
[]
[]
[]
[]
[]
[]
[]
[]
[]
[]
[]
[]
[]
[]
[]
[]
[]
[]
[]
[]
[]
[]
[]
[]
[]
[]
[]
[]
[]
[]
[]
[]
[]
[]
[]
[]
[]
[]
[]
[]
[]
[]
[]
[]
[]
[]
[]
[]
[]
[]
[]
[]
[]
[]
[]
[]
[]
[]
[]
[]
[]
[]
[]
[]
[]
[]
[]
[]
[]
[]
[]
[]
[]
[]
[]
[]
[]
[]
[]
[]
[]
[]
[]
[]
[]
[]
[]
[]
[]
[]
[]
[]
[]
[]
[]
[]
[]
[]
[]
[]
[]
[]
[]
[]
[]
[]
[]
[]
[]
[]
[]
[]
[]
[]
[]
[]
[]
[]
[]
[]
[]
[]
[]
[]
[]
[]
[]
[]
[]
[]
[]
[]
[]
[]
[]
[]
[]
[]
[]
[]
[]
[]
[]
[]
[]
[]
[]
[]
[]
[]
[]
[]
[]
[]
[]
[]
[]
[]
[]
[]
[]
[]
[]
[]
[]
[]
[]
[]
[]
[]
[]
[]
[]
[]
[]
[]
[]
[]
[]
[]
[]
[]
[]
[]
[]
[]
[]
[]
[]
[]
[]
[]
[]
[]
[]
[]
[]
[]
[]
[]
[]
[]
[]
[]
[]
[]
[]
[]
[]
[]
[]
[]
[]
[]
[]
[]
[]
[]
[]
[]
[]
[]
[]
[]
[]
[]
[]
[]
[]
[]
[]
[]
[]
[]
[]
[]
[]
[]
[]
[]
[]
[]
[]
[]
[]
[]
[]
[]
[]
[]
[]
[]
[]
[]
[]
[]
[]
[]
[]
[]
[]
[]
[]
[]
[]
[]
[]
[]
[]
[]
[]
[]
[]
[]
[]
[]
[]
[]
[]
[]
[]
[]
[]
[]
[]
[]
[]
[]
[]
[]
[]
[]
[]
[]
[]
[]
[]
[]
[]
[]
[]
[]
[]
[]
[]
[]
[]
[]
[]
[]
[]
[]
[]
[]
[]
[]
[]
[]
[]
[]
[]
[]
[]
[]
[]
[]
[]
[]
[]
[]
[]
[]
[]
[]
[]
[]
[]
[]
[]
[]
[]
[]
[]
[]
[]
[]
[]
[]
[]
[]
[]
[]
[]
[]
[]
[]
[]
[]
[]
[]
[]
[]
[]
[]
[]
[]
[]
[]
[]
[]
[]
[]
[]
[]
[]
[]
[]
[]
[]
[]
[]
[]
[]
[]
[]
[]
[]
[]
[]
[]
[]
[]
[]
[]
[]
[]
[]
[]
[]
[]
[]
[]
[]
[]
[]
[]
[]
[]
[]
[]
[]
[]
[]
[]
[]
[]
[]
[]
[]
[]
[]
[]
[]
[]
[]
[]
[]
[]
[]
[]
[]
[]
[]
[]
[]
[]
[]
[]
[]
[]
[]
[]
[]
[]
[]
[]
[]
[]
[]
[]
[]
[]
[]
[]
[]
[]
[]
[]
[]
[]
[]
[]
[]
[]
[]
[]
[]
[]
[]
[]
[]
[]
[]
[]
[]
[]
[]
[]
[]
[]
[]
[]
[]
[]
[]
[]
[]
[]
[]
[]
[]
[]
[]
[]
[]
[]
[]
[]
[]
[]
[]
[]
[]
[]
[]
[]
[]
[]
[]
[]
[]
[]
[]
[]
[]
[]
[]
[]
[]
[]
[]
[]
[]
[]
[]
[]
[]
[]
[]
[]
[]
[]
[]
[]
[]
[]
[]
[]
[]
[]
[]
[]
[]
[]
[]
[]
[]
[]
[]
[]
[]
[]
[]
[]
[]
[]
[]
[]
[]
[]
[]
[]
[]
[]
[]
[]
[]
[]
[]
[]
[]
[]
[]
[]
[]
[]
[]
[]
[]
[]
[]
[]
[]
[]
[]
[]
[]
[]
[]
[]
[]
[]
[]
[]
[]
[]
[]
[]
[]
[]
[]
[]
[]
[]
[]
[]
[]
[]
[]
[]
[]
[]
[]
[]
[]
[]
[]
[]
[]
[]
[]
[]
[]
[]
[]
[]
[]
[]
[]
[]
[]
[]
[]
[]
[]
[]
[]
[]
[]
[]
[]
[]
[]
[]
[]
[]
[]
[]
[]
[]
[]
[]
[]
[]
[]
[]
[]
[]
[]
[]
[]
[]
[]
[]
[]
[]
[]
[]
[]
[]
[]
[]
[]
[]
[]
[]
[]
[]
[]
[]
[]
[]
[]
[]
[]
[]
[]
[]
[]
[]
[]
[]
[]
[]
[]
[]
[]
[]
[]
[]
[]
[]
[]
[]
[]
[]
[]
[]
[]
[]
[]
[]
[]
[]
[]
[]
[]
[]
[]
[]
[]
[]
[]
[]
[]
[]
[]
[]
[]
[]
[]
[]
[]
[]
[]
[]
[]
[]
[]
[]
[]
[]
[]
[]
[]
[]
[]
[]
[]
[]
[]
[]
[]
[]
[]
[]
[]
[]
[]
[]
[]
[]
[]
[]
[]
[]
[]
[]
[]
[]
[]
[]
[]
[]
[]
[]
[]
[]
[]
[]
[]
[]
[]
[]
[]
[]
[]
[]
[]
[]
[]
[]
[]
[]
[]
[]
[]
[]
[]
[]
[]
[]
[]
[]
[]
[]
[]
[]
[]
[]
[]
[]
[]
[]
[]
[]
[]
[]
[]
[]
[]
[]
[]
[]
[]
[]
[]
[]
[]
[]
[]
[]
[]
[]
[]
[]
[]
[]
[]
[]
[]
[]
[]
[]
[]
[]
[]
[]
[]
[]
[]
[]
[]
[]
[]
[]
[]
[]
[]
[]
[]
[]
[]
[]
[]
[]
[]
[]
[]
[]
[]
[]
[]
[]
[]
[]
[]
[]
[]
[]
[]
[]
[]
[]
[]
[]
[]
[]
[]
[]
[]
[]
[]
[]
[]
[]
[]
[]
[]
[]
[]
[]
[]
[]
[]
[]
[]
[]
[]
[]
[]
[]
[]
[]
[]
[]
[]
[]
[]
[]
[]
[]
[]
[]
[]
[]
[]
[]
[]
[]
[]
[]
[]
[]
[]
[]
[]
[]
[]
[]
[]
[]
[]
[]
[]
[]
[]
[]
[]
[]
[]
[]
[]
[]
[]
[]
[]
[]
[]
[]
[]
[]
[]
[]
[]
[]
[]
[]
[]
[]
[]
[]
[]
[]
[]
[]
[]
[]
[]
[]
[]
[]
[]
[]
[]
[]
[]
[]
[]
[]
[]
[]
[]
[]
[]
[]
[]
[]
[]
[]
[]
[]
[]
[]
[]
[]
[]
[]
[]
[]
[]
[]
[]
[]
[]
[]
[]
[]
[]
[]
[]
[]
[]
[]
[]
[]
[]
[]
[]
[]
[]
[]
[]
[]
[]
[]
[]
[]
[]
[]
[]
[]
[]
[]
[]
[]
[]
[]
[]
[]
[]
[]
[]
[]
[]
[]
[]
[]
[]
[]
[]
[]
[]
[]
[]
[]
[]
[]
[]
[]
[]
[]
[]
[]
[]
[]
[]
[]
[]
[]
[]
[]
[]
[]
[]
[]
[]
[]
[]
[]
[]
[]
[]
[]
[]
[]
[]
[]
[]
[]
[]
[]
[]
[]
[]
[]
[]
[]
[]
[]
[]
[]
[]
[]
[]
[]
[]
[]
[]
[]
[]
[]
[]
[]
[]
[]
[]
[]
[]
[]
[]
[]
[]
[]
[]
[]
[]
[]
[]
[]
[]
[]
[]
[]
[]
[]
[]
[]
[]
[]
[]
[]
[]
[]
[]
[]
[]
[]
[]
[]
[]
[]
[]
[]
[]
[]
[]
[]
[]
[]
[]
[]
[]
[]
[]
[]
[]
[]
[]
[]
[]
[]
[]
[]
[]
[]
[]
[]
[]
[]
[]
[]
[]
[]
[]
[]
[]
[]
[]
[]
[]
[]
[]
[]
[]
[]
[]
[]
[]
[]
[]
[]
[]
[]
[]
[]
[]
[]
[]
[]
[]
[]
[]
[]
[]
[]
[]
[]
[]
[]
[]
[]
[]
[]
[]
[]
[]
[]
[]
[]
[]
[]
[]
[]
[]
[]
[]
[]
[]
[]
[]
[]
[]
[]
[]
[]
[]
[]
[]
[]
[]
[]
[]
[]
[]
[]
[]
[]
[]
[]
[]
[]
[]
[]
[]
[]
[]
[]
[]
[]
[]
[]
[]
[]
[]
[]
[]
[]
[]
[]
[]
[]
[]
[]
[]
[]
[]
[]
[]
[]
[]
[]
[]
[]
[]
[]
[]
[]
[]
[]
[]
[]
[]
[]
[]
[]
[]
[]
[]
[]
[]
[]
[]
[]
[]
[]
[]
[]
[]
[]
[]
[]
[]
[]
[]
[]
[]
[]
[]
[]
[]
[]
[]
[]
[]
[]
[]
[]
[]
[]
[]
[]
[]
[]
[]
[]
[]
[]
[]
[]
[]
[]
[]
[]
[]
[]
[]
[]
[]
[]
[]
[]
[]
[]
[]
[]
[]
[]
[]
[]
[]
[]
[]
[]
[]
[]
[]
[]
[]
[]
[]
[]
[]
[]
[]
[]
[]
[]
[]
[]
[]
[]
[]
[]
[]
[]
[]
[]
[]
[]
[]
[]
[]
[]
[]
[]
[]
[]
[]
[]
[]
[]
[]
[]
[]
[]
[]
[]
[]
[]
[]
[]
[]
[]
[]
[]
[]
[]
[]
[]
[]
[]
[]
[]
[]
[]
[]
[]
[]
[]
[]
[]
[]
[]
[]
[]
[]
[]
[]
[]
[]
[]
[]
[]
[]
[]
[]
[]
[]
[]
[]
[]
[]
[]
[]
[]
[]
[]
[]
[]
[]
[]
[]
[]
[]
[]
[]
[]
[]
[]
[]
[]
[]
[]
[]
[]
[]
[]
[]
[]
[]
[]
[]
[]
[]
[]
[]
[]
[]
[]
[]
[]
[]
[]
[]
[]
[]
[]
[]
[]
[]
[]
[]
[]
[]
[]
[]
[]
[]
[]
[]
[]
[]
[]
[]
[]
[]
[]
[]
[]
[]
[]
[]
[]
[]
[]
[]
[]
[]
[]
[]
[]
[]
[]
[]
[]
[]
[]
[]
[]
[]
[]
[]
[]
[]
[]
[]
[]
[]
[]
[]
[]
[]
[]
[]
[]
[]
[]
[]
[]
[]
[]
[]
[]
[]
[]
[]
[]
[]
[]
[]
[]
[]
[]
[]
[]
[]
[]
[]
[]
[]
[]
[]
[]
[]
[]
[]
[]
[]
[]
[]
[]
[]
[]
[]
[]
[]
[]
[]
[]
[]
[]
[]
[]
[]
[]
[]
[]
[]
[]
[]
[]
[]
[]
[]
[]
[]
[]
[]
[]
[]
[]
[]
[]
[]
[]
[]
[]
[]
[]
[]
[]
[]
[]
[]
[]
[]
[]
[]
[]
[]
[]
[]
[]
[]
[]
[]
[]
[]
[]
[]
[]
[]
[]
[]
[]
[]
[]
[]
[]
[]
[]
[]
[]
[]
[]
[]
[]
[]
[]
[]
[]
[]
[]
[]
[]
[]
[]
[]
[]
[]
[]
[]
[]
[]
[]
[]
[]
[]
[]
[]
[]
[]
[]
[]
[]
[]
[]
[]
[]
[]
[]
[]
[]
[]
[]
[]
[]
[]
[]
[]
[]
[]
[]
[]
[]
[]
[]
[]
[]
[]
[]
[]
[]
[]
[]
[]
[]
[]
[]
[]
[]
[]
[]
[]
[]
[]
[]
[]
[]
[]
[]
[]
[]
[]
[]
[]
[]
[]
[]
[]
[]
[]
[]
[]
[]
[]
[]
[]
[]
[]
[]
[]
[]
[]
[]
[]
[]
[]
[]
[]
[]
[]
[]
[]
[]
[]
[]
[]
[]
[]
[]
[]
[]
[]
[]
[]
[]
[]
[]
[]
[]
[]
[]
[]
[]
[]
[]
[]
[]
[]
[]
[]
[]
[]
[]
[]
[]
[]
[]
[]
[]
[]
[]
[]
[]
[]
[]
[]
[]
[]
[]
[]
[]
[]
[]
[]
[]
[]
[]
[]
[]
[]
[]
[]
[]
[]
[]
[]
[]
[]
[]
[]
[]
[]
[]
[]
[]
[]
[]
[]
[]
[]
[]
[]
[]
[]
[]
[]
[]
[]
[]
[]
[]
[]
[]
[]
[]
[]
[]
[]
[]
[]
[]
[]
[]
[]
[]
[]
[]
[]
[]
[]
[]
[]
[]
[]
[]
[]
[]
[]
[]
[]
[]
[]
[]
[]
[]
[]
[]
[]
[]
[]
[]
[]
[]
[]
[]
[]
[]
[]
[]
[]
[]
[]
[]
[]
[]
[]
[]
[]
[]
[]
[]
[]
[]
[]
[]
[]
[]
[]
[]
[]
[]
[]
[]
[]
[]
[]
[]
[]
[]
[]
[]
[]
[]
[]
[]
[]
[]
[]
[]
[]
[]
[]
[]
[]
[]
[]
[]
[]
[]
[]
[]
[]
[]
[]
[]
[]
[]
[]
[]
[]
[]
[]
[]
[]
[]
[]
[]
[]
[]
[]
[]
[]
[]
[]
[]
[]
[]
[]
[]
[]
[]
[]
[]
[]
[]
[]
[]
[]
[]
[]
[]
[]
[]
[]
[]
[]
[]
[]
[]
[]
[]
[]
[]
[]
[]
[]
[]
[]
[]
[]
[]
[]
[]
[]
[]
[]
[]
[]
[]
[]
[]
[]
[]
[]
[]
[]
[]
[]
[]
[]
[]
[]
[]
[]
[]
[]
[]
[]
[]
[]
[]
[]
[]
[]
[]
[]
[]
[]
[]
[]
[]
[]
[]
[]
[]
[]
[]
[]
[]
[]
[]
[]
[]
[]
[]
[]
[]
[]
[]
[]
[]
[]
[]
[]
[]
[]
[]
[]
[]
[]
[]
[]
[]
[]
[]
[]
[]
[]
[]
[]
[]
[]
[]
[]
[]
[]
[]
[]
[]
[]
[]
[]
[]
[]
[]
[]
[]
[]
[]
[]
[]
[]
[]
[]
[]
[]
[]
[]
[]
[]
[]
[]
[]
[]
[]
[]
[]
[]
[]
[]
[]
[]
[]
[]
[]
[]
[]
[]
[]
[]
[]
[]
[]
[]
[]
[]
[]
[]
[]
[]
[]
[]
[]
[]
[]
[]
[]
[]
[]
[]
[]
[]
[]
[]
[]
[]
[]
[]
[]
[]
[]
[]
[]
[]
[]
[]
[]
[]
[]
[]
[]
[]
[]
[]
[]
[]
[]
[]
[]
[]
[]
[]
[]
[]
[]
[]
[]
[]
[]
[]
[]
[]
[]
[]
[]
[]
[]
[]
[]
[]
[]
[]
[]
[]
[]
[]
[]
[]
[]
[]
[]
[]
[]
[]
[]
[]
[]
[]
[]
[]
[]
[]
[]
[]
[]
[]
[]
[]
[]
[]
[]
[]
[]
[]
[]
[]
[]
[]
[]
[]
[]
[]
[]
[]
[]
[]
[]
[]
[]
[]
[]
[]
[]
[]
[]
[]
[]
[]
[]
[]
[]
[]
[]
[]
[]
[]
[]
[]
[]
[]
[]
[]
[]
[]
[]
[]
[]
[]
[]
[]
[]
[]
[]
[]
[]
[]
[]
[]
[]
[]
[]
[]
[]
[]
[]
[]
[]
[]
[]
[]
[]
[]
[]
[]
[]
[]
[]
[]
[]
[]
[]
[]
[]
[]
[]
[]
[]
[]
[]
[]
[]
[]
[]
[]
[]
[]
[]
[]
[]
[]
[]
[]
[]
[]
[]
[]
[]
[]
[]
[]
[]
[]
[]
[]
[]
[]
[]
[]
[]
[]
[]
[]
[]
[]
[]
[]
[]
[]
[]
[]
[]
[]
[]
[]
[]
[]
[]
[]
[]
[]
[]
[]
[]
[]
[]
[]
[]
[]
[]
[]
[]
[]
[]
[]
[]
[]
[]
[]
[]
[]
[]
[]
[]
[]
[]
[]
[]
[]
[]
[]
[]
[]
[]
[]
[]
[]
[]
[]
[]
[]
[]
[]
[]
[]
[]
[]
[]
[]
[]
[]
[]
[]
[]
[]
[]
[]
[]
[]
[]
[]
[]
[]
[]
[]
[]
[]
[]
[]
[]
[]
[]
[]
[]
[]
[]
[]
[]
[]
[]
[]
[]
[]
[]
[]
[]
[]
[]
[]
[]
[]
[]
[]
[]
[]
[]
[]
[]
[]
[]
[]
[]
[]
[]
[]
[]
[]
[]
[]
[]
[]
[]
[]
[]
[]
[]
[]
[]
[]
[]
[]
[]
[]
[]
[]
[]
[]
[]
[]
[]
[]
[]
[]
[]
[]
[]
[]
[]
[]
[]
[]
[]
[]
[]
[]
[]
[]
[]
[]
[]
[]
[]
[]
[]
[]
[]
[]
[]
[]
[]
[]
[]
[]
[]
[]
[]
[]
[]
[]
[]
[]
[]
[]
[]
[]
[]
[]
[]
[]
[]
[]
[]
[]
[]
[]
[]
[]
[]
[]
[]
[]
[]
[]
[]
[]
[]
[]
[]
[]
[]
[]
[]
[]
[]
[]
[]
[]
[]
[]
[]
[]
[]
[]
[]
[]
[]
[]
[]
[]
[]
[]
[]
[]
[]
[]
[]
[]
[]
[]
[]
[]
[]
[]
[]
[]
[]
[]
[]
[]
[]
[]
[]
[]
[]
[]
[]
[]
[]
[]
[]
[]
[]
[]
[]
[]
[]
[]
[]
[]
[]
[]
[]
[]
[]
[]
[]
[]
[]
[]
[]
[]
[]
[]
[]
[]
[]
[]
[]
[]
[]
[]
[]
[]
[]
[]
[]
[]
[]
[]
[]
[]
[]
[]
[]
[]
[]
[]
[]
[]
[]
[]
[]
[]
[]
[]
[]
[]
[]
[]
[]
[]
[]
[]
[]
[]
[]
[]
[]
[]
[]
[]
[]
[]
[]
[]
[]
[]
[]
[]
[]
[]
[]
[]
[]
[]
[]
[]
[]
[]
[]
[]
[]
[]
[]
[]
[]
[]
[]
[]
[]
[]
[]
[]
[]
[]
[]
[]
[]
[]
[]
[]
[]
[]
[]
[]
[]
[]
[]
[]
[]
[]
[]
[]
[]
[]
[]
[]
[]
[]
[]
[]
[]
[]
[]
[]
[]
[]
[]
[]
[]
[]
[]
[]
[]
[]
[]
[]
[]
[]
[]
[]
[]
[]
[]
[]
[]
[]
[]
[]
[]
[]
[]
[]
[]
[]
[]
[]
[]
[]
[]
[]
[]
[]
[]
[]
[]
[]
[]
[]
[]
[]
[]
[]
[]
[]
[]
[]
[]
[]
[]
[]
[]
[]
[]
[]
[]
[]
[]
[]
[]
[]
[]
[]
[]
[]
[]
[]
[]
[]
[]
[]
[]
[]
[]
[]
[]
[]
[]
[]
[]
[]
[]
[]
[]
[]
[]
[]
[]
[]
[]
[]
[]
[]
[]
[]
[]
[]
[]
[]
[]
[]
[]
[]
[]
[]
[]
[]
[]
[]
[]
[]
[]
[]
[]
[]
[]
[]
[]
[]
[]
[]
[]
[]
[]
[]
[]
[]
[]
[]
[]
[]
[]
[]
[]
[]
[]
[]
[]
[]
[]
[]
[]
[]
[]
[]
[]
[]
[]
[]
[]
[]
[]
[]
[]
[]
[]
[]
[]
[]
[]
[]
[]
[]
[]
[]
[]
[]
[]
[]
[]
[]
[]
[]
[]
[]
[]
[]
[]
[]
[]
[]
[]
[]
[]
[]
[]
[]
[]
[]
[]
[]
[]
[]
[]
[]
[]
[]
[]
[]
[]
[]
[]
[]
[]
[]
[]
[]
[]
[]
[]
[]
[]
[]
[]
[]
[]
[]
[]
[]
[]
[]
[]
[]
[]
[]
[]
[]
[]
[]
[]
[]
[]
[]
[]
[]
[]
[]
[]
[]
[]
[]
[]
[]
[]
[]
[]
[]
[]
[]
[]
[]
[]
[]
[]
[]
[]
[]
[]
[]
[]
[]
[]
[]
[]
[]
[]
[]
[]
[]
[]
[]
[]
[]
[]
[]
[]
[]
[]
[]
[]
[]
[]
[]
[]
[]
[]
[]
[]
[]
[]
[]
[]
[]
[]
[]
[]
[]
[]
[]
[]
[]
[]
[]
[]
[]
[]
[]
[]
[]
[]
[]
[]
[]
[]
[]
[]
[]
[]
[]
[]
[]
[]
[]
[]
[]
[]
[]
[]
[]
[]
[]
[]
[]
[]
[]
[]
[]
[]
[]
[]
[]
[]
[]
[]
[]
[]
[]
[]
[]
[]
[]
[]
[]
[]
[]
[]
[]
[]
[]
[]
[]
[]
[]
[]
[]
[]
[]
[]
[]
[]
[]
[]
[]
[]
[]
[]
[]
[]
[]
[]
[]
[]
[]
[]
[]
[]
[]
[]
[]
[]
[]
[]
[]
[]
[]
[]
[]
[]
[]
[]
[]
[]
[]
[]
[]
[]
[]
[]
[]
[]
[]
[]
[]
[]
[]
[]
[]
[]
[]
[]
[]
[]
[]
[]
[]
[]
[]
[]
[]
[]
[]
[]
[]
[]
[]
[]
[]
[]
[]
[]
[]
[]
[]
[]
[]
[]
[]
[]
[]
[]
[]
[]
[]
[]
[]
[]
[]
[]
[]
[]
[]
[]
[]
[]
[]
[]
[]
[]
[]
[]
[]
[]
[]
[]
[]
[]
[]
[]
[]
[]
[]
[]
[]
[]
[]
[]
[]
[]
[]
[]
[]
[]
[]
[]
[]
[]
[]
[]
[]
[]
[]
[]
[]
[]
[]
[]
[]
[]
[]
[]
[]
[]
[]
[]
[]
[]
[]
[]
[]
[]
[]
[]
[]
[]
[]
[]
[]
[]
[]
[]
[]
[]
[]
[]
[]
[]
[]
[]
[]
[]
[]
[]
[]
[]
[]
[]
[]
[]
[]
[]
[]
[]
[]
[]
[]
[]
[]
[]
[]
[]
[]
[]
[]
[]
[]
[]
[]
[]
[]
[]
[]
[]
[]
[]
[]
[]
[]
[]
[]
[]
[]
[]
[]
[]
[]
[]
[]
[]
[]
[]
[]
[]
[]
[]
[]
[]
[]
[]
[]
[]
[]
[]
[]
[]
[]
[]
[]
[]
[]
[]
[]
[]
[]
[]
[]
[]
[]
[]
[]
[]
[]
[]
[]
[]
[]
[]
[]
[]
[]
[]
[]
[]
[]
[]
[]
[]
[]
[]
[]
[]
[]
[]
[]
[]
[]
[]
[]
[]
[]
[]
[]
[]
[]
[]
[]
[]
[]
[]
[]
[]
[]
[]
[]
[]
[]
[]
[]
[]
[]
[]
[]
[]
[]
[]
[]
[]
[]
[]
[]
[]
[]
[]
[]
[]
[]
[]
[]
[]
[]
[]
[]
[]
[]
[]
[]
[]
[]
[]
[]
[]
[]
[]
[]
[]
[]
[]
[]
[]
[]
[]
[]
[]
[]
[]
[]
[]
[]
[]
[]
[]
[]
[]
[]
[]
[]
[]
[]
[]
[]
[]
[]
[]
[]
[]
[]
[]
[]
[]
[]
[]
[]
[]
[]
[]
[]
[]
[]
[]
[]
[]
[]
[]
[]
[]
[]
[]
[]
[]
[]
[]
[]
[]
[]
[]
[]
[]
[]
[]
[]
[]
[]
[]
[]
[]
[]
[]
[]
[]
[]
[]
[]
[]
[]
[]
[]
[]
[]
[]
[]
[]
[]
[]
[]
[]
[]
[]
[]
[]
[]
[]
[]
[]
[]
[]
[]
[]
[]
[]
[]
[]
[]
[]
[]
[]
[]
[]
[]
[]
[]
[]
[]
[]
[]
[]
[]
[]
[]
[]
[]
[]
[]
[]
[]
[]
[]
[]
[]
[]
[]
[]
[]
[]
[]
[]
[]
[]
[]
[]
[]
[]
[]
[]
[]
[]
[]
[]
[]
[]
[]
[]
[]
[]
[]
[]
[]
[]
[]
[]
[]
[]
[]
[]
[]
[]
[]
[]
[]
[]
[]
[]
[]
[]
[]
[]
[]
[]
[]
[]
[]
[]
[]
[]
[]
[]
[]
[]
[]
[]
[]
[]
[]
[]
[]
[]
[]
[]
[]
[]
[]
[]
[]
[]
[]
[]
[]
[]
[]
[]
[]
[]
[]
[]
[]
[]
[]
[]
[]
[]
[]
[]
[]
[]
[]
[]
[]
[]
[]
[]
[]
[]
[]
[]
[]
[]
[]
[]
[]
[]
[]
[]
[]
[]
[]
[]
[]
[]
[]
[]
[]
[]
[]
[]
[]
[]
[]
[]
[]
[]
[]
[]
[]
[]
[]
[]
[]
[]
[]
[]
[]
[]
[]
[]
[]
[]
[]
[]
[]
[]
[]
[]
[]
[]
[]
[]
[]
[]
[]
[]
[]
[]
[]
[]
[]
[]
[]
[]
[]
[]
[]
[]
[]
[]
[]
[]
[]
[]
[]
[]
[]
[]
[]
[]
[]
[]
[]
[]
[]
[]
[]
[]
[]
[]
[]
[]
[]
[]
[]
[]
[]
[]
[]
[]
[]
[]
[]
[]
[]
[]
[]
[]
[]
[]
[]
[]
[]
[]
[]
[]
[]
[]
[]
[]
[]
[]
[]
[]
[]
[]
[]
[]
[]
[]
[]
[]
[]
[]
[]
[]
[]
[]
[]
[]
[]
[]
[]
[]
[]
[]
[]
[]
[]
[]
[]
[]
[]
[]
[]
[]
[]
[]
[]
[]
[]
[]
[]
[]
[]
[]
[]
[]
[]
[]
[]
[]
[]
[]
[]
[]
[]
[]
[]
[]
[]
[]
[]
[]
[]
[]
[]
[]
[]
[]
[]
[]
[]
[]
[]
[]
[]
[]
[]
[]
[]
[]
[]
[]
[]
[]
[]
[]
[]
[]
[]
[]
[]
[]
[]
[]
[]
[]
[]
[]
[]
[]
[]
[]
[]
[]
[]
[]
[]
[]
[]
[]
[]
[]
[]
[]
[]
[]
[]
[]
[]
[]
[]
[]
[]
[]
[]
[]
[]
[]
[]
[]
[]
[]
[]
[]
[]
[]
[]
[]
[]
[]
[]
[]
[]
[]
[]
[]
[]
[]
[]
[]
[]
[]
[]
[]
[]
[]
[]
[]
[]
[]
[]
[]
[]
[]
[]
[]
[]
[]
[]
[]
[]
[]
[]
[]
[]
[]
[]
[]
[]
[]
[]
[]
[]
[]
[]
[]
[]
[]
[]
[]
[]
[]
[]
[]
[]
[]
[]
[]
[]
[]
[]
[]
[]
[]
[]
[]
[]
[]
[]
[]
[]
[]
[]
[]
[]
[]
[]
[]
[]
[]
[]
[]
[]
[]
[]
[]
[]
[]
[]
[]
[]
[]
[]
[]
[]
[]
[]
[]
[]
[]
[]
[]
[]
[]
[]
[]
[]
[]
[]
[]
[]
[]
[]
[]
[]
[]
[]
[]
[]
[]
[]
[]
[]
[]
[]
[]
[]
[]
[]
[]
[]
[]
[]
[]
[]
[]
[]
[]
[]
[]
[]
[]
[]
[]
[]
[]
[]
[]
[]
[]
[]
[]
[]
[]
[]
[]
[]
[]
[]
[]
[]
[]
[]
[]
[]
[]
[]
[]
[]
[]
[]
[]
[]
[]
[]
[]
[]
[]
[]
[]
[]
[]
[]
[]
[]
[]
[]
[]
[]
[]
[]
[]
[]
[]
[]
[]
[]
[]
[]
[]
[]
[]
[]
[]
[]
[]
[]
[]
[]
[]
[]
[]
[]
[]
[]
[]
[]
[]
[]
[]
[]
[]
[]
[]
[]
[]
[]
[]
[]
[]
[]
[]
[]
[]
[]
[]
[]
[]
[]
[]
[]
[]
[]
[]
[]
[]
[]
[]
[]
[]
[]
[]
[]
[]
[]
[]
[]
[]
[]
[]
[]
[]
[]
[]
[]
[]
[]
[]
[]
[]
[]
[]
[]
[]
[]
[]
[]
[]
[]
[]
[]
[]
[]
[]
[]
[]
[]
[]
[]
[]
[]
[]
[]
[]
[]
[]
[]
[]
[]
[]
[]
[]
[]
[]
[]
[]
[]
[]
[]
[]
[]
[]
[]
[]
[]
[]
[]
[]
[]
[]
[]
[]
[]
[]
[]
[]
[]
[]
[]
[]
[]
[]
[]
[]
[]
[]
[]
[]
[]
[]
[]
[]
[]
[]
[]
[]
[]
[]
[]
[]
[]
[]
[]
[]
[]
[]
[]
[]
[]
[]
[]
[]
[]
[]
[]
[]
[]
[]
[]
[]
[]
[]
[]
[]
[]
[]
[]
[]
[]
[]
[]
[]
[]
[]
[]
[]
[]
[]
[]
[]
[]
[]
[]
[]
[]
[]
[]
[]
[]
[]
[]
[]
[]
[]
[]
[]
[]
[]
[]
[]
[]
[]
[]
[]
[]
[]
[]
[]
[]
[]
[]
[]
[]
[]
[]
[]
[]
[]
[]
[]
[]
[]
[]
[]
[]
[]
[]
[]
[]
[]
[]
[]
[]
[]
[]
[]
[]
[]
[]
[]
[]
[]
[]
[]
[]
[]
[]
[]
[]
[]
[]
[]
[]
[]
[]
[]
[]
[]
[]
[]
[]
[]
[]
[]
[]
[]
[]
[]
[]
[]
[]
[]
[]
[]
[]
[]
[]
[]
[]
[]
[]
[]
[]
[]
[]
[]
[]
[]
[]
[]
[]
[]
[]
[]
[]
[]
[]
[]
[]
[]
[]
[]
[]
[]
[]
[]
[]
[]
[]
[]
[]
[]
[]
[]
[]
[]
[]
[]
[]
[]
[]
[]
[]
[]
[]
[]
[]
[]
[]
[]
[]
[]
[]
[]
[]
[]
[]
[]
[]
[]
[]
[]
[]
[]
[]
[]
[]
[]
[]
[]
[]
[]
[]
[]
[]
[]
[]
[]
[]
[]
[]
[]
[]
[]
[]
[]
[]
[]
[]
[]
[]
[]
[]
[]
[]
[]
[]
[]
[]
[]
[]
[]
[]
[]
[]
[]
[]
[]
[]
[]
[]
[]
[]
[]
[]
[]
[]
[]
[]
[]
[]
[]
[]
[]
[]
[]
[]
[]
[]
[]
[]
[]
[]
[]
[]
[]
[]
[]
[]
[]
[]
[]
[]
[]
[]
[]
[]
[]
[]
[]
[]
[]
[]
[]
[]
[]
[]
[]
[]
[]
[]
[]
[]
[]
[]
[]
[]
[]
[]
[]
[]
[]
[]
[]
[]
[]
[]
[]
[]
[]
[]
[]
[]
[]
[]
[]
[]
[]
[]
[]
[]
[]
[]
[]
[]
[]
[]
[]
[]
[]
[]
[]
[]
[]
[]
[]
[]
[]
[]
[]
[]
[]
[]
[]
[]
[]
[]
[]
[]
[]
[]
[]
[]
[]
[]
[]
[]
[]
[]
[]
[]
[]
[]
[]
[]
[]
[]
[]
[]
[]
[]
[]
[]
[]
[]
[]
[]
[]
[]
[]
[]
[]
[]
[]
[]
[]
[]
[]
[]
[]
[]
[]
[]
[]
[]
[]
[]
[]
[]
[]
[]
[]
[]
[]
[]
[]
[]
[]
[]
[]
[]
[]
[]
[]
[]
[]
[]
[]
[]
[]
[]
[]
[]
[]
[]
[]
[]
[]
[]
[]
[]
[]
[]
[]
[]
[]
[]
[]
[]
[]
[]
[]
[]
[]
[]
[]
[]
[]
[]
[]
[]
[]
[]
[]
[]
[]
[]
[]
[]
[]
[]
[]
[]
[]
[]
[]
[]
[]
[]
[]
[]
[]
[]
[]
[]
[]
[]
[]
[]
[]
[]
[]
[]
[]
[]
[]
[]
[]
[]
[]
[]
[]
[]
[]
[]
[]
[]
[]
[]
[]
[]
[]
[]
[]
[]
[]
[]
[]
[]
[]
[]
[]
[]
[]
[]
[]
[]
[]
[]
[]
[]
[]
[]
[]
[]
[]
[]
[]
[]
[]
[]
[]
[]
[]
[]
[]
[]
[]
[]
[]
[]
[]
[]
[]
[]
[]
[]
[]
[]
[]
[]
[]
[]
[]
[]
[]
[]
[]
[]
[]
[]
[]
[]
[]
[]
[]
[]
[]
[]
[]
[]
[]
[]
[]
[]
[]
[]
[]
[]
[]
[]
[]
[]
[]
[]
[]
[]
[]
[]
[]
[]
[]
[]
[]
[]
[]
[]
[]
[]
[]
[]
[]
[]
[]
[]
[]
[]
[]
[]
[]
[]
[]
[]
[]
[]
[]
[]
[]
[]
[]
[]
[]
[]
[]
[]
[]
[]
[]
[]
[]
[]
[]
[]
[]
[]
[]
[]
[]
[]
[]
[]
[]
[]
[]
[]
[]
[]
[]
[]
[]
[]
[]
[]
[]
[]
[]
[]
[]
[]
[]
[]
[]
[]
[]
[]
[]
[]
[]
[]
[]
[]
[]
[]
[]
[]
[]
[]
[]
[]
[]
[]
[]
[]
[]
[]
[]
[]
[]
[]
[]
[]
[]
[]
[]
[]
[]
[]
[]
[]
[]
[]
[]
[]
[]
[]
[]
[]
[]
[]
[]
[]
[]
[]
[]
[]
[]
[]
[]
[]
[]
[]
[]
[]
[]
[]
[]
[]
[]
[]
[]
[]
[]
[]
[]
[]
[]
[]
[]
[]
[]
[]
[]
[]
[]
[]
[]
[]
[]
[]
[]
[]
[]
[]
[]
[]
[]
[]
[]
[]
[]
[]
[]
[]
[]
[]
[]
[]
[]
[]
[]
[]
[]
[]
[]
[]
[]
[]
[]
[]
[]
[]
[]
[]
[]
[]
[]
[]
[]
[]
[]
[]
[]
[]
[]
[]
[]
[]
[]
[]
[]
[]
[]
[]
[]
[]
[]
[]
[]
[]
[]
[]
[]
[]
[]
[]
[]
[]
[]
[]
[]
[]
[]
[]
[]
[]
[]
[]
[]
[]
[]
[]
[]
[]
[]
[]
[]
[]
[]
[]
[]
[]
[]
[]
[]
[]
[]
[]
[]
[]
[]
[]
[]
[]
[]
[]
[]
[]
[]
[]
[]
[]
[]
[]
[]
[]
[]
[]
[]
[]
[]
[]
[]
[]
[]
[]
[]
[]
[]
[]
[]
[]
[]
[]
[]
[]
[]
[]
[]
[]
[]
[]
[]
[]
[]
[]
[]
[]
[]
[]
[]
[]
[]
[]
[]
[]
[]
[]
[]
[]
[]
[]
[]
[]
[]
[]
[]
[]
[]
[]
[]
[]
[]
[]
[]
[]
[]
[]
[]
[]
[]
[]
[]
[]
[]
[]
[]
[]
[]
[]
[]
[]
[]
[]
[]
[]
[]
[]
[]
[]
[]
[]
[]
[]
[]
[]
[]
[]
[]
[]
[]
[]
[]
[]
[]
[]
[]
[]
[]
[]
[]
[]
[]
[]
[]
[]
[]
[]
[]
[]
[]
[]
[]
[]
[]
[]
[]
[]
[]
[]
[]
[]
[]
[]
[]
[]
[]
[]
[]
[]
[]
[]
[]
[]
[]
[]
[]
[]
[]
[]
[]
[]
[]
[]
[]
[]
[]
[]
[]
[]
[]
[]
[]
[]
[]
[]
[]
[]
[]
[]
[]
[]
[]
[]
[]
[]
[]
[]
[]
[]
[]
[]
[]
[]
[]
[]
[]
[]
[]
[]
[]
[]
[]
[]
[]
[]
[]
[]
[]
[]
[]
[]
[]
[]
[]
[]
[]
[]
[]
[]
[]
[]
[]
[]
[]
[]
[]
[]
[]
[]
[]
[]
[]
[]
[]
[]
[]
[]
[]
[]
[]
[]
[]
[]
[]
[]
[]
[]
[]
[]
[]
[]
[]
[]
[]
[]
[]
[]
[]
[]
[]
[]
[]
[]
[]
[]
[]
[]
[]
[]
[]
[]
[]
[]
[]
[]
[]
[]
[]
[]
[]
[]
[]
[]
[]
[]
[]
[]
[]
[]
[]
[]
[]
[]
[]
[]
[]
[]
[]
[]
[]
[]
[]
[]
[]
[]
[]
[]
[]
[]
[]
[]
[]
[]
[]
[]
[]
[]
[]
[]
[]
[]
[]
[]
[]
[]
[]
[]
[]
[]
[]
[]
[]
[]
[]
[]
[]
[]
[]
[]
[]
[]
[]
[]
[]
[]
[]
[]
[]
[]
[]
[]
[]
[]
[]
[]
[]
[]
[]
[]
[]
[]
[]
[]
[]
[]
[]
[]
[]
[]
[]
[]
[]
[]
[]
[]
[]
[]
[]
[]
[]
[]
[]
[]
[]
[]
[]
[]
[]
[]
[]
[]
[]
[]
[]
[]
[]
[]
[]
[]
[]
[]
[]
[]
[]
[]
[]
[]
[]
[]
[]
[]
[]
[]
[]
[]
[]
[]
[]
[]
[]
[]
[]
[]
[]
[]
[]
[]
[]
[]
[]
[]
[]
[]
[]
[]
[]
[]
[]
[]
[]
[]
[]
[]
[]
[]
[]
[]
[]
[]
[]
[]
[]
[]
[]
[]
[]
[]
[]
[]
[]
[]
[]
[]
[]
[]
[]
[]
[]
[]
[]
[]
[]
[]
[]
[]
[]
[]
[]
[]
[]
[]
[]
[]
[]
[]
[]
[]
[]
[]
[]
[]
[]
[]
[]
[]
[]
[]
[]
[]
[]
[]
[]
[]
[]
[]
[]
[]
[]
[]
[]
[]
[]
[]
[]
[]
[]
[]
[]
[]
[]
[]
[]
[]
[]
[]
[]
[]
[]
[]
[]
[]
[]
[]
[]
[]
[]
[]
[]
[]
[]
[]
[]
[]
[]
[]
[]
[]
[]
[]
[]
[]
[]
[]
[]
[]
[]
[]
[]
[]
[]
[]
[]
[]
[]
[]
[]
[]
[]
[]
[]
[]
[]
[]
[]
[]
[]
[]
[]
[]
[]
[]
[]
[]
[]
[]
[]
[]
[]
[]
[]
[]
[]
[]
[]
[]
[]
[]
[]
[]
[]
[]
[]
[]
[]
[]
[]
[]
[]
[]
[]
[]
[]
[]
[]
[]
[]
[]
[]
[]
[]
[]
[]
[]
[]
[]
[]
[]
[]
[]
[]
[]
[]
[]
[]
[]
[]
[]
[]
[]
[]
[]
[]
[]
[]
[]
[]
[]
[]
[]
[]
[]
[]
[]
[]
[]
[]
[]
[]
[]
[]
[]
[]
[]
[]
[]
[]
[]
[]
[]
[]
[]
[]
[]
[]
[]
[]
[]
[]
[]
[]
[]
[]
[]
[]
[]
[]
[]
[]
[]
[]
[]
[]
[]
[]
[]
[]
[]
[]
[]
[]
[]
[]
[]
[]
[]
[]
[]
[]
[]
[]
[]
[]
[]
[]
[]
[]
[]
[]
[]
[]
[]
[]
[]
[]
[]
[]
[]
[]
[]
[]
[]
[]
[]
[]
[]
[]
[]
[]
[]
[]
[]
[]
[]
[]
[]
[]
[]
[]
[]
[]
[]
[]
[]
[]
[]
[]
[]
[]
[]
[]
[]
[]
[]
[]
[]
[]
[]
[]
[]
[]
[]
[]
[]
[]
[]
[]
[]
[]
[]
[]
[]
[]
[]
[]
[]
[]
[]
[]
[]
[]
[]
[]
[]
[]
[]
[]
[]
[]
[]
[]
[]
[]
[]
[]
[]
[]
[]
[]
[]
[]
[]
[]
[]
[]
[]
[]
[]
[]
[]
[]
[]
[]
[]
[]
[]
[]
[]
[]
[]
[]
[]
[]
[]
[]
[]
[]
[]
[]
[]
[]
[]
[]
[]
[]
[]
[]
[]
[]
[]
[]
[]
[]
[]
[]
[]
[]
[]
[]
[]
[]
[]
[]
[]
[]
[]
[]
[]
[]
[]
[]
[]
[]
[]
[]
[]
[]
[]
[]
[]
[]
[]
[]
[]
[]
[]
[]
[]
[]
[]
[]
[]
[]
[]
[]
[]
[]
[]
[]
[]
[]
[]
[]
[]
[]
[]
[]
[]
[]
[]
[]
[]
[]
[]
[]
[]
[]
[]
[]
[]
[]
[]
[]
[]
[]
[]
[]
[]
[]
[]
[]
[]
[]
[]
[]
[]
[]
[]
[]
[]
[]
[]
[]
[]
[]
[]
[]
[]
[]
[]
[]
[]
[]
[]
[]
[]
[]
[]
[]
[]
[]
[]
[]
[]
[]
[]
[]
[]
[]
[]
[]
[]
[]
[]
[]
[]
[]
[]
[]
[]
[]
[]
[]
[]
[]
[]
[]
[]
[]
[]
[]
[]
[]
[]
[]
[]
[]
[]
[]
[]
[]
[]
[]
[]
[]
[]
[]
[]
[]
[]
[]
[]
[]
[]
[]
[]
[]
[]
[]
[]
[]
[]
[]
[]
[]
[]
[]
[]
[]
[]
[]
[]
[]
[]
[]
[]
[]
[]
[]
[]
[]
[]
[]
[]
[]
[]
[]
[]
[]
[]
[]
[]
[]
[]
[]
[]
[]
[]
[]
[]
[]
[]
[]
[]
[]
[]
[]
[]
[]
[]
[]
[]
[]
[]
[]
[]
[]
[]
[]
[]
[]
[]
[]
[]
[]
[]
[]
[]
[]
[]
[]
[]
[]
[]
[]
[]
[]
[]
[]
[]
[]
[]
[]
[]
[]
[]
[]
[]
[]
[]
[]
[]
[]
[]
[]
[]
[]
[]
[]
[]
[]
[]
[]
[]
[]
[]
[]
[]
[]
[]
[]
[]
[]
[]
[]
[]
[]
[]
[]
[]
[]
[]
[]
[]
[]
[]
[]
[]
[]
[]
[]
[]
[]
[]
[]
[]
[]
[]
[]
[]
[]
[]
[]
[]
[]
[]
[]
[]
[]
[]
[]
[]
[]
[]
[]
[]
[]
[]
[]
[]
[]
[]
[]
[]
[]
[]
[]
[]
[]
[]
[]
[]
[]
[]
[]
[]
[]
[]
[]
[]
[]
[]
[]
[]
[]
[]
[]
[]
[]
[]
[]
[]
[]
[]
[]
[]
[]
[]
[]
[]
[]
[]
[]
[]
[]
[]
[]
[]
[]
[]
[]
[]
[]
[]
[]
[]
[]
[]
[]
[]
[]
[]
[]
[]
[]
[]
[]
[]
[]
[]
[]
[]
[]
[]
[]
[]
[]
[]
[]
[]
[]
[]
[]
[]
[]
[]
[]
[]
[]
[]
[]
[]
[]
[]
[]
[]
[]
[]
[]
[]
[]
[]
[]
[]
[]
[]
[]
[]
[]
[]
[]
[]
[]
[]
[]
[]
[]
[]
[]
[]
[]
[]
[]
[]
[]
[]
[]
[]
[]
[]
[]
[]
[]
[]
[]
[]
[]
[]
[]
[]
[]
[]
[]
[]
[]
[]
[]
[]
[]
[]
[]
[]
[]
[]
[]
[]
[]
[]
[]
[]
[]
[]
[]
[]
[]
[]
[]
[]
[]
[]
[]
[]
[]
[]
[]
[]
[]
[]
[]
[]
[]
[]
[]
[]
[]
[]
[]
[]
[]
[]
[]
[]
[]
[]
[]
[]
[]
[]
[]
[]
[]
[]
[]
[]
[]
[]
[]
[]
[]
[]
[]
[]
[]
[]
[]
[]
[]
[]
[]
[]
[]
[]
[]
[]
[]
[]
[]
[]
[]
[]
[]
[]
[]
[]
[]
[]
[]
[]
[]
[]
[]
[]
[]
[]
[]
[]
[]
[]
[]
[]
[]
[]
[]
[]
[]
[]
[]
[]
[]
[]
[]
[]
[]
[]
[]
[]
[]
[]
[]
[]
[]
[]
[]
[]
[]
[]
[]
[]
[]
[]
[]
[]
[]
[]
[]
[]
[]
[]
[]
[]
[]
[]
[]
[]
[]
[]
[]
[]
[]
[]
[]
[]
[]
[]
[]
[]
[]
[]
[]
[]
[]
[]
[]
[]
[]
[]
[]
[]
[]
[]
[]
[]
[]
[]
[]
[]
[]
[]
[]
[]
[]
[]
[]
[]
[]
[]
[]
[]
[]
[]
[]
[]
[]
[]
[]
[]
[]
[]
[]
[]
[]
[]
[]
[]
[]
[]
[]
[]
[]
[]
[]
[]
[]
[]
[]
[]
[]
[]
[]
[]
[]
[]
[]
[]
[]
[]
[]
[]
[]
[]
[]
[]
[]
[]
[]
[]
[]
[]
[]
[]
[]
[]
[]
[]
[]
[]
[]
[]
[]
[]
[]
[]
[]
[]
[]
[]
[]
[]
[]
[]
[]
[]
[]
[]
[]
[]
[]
[]
[]
[]
[]
[]
[]
[]
[]
[]
[]
[]
[]
[]
[]
[]
[]
[]
[]
[]
[]
[]
[]
[]
[]
[]
[]
[]
[]
[]
[]
[]
[]
[]
[]
[]
[]
[]
[]
[]
[]
[]
[]
[]
[]
[]
[]
[]
[]
[]
[]
[]
[]
[]
[]
[]
[]
[]
[]
[]
[]
[]
[]
[]
[]
[]
[]
[]
[]
[]
[]
[]
[]
[]
[]
[]
[]
[]
[]
[]
[]
[]
[]
[]
[]
[]
[]
[]
[]
[]
[]
[]
[]
[]
[]
[]
[]
[]
[]
[]
[]
[]
[]
[]
[]
[]
[]
[]
[]
[]
[]
[]
[]
[]
[]
[]
[]
[]
[]
[]
[]
[]
[]
[]
[]
[]
[]
[]
[]
[]
[]
[]
[]
[]
[]
[]
[]
[]
[]
[]
[]
[]
[]
[]
[]
[]
[]
[]
[]
[]
[]
[]
[]
[]
[]
[]
[]
[]
[]
[]
[]
[]
[]
[]
[]
[]
[]
[]
[]
[]
[]
[]
[]
[]
[]
[]
[]
[]
[]
[]
[]
[]
[]
[]
[]
[]
[]
[]
[]
[]
[]
[]
[]
[]
[]
[]
[]
[]
[]
[]
[]
[]
[]
[]
[]
[]
[]
[]
[]
[]
[]
[]
[]
[]
[]
[]
[]
[]
[]
[]
[]
[]
[]
[]
[]
[]
[]
[]
[]
[]
[]
[]
[]
[]
[]
[]
[]
[]
[]
[]
[]
[]
[]
[]
[]
[]
[]
[]
[]
[]
[]
[]
[]
[]
[]
[]
[]
[]
[]
[]
[]
[]
[]
[]
[]
[]
[]
[]
[]
[]
[]
[]
[]
[]
[]
[]
[]
[]
[]
[]
[]
[]
[]
[]
[]
[]
[]
[]
[]
[]
[]
[]
[]
[]
[]
[]
[]
[]
[]
[]
[]
[]
[]
[]
[]
[]
[]
[]
[]
[]
[]
[]
[]
[]
[]
[]
[]
[]
[]
[]
[]
[]
[]
[]
[]
[]
[]
[]
[]
[]
[]
[]
[]
[]
[]
[]
[]
[]
[]
[]
[]
[]
[]
[]
[]
[]
[]
[]
[]
[]
[]
[]
[]
[]
[]
[]
[]
[]
[]
[]
[]
[]
[]
[]
[]
[]
[]
[]
[]
[]
[]
[]
[]
[]
[]
[]
[]
[]
[]
[]
[]
[]
[]
[]
[]
[]
[]
[]
[]
[]
[]
[]
[]
[]
[]
[]
[]
[]
[]
[]
[]
[]
[]
[]
[]
[]
[]
[]
[]
[]
[]
[]
[]
[]
[]
[]
[]
[]
[]
[]
[]
[]
[]
[]
[]
[]
[]
[]
[]
[]
[]
[]
[]
[]
[]
[]
[]
[]
[]
[]
[]
[]
[]
[]
[]
[]
[]
[]
[]
[]
[]
[]
[]
[]
[]
[]
[]
[]
[]
[]
[]
[]
[]
[]
[]
[]
[]
[]
[]
[]
[]
[]
[]
[]
[]
[]
[]
[]
[]
[]
[]
[]
[]
[]
[]
[]
[]
[]
[]
[]
[]
[]
[]
[]
[]
[]
[]
[]
[]
[]
[]
[]
[]
[]
[]
[]
[]
[]
[]
[]
[]
[]
[]
[]
[]
[]
[]
[]
[]
[]
[]
[]
[]
[]
[]
[]
[]
[]
[]
[]
[]
[]
[]
[]
[]
[]
[]
[]
[]
[]
[]
[]
[]
[]
[]
[]
[]
[]
[]
[]
[]
[]
[]
[]
[]
[]
[]
[]
[]
[]
[]
[]
[]
[]
[]
[]
[]
[]
[]
[]
[]
[]
[]
[]
[]
[]
[]
[]
[]
[]
[]
[]
[]
[]
[]
[]
[]
[]
[]
[]
[]
[]
[]
[]
[]
[]
[]
[]
[]
[]
[]
[]
[]
[]
[]
[]
[]
[]
[]
[]
[]
[]
[]
[]
[]
[]
[]
[]
[]
[]
[]
[]
[]
[]
[]
[]
[]
[]
[]
[]
[]
[]
[]
[]
[]
[]
[]
[]
[]
[]
[]
[]
[]
[]
[]
[]
[]
[]
[]
[]
[]
[]
[]
[]
[]
[]
[]
[]
[]
[]
[]
[]
[]
[]
[]
[]
[]
[]
[]
[]
[]
[]
[]
[]
[]
[]
[]
[]
[]
[]
[]
[]
[]
[]
[]
[]
[]
[]
[]
[]
[]
[]
[]
[]
[]
[]
[]
[]
[]
[]
[]
[]
[]
[]
[]
[]
[]
[]
[]
[]
[]
[]
[]
[]
[]
[]
[]
[]
[]
[]
[]
[]
[]
[]
[]
[]
[]
[]
[]
[]
[]
[]
[]
[]
[]
[]
[]
[]
[]
[]
[]
[]
[]
[]
[]
[]
[]
[]
[]
[]
[]
[]
[]
[]
[]
[]
[]
[]
[]
[]
[]
[]
[]
[]
[]
[]
[]
[]
[]
[]
[]
[]
[]
[]
[]
[]
[]
[]
[]
[]
[]
[]
[]
[]
[]
[]
[]
[]
[]
[]
[]
[]
[]
[]
[]
[]
[]
[]
[]
[]
[]
[]
[]
[]
[]
[]
[]
[]
[]
[]
[]
[]
[]
[]
[]
[]
[]
[]
[]
[]
[]
[]
[]
[]
[]
[]
[]
[]
[]
[]
[]
[]
[]
[]
[]
[]
[]
[]
[]
[]
[]
[]
[]
[]
[]
[]
[]
[]
[]
[]
[]
[]
[]
[]
[]
[]
[]
[]
[]
[]
[]
[]
[]
[]
[]
[]
[]
[]
[]
[]
[]
[]
[]
[]
[]
[]
[]
[]
[]
[]
[]
[]
[]
[]
[]
[]
[]
[]
[]
[]
[]
[]
[]
[]
[]
[]
[]
[]
[]
[]
[]
[]
[]
[]
[]
[]
[]
[]
[]
[]
[]
[]
[]
[]
[]
[]
[]
[]
[]
[]
[]
[]
[]
[]
[]
[]
[]
[]
[]
[]
[]
[]
[]
[]
[]
[]
[]
[]
[]
[]
[]
[]
[]
[]
[]
[]
[]
[]
[]
[]
[]
[]
[]
[]
[]
[]
[]
[]
[]
[]
[]
[]
[]
[]
[]
[]
[]
[]
[]
[]
[]
[]
[]
[]
[]
[]
[]
[]
[]
[]
[]
[]
[]
[]
[]
[]
[]
[]
[]
[]
[]
[]
[]
[]
[]
[]
[]
[]
[]
[]
[]
[]
[]
[]
[]
[]
[]
[]
[]
[]
[]
[]
[]
[]
[]
[]
[]
[]
[]
[]
[]
[]
[]
[]
[]
[]
[]
[]
[]
[]
[]
[]
[]
[]
[]
[]
[]
[]
[]
[]
[]
[]
[]
[]
[]
[]
[]
[]
[]
[]
[]
[]
[]
[]
[]
[]
[]
[]
[]
[]
[]
[]
[]
[]
[]
[]
[]
[]
[]
[]
[]
[]
[]
[]
[]
[]
[]
[]
[]
[]
[]
[]
[]
[]
[]
[]
[]
[]
[]
[]
[]
[]
[]
[]
[]
[]
[]
[]
[]
[]
[]
[]
[]
[]
[]
[]
[]
[]
[]
[]
[]
[]
[]
[]
[]
[]
[]
[]
[]
[]
[]
[]
[]
[]
[]
[]
[]
[]
[]
[]
[]
[]
[]
[]
[]
[]
[]
[]
[]
[]
[]
[]
[]
[]
[]
[]
[]
[]
[]
[]
[]
[]
[]
[]
[]
[]
[]
[]
[]
[]
[]
[]
[]
[]
[]
[]
[]
[]
[]
[]
[]
[]
[]
[]
[]
[]
[]
[]
[]
[]
[]
[]
[]
[]
[]
[]
[]
[]
[]
[]
[]
[]
[]
[]
[]
[]
[]
[]
[]
[]
[]
[]
[]
[]
[]
[]
[]
[]
[]
[]
[]
[]
[]
[]
[]
[]
[]
[]
[]
[]
[]
[]
[]
[]
[]
[]
[]
[]
[]
[]
[]
[]
[]
[]
[]
[]
[]
[]
[]
[]
[]
[]
[]
[]
[]
[]
[]
[]
[]
[]
[]
[]
[]
[]
[]
[]
[]
[]
[]
[]
[]
[]
[]
[]
[]
[]
[]
[]
[]
[]
[]
[]
[]
[]
[]
[]
[]
[]
[]
[]
[]
[]
[]
[]
[]
[]
[]
[]
[]
[]
[]
[]
[]
[]
[]
[]
[]
[]
[]
[]
[]
[]
[]
[]
[]
[]
[]
[]
[]
[]
[]
[]
[]
[]
[]
[]
[]
[]
[]
[]
[]
[]
[]
[]
[]
[]
[]
[]
[]
[]
[]
[]
[]
[]
[]
[]
[]
[]
[]
[]
[]
[]
[]
[]
[]
[]
[]
[]
[]
[]
[]
[]
[]
[]
[]
[]
[]
[]
[]
[]
[]
[]
[]
[]
[]
[]
[]
[]
[]
[]
[]
[]
[]
[]
[]
[]
[]
[]
[]
[]
[]
[]
[]
[]
[]
[]
[]
[]
[]
[]
[]
[]
[]
[]
[]
[]
[]
[]
[]
[]
[]
[]
[]
[]
[]
[]
[]
[]
[]
[]
[]
[]
[]
[]
[]
[]
[]
[]
[]
[]
[]
[]
[]
[]
[]
[]
[]
[]
[]
[]
[]
[]
[]
[]
[]
[]
[]
[]
[]
[]
[]
[]
[]
[]
[]
[]
[]
[]
[]
[]
[]
[]
[]
[]
[]
[]
[]
[]
[]
[]
[]
[]
[]
[]
[]
[]
[]
[]
[]
[]
[]
[]
[]
[]
[]
[]
[]
[]
[]
[]
[]
[]
[]
[]
[]
[]
[]
[]
[]
[]
[]
[]
[]
[]
[]
[]
[]
[]
[]
[]
[]
[]
[]
[]
[]
[]
[]
[]
[]
[]
[]
[]
[]
[]
[]
[]
[]
[]
[]
[]
[]
[]
[]
[]
[]
[]
[]
[]
[]
[]
[]
[]
[]
[]
[]
[]
[]
[]
[]
[]
[]
[]
[]
[]
[]
[]
[]
[]
[]
[]
[]
[]
[]
[]
[]
[]
[]
[]
[]
[]
[]
[]
[]
[]
[]
[]
[]
[]
[]
[]
[]
[]
[]
[]
[]
[]
[]
[]
[]
[]
[]
[]
[]
[]
[]
[]
[]
[]
[]
[]
[]
[]
[]
[]
[]
[]
[]
[]
[]
[]
[]
[]
[]
[]
[]
[]
[]
[]
[]
[]
[]
[]
[]
[]
[]
[]
[]
[]
[]
[]
[]
[]
[]
[]
[]
[]
[]
[]
[]
[]
[]
[]
[]
[]
[]
[]
[]
[]
[]
[]
[]
[]
[]
[]
[]
[]
[]
[]
[]
[]
[]
[]
[]
[]
[]
[]
[]
[]
[]
[]
[]
[]
[]
[]
[]
[]
[]
[]
[]
[]
[]
[]
[]
[]
[]
[]
[]
[]
[]
[]
[]
[]
[]
[]
[]
[]
[]
[]
[]
[]
[]
[]
[]
[]
[]
[]
[]
[]
[]
[]
[]
[]
[]
[]
[]
[]
[]
[]
[]
[]
[]
[]
[]
[]
[]
[]
[]
[]
[]
[]
[]
[]
[]
[]
[]
[]
[]
[]
[]
[]
[]
[]
[]
[]
[]
[]
[]
[]
[]
[]
[]
[]
[]
[]
[]
[]
[]
[]
[]
[]
[]
[]
[]
[]
[]
[]
[]
[]
[]
[]
[]
[]
[]
[]
[]
[]
[]
[]
[]
[]
[]
[]
[]
[]
[]
[]
[]
[]
[]
[]
[]
[]
[]
[]
[]
[]
[]
[]
[]
[]
[]
[]
[]
[]
[]
[]
[]
[]
[]
[]
[]
[]
[]
[]
[]
[]
[]
[]
[]
[]
[]
[]
[]
[]
[]
[]
[]
[]
[]
[]
[]
[]
[]
[]
[]
[]
[]
[]
[]
[]
[]
[]
[]
[]
[]
[]
[]
[]
[]
[]
[]
[]
[]
[]
[]
[]
[]
[]
[]
[]
[]
[]
[]
[]
[]
[]
[]
[]
[]
[]
[]
[]
[]
[]
[]
[]
[]
[]
[]
[]
[]
[]
[]
[]
[]
[]
[]
[]
[]
[]
[]
[]
[]
[]
[]
[]
[]
[]
[]
[]
[]
[]
[]
[]
[]
[]
[]
[]
[]
[]
[]
[]
[]
[]
[]
[]
[]
[]
[]
[]
[]
[]
[]
[]
[]
[]
[]
[]
[]
[]
[]
[]
[]
[]
[]
[]
[]
[]
[]
[]
[]
[]
[]
[]
[]
[]
[]
[]
[]
[]
[]
[]
[]
[]
[]
[]
[]
[]
[]
[]
[]
[]
[]
[]
[]
[]
[]
[]
[]
[]
[]
[]
[]
[]
[]
[]
[]
[]
[]
[]
[]
[]
[]
[]
[]
[]
[]
[]
[]
[]
[]
[]
[]
[]
[]
[]
[]
[]
[]
[]
[]
[]
[]
[]
[]
[]
[]
[]
[]
[]
[]
[]
[]
[]
[]
[]
[]
[]
[]
[]
[]
[]
[]
[]
[]
[]
[]
[]
[]
[]
[]
[]
[]
[]
[]
[]
[]
[]
[]
[]
[]
[]
[]
[]
[]
[]
[]
[]
[]
[]
[]
[]
[]
[]
[]
[]
[]
[]
[]
[]
[]
[]
[]
[]
[]
[]
[]
[]
[]
[]
[]
[]
[]
[]
[]
[]
[]
[]
[]
[]
[]
[]
[]
[]
[]
[]
[]
[]
[]
[]
[]
[]
[]
[]
[]
[]
[]
[]
[]
[]
[]
[]
[]
[]
[]
[]
[]
[]
[]
[]
[]
[]
[]
[]
[]
[]
[]
[]
[]
[]
[]
[]
[]
[]
[]
[]
[]
[]
[]
[]
[]
[]
[]
[]
[]
[]
[]
[]
[]
[]
[]
[]
[]
[]
[]
[]
[]
[]
[]
[]
[]
[]
[]
[]
[]
[]
[]
[]
[]
[]
[]
[]
[]
[]
[]
[]
[]
[]
[]
[]
[]
[]
[]
[]
[]
[]
[]
[]
[]
[]
[]
[]
[]
[]
[]
[]
[]
[]
[]
[]
[]
[]
[]
[]
[]
[]
[]
[]
[]
[]
[]
[]
[]
[]
[]
[]
[]
[]
[]
[]
[]
[]
[]
[]
[]
[]
[]
[]
[]
[]
[]
[]
[]
[]
[]
[]
[]
[]
[]
[]
[]
[]
[]
[]
[]
[]
[]
[]
[]
[]
[]
[]
[]
[]
[]
[]
[]
[]
[]
[]
[]
[]
[]
[]
[]
[]
[]
[]
[]
[]
[]
[]
[]
[]
[]
[]
[]
[]
[]
[]
[]
[]
[]
[]
[]
[]
[]
[]
[]
[]
[]
[]
[]
[]
[]
[]
[]
[]
[]
[]
[]
[]
[]
[]
[]
[]
[]
[]
[]
[]
[]
[]
[]
[]
[]
[]
[]
[]
[]
[]
[]
[]
[]
[]
[]
[]
[]
[]
[]
[]
[]
[]
[]
[]
[]
[]
[]
[]
[]
[]
[]
[]
[]
[]
[]
[]
[]
[]
[]
[]
[]
[]
[]
[]
[]
[]
[]
[]
[]
[]
[]
[]
[]
[]
[]
[]
[]
[]
[]
[]
[]
[]
[]
[]
[]
[]
[]
[]
[]
[]
[]
[]
[]
[]
[]
[]
[]
[]
[]
[]
[]
[]
[]
[]
[]
[]
[]
[]
[]
[]
[]
[]
[]
[]
[]
[]
[]
[]
[]
[]
[]
[]
[]
[]
[]
[]
[]
[]
[]
[]
[]
[]
[]
[]
[]
[]
[]
[]
[]
[]
[]
[]
[]
[]
[]
[]
[]
[]
[]
[]
[]
[]
[]
[]
[]
[]
[]
[]
[]
[]
[]
[]
[]
[]
[]
[]
[]
[]
[]
[]
[]
[]
[]
[]
[]
[]
[]
[]
[]
[]
[]
[]
[]
[]
[]
[]
[]
[]
[]
[]
[]
[]
[]
[]
[]
[]
[]
[]
[]
[]
[]
[]
[]
[]
[]
[]
[]
[]
[]
[]
[]
[]
[]
[]
[]
[]
[]
[]
[]
[]
[]
[]
[]
[]
[]
[]
[]
[]
[]
[]
[]
[]
[]
[]
[]
[]
[]
[]
[]
[]
[]
[]
[]
[]
[]
[]
[]
[]
[]
[]
[]
[]
[]
[]
[]
[]
[]
[]
[]
[]
[]
[]
[]
[]
[]
[]
[]
[]
[]
[]
[]
[]
[]
[]
[]
[]
[]
[]
[]
[]
[]
[]
[]
[]
[]
[]
[]
[]
[]
[]
[]
[]
[]
[]
[]
[]
[]
[]
[]
[]
[]
[]
[]
[]
[]
[]
[]
[]
[]
[]
[]
[]
[]
[]
[]
[]
[]
[]
[]
[]
[]
[]
[]
[]
[]
[]
[]
[]
[]
[]
[]
[]
[]
[]
[]
[]
[]
[]
[]
[]
[]
[]
[]
[]
[]
[]
[]
[]
[]
[]
[]
[]
[]
[]
[]
[]
[]
[]
[]
[]
[]
[]
[]
[]
[]
[]
[]
[]
[]
[]
[]
[]
[]
[]
[]
[]
[]
[]
[]
[]
[]
[]
[]
[]
[]
[]
[]
[]
[]
[]
[]
[]
[]
[]
[]
[]
[]
[]
[]
[]
[]
[]
[]
[]
[]
[]
[]
[]
[]
[]
[]
[]
[]
[]
[]
[]
[]
[]
[]
[]
[]
[]
[]
[]
[]
[]
[]
[]
[]
[]
[]
[]
[]
[]
[]
[]
[]
[]
[]
[]
[]
[]
[]
[]
[]
[]
[]
[]
[]
[]
[]
[]
[]
[]
[]
[]
[]
[]
[]
[]
[]
[]
[]
[]
[]
[]
[]
[]
[]
[]
[]
[]
[]
[]
[]
[]
[]
[]
[]
[]
[]
[]
[]
[]
[]
[]
[]
[]
[]
[]
[]
[]
[]
[]
[]
[]
[]
[]
[]
[]
[]
[]
[]
[]
[]
[]
[]
[]
[]
[]
[]
[]
[]
[]
[]
[]
[]
[]
[]
[]
[]
[]
[]
[]
[]
[]
[]
[]
[]
[]
[]
[]
[]
[]
[]
[]
[]
[]
[]
[]
[]
[]
[]
[]
[]
[]
[]
[]
[]
[]
[]
[]
[]
[]
[]
[]
[]
[]
[]
[]
[]
[]
[]
[]
[]
[]
[]
[]
[]
[]
[]
[]
[]
[]
[]
[]
[]
[]
[]
[]
[]
[]
[]
[]
[]
[]
[]
[]
[]
[]
[]
[]
[]
[]
[]
[]
[]
[]
[]
[]
[]
[]
[]
[]
[]
[]
[]
[]
[]
[]
[]
[]
[]
[]
[]
[]
[]
[]
[]
[]
[]
[]
[]
[]
[]
[]
[]
[]
[]
[]
[]
[]
[]
[]
[]
[]
[]
[]
[]
[]
[]
[]
[]
[]
[]
[]
[]
[]
[]
[]
[]
[]
[]
[]
[]
[]
[]
[]
[]
[]
[]
[]
[]
[]
[]
[]
[]
[]
[]
[]
[]
[]
[]
[]
[]
[]
[]
[]
[]
[]
[]
[]
[]
[]
[]
[]
[]
[]
[]
[]
[]
[]
[]
[]
[]
[]
[]
[]
[]
[]
[]
[]
[]
[]
[]
[]
[]
[]
[]
[]
[]
[]
[]
[]
[]
[]
[]
[]
[]
[]
[]
[]
[]
[]
[]
[]
[]
[]
[]
[]
[]
[]
[]
[]
[]
[]
[]
[]
[]
[]
[]
[]
[]
[]
[]
[]
[]
[]
[]
[]
[]
[]
[]
[]
[]
[]
[]
[]
[]
[]
[]
[]
[]
[]
[]
[]
[]
[]
[]
[]
[]
[]
[]
[]
[]
[]
[]
[]
[]
[]
[]
[]
[]
[]
[]
[]
[]
[]
[]
[]
[]
[]
[]
[]
[]
[]
[]
[]
[]
[]
[]
[]
[]
[]
[]
[]
[]
[]
[]
[]
[]
[]
[]
[]
[]
[]
[]
[]
[]
[]
[]
[]
[]
[]
[]
[]
[]
[]
[]
[]
[]
[]
[]
[]
[]
[]
[]
[]
[]
[]
[]
[]
[]
[]
[]
[]
[]
[]
[]
[]
[]
[]
[]
[]
[]
[]
[]
[]
[]
[]
[]
[]
[]
[]
[]
[]
[]
[]
[]
[]
[]
[]
[]
[]
[]
[]
[]
[]
[]
[]
[]
[]
[]
[]
[]
[]
[]
[]
[]
[]
[]
[]
[]
[]
[]
[]
[]
[]
[]
[]
[]
[]
[]
[]
[]
[]
[]
[]
[]
[]
[]
[]
[]
[]
[]
[]
[]
[]
[]
[]
[]
[]
[]
[]
[]
[]
[]
[]
[]
[]
[]
[]
[]
[]
[]
[]
[]
[]
[]
[]
[]
[]
[]
[]
[]
[]
[]
[]
[]
[]
[]
[]
[]
[]
[]
[]
[]
[]
[]
[]
[]
[]
[]
[]
[]
[]
[]
[]
[]
[]
[]
[]
[]
[]
[]
[]
[]
[]
[]
[]
[]
[]
[]
[]
[]
[]
[]
[]
[]
[]
[]
[]
[]
[]
[]
[]
[]
[]
[]
[]
[]
[]
[]
[]
[]
[]
[]
[]
[]
[]
[]
[]
[]
[]
[]
[]
[]
[]
[]
[]
[]
[]
[]
[]
[]
[]
[]
[]
[]
[]
[]
[]
[]
[]
[]
[]
[]
[]
[]
[]
[]
[]
[]
[]
[]
[]
[]
[]
[]
[]
[]
[]
[]
[]
[]
[]
[]
[]
[]
[]
[]
[]
[]
[]
[]
[]
[]
[]
[]
[]
[]
[]
[]
[]
[]
[]
[]
[]
[]
[]
[]
[]
[]
[]
[]
[]
[]
[]
[]
[]
[]
[]
[]
[]
[]
[]
[]
[]
[]
[]
[]
[]
[]
[]
[]
[]
[]
[]
[]
[]
[]
[]
[]
[]
[]
[]
[]
[]
[]
[]
[]
[]
[]
[]
[]
[]
[]
[]
[]
[]
[]
[]
[]
[]
[]
[]
[]
[]
[]
[]
[]
[]
[]
[]
[]
[]
[]
[]
[]
[]
[]
[]
[]
[]
[]
[]
[]
[]
[]
[]
[]
[]
[]
[]
[]
[]
[]
[]
[]
[]
[]
[]
[]
[]
[]
[]
[]
[]
[]
[]
[]
[]
[]
[]
[]
[]
[]
[]
[]
[]
[]
[]
[]
[]
[]
[]
[]
[]
[]
[]
[]
[]
[]
[]
[]
[]
[]
[]
[]
[]
[]
[]
[]
[]
[]
[]
[]
[]
[]
[]
[]
[]
[]
[]
[]
[]
[]
[]
[]
[]
[]
[]
[]
[]
[]
[]
[]
[]
[]
[]
[]
[]
[]
[]
[]
[]
[]
[]
[]
[]
[]
[]
[]
[]
[]
[]
[]
[]
[]
[]
[]
[]
[]
[]
[]
[]
[]
[]
[]
[]
[]
[]
[]
[]
[]
[]
[]
[]
[]
[]
[]
[]
[]
[]
[]
[]
[]
[]
[]
[]
[]
[]
[]
[]
[]
[]
[]
[]
[]
[]
[]
[]
[]
[]
[]
[]
[]
[]
[]
[]
[]
[]
[]
[]
[]
[]
[]
[]
[]
[]
[]
[]
[]
[]
[]
[]
[]
[]
[]
[]
[]
[]
[]
[]
[]
[]
[]
[]
[]
[]
[]
[]
[]
[]
[]
[]
[]
[]
[]
[]
[]
[]
[]
[]
[]
[]
[]
[]
[]
[]
[]
[]
[]
[]
[]
[]
[]
[]
[]
[]
[]
[]
[]
[]
[]
[]
[]
[]
[]
[]
[]
[]
[]
[]
[]
[]
[]
[]
[]
[]
[]
[]
[]
[]
[]
[]
[]
[]
[]
[]
[]
[]
[]
[]
[]
[]
[]
[]
[]
[]
[]
[]
[]
[]
[]
[]
[]
[]
[]
[]
[]
[]
[]
[]
[]
[]
[]
[]
[]
[]
[]
[]
[]
[]
[]
[]
[]
[]
[]
[]
[]
[]
[]
[]
[]
[]
[]
[]
[]
[]
[]
[]
[]
[]
[]
[]
[]
[]
[]
[]
[]
[]
[]
[]
[]
[]
[]
[]
[]
[]
[]
[]
[]
[]
[]
[]
[]
[]
[]
[]
[]
[]
[]
[]
[]
[]
[]
[]
[]
[]
[]
[]
[]
[]
[]
[]
[]
[]
[]
[]
[]
[]
[]
[]
[]
[]
[]
[]
[]
[]
[]
[]
[]
[]
[]
[]
[]
[]
[]
[]
[]
[]
[]
[]
[]
[]
[]
[]
[]
[]
[]
[]
[]
[]
[]
[]
[]
[]
[]
[]
[]
[]
[]
[]
[]
[]
[]
[]
[]
[]
[]
[]
[]
[]
[]
[]
[]
[]
[]
[]
[]
[]
[]
[]
[]
[]
[]
[]
[]
[]
[]
[]
[]
[]
[]
[]
[]
[]
[]
[]
[]
[]
[]
[]
[]
[]
[]
[]
[]
[]
[]
[]
[]
[]
[]
[]
[]
[]
[]
[]
[]
[]
[]
[]
[]
[]
[]
[]
[]
[]
[]
[]
[]
[]
[]
[]
[]
[]
[]
[]
[]
[]
[]
[]
[]
[]
[]
[]
[]
[]
[]
[]
[]
[]
[]
[]
[]
[]
[]
[]
[]
[]
[]
[]
[]
[]
[]
[]
[]
[]
[]
[]
[]
[]
[]
[]
[]
[]
[]
[]
[]
[]
[]
[]
[]
[]
[]
[]
[]
[]
[]
[]
[]
[]
[]
[]
[]
[]
[]
[]
[]
[]
[]
[]
[]
[]
[]
[]
[]
[]
[]
[]
[]
[]
[]
[]
[]
[]
[]
[]
[]
[]
[]
[]
[]
[]
[]
[]
[]
[]
[]
[]
[]
[]
[]
[]
[]
[]
[]
[]
[]
[]
[]
[]
[]
[]
[]
[]
[]
[]
[]
[]
[]
[]
[]
[]
[]
[]
[]
[]
[]
[]
[]
[]
[]
[]
[]
[]
[]
[]
[]
[]
[]
[]
[]
[]
[]
[]
[]
[]
[]
[]
[]
[]
[]
[]
[]
[]
[]
[]
[]
[]
[]
[]
[]
[]
[]
[]
[]
[]
[]
[]
[]
[]
[]
[]
[]
[]
[]
[]
[]
[]
[]
[]
[]
[]
[]
[]
[]
[]
[]
[]
[]
[]
[]
[]
[]
[]
[]
[]
[]
[]
[]
[]
[]
[]
[]
[]
[]
[]
[]
[]
[]
[]
[]
[]
[]
[]
[]
[]
[]
[]
[]
[]
[]
[]
[]
[]
[]
[]
[]
[]
[]
[]
[]
[]
[]
[]
[]
[]
[]
[]
[]
[]
[]
[]
[]
[]
[]
[]
[]
[]
[]
[]
[]
[]
[]
[]
[]
[]
[]
[]
[]
[]
[]
[]
[]
[]
[]
[]
[]
[]
[]
[]
[]
[]
[]
[]
[]
[]
[]
[]
[]
[]
[]
[]
[]
[]
[]
[]
[]
[]
[]
[]
[]
[]
[]
[]
[]
[]
[]
[]
[]
[]
[]
[]
[]
[]
[]
[]
[]
[]
[]
[]
[]
[]
[]
[]
[]
[]
[]
[]
[]
[]
[]
[]
[]
[]
[]
[]
[]
[]
[]
[]
[]
[]
[]
[]
[]
[]
[]
[]
[]
[]
[]
[]
[]
[]
[]
[]
[]
[]
[]
[]
[]
[]
[]
[]
[]
[]
[]
[]
[]
[]
[]
[]
[]
[]
[]
[]
[]
[]
[]
[]
[]
[]
[]
[]
[]
[]
[]
[]
[]
[]
[]
[]
[]
[]
[]
[]
[]
[]
[]
[]
[]
[]
[]
[]
[]
[]
[]
[]
[]
[]
[]
[]
[]
[]
[]
[]
[]
[]
[]
[]
[]
[]
[]
[]
[]
[]
[]
[]
[]
[]
[]
[]
[]
[]
[]
[]
[]
[]
[]
[]
[]
[]
[]
[]
[]
[]
[]
[]
[]
[]
[]
[]
[]
[]
[]
[]
[]
[]
[]
[]
[]
[]
[]
[]
[]
[]
[]
[]
[]
[]
[]
[]
[]
[]
[]
[]
[]
[]
[]
[]
[]
[]
[]
[]
[]
[]
[]
[]
[]
[]
[]
[]
[]
[]
[]
[]
[]
[]
[]
[]
[]
[]
[]
[]
[]
[]
[]
[]
[]
[]
[]
[]
[]
[]
[]
[]
[]
[]
[]
[]
[]
[]
[]
[]
[]
[]
[]
[]
[]
[]
[]
[]
[]
[]
[]
[]
[]
[]
[]
[]
[]
[]
[]
[]
[]
[]
[]
[]
[]
[]
[]
[]
[]
[]
[]
[]
[]
[]
[]
[]
[]
[]
[]
[]
[]
[]
[]
[]
[]
[]
[]
[]
[]
[]
[]
[]
[]
[]
[]
[]
[]
[]
[]
[]
[]
[]
[]
[]
[]
[]
[]
[]
[]
[]
[]
[]
[]
[]
[]
[]
[]
[]
[]
[]
[]
[]
[]
[]
[]
[]
[]
[]
[]
[]
[]
[]
[]
[]
[]
[]
[]
[]
[]
[]
[]
[]
[]
[]
[]
[]
[]
[]
[]
[]
[]
[]
[]
[]
[]
[]
[]
[]
[]
[]
[]
[]
[]
[]
[]
[]
[]
[]
[]
[]
[]
[]
[]
[]
[]
[]
[]
[]
[]
[]
[]
[]
[]
[]
[]
[]
[]
[]
[]
[]
[]
[]
[]
[]
[]
[]
[]
[]
[]
[]
[]
[]
[]
[]
[]
[]
[]
[]
[]
[]
[]
[]
[]
[]
[]
[]
[]
[]
[]
[]
[]
[]
[]
[]
[]
[]
[]
[]
[]
[]
[]
[]
[]
[]
[]
[]
[]
[]
[]
[]
[]
[]
[]
[]
[]
[]
[]
[]
[]
[]
[]
[]
[]
[]
[]
[]
[]
[]
[]
[]
[]
[]
[]
[]
[]
[]
[]
[]
[]
[]
[]
[]
[]
[]
[]
[]
[]
[]
[]
[]
[]
[]
[]
[]
[]
[]
[]
[]
[]
[]
[]
[]
[]
[]
[]
[]
[]
[]
[]
[]
[]
[]
[]
[]
[]
[]
[]
[]
[]
[]
[]
[]
[]
[]
[]
[]
[]
[]
[]
[]
[]
[]
[]
[]
[]
[]
[]
[]
[]
[]
[]
[]
[]
[]
[]
[]
[]
[]
[]
[]
[]
[]
[]
[]
[]
[]
[]
[]
[]
[]
[]
[]
[]
[]
[]
[]
[]
[]
[]
[]
[]
[]
[]
[]
[]
[]
[]
[]
[]
[]
[]
[]
[]
[]
[]
[]
[]
[]
[]
[]
[]
[]
[]
[]
[]
[]
[]
[]
[]
[]
[]
[]
[]
[]
[]
[]
[]
[]
[]
[]
[]
[]
[]
[]
[]
[]
[]
[]
[]
[]
[]
[]
[]
[]
[]
[]
[]
[]
[]
[]
[]
[]
[]
[]
[]
[]
[]
[]
[]
[]
[]
[]
[]
[]
[]
[]
[]
[]
[]
[]
[]
[]
[]
[]
[]
[]
[]
[]
[]
[]
[]
[]
[]
[]
[]
[]
[]
[]
[]
[]
[]
[]
[]
[]
[]
[]
[]
[]
[]
[]
[]
[]
[]
[]
[]
[]
[]
[]
[]
[]
[]
[]
[]
[]
[]
[]
[]
[]
[]
[]
[]
[]
[]
[]
[]
[]
[]
[]
[]
[]
[]
[]
[]
[]
[]
[]
[]
[]
[]
[]
[]
[]
[]
[]
[]
[]
[]
[]
[]
[]
[]
[]
[]
[]
[]
[]
[]
[]
[]
[]
[]
[]
[]
[]
[]
[]
[]
[]
[]
[]
[]
[]
[]
[]
[]
[]
[]
[]
[]
[]
[]
[]
[]
[]
[]
[]
[]
[]
[]
[]
[]
[]
[]
[]
[]
[]
[]
[]
[]
[]
[]
[]
[]
[]
[]
[]
[]
[]
[]
[]
[]
[]
[]
[]
[]
[]
[]
[]
[]
[]
[]
[]
[]
[]
[]
[]
[]
[]
[]
[]
[]
[]
[]
[]
[]
[]
[]
[]
[]
[]
[]
[]
[]
[]
[]
[]
[]
[]
[]
[]
[]
[]
[]
[]
[]
[]
[]
[]
[]
[]
[]
[]
[]
[]
[]
[]
[]
[]
[]
[]
[]
[]
[]
[]
[]
[]
[]
[]
[]
[]
[]
[]
[]
[]
[]
[]
[]
[]
[]
[]
[]
[]
[]
[]
[]
[]
[]
[]
[]
[]
[]
[]
[]
[]
[]
[]
[]
[]
[]
[]
[]
[]
[]
[]
[]
[]
[]
[]
[]
[]
[]
[]
[]
[]
[]
[]
[]
[]
[]
[]
[]
[]
[]
[]
[]
[]
[]
[]
[]
[]
[]
[]
[]
[]
[]
[]
[]
[]
[]
[]
[]
[]
[]
[]
[]
[]
[]
[]
[]
[]
[]
[]
[]
[]
[]
[]
[]
[]
[]
[]
[]
[]
[]
[]
[]
[]
[]
[]
[]
[]
[]
[]
[]
[]
[]
[]
[]
[]
[]
[]
[]
[]
[]
[]
[]
[]
[]
[]
[]
[]
[]
[]
[]
[]
[]
[]
[]
[]
[]
[]
[]
[]
[]
[]
[]
[]
[]
[]
[]
[]
[]
[]
[]
[]
[]
[]
[]
[]
[]
[]
[]
[]
[]
[]
[]
[]
[]
[]
[]
[]
[]
[]
[]
[]
[]
[]
[]
[]
[]
[]
[]
[]
[]
[]
[]
[]
[]
[]
[]
[]
[]
[]
[]
[]
[]
[]
[]
[]
[]
[]
[]
[]
[]
[]
[]
[]
[]
[]
[]
[]
[]
[]
[]
[]
[]
[]
[]
[]
[]
[]
[]
[]
[]
[]
[]
[]
[]
[]
[]
[]
[]
[]
[]
[]
[]
[]
[]
[]
[]
[]
[]
[]
[]
[]
[]
[]
[]
[]
[]
[]
[]
[]
[]
[]
[]
[]
[]
[]
[]
[]
[]
[]
[]
[]
[]
[]
[]
[]
[]
[]
[]
[]
[]
[]
[]
[]
[]
[]
[]
[]
[]
[]
[]
[]
[]
[]
[]
[]
[]
[]
[]
[]
[]
[]
[]
[]
[]
[]
[]
[]
[]
[]
[]
[]
[]
[]
[]
[]
[]
[]
[]
[]
[]
[]
[]
[]
[]
[]
[]
[]
[]
[]
[]
[]
[]
[]
[]
[]
[]
[]
[]
[]
[]
[]
[]
[]
[]
[]
[]
[]
[]
[]
[]
[]
[]
[]
[]
[]
[]
[]
[]
[]
[]
[]
[]
[]
[]
[]
[]
[]
[]
[]
[]
[]
[]
[]
[]
[]
[]
[]
[]
[]
[]
[]
[]
[]
[]
[]
[]
[]
[]
[]
[]
[]
[]
[]
[]
[]
[]
[]
[]
[]
[]
[]
[]
[]
[]
[]
[]
[]
[]
[]
[]
[]
[]
[]
[]
[]
[]
[]
[]
[]
[]
[]
[]
[]
[]
[]
[]
[]
[]
[]
[]
[]
[]
[]
[]
[]
[]
[]
[]
[]
[]
[]
[]
[]
[]
[]
[]
[]
[]
[]
[]
[]
[]
[]
[]
[]
[]
[]
[]
[]
[]
[]
[]
[]
[]
[]
[]
[]
[]
[]
[]
[]
[]
[]
[]
[]
[]
[]
[]
[]
[]
[]
[]
[]
[]
[]
[]
[]
[]
[]
[]
[]
[]
[]
[]
[]
[]
[]
[]
[]
[]
[]
[]
[]
[]
[]
[]
[]
[]
[]
[]
[]
[]
[]
[]
[]
[]
[]
[]
[]
[]
[]
[]
[]
[]
[]
[]
[]
[]
[]
[]
[]
[]
[]
[]
[]
[]
[]
[]
[]
[]
[]
[]
[]
[]
[]
[]
[]
[]
[]
[]
[]
[]
[]
[]
[]
[]
[]
[]
[]
[]
[]
[]
[]
[]
[]
[]
[]
[]
[]
[]
[]
[]
[]
[]
[]
[]
[]
[]
[]
[]
[]
[]
[]
[]
[]
[]
[]
[]
[]
[]
[]
[]
[]
[]
[]
[]
[]
[]
[]
[]
[]
[]
[]
[]
[]
[]
[]
[]
[]
[]
[]
[]
[]
[]
[]
[]
[]
[]
[]
[]
[]
[]
[]
[]
[]
[]
[]
[]
[]
[]
[]
[]
[]
[]
[]
[]
[]
[]
[]
[]
[]
[]
[]
[]
[]
[]
[]
[]
[]
[]
[]
[]
[]
[]
[]
[]
[]
[]
[]
[]
[]
[]
[]
[]
[]
[]
[]
[]
[]
[]
[]
[]
[]
[]
[]
[]
[]
[]
[]
[]
[]
[]
[]
[]
[]
[]
[]
[]
[]
[]
[]
[]
[]
[]
[]
[]
[]
[]
[]
[]
[]
[]
[]
[]
[]
[]
[]
[]
[]
[]
[]
[]
[]
[]
[]
[]
[]
[]
[]
[]
[]
[]
[]
[]
[]
[]
[]
[]
[]
[]
[]
[]
[]
[]
[]
[]
[]
[]
[]
[]
[]
[]
[]
[]
[]
[]
[]
[]
[]
[]
[]
[]
[]
[]
[]
[]
[]
[]
[]
[]
[]
[]
[]
[]
[]
[]
[]
[]
[]
[]
[]
[]
[]
[]
[]
[]
[]
[]
[]
[]
[]
[]
[]
[]
[]
[]
[]
[]
[]
[]
[]
[]
[]
[]
[]
[]
[]
[]
[]
[]
[]
[]
[]
[]
[]
[]
[]
[]
[]
[]
[]
[]
[]
[]
[]
[]
[]
[]
[]
[]
[]
[]
[]
[]
[]
[]
[]
[]
[]
[]
[]
[]
[]
[]
[]
[]
[]
[]
[]
[]
[]
[]
[]
[]
[]
[]
[]
[]
[]
[]
[]
[]
[]
[]
[]
[]
[]
[]
[]
[]
[]
[]
[]
[]
[]
[]
[]
[]
[]
[]
[]
[]
[]
[]
[]
[]
[]
[]
[]
[]
[]
[]
[]
[]
[]
[]
[]
[]
[]
[]
[]
[]
[]
[]
[]
[]
[]
[]
[]
[]
[]
[]
[]
[]
[]
[]
[]
[]
[]
[]
[]
[]
[]
[]
[]
[]
[]
[]
[]
[]
[]
[]
[]
[]
[]
[]
[]
[]
[]
[]
[]
[]
[]
[]
[]
[]
[]
[]
[]
[]
[]
[]
[]
[]
[]
[]
[]
[]
[]
[]
[]
[]
[]
[]
[]
[]
[]
[]
[]
[]
[]
[]
[]
[]
[]
[]
[]
[]
[]
[]
[]
[]
[]
[]
[]
[]
[]
[]
[]
[]
[]
[]
[]
[]
[]
[]
[]
[]
[]
[]
[]
[]
[]
[]
[]
[]
[]
[]
[]
[]
[]
[]
[]
[]
[]
[]
[]
[]
[]
[]
[]
[]
[]
[]
[]
[]
[]
[]
[]
[]
[]
[]
[]
[]
[]
[]
[]
[]
[]
[]
[]
[]
[]
[]
[]
[]
[]
[]
[]
[]
[]
[]
[]
[]
[]
[]
[]
[]
[]
[]
[]
[]
[]
[]
[]
[]
[]
[]
[]
[]
[]
[]
[]
[]
[]
[]
[]
[]
[]
[]
[]
[]
[]
[]
[]
[]
[]
[]
[]
[]
[]
[]
[]
[]
[]
[]
[]
[]
[]
[]
[]
[]
[]
[]
[]
[]
[]
[]
[]
[]
[]
[]
[]
[]
[]
[]
[]
[]
[]
[]
[]
[]
[]
[]
[]
[]
[]
[]
[]
[]
[]
[]
[]
[]
[]
[]
[]
[]
[]
[]
[]
[]
[]
[]
[]
[]
[]
[]
[]
[]
[]
[]
[]
[]
[]
[]
[]
[]
[]
[]
[]
[]
[]
[]
[]
[]
[]
[]
[]
[]
[]
[]
[]
[]
[]
[]
[]
[]
[]
[]
[]
[]
[]
[]
[]
[]
[]
[]
[]
[]
[]
[]
[]
[]
[]
[]
[]
[]
[]
[]
[]
[]
[]
[]
[]
[]
[]
[]
[]
[]
[]
[]
[]
[]
[]
[]
[]
[]
[]
[]
[]
[]
[]
[]
[]
[]
[]
[]
[]
[]
[]
[]
[]
[]
[]
[]
[]
[]
[]
[]
[]
[]
[]
[]
[]
[]
[]
[]
[]
[]
[]
[]
[]
[]
[]
[]
[]
[]
[]
[]
[]
[]
[]
[]
[]
[]
[]
[]
[]
[]
[]
[]
[]
[]
[]
[]
[]
[]
[]
[]
[]
[]
[]
[]
[]
[]
[]
[]
[]
[]
[]
[]
[]
[]
[]
[]
[]
[]
[]
[]
[]
[]
[]
[]
[]
[]
[]
[]
[]
[]
[]
[]
[]
[]
[]
[]
[]
[]
[]
[]
[]
[]
[]
[]
[]
[]
[]
[]
[]
[]
[]
[]
[]
[]
[]
[]
[]
[]
[]
[]
[]
[]
[]
[]
[]
[]
[]
[]
[]
[]
[]
[]
[]
[]
[]
[]
[]
[]
[]
[]
[]
[]
[]
[]
[]
[]
[]
[]
[]
[]
[]
[]
[]
[]
[]
[]
[]
[]
[]
[]
[]
[]
[]
[]
[]
[]
[]
[]
[]
[]
[]
[]
[]
[]
[]
[]
[]
[]
[]
[]
[]
[]
[]
[]
[]
[]
[]
[]
[]
[]
[]
[]
[]
[]
[]
[]
[]
[]
[]
[]
[]
[]
[]
[]
[]
[]
[]
[]
[]
[]
[]
[]
[]
[]
[]
[]
[]
[]
[]
[]
[]
[]
[]
[]
[]
[]
[]
[]
[]
[]
[]
[]
[]
[]
[]
[]
[]
[]
[]
[]
[]
[]
[]
[]
[]
[]
[]
[]
[]
[]
[]
[]
[]
[]
[]
[]
[]
[]
[]
[]
[]
[]
[]
[]
[]
[]
[]
[]
[]
[]
[]
[]
[]
[]
[]
[]
[]
[]
[]
[]
[]
[]
[]
[]
[]
[]
[]
[]
[]
[]
[]
[]
[]
[]
[]
[]
[]
[]
[]
[]
[]
[]
[]
[]
[]
[]
[]
[]
[]
[]
[]
[]
[]
[]
[]
[]
[]
[]
[]
[]
[]
[]
[]
[]
[]
[]
[]
[]
[]
[]
[]
[]
[]
[]
[]
[]
[]
[]
[]
[]
[]
[]
[]
[]
[]
[]
[]
[]
[]
[]
[]
[]
[]
[]
[]
[]
[]
[]
[]
[]
[]
[]
[]
[]
[]
[]
[]
[]
[]
[]
[]
[]
[]
[]
[]
[]
[]
[]
[]
[]
[]
[]
[]
[]
[]
[]
[]
[]
[]
[]
[]
[]
[]
[]
[]
[]
[]
[]
[]
[]
[]
[]
[]
[]
[]
[]
[]
[]
[]
[]
[]
[]
[]
[]
[]
[]
[]
[]
[]
[]
[]
[]
[]
[]
[]
[]
[]
[]
[]
[]
[]
[]
[]
[]
[]
[]
[]
[]
[]
[]
[]
[]
[]
[]
[]
[]
[]
[]
[]
[]
[]
[]
[]
[]
[]
[]
[]
[]
[]
[]
[]
[]
[]
[]
[]
[]
[]
[]
[]
[]
[]
[]
[]
[]
[]
[]
[]
[]
[]
[]
[]
[]
[]
[]
[]
[]
[]
[]
[]
[]
[]
[]
[]
[]
[]
[]
[]
[]
[]
[]
[]
[]
[]
[]
[]
[]
[]
[]
[]
[]
[]
[]
[]
[]
[]
[]
[]
[]
[]
[]
[]
[]
[]
[]
[]
[]
[]
[]
[]
[]
[]
[]
[]
[]
[]
[]
[]
[]
[]
[]
[]
[]
[]
[]
[]
[]
[]
[]
[]
[]
[]
[]
[]
[]
[]
[]
[]
[]
[]
[]
[]
[]
[]
[]
[]
[]
[]
[]
[]
[]
[]
[]
[]
[]
[]
[]
[]
[]
[]
[]
[]
[]
[]
[]
[]
[]
[]
[]
[]
[]
[]
[]
[]
[]
[]
[]
[]
[]
[]
[]
[]
[]
[]
[]
[]
[]
[]
[]
[]
[]
[]
[]
[]
[]
[]
[]
[]
[]
[]
[]
[]
[]
[]
[]
[]
[]
[]
[]
[]
[]
[]
[]
[]
[]
[]
[]
[]
[]
[]
[]
[]
[]
[]
[]
[]
[]
[]
[]
[]
[]
[]
[]
[]
[]
[]
[]
[]
[]
[]
[]
[]
[]
[]
[]
[]
[]
[]
[]
[]
[]
[]
[]
[]
[]
[]
[]
[]
[]
[]
[]
[]
[]
[]
[]
[]
[]
[]
[]
[]
[]
[]
[]
[]
[]
[]
[]
[]
[]
[]
[]
[]
[]
[]
[]
[]
[]
[]
[]
[]
[]
[]
[]
[]
[]
[]
[]
[]
[]
[]
[]
[]
[]
[]
[]
[]
[]
[]
[]
[]
[]
[]
[]
[]
[]
[]
[]
[]
[]
[]
[]
[]
[]
[]
[]
[]
[]
[]
[]
[]
[]
[]
[]
[]
[]
[]
[]
[]
[]
[]
[]
[]
[]
[]
[]
[]
[]
[]
[]
[]
[]
[]
[]
[]
[]
[]
[]
[]
[]
[]
[]
[]
[]
[]
[]
[]
[]
[]
[]
[]
[]
[]
[]
[]
[]
[]
[]
[]
[]
[]
[]
[]
[]
[]
[]
[]
[]
[]
[]
[]
[]
[]
[]
[]
[]
[]
[]
[]
[]
[]
[]
[]
[]
[]
[]
[]
[]
[]
[]
[]
[]
[]
[]
[]
[]
[]
[]
[]
[]
[]
[]
[]
[]
[]
[]
[]
[]
[]
[]
[]
[]
[]
[]
[]
[]
[]
[]
[]
[]
[]
[]
[]
[]
[]
[]
[]
[]
[]
[]
[]
[]
[]
[]
[]
[]
[]
[]
[]
[]
[]
[]
[]
[]
[]
[]
[]
[]
[]
[]
[]
[]
[]
[]
[]
[]
[]
[]
[]
[]
[]
[]
[]
[]
[]
[]
[]
[]
[]
[]
[]
[]
[]
[]
[]
[]
[]
[]
[]
[]
[]
[]
[]
[]
[]
[]
[]
[]
[]
[]
[]
[]
[]
[]
[]
[]
[]
[]
[]
[]
[]
[]
[]
[]
[]
[]
[]
[]
[]
[]
[]
[]
[]
[]
[]
[]
[]
[]
[]
[]
[]
[]
[]
[]
[]
[]
[]
[]
[]
[]
[]
[]
[]
[]
[]
[]
[]
[]
[]
[]
[]
[]
[]
[]
[]
[]
[]
[]
[]
[]
[]
[]
[]
[]
[]
[]
[]
[]
[]
[]
[]
[]
[]
[]
[]
[]
[]
[]
[]
[]
[]
[]
[]
[]
[]
[]
[]
[]
[]
[]
[]
[]
[]
[]
[]
[]
[]
[]
[]
[]
[]
[]
[]
[]
[]
[]
[]
[]
[]
[]
[]
[]
[]
[]
[]
[]
[]
[]
[]
[]
[]
[]
[]
[]
[]
[]
[]
[]
[]
[]
[]
[]
[]
[]
[]
[]
[]
[]
[]
[]
[]
[]
[]
[]
[]
[]
[]
[]
[]
[]
[]
[]
[]
[]
[]
[]
[]
[]
[]
[]
[]
[]
[]
[]
[]
[]
[]
[]
[]
[]
[]
[]
[]
[]
[]
[]
[]
[]
[]
[]
[]
[]
[]
[]
[]
[]
[]
[]
[]
[]
[]
[]
[]
[]
[]
[]
[]
[]
[]
[]
[]
[]
[]
[]
[]
[]
[]
[]
[]
[]
[]
[]
[]
[]
[]
[]
[]
[]
[]
[]
[]
[]
[]
[]
[]
[]
[]
[]
[]
[]
[]
[]
[]
[]
[]
[]
[]
[]
[]
[]
[]
[]
[]
[]
[]
[]
[]
[]
[]
[]
[]
[]
[]
[]
[]
[]
[]
[]
[]
[]
[]
[]
[]
[]
[]
[]
[]
[]
[]
[]
[]
[]
[]
[]
[]
[]
[]
[]
[]
[]
[]
[]
[]
[]
[]
[]
[]
[]
[]
[]
[]
[]
[]
[]
[]
[]
[]
[]
[]
[]
[]
[]
[]
[]
[]
[]
[]
[]
[]
[]
[]
[]
[]
[]
[]
[]
[]
[]
[]
[]
[]
[]
[]
[]
[]
[]
[]
[]
[]
[]
[]
[]
[]
[]
[]
[]
[]
[]
[]
[]
[]
[]
[]
[]
[]
[]
[]
[]
[]
[]
[]
[]
[]
[]
[]
[]
[]
[]
[]
[]
[]
[]
[]
[]
[]
[]
[]
[]
[]
[]
[]
[]
[]
[]
[]
[]
[]
[]
[]
[]
[]
[]
[]
[]
[]
[]
[]
[]
[]
[]
[]
[]
[]
[]
[]
[]
[]
[]
[]
[]
[]
[]
[]
[]
[]
[]
[]
[]
[]
[]
[]
[]
[]
[]
[]
[]
[]
[]
[]
[]
[]
[]
[]
[]
[]
[]
[]
[]
[]
[]
[]
[]
[]
[]
[]
[]
[]
[]
[]
[]
[]
[]
[]
[]
[]
[]
[]
[]
[]
[]
[]
[]
[]
[]
[]
[]
[]
[]
[]
[]
[]
[]
[]
[]
[]
[]
[]
[]
[]
[]
[]
[]
[]
[]
[]
[]
[]
[]
[]
[]
[]
[]
[]
[]
[]
[]
[]
[]
[]
[]
[]
[]
[]
[]
[]
[]
[]
[]
[]
[]
[]
[]
[]
[]
[]
[]
[]
[]
[]
[]
[]
[]
[]
[]
[]
[]
[]
[]
[]
[]
[]
[]
[]
[]
[]
[]
[]
[]
[]
[]
[]
[]
[]
[]
[]
[]
[]
[]
[]
[]
[]
[]
[]
[]
[]
[]
[]
[]
[]
[]
[]
[]
[]
[]
[]
[]
[]
[]
[]
[]
[]
[]
[]
[]
[]
[]
[]
[]
[]
[]
[]
[]
[]
[]
[]
[]
[]
[]
[]
[]
[]
[]
[]
[]
[]
[]
[]
[]
[]
[]
[]
[]
[]
[]
[]
[]
[]
[]
[]
[]
[]
[]
[]
[]
[]
[]
[]
[]
[]
[]
[]
[]
[]
[]
[]
[]
[]
[]
[]
[]
[]
[]
[]
[]
[]
[]
[]
[]
[]
[]
[]
[]
[]
[]
[]
[]
[]
[]
[]
[]
[]
[]
[]
[]
[]
[]
[]
[]
[]
[]
[]
[]
[]
[]
[]
[]
[]
[]
[]
[]
[]
[]
[]
[]
[]
[]
[]
[]
[]
[]
[]
[]
[]
[]
[]
[]
[]
[]
[]
[]
[]
[]
[]
[]
[]
[]
[]
[]
[]
[]
[]
[]
[]
[]
[]
[]
[]
[]
[]
[]
[]
[]
[]
[]
[]
[]
[]
[]
[]
[]
[]
[]
[]
[]
[]
[]
[]
[]
[]
[]
[]
[]
[]
[]
[]
[]
[]
[]
[]
[]
[]
[]
[]
[]
[]
[]
[]
[]
[]
[]
[]
[]
[]
[]
[]
[]
[]
[]
[]
[]
[]
[]
[]
[]
[]
[]
[]
[]
[]
[]
[]
[]
[]
[]
[]
[]
[]
[]
[]
[]
[]
[]
[]
[]
[]
[]
[]
[]
[]
[]
[]
[]
[]
[]
[]
[]
[]
[]
[]
[]
[]
[]
[]
[]
[]
[]
[]
[]
[]
[]
[]
[]
[]
[]
[]
[]
[]
[]
[]
[]
[]
[]
[]
[]
[]
[]
[]
[]
[]
[]
[]
[]
[]
[]
[]
[]
[]
[]
[]
[]
[]
[]
[]
[]
[]
[]
[]
[]
[]
[]
[]
[]
[]
[]
[]
[]
[]
[]
[]
[]
[]
[]
[]
[]
[]
[]
[]
[]
[]
[]
[]
[]
[]
[]
[]
[]
[]
[]
[]
[]
[]
[]
[]
[]
[]
[]
[]
[]
[]
[]
[]
[]
[]
[]
[]
[]
[]
[]
[]
[]
[]
[]
[]
[]
[]
[]
[]
[]
[]
[]
[]
[]
[]
[]
[]
[]
[]
[]
[]
[]
[]
[]
[]
[]
[]
[]
[]
[]
[]
[]
[]
[]
[]
[]
[]
[]
[]
[]
[]
[]
[]
[]
[]
[]
[]
[]
[]
[]
[]
[]
[]
[]
[]
[]
[]
[]
[]
[]
[]
[]
[]
[]
[]
[]
[]
[]
[]
[]
[]
[]
[]
[]
[]
[]
[]
[]
[]
[]
[]
[]
[]
[]
[]
[]
[]
[]
[]
[]
[]
[]
[]
[]
[]
[]
[]
[]
[]
[]
[]
[]
[]
[]
[]
[]
[]
[]
[]
[]
[]
[]
[]
[]
[]
[]
[]
[]
[]
[]
[]
[]
[]
[]
[]
[]
[]
[]
[]
[]
[]
[]
[]
[]
[]
[]
[]
[]
[]
[]
[]
[]
[]
[]
[]
[]
[]
[]
[]
[]
[]
[]
[]
[]
[]
[]
[]
[]
[]
[]
[]
[]
[]
[]
[]
[]
[]
[]
[]
[]
[]
[]
[]
[]
[]
[]
[]
[]
[]
[]
[]
[]
[]
[]
[]
[]
[]
[]
[]
[]
[]
[]
[]
[]
[]
[]
[]
[]
[]
[]
[]
[]
[]
[]
[]
[]
[]
[]
[]
[]
[]
[]
[]
[]
[]
[]
[]
[]
[]
[]
[]
[]
[]
[]
[]
[]
[]
[]
[]
[]
[]
[]
[]
[]
[]
[]
[]
[]
[{"$f":"IF(B25001=\"\",\"\",MAX(A$1:A25000)+1)","v":2},{"$f":"\"</donnees></tableau></tableaux></EDI>\"","v":"</donnees></tableau></tableaux></EDI>"}]

{"sheet":"Referentiel","index":3,"n_rows":201,"n_cols":15,"rows_kept":201,"cut":false,"hidden":true,"merged":[]}
["Achats_locaux","Achats_étrangers","Importations","Pays","TYPE DE REDEVABLE","Exercice","Mois","Valeur","Version (X.X)","Taxe","Libelle taxe","Mois","Nombre d'erreur","Type","Erreur NCC client"]
["Achats de marchandises et matières prémières locales","Achats d'immobilisations étrangères","Importation de biens et matièrs premières",null,"REDEVABLE PARTIEL",{"$f":"YEAR(TODAY())","v":2024},"Janvier",1,"2.1","TVA","Taxe sur la valeur ajoutée (hors CME/DGE)",{"$f":"VLOOKUP(moisLettre,Referentiel!$G$2:$H$18,2,FALSE)","v":6},{"$f":"SUM(ChampObligatoire,erreurNcc,erreurMonNcc,IFERROR(MIN(0,mois),1))","v":1},"TVA",{"$f":"verifNcClient","v":{"$error":"#NAME?"}}]
["Achats d'immobilisations locales","Achats de services étrangers (TVA_CT)",null,"Afrique du Sud","REDEVABLE TOTAL",2023,"Février",2,"ATTENTION","TVA_CT","TVA pour compte de Tiers"]
["Achats de services locaux",null,null,"Afghanistan",null,2022,"Mars",3,"version du fichier","TVAPSE","Taxe sur la valeur ajoutée (Producteurs d'Electricité)"]
["Frais généraux",null,null,"Albanie",null,2021,"Avril",4,"PAS entête XML !","TVA_S","Taxe sur la valeur ajoutée (CME/DGE)"]
["Usine exercée",null,null,"Algérie",null,2020,"Mai",5,null,"TVAREGUL","Taxe sur la valeur ajoutée (hors CME/DGE) REGUL"]
[null,null,null,"Allemagne",null,null,"Juin",6,null,"TVAPSEREG","Taxe sur la valeur ajoutée (Producteurs d'Electricité) REGUL"]
[null,null,null,"Andorre",null,null,"Juillet",7,null,"TVA_SREGUL","Taxe sur la valeur ajoutée (CME/DGE) REGUL"]
[null,null,null,"Angola",null,null,"Août",8]
[null,null,null,"Antigua-et-Barbuda",null,null,"Septembre",9]
[null,null,null,"Arabie Saoudite",null,null,"Octobre",10]
[null,null,null,"Argentine",null,null,"Novembre",11]
[null,null,null,"Arménie",null,null,"Décembre",12]
[null,null,null,"Australie",null,null,"Trimestre 1",1]
[null,null,null,"Autriche",null,null,"Trimestre 2",2]
[null,null,null,"Azerbaïdjan",null,null,"Trimestre 3",3]
[null,null,null,"Bahamas",null,null,"Trimestre 4",4]
[null,null,null,"Bahreïn",null,null,"Annuel",1]
[null,null,null,"Bangladesh"]
[null,null,null,"Barbade"]
[null,null,null,"Belgique"]
[null,null,null,"Belize"]
[null,null,null,"Bénin"]
[null,null,null,"Bhoutan"]
[null,null,null,"Biélorussie"]
[null,null,null,"Birmanie"]
[null,null,null,"Bolivie"]
[null,null,null,"Bosnie-Herzégovine"]
[null,null,null,"Botswana"]
[null,null,null,"Brésil"]
[null,null,null,"Brunei"]
[null,null,null,"Bulgarie"]
[null,null,null,"Burkina Faso"]
[null,null,null,"Burundi"]
[null,null,null,"Cambodge"]
[null,null,null,"Cameroun"]
[null,null,null,"Canada"]
[null,null,null,"Cap-Vert"]
[null,null,null,"Chili"]
[null,null,null,"Chine"]
[null,null,null,"Chypre"]
[null,null,null,"Colombie"]
[null,null,null,"Comores"]
[null,null,null,"Corée du Nord"]
[null,null,null,"Corée du Sud"]
[null,null,null,"Costa Rica"]
[null,null,null,"Croatie"]
[null,null,null,"Cuba"]
[null,null,null,"Danemark"]
[null,null,null,"Djibouti"]
[null,null,null,"Dominique"]
[null,null,null,"Égypte"]
[null,null,null,"Émirats arabes unis"]
[null,null,null,"Équateur"]
[null,null,null,"Érythrée"]
[null,null,null,"Espagne"]
[null,null,null,"Eswatini"]
[null,null,null,"Estonie"]
[null,null,null,"États-Unis"]
[null,null,null,"Éthiopie"]
[null,null,null,"Fidji"]
[null,null,null,"Finlande"]
[null,null,null,"France"]
[null,null,null,"Gabon"]
[null,null,null,"Gambie"]
[null,null,null,"Géorgie"]
[null,null,null,"Ghana"]
[null,null,null,"Grèce"]
[null,null,null,"Grenade"]
[null,null,null,"Guatemala"]
[null,null,null,"Guinée"]
[null,null,null,"Guinée équatoriale"]
[null,null,null,"Guinée-Bissau"]
[null,null,null,"Guyana"]
[null,null,null,"Haïti"]
[null,null,null,"Honduras"]
[null,null,null,"Hongrie"]
[null,null,null,"Îles Cook"]
[null,null,null,"Îles Marshall"]
[null,null,null,"Îles Maurice"]
[null,null,null,"Inde"]
[null,null,null,"Indonésie"]
[null,null,null,"Irak"]
[null,null,null,"Iran"]
[null,null,null,"Irlande"]
[null,null,null,"Islande"]
[null,null,null,"Israël"]
[null,null,null,"Italie"]
[null,null,null,"Jamaïque"]
[null,null,null,"Japon"]
[null,null,null,"Jordanie"]
[null,null,null,"Kazakhstan"]
[null,null,null,"Kenya"]
[null,null,null,"Kirghizistan"]
[null,null,null,"Kiribati"]
[null,null,null,"Koweït"]
[null,null,null,"Laos"]
[null,null,null,"Lesotho"]
[null,null,null,"Lettonie"]
[null,null,null,"Liban"]
[null,null,null,"Liberia"]
[null,null,null,"Libye"]
[null,null,null,"Liechtenstein"]
[null,null,null,"Lituanie"]
[null,null,null,"Luxembourg"]
[null,null,null,"Macédoine"]
[null,null,null,"Madagascar"]
[null,null,null,"Malaisie"]
[null,null,null,"Malawi"]
[null,null,null,"Maldives"]
[null,null,null,"Mali"]
[null,null,null,"Malte"]
[null,null,null,"Maroc"]
[null,null,null,"Maurice"]
[null,null,null,"Mauritanie"]
[null,null,null,"Mexique"]
[null,null,null,"Micronésie"]
[null,null,null,"Moldavie"]
[null,null,null,"Monaco"]
[null,null,null,"Mongolie"]
[null,null,null,"Monténégro"]
[null,null,null,"Mozambique"]
[null,null,null,"Namibie"]
[null,null,null,"Nauru"]
[null,null,null,"Népal"]
[null,null,null,"Nicaragua"]
[null,null,null,"Niger"]
[null,null,null,"Nigeria"]
[null,null,null,"Niue"]
[null,null,null,"Norvège"]
[null,null,null,"Nouvelle-Zélande"]
[null,null,null,"Oman"]
[null,null,null,"Ouganda"]
[null,null,null,"Ouzbékistan"]
[null,null,null,"Pakistan"]
[null,null,null,"Palaos"]
[null,null,null,"Palestine"]
[null,null,null,"Panama"]
[null,null,null,"Papouasie-Nouvelle-Guinée"]
[null,null,null,"Paraguay"]
[null,null,null,"Pays-Bas"]
[null,null,null,"Pérou"]
[null,null,null,"Philippines"]
[null,null,null,"Pologne"]
[null,null,null,"Portugal"]
[null,null,null,"Qatar"]
[null,null,null,"République centrafricaine"]
[null,null,null,"République démocratique du Congo"]
[null,null,null,"République Dominicaine"]
[null,null,null,"République du Congo"]
[null,null,null,"République tchèque"]
[null,null,null,"Roumanie"]
[null,null,null,"Royaume-Uni"]
[null,null,null,"Russie"]
[null,null,null,"Rwanda"]
[null,null,null,"Saint-Kitts-et-Nevis"]
[null,null,null,"Saint-Vincent-et-les-Grenadines"]
[null,null,null,"Sainte-Lucie"]
[null,null,null,"Saint-Marin"]
[null,null,null,"Salomon"]
[null,null,null,"Salvador"]
[null,null,null,"Samoa"]
[null,null,null,"São Tomé-et-Principe"]
[null,null,null,"Sénégal"]
[null,null,null,"Serbie"]
[null,null,null,"Seychelles"]
[null,null,null,"Sierra Leone"]
[null,null,null,"Singapour"]
[null,null,null,"Slovaquie"]
[null,null,null,"Slovénie"]
[null,null,null,"Somalie"]
[null,null,null,"Soudan"]
[null,null,null,"Soudan du Sud"]
[null,null,null,"Sri Lanka"]
[null,null,null,"Suède"]
[null,null,null,"Suisse"]
[null,null,null,"Suriname"]
[null,null,null,"Syrie"]
[null,null,null,"Tadjikistan"]
[null,null,null,"Taïwan"]
[null,null,null,"Tanzanie"]
[null,null,null,"Tchad"]
[null,null,null,"Thaïlande"]
[null,null,null,"Timor oriental"]
[null,null,null,"Togo"]
[null,null,null,"Tonga"]
[null,null,null,"Trinité-et-Tobago"]
[null,null,null,"Tunisie"]
[null,null,null,"Turkménistan"]
[null,null,null,"Turquie"]
[null,null,null,"Tuvalu"]
[null,null,null,"Ukraine"]
[null,null,null,"Uruguay"]
[null,null,null,"Usine exercée"]
[null,null,null,"Vanuatu"]
[null,null,null,"Vatican"]
[null,null,null,"Venezuela"]
[null,null,null,"Viêt Nam"]
[null,null,null,"Yémen"]
[null,null,null,"Zambie"]
[null,null,null,"Zimbabwe"]